{"text_format":"1","workbook":"xlsx","n_sheets":11,"sheets":["Bütçe Özeti","AİDAT KONTROL","ÜYE KAYIT LİSTESİ","AİDAT GİRİŞİ","GİDERLER","İŞLETME DEFTERİ","HAZİRUN LİSTESİ","AİDAT MAKBUZU","APT.BİLGİLERİ","TOPLANTI KARARLARI","APT.YÖNETİMİ YÖNERGESİ"],"not_rendered":{"charts":0,"images":1,"macros":1,"external_links":0,"defined_names":34,"comments":2,"pivot_tables":0},"unopened":[],"bounds":{"document_bytes":16777216,"sheet_cells":100000,"rows_first":2000,"rows_last":500,"rows_between":2000,"halvings":0,"cell_chars":16384,"cell_head_chars":4096},"cells_cut":0,"cells_raw":0,"read":"whole","date_system":"1900"}

{"sheet":"Bütçe Özeti","index":0,"n_rows":254,"n_cols":5,"rows_kept":254,"cut":false,"hidden":false,"merged":[[0,0,0,3],[1,0,2,0]]}
[{"$f":"'AİDAT KONTROL'!P5&\" Fiili - Bütçe Yıllık Kümüle Karşılaştırması\"","v":"2014 Fiili - Bütçe Yıllık Kümüle Karşılaştırması"},null,null,null,{"$f":"NOW()","v":"2014-12-23T16:12:37.060"}]
["ADI SOYADI",{"$f":"'AİDAT KONTROL'!P5&\" YILI YATAN AİDAT TOPLAMI\"","v":"2014 YILI YATAN AİDAT TOPLAMI"},{"$f":"'AİDAT KONTROL'!P5&\" YILI TOPLAM GİDERLER\"","v":"2014 YILI TOPLAM GİDERLER"},"GELİR GİDER FARK","BÜTÇE YILI"]
[null,{"$f":"SUM(B4:B260)-B4","v":0},{"$f":"SUMIF(GİDERLER!A:G,E3,GİDERLER!G:G)-C4","v":0},{"$f":"B3-C3","v":0},2014]
[{"$f":"'AİDAT KONTROL'!B6","v":"BANKA HESABI"},{"$f":"'AİDAT KONTROL'!O6","v":0},{"$f":"'AİDAT KONTROL'!AC6","v":0},{"$f":"C4-B4","v":0}]
[{"$f":"'AİDAT KONTROL'!B7","v":""},{"$f":"'AİDAT KONTROL'!O7","v":0}]
[{"$f":"'AİDAT KONTROL'!B8","v":""},{"$f":"'AİDAT KONTROL'!O8","v":0}]
[{"$f":"'AİDAT KONTROL'!B9","v":""},{"$f":"'AİDAT KONTROL'!O9","v":0}]
[{"$f":"'AİDAT KONTROL'!B10","v":""},{"$f":"'AİDAT KONTROL'!O10","v":0}]
[{"$f":"'AİDAT KONTROL'!B11","v":""},{"$f":"'AİDAT KONTROL'!O11","v":0}]
[{"$f":"'AİDAT KONTROL'!B12","v":""},{"$f":"'AİDAT KONTROL'!O12","v":0}]
[{"$f":"'AİDAT KONTROL'!B13","v":""},{"$f":"'AİDAT KONTROL'!O13","v":0}]
[{"$f":"'AİDAT KONTROL'!B14","v":""},{"$f":"'AİDAT KONTROL'!O14","v":0}]
[{"$f":"'AİDAT KONTROL'!B15","v":""},{"$f":"'AİDAT KONTROL'!O15","v":0}]
[{"$f":"'AİDAT KONTROL'!B16","v":""},{"$f":"'AİDAT KONTROL'!O16","v":0}]
[{"$f":"'AİDAT KONTROL'!B17","v":""},{"$f":"'AİDAT KONTROL'!O17","v":0}]
[{"$f":"'AİDAT KONTROL'!B18","v":""},{"$f":"'AİDAT KONTROL'!O18","v":0}]
[{"$f":"'AİDAT KONTROL'!B19","v":""},{"$f":"'AİDAT KONTROL'!O19","v":0}]
[{"$f":"'AİDAT KONTROL'!B20","v":""},{"$f":"'AİDAT KONTROL'!O20","v":0}]
[{"$f":"'AİDAT KONTROL'!B21","v":""},{"$f":"'AİDAT KONTROL'!O21","v":0}]
[{"$f":"'AİDAT KONTROL'!B22","v":""},{"$f":"'AİDAT KONTROL'!O22","v":0}]
[{"$f":"'AİDAT KONTROL'!B23","v":""},{"$f":"'AİDAT KONTROL'!O23","v":0}]
[{"$f":"'AİDAT KONTROL'!B24","v":""},{"$f":"'AİDAT KONTROL'!O24","v":0}]
[{"$f":"'AİDAT KONTROL'!B25","v":""},{"$f":"'AİDAT KONTROL'!O25","v":0}]
[{"$f":"'AİDAT KONTROL'!B26","v":""},{"$f":"'AİDAT KONTROL'!O26","v":0}]
[{"$f":"'AİDAT KONTROL'!B27","v":""},{"$f":"'AİDAT KONTROL'!O27","v":0}]
[{"$f":"'AİDAT KONTROL'!B28","v":""},{"$f":"'AİDAT KONTROL'!O28","v":0}]
[{"$f":"'AİDAT KONTROL'!B29","v":""},{"$f":"'AİDAT KONTROL'!O29","v":0}]
[{"$f":"'AİDAT KONTROL'!B30","v":""},{"$f":"'AİDAT KONTROL'!O30","v":0}]
[{"$f":"'AİDAT KONTROL'!B31","v":""},{"$f":"'AİDAT KONTROL'!O31","v":0}]
[{"$f":"'AİDAT KONTROL'!B32","v":""},{"$f":"'AİDAT KONTROL'!O32","v":0}]
[{"$f":"'AİDAT KONTROL'!B33","v":""},{"$f":"'AİDAT KONTROL'!O33","v":0}]
[{"$f":"'AİDAT KONTROL'!B34","v":""},{"$f":"'AİDAT KONTROL'!O34","v":0}]
[{"$f":"'AİDAT KONTROL'!B35","v":""},{"$f":"'AİDAT KONTROL'!O35","v":0}]
[{"$f":"'AİDAT KONTROL'!B36","v":""},{"$f":"'AİDAT KONTROL'!O36","v":0}]
[{"$f":"'AİDAT KONTROL'!B37","v":""},{"$f":"'AİDAT KONTROL'!O37","v":0}]
[{"$f":"'AİDAT KONTROL'!B38","v":""},{"$f":"'AİDAT KONTROL'!O38","v":0}]
[{"$f":"'AİDAT KONTROL'!B39","v":""},{"$f":"'AİDAT KONTROL'!O39","v":0}]
[{"$f":"'AİDAT KONTROL'!B40","v":""},{"$f":"'AİDAT KONTROL'!O40","v":0}]
[{"$f":"'AİDAT KONTROL'!B41","v":""},{"$f":"'AİDAT KONTROL'!O41","v":0}]
[{"$f":"'AİDAT KONTROL'!B42","v":""},{"$f":"'AİDAT KONTROL'!O42","v":0}]
[{"$f":"'AİDAT KONTROL'!B43","v":""},{"$f":"'AİDAT KONTROL'!O43","v":0}]
[{"$f":"'AİDAT KONTROL'!B44","v":""},{"$f":"'AİDAT KONTROL'!O44","v":0}]
[{"$f":"'AİDAT KONTROL'!B45","v":""},{"$f":"'AİDAT KONTROL'!O45","v":0}]
[{"$f":"'AİDAT KONTROL'!B46","v":""},{"$f":"'AİDAT KONTROL'!O46","v":0}]
[{"$f":"'AİDAT KONTROL'!B47","v":""},{"$f":"'AİDAT KONTROL'!O47","v":0}]
[{"$f":"'AİDAT KONTROL'!B48","v":""},{"$f":"'AİDAT KONTROL'!O48","v":0}]
[{"$f":"'AİDAT KONTROL'!B49","v":""},{"$f":"'AİDAT KONTROL'!O49","v":0}]
[{"$f":"'AİDAT KONTROL'!B50","v":""},{"$f":"'AİDAT KONTROL'!O50","v":0}]
[{"$f":"'AİDAT KONTROL'!B51","v":""},{"$f":"'AİDAT KONTROL'!O51","v":0}]
[{"$f":"'AİDAT KONTROL'!B52","v":""},{"$f":"'AİDAT KONTROL'!O52","v":0}]
[{"$f":"'AİDAT KONTROL'!B53","v":""},{"$f":"'AİDAT KONTROL'!O53","v":0}]
[{"$f":"'AİDAT KONTROL'!B54","v":""},{"$f":"'AİDAT KONTROL'!O54","v":0}]
[{"$f":"'AİDAT KONTROL'!B55","v":""},{"$f":"'AİDAT KONTROL'!O55","v":0}]
[{"$f":"'AİDAT KONTROL'!B56","v":""},{"$f":"'AİDAT KONTROL'!O56","v":0}]
[{"$f":"'AİDAT KONTROL'!B57","v":""},{"$f":"'AİDAT KONTROL'!O57","v":0}]
[{"$f":"'AİDAT KONTROL'!B58","v":""},{"$f":"'AİDAT KONTROL'!O58","v":0}]
[{"$f":"'AİDAT KONTROL'!B59","v":""},{"$f":"'AİDAT KONTROL'!O59","v":0}]
[{"$f":"'AİDAT KONTROL'!B60","v":""},{"$f":"'AİDAT KONTROL'!O60","v":0}]
[{"$f":"'AİDAT KONTROL'!B61","v":""},{"$f":"'AİDAT KONTROL'!O61","v":0}]
[{"$f":"'AİDAT KONTROL'!B62","v":""},{"$f":"'AİDAT KONTROL'!O62","v":0}]
[{"$f":"'AİDAT KONTROL'!B63","v":""},{"$f":"'AİDAT KONTROL'!O63","v":0}]
[{"$f":"'AİDAT KONTROL'!B64","v":""},{"$f":"'AİDAT KONTROL'!O64","v":0}]
[{"$f":"'AİDAT KONTROL'!B65","v":""},{"$f":"'AİDAT KONTROL'!O65","v":0}]
[{"$f":"'AİDAT KONTROL'!B66","v":""},{"$f":"'AİDAT KONTROL'!O66","v":0}]
[{"$f":"'AİDAT KONTROL'!B67","v":""},{"$f":"'AİDAT KONTROL'!O67","v":0}]
[{"$f":"'AİDAT KONTROL'!B68","v":""},{"$f":"'AİDAT KONTROL'!O68","v":0}]
[{"$f":"'AİDAT KONTROL'!B69","v":""},{"$f":"'AİDAT KONTROL'!O69","v":0}]
[{"$f":"'AİDAT KONTROL'!B70","v":""},{"$f":"'AİDAT KONTROL'!O70","v":0}]
[{"$f":"'AİDAT KONTROL'!B71","v":""},{"$f":"'AİDAT KONTROL'!O71","v":0}]
[{"$f":"'AİDAT KONTROL'!B72","v":""},{"$f":"'AİDAT KONTROL'!O72","v":0}]
[{"$f":"'AİDAT KONTROL'!B73","v":""},{"$f":"'AİDAT KONTROL'!O73","v":0}]
[{"$f":"'AİDAT KONTROL'!B74","v":""},{"$f":"'AİDAT KONTROL'!O74","v":0}]
[{"$f":"'AİDAT KONTROL'!B75","v":""},{"$f":"'AİDAT KONTROL'!O75","v":0}]
[{"$f":"'AİDAT KONTROL'!B76","v":""},{"$f":"'AİDAT KONTROL'!O76","v":0}]
[{"$f":"'AİDAT KONTROL'!B77","v":""},{"$f":"'AİDAT KONTROL'!O77","v":0}]
[{"$f":"'AİDAT KONTROL'!B78","v":""},{"$f":"'AİDAT KONTROL'!O78","v":0}]
[{"$f":"'AİDAT KONTROL'!B79","v":""},{"$f":"'AİDAT KONTROL'!O79","v":0}]
[{"$f":"'AİDAT KONTROL'!B80","v":""},{"$f":"'AİDAT KONTROL'!O80","v":0}]
[{"$f":"'AİDAT KONTROL'!B81","v":""},{"$f":"'AİDAT KONTROL'!O81","v":0}]
[{"$f":"'AİDAT KONTROL'!B82","v":""},{"$f":"'AİDAT KONTROL'!O82","v":0}]
[{"$f":"'AİDAT KONTROL'!B83","v":""},{"$f":"'AİDAT KONTROL'!O83","v":0}]
[{"$f":"'AİDAT KONTROL'!B84","v":""},{"$f":"'AİDAT KONTROL'!O84","v":0}]
[{"$f":"'AİDAT KONTROL'!B85","v":""},{"$f":"'AİDAT KONTROL'!O85","v":0}]
[{"$f":"'AİDAT KONTROL'!B86","v":""},{"$f":"'AİDAT KONTROL'!O86","v":0}]
[{"$f":"'AİDAT KONTROL'!B87","v":""},{"$f":"'AİDAT KONTROL'!O87","v":0}]
[{"$f":"'AİDAT KONTROL'!B88","v":""},{"$f":"'AİDAT KONTROL'!O88","v":0}]
[{"$f":"'AİDAT KONTROL'!B89","v":""},{"$f":"'AİDAT KONTROL'!O89","v":0}]
[{"$f":"'AİDAT KONTROL'!B90","v":""},{"$f":"'AİDAT KONTROL'!O90","v":0}]
[{"$f":"'AİDAT KONTROL'!B91","v":""},{"$f":"'AİDAT KONTROL'!O91","v":0}]
[{"$f":"'AİDAT KONTROL'!B92","v":""},{"$f":"'AİDAT KONTROL'!O92","v":0}]
[{"$f":"'AİDAT KONTROL'!B93","v":""},{"$f":"'AİDAT KONTROL'!O93","v":0}]
[{"$f":"'AİDAT KONTROL'!B94","v":""},{"$f":"'AİDAT KONTROL'!O94","v":0}]
[{"$f":"'AİDAT KONTROL'!B95","v":""},{"$f":"'AİDAT KONTROL'!O95","v":0}]
[{"$f":"'AİDAT KONTROL'!B96","v":""},{"$f":"'AİDAT KONTROL'!O96","v":0}]
[{"$f":"'AİDAT KONTROL'!B97","v":""},{"$f":"'AİDAT KONTROL'!O97","v":0}]
[{"$f":"'AİDAT KONTROL'!B98","v":""},{"$f":"'AİDAT KONTROL'!O98","v":0}]
[{"$f":"'AİDAT KONTROL'!B99","v":""},{"$f":"'AİDAT KONTROL'!O99","v":0}]
[{"$f":"'AİDAT KONTROL'!B100","v":""},{"$f":"'AİDAT KONTROL'!O100","v":0}]
[{"$f":"'AİDAT KONTROL'!B101","v":""},{"$f":"'AİDAT KONTROL'!O101","v":0}]
[{"$f":"'AİDAT KONTROL'!B102","v":""},{"$f":"'AİDAT KONTROL'!O102","v":0}]
[{"$f":"'AİDAT KONTROL'!B103","v":""},{"$f":"'AİDAT KONTROL'!O103","v":0}]
[{"$f":"'AİDAT KONTROL'!B104","v":""},{"$f":"'AİDAT KONTROL'!O104","v":0}]
[{"$f":"'AİDAT KONTROL'!B105","v":""},{"$f":"'AİDAT KONTROL'!O105","v":0}]
[{"$f":"'AİDAT KONTROL'!B106","v":""},{"$f":"'AİDAT KONTROL'!O106","v":0}]
[{"$f":"'AİDAT KONTROL'!B107","v":""},{"$f":"'AİDAT KONTROL'!O107","v":0}]
[{"$f":"'AİDAT KONTROL'!B108","v":""},{"$f":"'AİDAT KONTROL'!O108","v":0}]
[{"$f":"'AİDAT KONTROL'!B109","v":""},{"$f":"'AİDAT KONTROL'!O109","v":0}]
[{"$f":"'AİDAT KONTROL'!B110","v":""},{"$f":"'AİDAT KONTROL'!O110","v":0}]
[{"$f":"'AİDAT KONTROL'!B111","v":""},{"$f":"'AİDAT KONTROL'!O111","v":0}]
[{"$f":"'AİDAT KONTROL'!B112","v":""},{"$f":"'AİDAT KONTROL'!O112","v":0}]
[{"$f":"'AİDAT KONTROL'!B113","v":""},{"$f":"'AİDAT KONTROL'!O113","v":0}]
[{"$f":"'AİDAT KONTROL'!B114","v":""},{"$f":"'AİDAT KONTROL'!O114","v":0}]
[{"$f":"'AİDAT KONTROL'!B115","v":""},{"$f":"'AİDAT KONTROL'!O115","v":0}]
[{"$f":"'AİDAT KONTROL'!B116","v":""},{"$f":"'AİDAT KONTROL'!O116","v":0}]
[{"$f":"'AİDAT KONTROL'!B117","v":""},{"$f":"'AİDAT KONTROL'!O117","v":0}]
[{"$f":"'AİDAT KONTROL'!B118","v":""},{"$f":"'AİDAT KONTROL'!O118","v":0}]
[{"$f":"'AİDAT KONTROL'!B119","v":""},{"$f":"'AİDAT KONTROL'!O119","v":0}]
[{"$f":"'AİDAT KONTROL'!B120","v":""},{"$f":"'AİDAT KONTROL'!O120","v":0}]
[{"$f":"'AİDAT KONTROL'!B121","v":""},{"$f":"'AİDAT KONTROL'!O121","v":0}]
[{"$f":"'AİDAT KONTROL'!B122","v":""},{"$f":"'AİDAT KONTROL'!O122","v":0}]
[{"$f":"'AİDAT KONTROL'!B123","v":""},{"$f":"'AİDAT KONTROL'!O123","v":0}]
[{"$f":"'AİDAT KONTROL'!B124","v":""},{"$f":"'AİDAT KONTROL'!O124","v":0}]
[{"$f":"'AİDAT KONTROL'!B125","v":""},{"$f":"'AİDAT KONTROL'!O125","v":0}]
[{"$f":"'AİDAT KONTROL'!B126","v":""},{"$f":"'AİDAT KONTROL'!O126","v":0}]
[{"$f":"'AİDAT KONTROL'!B127","v":""},{"$f":"'AİDAT KONTROL'!O127","v":0}]
[{"$f":"'AİDAT KONTROL'!B128","v":""},{"$f":"'AİDAT KONTROL'!O128","v":0}]
[{"$f":"'AİDAT KONTROL'!B129","v":""},{"$f":"'AİDAT KONTROL'!O129","v":0}]
[{"$f":"'AİDAT KONTROL'!B130","v":""},{"$f":"'AİDAT KONTROL'!O130","v":0}]
[{"$f":"'AİDAT KONTROL'!B131","v":""},{"$f":"'AİDAT KONTROL'!O131","v":0}]
[{"$f":"'AİDAT KONTROL'!B132","v":""},{"$f":"'AİDAT KONTROL'!O132","v":0}]
[{"$f":"'AİDAT KONTROL'!B133","v":""},{"$f":"'AİDAT KONTROL'!O133","v":0}]
[{"$f":"'AİDAT KONTROL'!B134","v":""},{"$f":"'AİDAT KONTROL'!O134","v":0}]
[{"$f":"'AİDAT KONTROL'!B135","v":""},{"$f":"'AİDAT KONTROL'!O135","v":0}]
[{"$f":"'AİDAT KONTROL'!B136","v":""},{"$f":"'AİDAT KONTROL'!O136","v":0}]
[{"$f":"'AİDAT KONTROL'!B137","v":""},{"$f":"'AİDAT KONTROL'!O137","v":0}]
[{"$f":"'AİDAT KONTROL'!B138","v":""},{"$f":"'AİDAT KONTROL'!O138","v":0}]
[{"$f":"'AİDAT KONTROL'!B139","v":""},{"$f":"'AİDAT KONTROL'!O139","v":0}]
[{"$f":"'AİDAT KONTROL'!B140","v":""},{"$f":"'AİDAT KONTROL'!O140","v":0}]
[{"$f":"'AİDAT KONTROL'!B141","v":""},{"$f":"'AİDAT KONTROL'!O141","v":0}]
[{"$f":"'AİDAT KONTROL'!B142","v":""},{"$f":"'AİDAT KONTROL'!O142","v":0}]
[{"$f":"'AİDAT KONTROL'!B143","v":""},{"$f":"'AİDAT KONTROL'!O143","v":0}]
[{"$f":"'AİDAT KONTROL'!B144","v":""},{"$f":"'AİDAT KONTROL'!O144","v":0}]
[{"$f":"'AİDAT KONTROL'!B145","v":""},{"$f":"'AİDAT KONTROL'!O145","v":0}]
[{"$f":"'AİDAT KONTROL'!B146","v":""},{"$f":"'AİDAT KONTROL'!O146","v":0}]
[{"$f":"'AİDAT KONTROL'!B147","v":""},{"$f":"'AİDAT KONTROL'!O147","v":0}]
[{"$f":"'AİDAT KONTROL'!B148","v":""},{"$f":"'AİDAT KONTROL'!O148","v":0}]
[{"$f":"'AİDAT KONTROL'!B149","v":""},{"$f":"'AİDAT KONTROL'!O149","v":0}]
[{"$f":"'AİDAT KONTROL'!B150","v":""},{"$f":"'AİDAT KONTROL'!O150","v":0}]
[{"$f":"'AİDAT KONTROL'!B151","v":""},{"$f":"'AİDAT KONTROL'!O151","v":0}]
[{"$f":"'AİDAT KONTROL'!B152","v":""},{"$f":"'AİDAT KONTROL'!O152","v":0}]
[{"$f":"'AİDAT KONTROL'!B153","v":""},{"$f":"'AİDAT KONTROL'!O153","v":0}]
[{"$f":"'AİDAT KONTROL'!B154","v":""},{"$f":"'AİDAT KONTROL'!O154","v":0}]
[{"$f":"'AİDAT KONTROL'!B155","v":""},{"$f":"'AİDAT KONTROL'!O155","v":0}]
[{"$f":"'AİDAT KONTROL'!B156","v":""},{"$f":"'AİDAT KONTROL'!O156","v":0}]
[{"$f":"'AİDAT KONTROL'!B157","v":""},{"$f":"'AİDAT KONTROL'!O157","v":0}]
[{"$f":"'AİDAT KONTROL'!B158","v":""},{"$f":"'AİDAT KONTROL'!O158","v":0}]
[{"$f":"'AİDAT KONTROL'!B159","v":""},{"$f":"'AİDAT KONTROL'!O159","v":0}]
[{"$f":"'AİDAT KONTROL'!B160","v":""},{"$f":"'AİDAT KONTROL'!O160","v":0}]
[{"$f":"'AİDAT KONTROL'!B161","v":""},{"$f":"'AİDAT KONTROL'!O161","v":0}]
[{"$f":"'AİDAT KONTROL'!B162","v":""},{"$f":"'AİDAT KONTROL'!O162","v":0}]
[{"$f":"'AİDAT KONTROL'!B163","v":""},{"$f":"'AİDAT KONTROL'!O163","v":0}]
[{"$f":"'AİDAT KONTROL'!B164","v":""},{"$f":"'AİDAT KONTROL'!O164","v":0}]
[{"$f":"'AİDAT KONTROL'!B165","v":""},{"$f":"'AİDAT KONTROL'!O165","v":0}]
[{"$f":"'AİDAT KONTROL'!B166","v":""},{"$f":"'AİDAT KONTROL'!O166","v":0}]
[{"$f":"'AİDAT KONTROL'!B167","v":""},{"$f":"'AİDAT KONTROL'!O167","v":0}]
[{"$f":"'AİDAT KONTROL'!B168","v":""},{"$f":"'AİDAT KONTROL'!O168","v":0}]
[{"$f":"'AİDAT KONTROL'!B169","v":""},{"$f":"'AİDAT KONTROL'!O169","v":0}]
[{"$f":"'AİDAT KONTROL'!B170","v":""},{"$f":"'AİDAT KONTROL'!O170","v":0}]
[{"$f":"'AİDAT KONTROL'!B171","v":""},{"$f":"'AİDAT KONTROL'!O171","v":0}]
[{"$f":"'AİDAT KONTROL'!B172","v":""},{"$f":"'AİDAT KONTROL'!O172","v":0}]
[{"$f":"'AİDAT KONTROL'!B173","v":""},{"$f":"'AİDAT KONTROL'!O173","v":0}]
[{"$f":"'AİDAT KONTROL'!B174","v":""},{"$f":"'AİDAT KONTROL'!O174","v":0}]
[{"$f":"'AİDAT KONTROL'!B175","v":""},{"$f":"'AİDAT KONTROL'!O175","v":0}]
[{"$f":"'AİDAT KONTROL'!B176","v":""},{"$f":"'AİDAT KONTROL'!O176","v":0}]
[{"$f":"'AİDAT KONTROL'!B177","v":""},{"$f":"'AİDAT KONTROL'!O177","v":0}]
[{"$f":"'AİDAT KONTROL'!B178","v":""},{"$f":"'AİDAT KONTROL'!O178","v":0}]
[{"$f":"'AİDAT KONTROL'!B179","v":""},{"$f":"'AİDAT KONTROL'!O179","v":0}]
[{"$f":"'AİDAT KONTROL'!B180","v":""},{"$f":"'AİDAT KONTROL'!O180","v":0}]
[{"$f":"'AİDAT KONTROL'!B181","v":""},{"$f":"'AİDAT KONTROL'!O181","v":0}]
[{"$f":"'AİDAT KONTROL'!B182","v":""},{"$f":"'AİDAT KONTROL'!O182","v":0}]
[{"$f":"'AİDAT KONTROL'!B183","v":""},{"$f":"'AİDAT KONTROL'!O183","v":0}]
[{"$f":"'AİDAT KONTROL'!B184","v":""},{"$f":"'AİDAT KONTROL'!O184","v":0}]
[{"$f":"'AİDAT KONTROL'!B185","v":""},{"$f":"'AİDAT KONTROL'!O185","v":0}]
[{"$f":"'AİDAT KONTROL'!B186","v":""},{"$f":"'AİDAT KONTROL'!O186","v":0}]
[{"$f":"'AİDAT KONTROL'!B187","v":""},{"$f":"'AİDAT KONTROL'!O187","v":0}]
[{"$f":"'AİDAT KONTROL'!B188","v":""},{"$f":"'AİDAT KONTROL'!O188","v":0}]
[{"$f":"'AİDAT KONTROL'!B189","v":""},{"$f":"'AİDAT KONTROL'!O189","v":0}]
[{"$f":"'AİDAT KONTROL'!B190","v":""},{"$f":"'AİDAT KONTROL'!O190","v":0}]
[{"$f":"'AİDAT KONTROL'!B191","v":""},{"$f":"'AİDAT KONTROL'!O191","v":0}]
[{"$f":"'AİDAT KONTROL'!B192","v":""},{"$f":"'AİDAT KONTROL'!O192","v":0}]
[{"$f":"'AİDAT KONTROL'!B193","v":""},{"$f":"'AİDAT KONTROL'!O193","v":0}]
[{"$f":"'AİDAT KONTROL'!B194","v":""},{"$f":"'AİDAT KONTROL'!O194","v":0}]
[{"$f":"'AİDAT KONTROL'!B195","v":""},{"$f":"'AİDAT KONTROL'!O195","v":0}]
[{"$f":"'AİDAT KONTROL'!B196","v":""},{"$f":"'AİDAT KONTROL'!O196","v":0}]
[{"$f":"'AİDAT KONTROL'!B197","v":""},{"$f":"'AİDAT KONTROL'!O197","v":0}]
[{"$f":"'AİDAT KONTROL'!B198","v":""},{"$f":"'AİDAT KONTROL'!O198","v":0}]
[{"$f":"'AİDAT KONTROL'!B199","v":""},{"$f":"'AİDAT KONTROL'!O199","v":0}]
[{"$f":"'AİDAT KONTROL'!B200","v":""},{"$f":"'AİDAT KONTROL'!O200","v":0}]
[{"$f":"'AİDAT KONTROL'!B201","v":""},{"$f":"'AİDAT KONTROL'!O201","v":0}]
[{"$f":"'AİDAT KONTROL'!B202","v":""},{"$f":"'AİDAT KONTROL'!O202","v":0}]
[{"$f":"'AİDAT KONTROL'!B203","v":""},{"$f":"'AİDAT KONTROL'!O203","v":0}]
[{"$f":"'AİDAT KONTROL'!B204","v":""},{"$f":"'AİDAT KONTROL'!O204","v":0}]
[{"$f":"'AİDAT KONTROL'!B205","v":""},{"$f":"'AİDAT KONTROL'!O205","v":0}]
[{"$f":"'AİDAT KONTROL'!B206","v":""},{"$f":"'AİDAT KONTROL'!O206","v":0}]
[{"$f":"'AİDAT KONTROL'!B207","v":""},{"$f":"'AİDAT KONTROL'!O207","v":0}]
[{"$f":"'AİDAT KONTROL'!B208","v":""},{"$f":"'AİDAT KONTROL'!O208","v":0}]
[{"$f":"'AİDAT KONTROL'!B209","v":""},{"$f":"'AİDAT KONTROL'!O209","v":0}]
[{"$f":"'AİDAT KONTROL'!B210","v":""},{"$f":"'AİDAT KONTROL'!O210","v":0}]
[{"$f":"'AİDAT KONTROL'!B211","v":""},{"$f":"'AİDAT KONTROL'!O211","v":0}]
[{"$f":"'AİDAT KONTROL'!B212","v":""},{"$f":"'AİDAT KONTROL'!O212","v":0}]
[{"$f":"'AİDAT KONTROL'!B213","v":""},{"$f":"'AİDAT KONTROL'!O213","v":0}]
[{"$f":"'AİDAT KONTROL'!B214","v":""},{"$f":"'AİDAT KONTROL'!O214","v":0}]
[{"$f":"'AİDAT KONTROL'!B215","v":""},{"$f":"'AİDAT KONTROL'!O215","v":0}]
[{"$f":"'AİDAT KONTROL'!B216","v":""},{"$f":"'AİDAT KONTROL'!O216","v":0}]
[{"$f":"'AİDAT KONTROL'!B217","v":""},{"$f":"'AİDAT KONTROL'!O217","v":0}]
[{"$f":"'AİDAT KONTROL'!B218","v":""},{"$f":"'AİDAT KONTROL'!O218","v":0}]
[{"$f":"'AİDAT KONTROL'!B219","v":""},{"$f":"'AİDAT KONTROL'!O219","v":0}]
[{"$f":"'AİDAT KONTROL'!B220","v":""},{"$f":"'AİDAT KONTROL'!O220","v":0}]
[{"$f":"'AİDAT KONTROL'!B221","v":""},{"$f":"'AİDAT KONTROL'!O221","v":0}]
[{"$f":"'AİDAT KONTROL'!B222","v":""},{"$f":"'AİDAT KONTROL'!O222","v":0}]
[{"$f":"'AİDAT KONTROL'!B223","v":""},{"$f":"'AİDAT KONTROL'!O223","v":0}]
[{"$f":"'AİDAT KONTROL'!B224","v":""},{"$f":"'AİDAT KONTROL'!O224","v":0}]
[{"$f":"'AİDAT KONTROL'!B225","v":""},{"$f":"'AİDAT KONTROL'!O225","v":0}]
[{"$f":"'AİDAT KONTROL'!B226","v":""},{"$f":"'AİDAT KONTROL'!O226","v":0}]
[{"$f":"'AİDAT KONTROL'!B227","v":""},{"$f":"'AİDAT KONTROL'!O227","v":0}]
[{"$f":"'AİDAT KONTROL'!B228","v":""},{"$f":"'AİDAT KONTROL'!O228","v":0}]
[{"$f":"'AİDAT KONTROL'!B229","v":""},{"$f":"'AİDAT KONTROL'!O229","v":0}]
[{"$f":"'AİDAT KONTROL'!B230","v":""},{"$f":"'AİDAT KONTROL'!O230","v":0}]
[{"$f":"'AİDAT KONTROL'!B231","v":""},{"$f":"'AİDAT KONTROL'!O231","v":0}]
[{"$f":"'AİDAT KONTROL'!B232","v":""},{"$f":"'AİDAT KONTROL'!O232","v":0}]
[{"$f":"'AİDAT KONTROL'!B233","v":""},{"$f":"'AİDAT KONTROL'!O233","v":0}]
[{"$f":"'AİDAT KONTROL'!B234","v":""},{"$f":"'AİDAT KONTROL'!O234","v":0}]
[{"$f":"'AİDAT KONTROL'!B235","v":""},{"$f":"'AİDAT KONTROL'!O235","v":0}]
[{"$f":"'AİDAT KONTROL'!B236","v":""},{"$f":"'AİDAT KONTROL'!O236","v":0}]
[{"$f":"'AİDAT KONTROL'!B237","v":""},{"$f":"'AİDAT KONTROL'!O237","v":0}]
[{"$f":"'AİDAT KONTROL'!B238","v":""},{"$f":"'AİDAT KONTROL'!O238","v":0}]
[{"$f":"'AİDAT KONTROL'!B239","v":""},{"$f":"'AİDAT KONTROL'!O239","v":0}]
[{"$f":"'AİDAT KONTROL'!B240","v":""},{"$f":"'AİDAT KONTROL'!O240","v":0}]
[{"$f":"'AİDAT KONTROL'!B241","v":""},{"$f":"'AİDAT KONTROL'!O241","v":0}]
[{"$f":"'AİDAT KONTROL'!B242","v":""},{"$f":"'AİDAT KONTROL'!O242","v":0}]
[{"$f":"'AİDAT KONTROL'!B243","v":""},{"$f":"'AİDAT KONTROL'!O243","v":0}]
[{"$f":"'AİDAT KONTROL'!B244","v":""},{"$f":"'AİDAT KONTROL'!O244","v":0}]
[{"$f":"'AİDAT KONTROL'!B245","v":""},{"$f":"'AİDAT KONTROL'!O245","v":0}]
[{"$f":"'AİDAT KONTROL'!B246","v":""},{"$f":"'AİDAT KONTROL'!O246","v":0}]
[{"$f":"'AİDAT KONTROL'!B247","v":""},{"$f":"'AİDAT KONTROL'!O247","v":0}]
[{"$f":"'AİDAT KONTROL'!B248","v":""},{"$f":"'AİDAT KONTROL'!O248","v":0}]
[{"$f":"'AİDAT KONTROL'!B249","v":""},{"$f":"'AİDAT KONTROL'!O249","v":0}]
[{"$f":"'AİDAT KONTROL'!B250","v":""},{"$f":"'AİDAT KONTROL'!O250","v":0}]
[{"$f":"'AİDAT KONTROL'!B251","v":""},{"$f":"'AİDAT KONTROL'!O251","v":0}]
[{"$f":"'AİDAT KONTROL'!B252","v":""},{"$f":"'AİDAT KONTROL'!O252","v":0}]
[{"$f":"'AİDAT KONTROL'!B253","v":""},{"$f":"'AİDAT KONTROL'!O253","v":0}]
[{"$f":"'AİDAT KONTROL'!B254","v":""},{"$f":"'AİDAT KONTROL'!O254","v":0}]
[{"$f":"'AİDAT KONTROL'!B255","v":""},{"$f":"'AİDAT KONTROL'!O255","v":0}]
[{"$f":"'AİDAT KONTROL'!B256","v":""},{"$f":"'AİDAT KONTROL'!O256","v":0}]

{"sheet":"AİDAT KONTROL","index":1,"n_rows":256,"n_cols":29,"rows_kept":256,"cut":false,"hidden":false,"merged":[[1,1,1,14]]}
[]
[null,{"$f":"P5&\" Yılı Aylık Aidatlar Listesi\"","v":"2014 Yılı Aylık Aidatlar Listesi"}]
[]
[]
["DAİRE NO","ADI SOYADI","OCAK","ŞUBAT","MART","NİSAN","MAYIS","HAZİRAN","TEMMUZ","AĞUSTOS","EYLÜL","EKİM","KASIM","ARALIK","YILLIK TOPLAM",{"$f":"'Bütçe Özeti'!E3","v":2014}]
[999,{"$f":"IF(ISERROR(VLOOKUP(A6,'ÜYE KAYIT LİSTESİ'!A:B,2,0)=TRUE),\"\",VLOOKUP(A6,'ÜYE KAYIT LİSTESİ'!A:B,2,0))","v":"BANKA HESABI"},{"$f":"SUMIF('AİDAT GİRİŞİ'!$F:$F,\"=\"&(B6&TEXT($Q$7,\"aaa-yy\")),'AİDAT GİRİŞİ'!$D:$D)","v":0},{"$f":"SUMIF('AİDAT GİRİŞİ'!$F:$F,\"=\"&($B6&TEXT($R$7,\"aaa-yy\")),'AİDAT GİRİŞİ'!$D:$D)","v":0},{"$f":"SUMIF('AİDAT GİRİŞİ'!$F:$F,\"=\"&($B6&TEXT($S$7,\"aaa-yy\")),'AİDAT GİRİŞİ'!$D:$D)","v":0},{"$f":"SUMIF('AİDAT GİRİŞİ'!$F:$F,\"=\"&($B6&TEXT($T$7,\"aaa-yy\")),'AİDAT GİRİŞİ'!$D:$D)","v":0},{"$f":"SUMIF('AİDAT GİRİŞİ'!$F:$F,\"=\"&($B6&TEXT($U$7,\"aaa-yy\")),'AİDAT GİRİŞİ'!$D:$D)","v":0},{"$f":"SUMIF('AİDAT GİRİŞİ'!$F:$F,\"=\"&($B6&TEXT($V$7,\"aaa-yy\")),'AİDAT GİRİŞİ'!$D:$D)","v":0},{"$f":"SUMIF('AİDAT GİRİŞİ'!$F:$F,\"=\"&($B6&TEXT($W$7,\"aaa-yy\")),'AİDAT GİRİŞİ'!$D:$D)","v":0},{"$f":"SUMIF('AİDAT GİRİŞİ'!$F:$F,\"=\"&($B6&TEXT($X$7,\"aaa-yy\")),'AİDAT GİRİŞİ'!$D:$D)","v":0},{"$f":"SUMIF('AİDAT GİRİŞİ'!$F:$F,\"=\"&($B6&TEXT($Y$7,\"aaa-yy\")),'AİDAT GİRİŞİ'!$D:$D)","v":0},{"$f":"SUMIF('AİDAT GİRİŞİ'!$F:$F,\"=\"&($B6&TEXT($Z$7,\"aaa-yy\")),'AİDAT GİRİŞİ'!$D:$D)","v":0},{"$f":"SUMIF('AİDAT GİRİŞİ'!$F:$F,\"=\"&($B6&TEXT($AA$7,\"aaa-yy\")),'AİDAT GİRİŞİ'!$D:$D)","v":0},{"$f":"SUMIF('AİDAT GİRİŞİ'!$F:$F,\"=\"&($B6&TEXT($AB$7,\"aaa-yy\")),'AİDAT GİRİŞİ'!$D:$D)","v":0},{"$f":"SUM(C6:N6)","v":0},null,{"$f":"SUMIF(GİDERLER!$BF:$BF,\"=\"&($B$6&TEXT(Q7,\"aaa-yy\")),GİDERLER!$G:$G)","v":0},{"$f":"SUMIF(GİDERLER!$BF:$BF,\"=\"&($B$6&TEXT(R7,\"aaa-yy\")),GİDERLER!$G:$G)","v":0},{"$f":"SUMIF(GİDERLER!$BF:$BF,\"=\"&($B$6&TEXT(S7,\"aaa-yy\")),GİDERLER!$G:$G)","v":0},{"$f":"SUMIF(GİDERLER!$BF:$BF,\"=\"&($B$6&TEXT(T7,\"aaa-yy\")),GİDERLER!$G:$G)","v":0},{"$f":"SUMIF(GİDERLER!$BF:$BF,\"=\"&($B$6&TEXT(U7,\"aaa-yy\")),GİDERLER!$G:$G)","v":0},{"$f":"SUMIF(GİDERLER!$BF:$BF,\"=\"&($B$6&TEXT(V7,\"aaa-yy\")),GİDERLER!$G:$G)","v":0},{"$f":"SUMIF(GİDERLER!$BF:$BF,\"=\"&($B$6&TEXT(W7,\"aaa-yy\")),GİDERLER!$G:$G)","v":0},{"$f":"SUMIF(GİDERLER!$BF:$BF,\"=\"&($B$6&TEXT(X7,\"aaa-yy\")),GİDERLER!$G:$G)","v":0},{"$f":"SUMIF(GİDERLER!$BF:$BF,\"=\"&($B$6&TEXT(Y7,\"aaa-yy\")),GİDERLER!$G:$G)","v":0},{"$f":"SUMIF(GİDERLER!$BF:$BF,\"=\"&($B$6&TEXT(Z7,\"aaa-yy\")),GİDERLER!$G:$G)","v":0},{"$f":"SUMIF(GİDERLER!$BF:$BF,\"=\"&($B$6&TEXT(AA7,\"aaa-yy\")),GİDERLER!$G:$G)","v":0},{"$f":"SUMIF(GİDERLER!$BF:$BF,\"=\"&($B$6&TEXT(AB7,\"aaa-yy\")),GİDERLER!$G:$G)","v":0},{"$f":"SUM(Q6:AB6)","v":0}]
[1,{"$f":"IF(ISERROR(VLOOKUP(A7,'ÜYE KAYIT LİSTESİ'!A:B,2,0)=TRUE),\"\",VLOOKUP(A7,'ÜYE KAYIT LİSTESİ'!A:B,2,0))","v":""},{"$f":"SUMIF('AİDAT GİRİŞİ'!$F:$F,\"=\"&(B7&TEXT($Q$7,\"aaa-yy\")),'AİDAT GİRİŞİ'!$D:$D)","v":0},{"$f":"SUMIF('AİDAT GİRİŞİ'!$F:$F,\"=\"&($B7&TEXT($R$7,\"aaa-yy\")),'AİDAT GİRİŞİ'!$D:$D)","v":0},{"$f":"SUMIF('AİDAT GİRİŞİ'!$F:$F,\"=\"&($B7&TEXT($S$7,\"aaa-yy\")),'AİDAT GİRİŞİ'!$D:$D)","v":0},{"$f":"SUMIF('AİDAT GİRİŞİ'!$F:$F,\"=\"&($B7&TEXT($T$7,\"aaa-yy\")),'AİDAT GİRİŞİ'!$D:$D)","v":0},{"$f":"SUMIF('AİDAT GİRİŞİ'!$F:$F,\"=\"&($B7&TEXT($U$7,\"aaa-yy\")),'AİDAT GİRİŞİ'!$D:$D)","v":0},{"$f":"SUMIF('AİDAT GİRİŞİ'!$F:$F,\"=\"&($B7&TEXT($V$7,\"aaa-yy\")),'AİDAT GİRİŞİ'!$D:$D)","v":0},{"$f":"SUMIF('AİDAT GİRİŞİ'!$F:$F,\"=\"&($B7&TEXT($W$7,\"aaa-yy\")),'AİDAT GİRİŞİ'!$D:$D)","v":0},{"$f":"SUMIF('AİDAT GİRİŞİ'!$F:$F,\"=\"&($B7&TEXT($X$7,\"aaa-yy\")),'AİDAT GİRİŞİ'!$D:$D)","v":0},{"$f":"SUMIF('AİDAT GİRİŞİ'!$F:$F,\"=\"&($B7&TEXT($Y$7,\"aaa-yy\")),'AİDAT GİRİŞİ'!$D:$D)","v":0},{"$f":"SUMIF('AİDAT GİRİŞİ'!$F:$F,\"=\"&($B7&TEXT($Z$7,\"aaa-yy\")),'AİDAT GİRİŞİ'!$D:$D)","v":0},{"$f":"SUMIF('AİDAT GİRİŞİ'!$F:$F,\"=\"&($B7&TEXT($AA$7,\"aaa-yy\")),'AİDAT GİRİŞİ'!$D:$D)","v":0},{"$f":"SUMIF('AİDAT GİRİŞİ'!$F:$F,\"=\"&($B7&TEXT($AB$7,\"aaa-yy\")),'AİDAT GİRİŞİ'!$D:$D)","v":0},{"$f":"SUM(C7:N7)","v":0},null,{"$f":"C5&\" \"&$AC$7","v":"OCAK 14"},"ŞUBAT 14","MART 14","NİSAN 14","MAYIS 14","HAZİRAN 14","TEMMUZ 14","AĞUSTOS 14","EYLÜL 14","EKİM 14","KASIM 14","ARALIK 14",{"$f":"RIGHT(P5,2)","v":"14"}]
[2,{"$f":"IF(ISERROR(VLOOKUP(A8,'ÜYE KAYIT LİSTESİ'!A:B,2,0)=TRUE),\"\",VLOOKUP(A8,'ÜYE KAYIT LİSTESİ'!A:B,2,0))","v":""},{"$f":"SUMIF('AİDAT GİRİŞİ'!$F:$F,\"=\"&(B8&TEXT($Q$7,\"aaa-yy\")),'AİDAT GİRİŞİ'!$D:$D)","v":0},{"$f":"SUMIF('AİDAT GİRİŞİ'!$F:$F,\"=\"&($B8&TEXT($R$7,\"aaa-yy\")),'AİDAT GİRİŞİ'!$D:$D)","v":0},{"$f":"SUMIF('AİDAT GİRİŞİ'!$F:$F,\"=\"&($B8&TEXT($S$7,\"aaa-yy\")),'AİDAT GİRİŞİ'!$D:$D)","v":0},{"$f":"SUMIF('AİDAT GİRİŞİ'!$F:$F,\"=\"&($B8&TEXT($T$7,\"aaa-yy\")),'AİDAT GİRİŞİ'!$D:$D)","v":0},{"$f":"SUMIF('AİDAT GİRİŞİ'!$F:$F,\"=\"&($B8&TEXT($U$7,\"aaa-yy\")),'AİDAT GİRİŞİ'!$D:$D)","v":0},{"$f":"SUMIF('AİDAT GİRİŞİ'!$F:$F,\"=\"&($B8&TEXT($V$7,\"aaa-yy\")),'AİDAT GİRİŞİ'!$D:$D)","v":0},{"$f":"SUMIF('AİDAT GİRİŞİ'!$F:$F,\"=\"&($B8&TEXT($W$7,\"aaa-yy\")),'AİDAT GİRİŞİ'!$D:$D)","v":0},{"$f":"SUMIF('AİDAT GİRİŞİ'!$F:$F,\"=\"&($B8&TEXT($X$7,\"aaa-yy\")),'AİDAT GİRİŞİ'!$D:$D)","v":0},{"$f":"SUMIF('AİDAT GİRİŞİ'!$F:$F,\"=\"&($B8&TEXT($Y$7,\"aaa-yy\")),'AİDAT GİRİŞİ'!$D:$D)","v":0},{"$f":"SUMIF('AİDAT GİRİŞİ'!$F:$F,\"=\"&($B8&TEXT($Z$7,\"aaa-yy\")),'AİDAT GİRİŞİ'!$D:$D)","v":0},{"$f":"SUMIF('AİDAT GİRİŞİ'!$F:$F,\"=\"&($B8&TEXT($AA$7,\"aaa-yy\")),'AİDAT GİRİŞİ'!$D:$D)","v":0},{"$f":"SUMIF('AİDAT GİRİŞİ'!$F:$F,\"=\"&($B8&TEXT($AB$7,\"aaa-yy\")),'AİDAT GİRİŞİ'!$D:$D)","v":0},0]
[3,{"$f":"IF(ISERROR(VLOOKUP(A9,'ÜYE KAYIT LİSTESİ'!A:B,2,0)=TRUE),\"\",VLOOKUP(A9,'ÜYE KAYIT LİSTESİ'!A:B,2,0))","v":""},{"$f":"SUMIF('AİDAT GİRİŞİ'!$F:$F,\"=\"&(B9&TEXT($Q$7,\"aaa-yy\")),'AİDAT GİRİŞİ'!$D:$D)","v":0},{"$f":"SUMIF('AİDAT GİRİŞİ'!$F:$F,\"=\"&($B9&TEXT($R$7,\"aaa-yy\")),'AİDAT GİRİŞİ'!$D:$D)","v":0},{"$f":"SUMIF('AİDAT GİRİŞİ'!$F:$F,\"=\"&($B9&TEXT($S$7,\"aaa-yy\")),'AİDAT GİRİŞİ'!$D:$D)","v":0},{"$f":"SUMIF('AİDAT GİRİŞİ'!$F:$F,\"=\"&($B9&TEXT($T$7,\"aaa-yy\")),'AİDAT GİRİŞİ'!$D:$D)","v":0},{"$f":"SUMIF('AİDAT GİRİŞİ'!$F:$F,\"=\"&($B9&TEXT($U$7,\"aaa-yy\")),'AİDAT GİRİŞİ'!$D:$D)","v":0},{"$f":"SUMIF('AİDAT GİRİŞİ'!$F:$F,\"=\"&($B9&TEXT($V$7,\"aaa-yy\")),'AİDAT GİRİŞİ'!$D:$D)","v":0},{"$f":"SUMIF('AİDAT GİRİŞİ'!$F:$F,\"=\"&($B9&TEXT($W$7,\"aaa-yy\")),'AİDAT GİRİŞİ'!$D:$D)","v":0},{"$f":"SUMIF('AİDAT GİRİŞİ'!$F:$F,\"=\"&($B9&TEXT($X$7,\"aaa-yy\")),'AİDAT GİRİŞİ'!$D:$D)","v":0},{"$f":"SUMIF('AİDAT GİRİŞİ'!$F:$F,\"=\"&($B9&TEXT($Y$7,\"aaa-yy\")),'AİDAT GİRİŞİ'!$D:$D)","v":0},{"$f":"SUMIF('AİDAT GİRİŞİ'!$F:$F,\"=\"&($B9&TEXT($Z$7,\"aaa-yy\")),'AİDAT GİRİŞİ'!$D:$D)","v":0},{"$f":"SUMIF('AİDAT GİRİŞİ'!$F:$F,\"=\"&($B9&TEXT($AA$7,\"aaa-yy\")),'AİDAT GİRİŞİ'!$D:$D)","v":0},{"$f":"SUMIF('AİDAT GİRİŞİ'!$F:$F,\"=\"&($B9&TEXT($AB$7,\"aaa-yy\")),'AİDAT GİRİŞİ'!$D:$D)","v":0},0]
[4,{"$f":"IF(ISERROR(VLOOKUP(A10,'ÜYE KAYIT LİSTESİ'!A:B,2,0)=TRUE),\"\",VLOOKUP(A10,'ÜYE KAYIT LİSTESİ'!A:B,2,0))","v":""},{"$f":"SUMIF('AİDAT GİRİŞİ'!$F:$F,\"=\"&(B10&TEXT($Q$7,\"aaa-yy\")),'AİDAT GİRİŞİ'!$D:$D)","v":0},{"$f":"SUMIF('AİDAT GİRİŞİ'!$F:$F,\"=\"&($B10&TEXT($R$7,\"aaa-yy\")),'AİDAT GİRİŞİ'!$D:$D)","v":0},{"$f":"SUMIF('AİDAT GİRİŞİ'!$F:$F,\"=\"&($B10&TEXT($S$7,\"aaa-yy\")),'AİDAT GİRİŞİ'!$D:$D)","v":0},{"$f":"SUMIF('AİDAT GİRİŞİ'!$F:$F,\"=\"&($B10&TEXT($T$7,\"aaa-yy\")),'AİDAT GİRİŞİ'!$D:$D)","v":0},{"$f":"SUMIF('AİDAT GİRİŞİ'!$F:$F,\"=\"&($B10&TEXT($U$7,\"aaa-yy\")),'AİDAT GİRİŞİ'!$D:$D)","v":0},{"$f":"SUMIF('AİDAT GİRİŞİ'!$F:$F,\"=\"&($B10&TEXT($V$7,\"aaa-yy\")),'AİDAT GİRİŞİ'!$D:$D)","v":0},{"$f":"SUMIF('AİDAT GİRİŞİ'!$F:$F,\"=\"&($B10&TEXT($W$7,\"aaa-yy\")),'AİDAT GİRİŞİ'!$D:$D)","v":0},{"$f":"SUMIF('AİDAT GİRİŞİ'!$F:$F,\"=\"&($B10&TEXT($X$7,\"aaa-yy\")),'AİDAT GİRİŞİ'!$D:$D)","v":0},{"$f":"SUMIF('AİDAT GİRİŞİ'!$F:$F,\"=\"&($B10&TEXT($Y$7,\"aaa-yy\")),'AİDAT GİRİŞİ'!$D:$D)","v":0},{"$f":"SUMIF('AİDAT GİRİŞİ'!$F:$F,\"=\"&($B10&TEXT($Z$7,\"aaa-yy\")),'AİDAT GİRİŞİ'!$D:$D)","v":0},{"$f":"SUMIF('AİDAT GİRİŞİ'!$F:$F,\"=\"&($B10&TEXT($AA$7,\"aaa-yy\")),'AİDAT GİRİŞİ'!$D:$D)","v":0},{"$f":"SUMIF('AİDAT GİRİŞİ'!$F:$F,\"=\"&($B10&TEXT($AB$7,\"aaa-yy\")),'AİDAT GİRİŞİ'!$D:$D)","v":0},0]
[5,{"$f":"IF(ISERROR(VLOOKUP(A11,'ÜYE KAYIT LİSTESİ'!A:B,2,0)=TRUE),\"\",VLOOKUP(A11,'ÜYE KAYIT LİSTESİ'!A:B,2,0))","v":""},{"$f":"SUMIF('AİDAT GİRİŞİ'!$F:$F,\"=\"&(B11&TEXT($Q$7,\"aaa-yy\")),'AİDAT GİRİŞİ'!$D:$D)","v":0},{"$f":"SUMIF('AİDAT GİRİŞİ'!$F:$F,\"=\"&($B11&TEXT($R$7,\"aaa-yy\")),'AİDAT GİRİŞİ'!$D:$D)","v":0},{"$f":"SUMIF('AİDAT GİRİŞİ'!$F:$F,\"=\"&($B11&TEXT($S$7,\"aaa-yy\")),'AİDAT GİRİŞİ'!$D:$D)","v":0},{"$f":"SUMIF('AİDAT GİRİŞİ'!$F:$F,\"=\"&($B11&TEXT($T$7,\"aaa-yy\")),'AİDAT GİRİŞİ'!$D:$D)","v":0},{"$f":"SUMIF('AİDAT GİRİŞİ'!$F:$F,\"=\"&($B11&TEXT($U$7,\"aaa-yy\")),'AİDAT GİRİŞİ'!$D:$D)","v":0},{"$f":"SUMIF('AİDAT GİRİŞİ'!$F:$F,\"=\"&($B11&TEXT($V$7,\"aaa-yy\")),'AİDAT GİRİŞİ'!$D:$D)","v":0},{"$f":"SUMIF('AİDAT GİRİŞİ'!$F:$F,\"=\"&($B11&TEXT($W$7,\"aaa-yy\")),'AİDAT GİRİŞİ'!$D:$D)","v":0},{"$f":"SUMIF('AİDAT GİRİŞİ'!$F:$F,\"=\"&($B11&TEXT($X$7,\"aaa-yy\")),'AİDAT GİRİŞİ'!$D:$D)","v":0},{"$f":"SUMIF('AİDAT GİRİŞİ'!$F:$F,\"=\"&($B11&TEXT($Y$7,\"aaa-yy\")),'AİDAT GİRİŞİ'!$D:$D)","v":0},{"$f":"SUMIF('AİDAT GİRİŞİ'!$F:$F,\"=\"&($B11&TEXT($Z$7,\"aaa-yy\")),'AİDAT GİRİŞİ'!$D:$D)","v":0},{"$f":"SUMIF('AİDAT GİRİŞİ'!$F:$F,\"=\"&($B11&TEXT($AA$7,\"aaa-yy\")),'AİDAT GİRİŞİ'!$D:$D)","v":0},{"$f":"SUMIF('AİDAT GİRİŞİ'!$F:$F,\"=\"&($B11&TEXT($AB$7,\"aaa-yy\")),'AİDAT GİRİŞİ'!$D:$D)","v":0},0]
[6,{"$f":"IF(ISERROR(VLOOKUP(A12,'ÜYE KAYIT LİSTESİ'!A:B,2,0)=TRUE),\"\",VLOOKUP(A12,'ÜYE KAYIT LİSTESİ'!A:B,2,0))","v":""},{"$f":"SUMIF('AİDAT GİRİŞİ'!$F:$F,\"=\"&(B12&TEXT($Q$7,\"aaa-yy\")),'AİDAT GİRİŞİ'!$D:$D)","v":0},{"$f":"SUMIF('AİDAT GİRİŞİ'!$F:$F,\"=\"&($B12&TEXT($R$7,\"aaa-yy\")),'AİDAT GİRİŞİ'!$D:$D)","v":0},{"$f":"SUMIF('AİDAT GİRİŞİ'!$F:$F,\"=\"&($B12&TEXT($S$7,\"aaa-yy\")),'AİDAT GİRİŞİ'!$D:$D)","v":0},{"$f":"SUMIF('AİDAT GİRİŞİ'!$F:$F,\"=\"&($B12&TEXT($T$7,\"aaa-yy\")),'AİDAT GİRİŞİ'!$D:$D)","v":0},{"$f":"SUMIF('AİDAT GİRİŞİ'!$F:$F,\"=\"&($B12&TEXT($U$7,\"aaa-yy\")),'AİDAT GİRİŞİ'!$D:$D)","v":0},{"$f":"SUMIF('AİDAT GİRİŞİ'!$F:$F,\"=\"&($B12&TEXT($V$7,\"aaa-yy\")),'AİDAT GİRİŞİ'!$D:$D)","v":0},{"$f":"SUMIF('AİDAT GİRİŞİ'!$F:$F,\"=\"&($B12&TEXT($W$7,\"aaa-yy\")),'AİDAT GİRİŞİ'!$D:$D)","v":0},{"$f":"SUMIF('AİDAT GİRİŞİ'!$F:$F,\"=\"&($B12&TEXT($X$7,\"aaa-yy\")),'AİDAT GİRİŞİ'!$D:$D)","v":0},{"$f":"SUMIF('AİDAT GİRİŞİ'!$F:$F,\"=\"&($B12&TEXT($Y$7,\"aaa-yy\")),'AİDAT GİRİŞİ'!$D:$D)","v":0},{"$f":"SUMIF('AİDAT GİRİŞİ'!$F:$F,\"=\"&($B12&TEXT($Z$7,\"aaa-yy\")),'AİDAT GİRİŞİ'!$D:$D)","v":0},{"$f":"SUMIF('AİDAT GİRİŞİ'!$F:$F,\"=\"&($B12&TEXT($AA$7,\"aaa-yy\")),'AİDAT GİRİŞİ'!$D:$D)","v":0},{"$f":"SUMIF('AİDAT GİRİŞİ'!$F:$F,\"=\"&($B12&TEXT($AB$7,\"aaa-yy\")),'AİDAT GİRİŞİ'!$D:$D)","v":0},0]
[7,{"$f":"IF(ISERROR(VLOOKUP(A13,'ÜYE KAYIT LİSTESİ'!A:B,2,0)=TRUE),\"\",VLOOKUP(A13,'ÜYE KAYIT LİSTESİ'!A:B,2,0))","v":""},{"$f":"SUMIF('AİDAT GİRİŞİ'!$F:$F,\"=\"&(B13&TEXT($Q$7,\"aaa-yy\")),'AİDAT GİRİŞİ'!$D:$D)","v":0},{"$f":"SUMIF('AİDAT GİRİŞİ'!$F:$F,\"=\"&($B13&TEXT($R$7,\"aaa-yy\")),'AİDAT GİRİŞİ'!$D:$D)","v":0},{"$f":"SUMIF('AİDAT GİRİŞİ'!$F:$F,\"=\"&($B13&TEXT($S$7,\"aaa-yy\")),'AİDAT GİRİŞİ'!$D:$D)","v":0},{"$f":"SUMIF('AİDAT GİRİŞİ'!$F:$F,\"=\"&($B13&TEXT($T$7,\"aaa-yy\")),'AİDAT GİRİŞİ'!$D:$D)","v":0},{"$f":"SUMIF('AİDAT GİRİŞİ'!$F:$F,\"=\"&($B13&TEXT($U$7,\"aaa-yy\")),'AİDAT GİRİŞİ'!$D:$D)","v":0},{"$f":"SUMIF('AİDAT GİRİŞİ'!$F:$F,\"=\"&($B13&TEXT($V$7,\"aaa-yy\")),'AİDAT GİRİŞİ'!$D:$D)","v":0},{"$f":"SUMIF('AİDAT GİRİŞİ'!$F:$F,\"=\"&($B13&TEXT($W$7,\"aaa-yy\")),'AİDAT GİRİŞİ'!$D:$D)","v":0},{"$f":"SUMIF('AİDAT GİRİŞİ'!$F:$F,\"=\"&($B13&TEXT($X$7,\"aaa-yy\")),'AİDAT GİRİŞİ'!$D:$D)","v":0},{"$f":"SUMIF('AİDAT GİRİŞİ'!$F:$F,\"=\"&($B13&TEXT($Y$7,\"aaa-yy\")),'AİDAT GİRİŞİ'!$D:$D)","v":0},{"$f":"SUMIF('AİDAT GİRİŞİ'!$F:$F,\"=\"&($B13&TEXT($Z$7,\"aaa-yy\")),'AİDAT GİRİŞİ'!$D:$D)","v":0},{"$f":"SUMIF('AİDAT GİRİŞİ'!$F:$F,\"=\"&($B13&TEXT($AA$7,\"aaa-yy\")),'AİDAT GİRİŞİ'!$D:$D)","v":0},{"$f":"SUMIF('AİDAT GİRİŞİ'!$F:$F,\"=\"&($B13&TEXT($AB$7,\"aaa-yy\")),'AİDAT GİRİŞİ'!$D:$D)","v":0},0]
[8,{"$f":"IF(ISERROR(VLOOKUP(A14,'ÜYE KAYIT LİSTESİ'!A:B,2,0)=TRUE),\"\",VLOOKUP(A14,'ÜYE KAYIT LİSTESİ'!A:B,2,0))","v":""},{"$f":"SUMIF('AİDAT GİRİŞİ'!$F:$F,\"=\"&(B14&TEXT($Q$7,\"aaa-yy\")),'AİDAT GİRİŞİ'!$D:$D)","v":0},{"$f":"SUMIF('AİDAT GİRİŞİ'!$F:$F,\"=\"&($B14&TEXT($R$7,\"aaa-yy\")),'AİDAT GİRİŞİ'!$D:$D)","v":0},{"$f":"SUMIF('AİDAT GİRİŞİ'!$F:$F,\"=\"&($B14&TEXT($S$7,\"aaa-yy\")),'AİDAT GİRİŞİ'!$D:$D)","v":0},{"$f":"SUMIF('AİDAT GİRİŞİ'!$F:$F,\"=\"&($B14&TEXT($T$7,\"aaa-yy\")),'AİDAT GİRİŞİ'!$D:$D)","v":0},{"$f":"SUMIF('AİDAT GİRİŞİ'!$F:$F,\"=\"&($B14&TEXT($U$7,\"aaa-yy\")),'AİDAT GİRİŞİ'!$D:$D)","v":0},{"$f":"SUMIF('AİDAT GİRİŞİ'!$F:$F,\"=\"&($B14&TEXT($V$7,\"aaa-yy\")),'AİDAT GİRİŞİ'!$D:$D)","v":0},{"$f":"SUMIF('AİDAT GİRİŞİ'!$F:$F,\"=\"&($B14&TEXT($W$7,\"aaa-yy\")),'AİDAT GİRİŞİ'!$D:$D)","v":0},{"$f":"SUMIF('AİDAT GİRİŞİ'!$F:$F,\"=\"&($B14&TEXT($X$7,\"aaa-yy\")),'AİDAT GİRİŞİ'!$D:$D)","v":0},{"$f":"SUMIF('AİDAT GİRİŞİ'!$F:$F,\"=\"&($B14&TEXT($Y$7,\"aaa-yy\")),'AİDAT GİRİŞİ'!$D:$D)","v":0},{"$f":"SUMIF('AİDAT GİRİŞİ'!$F:$F,\"=\"&($B14&TEXT($Z$7,\"aaa-yy\")),'AİDAT GİRİŞİ'!$D:$D)","v":0},{"$f":"SUMIF('AİDAT GİRİŞİ'!$F:$F,\"=\"&($B14&TEXT($AA$7,\"aaa-yy\")),'AİDAT GİRİŞİ'!$D:$D)","v":0},{"$f":"SUMIF('AİDAT GİRİŞİ'!$F:$F,\"=\"&($B14&TEXT($AB$7,\"aaa-yy\")),'AİDAT GİRİŞİ'!$D:$D)","v":0},0]
[9,{"$f":"IF(ISERROR(VLOOKUP(A15,'ÜYE KAYIT LİSTESİ'!A:B,2,0)=TRUE),\"\",VLOOKUP(A15,'ÜYE KAYIT LİSTESİ'!A:B,2,0))","v":""},{"$f":"SUMIF('AİDAT GİRİŞİ'!$F:$F,\"=\"&(B15&TEXT($Q$7,\"aaa-yy\")),'AİDAT GİRİŞİ'!$D:$D)","v":0},{"$f":"SUMIF('AİDAT GİRİŞİ'!$F:$F,\"=\"&($B15&TEXT($R$7,\"aaa-yy\")),'AİDAT GİRİŞİ'!$D:$D)","v":0},{"$f":"SUMIF('AİDAT GİRİŞİ'!$F:$F,\"=\"&($B15&TEXT($S$7,\"aaa-yy\")),'AİDAT GİRİŞİ'!$D:$D)","v":0},{"$f":"SUMIF('AİDAT GİRİŞİ'!$F:$F,\"=\"&($B15&TEXT($T$7,\"aaa-yy\")),'AİDAT GİRİŞİ'!$D:$D)","v":0},{"$f":"SUMIF('AİDAT GİRİŞİ'!$F:$F,\"=\"&($B15&TEXT($U$7,\"aaa-yy\")),'AİDAT GİRİŞİ'!$D:$D)","v":0},{"$f":"SUMIF('AİDAT GİRİŞİ'!$F:$F,\"=\"&($B15&TEXT($V$7,\"aaa-yy\")),'AİDAT GİRİŞİ'!$D:$D)","v":0},{"$f":"SUMIF('AİDAT GİRİŞİ'!$F:$F,\"=\"&($B15&TEXT($W$7,\"aaa-yy\")),'AİDAT GİRİŞİ'!$D:$D)","v":0},{"$f":"SUMIF('AİDAT GİRİŞİ'!$F:$F,\"=\"&($B15&TEXT($X$7,\"aaa-yy\")),'AİDAT GİRİŞİ'!$D:$D)","v":0},{"$f":"SUMIF('AİDAT GİRİŞİ'!$F:$F,\"=\"&($B15&TEXT($Y$7,\"aaa-yy\")),'AİDAT GİRİŞİ'!$D:$D)","v":0},{"$f":"SUMIF('AİDAT GİRİŞİ'!$F:$F,\"=\"&($B15&TEXT($Z$7,\"aaa-yy\")),'AİDAT GİRİŞİ'!$D:$D)","v":0},{"$f":"SUMIF('AİDAT GİRİŞİ'!$F:$F,\"=\"&($B15&TEXT($AA$7,\"aaa-yy\")),'AİDAT GİRİŞİ'!$D:$D)","v":0},{"$f":"SUMIF('AİDAT GİRİŞİ'!$F:$F,\"=\"&($B15&TEXT($AB$7,\"aaa-yy\")),'AİDAT GİRİŞİ'!$D:$D)","v":0},0]
[10,{"$f":"IF(ISERROR(VLOOKUP(A16,'ÜYE KAYIT LİSTESİ'!A:B,2,0)=TRUE),\"\",VLOOKUP(A16,'ÜYE KAYIT LİSTESİ'!A:B,2,0))","v":""},{"$f":"SUMIF('AİDAT GİRİŞİ'!$F:$F,\"=\"&(B16&TEXT($Q$7,\"aaa-yy\")),'AİDAT GİRİŞİ'!$D:$D)","v":0},{"$f":"SUMIF('AİDAT GİRİŞİ'!$F:$F,\"=\"&($B16&TEXT($R$7,\"aaa-yy\")),'AİDAT GİRİŞİ'!$D:$D)","v":0},{"$f":"SUMIF('AİDAT GİRİŞİ'!$F:$F,\"=\"&($B16&TEXT($S$7,\"aaa-yy\")),'AİDAT GİRİŞİ'!$D:$D)","v":0},{"$f":"SUMIF('AİDAT GİRİŞİ'!$F:$F,\"=\"&($B16&TEXT($T$7,\"aaa-yy\")),'AİDAT GİRİŞİ'!$D:$D)","v":0},{"$f":"SUMIF('AİDAT GİRİŞİ'!$F:$F,\"=\"&($B16&TEXT($U$7,\"aaa-yy\")),'AİDAT GİRİŞİ'!$D:$D)","v":0},{"$f":"SUMIF('AİDAT GİRİŞİ'!$F:$F,\"=\"&($B16&TEXT($V$7,\"aaa-yy\")),'AİDAT GİRİŞİ'!$D:$D)","v":0},{"$f":"SUMIF('AİDAT GİRİŞİ'!$F:$F,\"=\"&($B16&TEXT($W$7,\"aaa-yy\")),'AİDAT GİRİŞİ'!$D:$D)","v":0},{"$f":"SUMIF('AİDAT GİRİŞİ'!$F:$F,\"=\"&($B16&TEXT($X$7,\"aaa-yy\")),'AİDAT GİRİŞİ'!$D:$D)","v":0},{"$f":"SUMIF('AİDAT GİRİŞİ'!$F:$F,\"=\"&($B16&TEXT($Y$7,\"aaa-yy\")),'AİDAT GİRİŞİ'!$D:$D)","v":0},{"$f":"SUMIF('AİDAT GİRİŞİ'!$F:$F,\"=\"&($B16&TEXT($Z$7,\"aaa-yy\")),'AİDAT GİRİŞİ'!$D:$D)","v":0},{"$f":"SUMIF('AİDAT GİRİŞİ'!$F:$F,\"=\"&($B16&TEXT($AA$7,\"aaa-yy\")),'AİDAT GİRİŞİ'!$D:$D)","v":0},{"$f":"SUMIF('AİDAT GİRİŞİ'!$F:$F,\"=\"&($B16&TEXT($AB$7,\"aaa-yy\")),'AİDAT GİRİŞİ'!$D:$D)","v":0},0]
[11,{"$f":"IF(ISERROR(VLOOKUP(A17,'ÜYE KAYIT LİSTESİ'!A:B,2,0)=TRUE),\"\",VLOOKUP(A17,'ÜYE KAYIT LİSTESİ'!A:B,2,0))","v":""},{"$f":"SUMIF('AİDAT GİRİŞİ'!$F:$F,\"=\"&(B17&TEXT($Q$7,\"aaa-yy\")),'AİDAT GİRİŞİ'!$D:$D)","v":0},{"$f":"SUMIF('AİDAT GİRİŞİ'!$F:$F,\"=\"&($B17&TEXT($R$7,\"aaa-yy\")),'AİDAT GİRİŞİ'!$D:$D)","v":0},{"$f":"SUMIF('AİDAT GİRİŞİ'!$F:$F,\"=\"&($B17&TEXT($S$7,\"aaa-yy\")),'AİDAT GİRİŞİ'!$D:$D)","v":0},{"$f":"SUMIF('AİDAT GİRİŞİ'!$F:$F,\"=\"&($B17&TEXT($T$7,\"aaa-yy\")),'AİDAT GİRİŞİ'!$D:$D)","v":0},{"$f":"SUMIF('AİDAT GİRİŞİ'!$F:$F,\"=\"&($B17&TEXT($U$7,\"aaa-yy\")),'AİDAT GİRİŞİ'!$D:$D)","v":0},{"$f":"SUMIF('AİDAT GİRİŞİ'!$F:$F,\"=\"&($B17&TEXT($V$7,\"aaa-yy\")),'AİDAT GİRİŞİ'!$D:$D)","v":0},{"$f":"SUMIF('AİDAT GİRİŞİ'!$F:$F,\"=\"&($B17&TEXT($W$7,\"aaa-yy\")),'AİDAT GİRİŞİ'!$D:$D)","v":0},{"$f":"SUMIF('AİDAT GİRİŞİ'!$F:$F,\"=\"&($B17&TEXT($X$7,\"aaa-yy\")),'AİDAT GİRİŞİ'!$D:$D)","v":0},{"$f":"SUMIF('AİDAT GİRİŞİ'!$F:$F,\"=\"&($B17&TEXT($Y$7,\"aaa-yy\")),'AİDAT GİRİŞİ'!$D:$D)","v":0},{"$f":"SUMIF('AİDAT GİRİŞİ'!$F:$F,\"=\"&($B17&TEXT($Z$7,\"aaa-yy\")),'AİDAT GİRİŞİ'!$D:$D)","v":0},{"$f":"SUMIF('AİDAT GİRİŞİ'!$F:$F,\"=\"&($B17&TEXT($AA$7,\"aaa-yy\")),'AİDAT GİRİŞİ'!$D:$D)","v":0},{"$f":"SUMIF('AİDAT GİRİŞİ'!$F:$F,\"=\"&($B17&TEXT($AB$7,\"aaa-yy\")),'AİDAT GİRİŞİ'!$D:$D)","v":0},0]
[12,{"$f":"IF(ISERROR(VLOOKUP(A18,'ÜYE KAYIT LİSTESİ'!A:B,2,0)=TRUE),\"\",VLOOKUP(A18,'ÜYE KAYIT LİSTESİ'!A:B,2,0))","v":""},{"$f":"SUMIF('AİDAT GİRİŞİ'!$F:$F,\"=\"&(B18&TEXT($Q$7,\"aaa-yy\")),'AİDAT GİRİŞİ'!$D:$D)","v":0},{"$f":"SUMIF('AİDAT GİRİŞİ'!$F:$F,\"=\"&($B18&TEXT($R$7,\"aaa-yy\")),'AİDAT GİRİŞİ'!$D:$D)","v":0},{"$f":"SUMIF('AİDAT GİRİŞİ'!$F:$F,\"=\"&($B18&TEXT($S$7,\"aaa-yy\")),'AİDAT GİRİŞİ'!$D:$D)","v":0},{"$f":"SUMIF('AİDAT GİRİŞİ'!$F:$F,\"=\"&($B18&TEXT($T$7,\"aaa-yy\")),'AİDAT GİRİŞİ'!$D:$D)","v":0},{"$f":"SUMIF('AİDAT GİRİŞİ'!$F:$F,\"=\"&($B18&TEXT($U$7,\"aaa-yy\")),'AİDAT GİRİŞİ'!$D:$D)","v":0},{"$f":"SUMIF('AİDAT GİRİŞİ'!$F:$F,\"=\"&($B18&TEXT($V$7,\"aaa-yy\")),'AİDAT GİRİŞİ'!$D:$D)","v":0},{"$f":"SUMIF('AİDAT GİRİŞİ'!$F:$F,\"=\"&($B18&TEXT($W$7,\"aaa-yy\")),'AİDAT GİRİŞİ'!$D:$D)","v":0},{"$f":"SUMIF('AİDAT GİRİŞİ'!$F:$F,\"=\"&($B18&TEXT($X$7,\"aaa-yy\")),'AİDAT GİRİŞİ'!$D:$D)","v":0},{"$f":"SUMIF('AİDAT GİRİŞİ'!$F:$F,\"=\"&($B18&TEXT($Y$7,\"aaa-yy\")),'AİDAT GİRİŞİ'!$D:$D)","v":0},{"$f":"SUMIF('AİDAT GİRİŞİ'!$F:$F,\"=\"&($B18&TEXT($Z$7,\"aaa-yy\")),'AİDAT GİRİŞİ'!$D:$D)","v":0},{"$f":"SUMIF('AİDAT GİRİŞİ'!$F:$F,\"=\"&($B18&TEXT($AA$7,\"aaa-yy\")),'AİDAT GİRİŞİ'!$D:$D)","v":0},{"$f":"SUMIF('AİDAT GİRİŞİ'!$F:$F,\"=\"&($B18&TEXT($AB$7,\"aaa-yy\")),'AİDAT GİRİŞİ'!$D:$D)","v":0},0]
[13,{"$f":"IF(ISERROR(VLOOKUP(A19,'ÜYE KAYIT LİSTESİ'!A:B,2,0)=TRUE),\"\",VLOOKUP(A19,'ÜYE KAYIT LİSTESİ'!A:B,2,0))","v":""},{"$f":"SUMIF('AİDAT GİRİŞİ'!$F:$F,\"=\"&(B19&TEXT($Q$7,\"aaa-yy\")),'AİDAT GİRİŞİ'!$D:$D)","v":0},{"$f":"SUMIF('AİDAT GİRİŞİ'!$F:$F,\"=\"&($B19&TEXT($R$7,\"aaa-yy\")),'AİDAT GİRİŞİ'!$D:$D)","v":0},{"$f":"SUMIF('AİDAT GİRİŞİ'!$F:$F,\"=\"&($B19&TEXT($S$7,\"aaa-yy\")),'AİDAT GİRİŞİ'!$D:$D)","v":0},{"$f":"SUMIF('AİDAT GİRİŞİ'!$F:$F,\"=\"&($B19&TEXT($T$7,\"aaa-yy\")),'AİDAT GİRİŞİ'!$D:$D)","v":0},{"$f":"SUMIF('AİDAT GİRİŞİ'!$F:$F,\"=\"&($B19&TEXT($U$7,\"aaa-yy\")),'AİDAT GİRİŞİ'!$D:$D)","v":0},{"$f":"SUMIF('AİDAT GİRİŞİ'!$F:$F,\"=\"&($B19&TEXT($V$7,\"aaa-yy\")),'AİDAT GİRİŞİ'!$D:$D)","v":0},{"$f":"SUMIF('AİDAT GİRİŞİ'!$F:$F,\"=\"&($B19&TEXT($W$7,\"aaa-yy\")),'AİDAT GİRİŞİ'!$D:$D)","v":0},{"$f":"SUMIF('AİDAT GİRİŞİ'!$F:$F,\"=\"&($B19&TEXT($X$7,\"aaa-yy\")),'AİDAT GİRİŞİ'!$D:$D)","v":0},{"$f":"SUMIF('AİDAT GİRİŞİ'!$F:$F,\"=\"&($B19&TEXT($Y$7,\"aaa-yy\")),'AİDAT GİRİŞİ'!$D:$D)","v":0},{"$f":"SUMIF('AİDAT GİRİŞİ'!$F:$F,\"=\"&($B19&TEXT($Z$7,\"aaa-yy\")),'AİDAT GİRİŞİ'!$D:$D)","v":0},{"$f":"SUMIF('AİDAT GİRİŞİ'!$F:$F,\"=\"&($B19&TEXT($AA$7,\"aaa-yy\")),'AİDAT GİRİŞİ'!$D:$D)","v":0},{"$f":"SUMIF('AİDAT GİRİŞİ'!$F:$F,\"=\"&($B19&TEXT($AB$7,\"aaa-yy\")),'AİDAT GİRİŞİ'!$D:$D)","v":0},0]
[14,{"$f":"IF(ISERROR(VLOOKUP(A20,'ÜYE KAYIT LİSTESİ'!A:B,2,0)=TRUE),\"\",VLOOKUP(A20,'ÜYE KAYIT LİSTESİ'!A:B,2,0))","v":""},{"$f":"SUMIF('AİDAT GİRİŞİ'!$F:$F,\"=\"&(B20&TEXT($Q$7,\"aaa-yy\")),'AİDAT GİRİŞİ'!$D:$D)","v":0},{"$f":"SUMIF('AİDAT GİRİŞİ'!$F:$F,\"=\"&($B20&TEXT($R$7,\"aaa-yy\")),'AİDAT GİRİŞİ'!$D:$D)","v":0},{"$f":"SUMIF('AİDAT GİRİŞİ'!$F:$F,\"=\"&($B20&TEXT($S$7,\"aaa-yy\")),'AİDAT GİRİŞİ'!$D:$D)","v":0},{"$f":"SUMIF('AİDAT GİRİŞİ'!$F:$F,\"=\"&($B20&TEXT($T$7,\"aaa-yy\")),'AİDAT GİRİŞİ'!$D:$D)","v":0},{"$f":"SUMIF('AİDAT GİRİŞİ'!$F:$F,\"=\"&($B20&TEXT($U$7,\"aaa-yy\")),'AİDAT GİRİŞİ'!$D:$D)","v":0},{"$f":"SUMIF('AİDAT GİRİŞİ'!$F:$F,\"=\"&($B20&TEXT($V$7,\"aaa-yy\")),'AİDAT GİRİŞİ'!$D:$D)","v":0},{"$f":"SUMIF('AİDAT GİRİŞİ'!$F:$F,\"=\"&($B20&TEXT($W$7,\"aaa-yy\")),'AİDAT GİRİŞİ'!$D:$D)","v":0},{"$f":"SUMIF('AİDAT GİRİŞİ'!$F:$F,\"=\"&($B20&TEXT($X$7,\"aaa-yy\")),'AİDAT GİRİŞİ'!$D:$D)","v":0},{"$f":"SUMIF('AİDAT GİRİŞİ'!$F:$F,\"=\"&($B20&TEXT($Y$7,\"aaa-yy\")),'AİDAT GİRİŞİ'!$D:$D)","v":0},{"$f":"SUMIF('AİDAT GİRİŞİ'!$F:$F,\"=\"&($B20&TEXT($Z$7,\"aaa-yy\")),'AİDAT GİRİŞİ'!$D:$D)","v":0},{"$f":"SUMIF('AİDAT GİRİŞİ'!$F:$F,\"=\"&($B20&TEXT($AA$7,\"aaa-yy\")),'AİDAT GİRİŞİ'!$D:$D)","v":0},{"$f":"SUMIF('AİDAT GİRİŞİ'!$F:$F,\"=\"&($B20&TEXT($AB$7,\"aaa-yy\")),'AİDAT GİRİŞİ'!$D:$D)","v":0},0]
[15,{"$f":"IF(ISERROR(VLOOKUP(A21,'ÜYE KAYIT LİSTESİ'!A:B,2,0)=TRUE),\"\",VLOOKUP(A21,'ÜYE KAYIT LİSTESİ'!A:B,2,0))","v":""},{"$f":"SUMIF('AİDAT GİRİŞİ'!$F:$F,\"=\"&(B21&TEXT($Q$7,\"aaa-yy\")),'AİDAT GİRİŞİ'!$D:$D)","v":0},{"$f":"SUMIF('AİDAT GİRİŞİ'!$F:$F,\"=\"&($B21&TEXT($R$7,\"aaa-yy\")),'AİDAT GİRİŞİ'!$D:$D)","v":0},{"$f":"SUMIF('AİDAT GİRİŞİ'!$F:$F,\"=\"&($B21&TEXT($S$7,\"aaa-yy\")),'AİDAT GİRİŞİ'!$D:$D)","v":0},{"$f":"SUMIF('AİDAT GİRİŞİ'!$F:$F,\"=\"&($B21&TEXT($T$7,\"aaa-yy\")),'AİDAT GİRİŞİ'!$D:$D)","v":0},{"$f":"SUMIF('AİDAT GİRİŞİ'!$F:$F,\"=\"&($B21&TEXT($U$7,\"aaa-yy\")),'AİDAT GİRİŞİ'!$D:$D)","v":0},{"$f":"SUMIF('AİDAT GİRİŞİ'!$F:$F,\"=\"&($B21&TEXT($V$7,\"aaa-yy\")),'AİDAT GİRİŞİ'!$D:$D)","v":0},{"$f":"SUMIF('AİDAT GİRİŞİ'!$F:$F,\"=\"&($B21&TEXT($W$7,\"aaa-yy\")),'AİDAT GİRİŞİ'!$D:$D)","v":0},{"$f":"SUMIF('AİDAT GİRİŞİ'!$F:$F,\"=\"&($B21&TEXT($X$7,\"aaa-yy\")),'AİDAT GİRİŞİ'!$D:$D)","v":0},{"$f":"SUMIF('AİDAT GİRİŞİ'!$F:$F,\"=\"&($B21&TEXT($Y$7,\"aaa-yy\")),'AİDAT GİRİŞİ'!$D:$D)","v":0},{"$f":"SUMIF('AİDAT GİRİŞİ'!$F:$F,\"=\"&($B21&TEXT($Z$7,\"aaa-yy\")),'AİDAT GİRİŞİ'!$D:$D)","v":0},{"$f":"SUMIF('AİDAT GİRİŞİ'!$F:$F,\"=\"&($B21&TEXT($AA$7,\"aaa-yy\")),'AİDAT GİRİŞİ'!$D:$D)","v":0},{"$f":"SUMIF('AİDAT GİRİŞİ'!$F:$F,\"=\"&($B21&TEXT($AB$7,\"aaa-yy\")),'AİDAT GİRİŞİ'!$D:$D)","v":0},0]
[16,{"$f":"IF(ISERROR(VLOOKUP(A22,'ÜYE KAYIT LİSTESİ'!A:B,2,0)=TRUE),\"\",VLOOKUP(A22,'ÜYE KAYIT LİSTESİ'!A:B,2,0))","v":""},{"$f":"SUMIF('AİDAT GİRİŞİ'!$F:$F,\"=\"&(B22&TEXT($Q$7,\"aaa-yy\")),'AİDAT GİRİŞİ'!$D:$D)","v":0},{"$f":"SUMIF('AİDAT GİRİŞİ'!$F:$F,\"=\"&($B22&TEXT($R$7,\"aaa-yy\")),'AİDAT GİRİŞİ'!$D:$D)","v":0},{"$f":"SUMIF('AİDAT GİRİŞİ'!$F:$F,\"=\"&($B22&TEXT($S$7,\"aaa-yy\")),'AİDAT GİRİŞİ'!$D:$D)","v":0},{"$f":"SUMIF('AİDAT GİRİŞİ'!$F:$F,\"=\"&($B22&TEXT($T$7,\"aaa-yy\")),'AİDAT GİRİŞİ'!$D:$D)","v":0},{"$f":"SUMIF('AİDAT GİRİŞİ'!$F:$F,\"=\"&($B22&TEXT($U$7,\"aaa-yy\")),'AİDAT GİRİŞİ'!$D:$D)","v":0},{"$f":"SUMIF('AİDAT GİRİŞİ'!$F:$F,\"=\"&($B22&TEXT($V$7,\"aaa-yy\")),'AİDAT GİRİŞİ'!$D:$D)","v":0},{"$f":"SUMIF('AİDAT GİRİŞİ'!$F:$F,\"=\"&($B22&TEXT($W$7,\"aaa-yy\")),'AİDAT GİRİŞİ'!$D:$D)","v":0},{"$f":"SUMIF('AİDAT GİRİŞİ'!$F:$F,\"=\"&($B22&TEXT($X$7,\"aaa-yy\")),'AİDAT GİRİŞİ'!$D:$D)","v":0},{"$f":"SUMIF('AİDAT GİRİŞİ'!$F:$F,\"=\"&($B22&TEXT($Y$7,\"aaa-yy\")),'AİDAT GİRİŞİ'!$D:$D)","v":0},{"$f":"SUMIF('AİDAT GİRİŞİ'!$F:$F,\"=\"&($B22&TEXT($Z$7,\"aaa-yy\")),'AİDAT GİRİŞİ'!$D:$D)","v":0},{"$f":"SUMIF('AİDAT GİRİŞİ'!$F:$F,\"=\"&($B22&TEXT($AA$7,\"aaa-yy\")),'AİDAT GİRİŞİ'!$D:$D)","v":0},{"$f":"SUMIF('AİDAT GİRİŞİ'!$F:$F,\"=\"&($B22&TEXT($AB$7,\"aaa-yy\")),'AİDAT GİRİŞİ'!$D:$D)","v":0},0]
[17,{"$f":"IF(ISERROR(VLOOKUP(A23,'ÜYE KAYIT LİSTESİ'!A:B,2,0)=TRUE),\"\",VLOOKUP(A23,'ÜYE KAYIT LİSTESİ'!A:B,2,0))","v":""},{"$f":"SUMIF('AİDAT GİRİŞİ'!$F:$F,\"=\"&(B23&TEXT($Q$7,\"aaa-yy\")),'AİDAT GİRİŞİ'!$D:$D)","v":0},{"$f":"SUMIF('AİDAT GİRİŞİ'!$F:$F,\"=\"&($B23&TEXT($R$7,\"aaa-yy\")),'AİDAT GİRİŞİ'!$D:$D)","v":0},{"$f":"SUMIF('AİDAT GİRİŞİ'!$F:$F,\"=\"&($B23&TEXT($S$7,\"aaa-yy\")),'AİDAT GİRİŞİ'!$D:$D)","v":0},{"$f":"SUMIF('AİDAT GİRİŞİ'!$F:$F,\"=\"&($B23&TEXT($T$7,\"aaa-yy\")),'AİDAT GİRİŞİ'!$D:$D)","v":0},{"$f":"SUMIF('AİDAT GİRİŞİ'!$F:$F,\"=\"&($B23&TEXT($U$7,\"aaa-yy\")),'AİDAT GİRİŞİ'!$D:$D)","v":0},{"$f":"SUMIF('AİDAT GİRİŞİ'!$F:$F,\"=\"&($B23&TEXT($V$7,\"aaa-yy\")),'AİDAT GİRİŞİ'!$D:$D)","v":0},{"$f":"SUMIF('AİDAT GİRİŞİ'!$F:$F,\"=\"&($B23&TEXT($W$7,\"aaa-yy\")),'AİDAT GİRİŞİ'!$D:$D)","v":0},{"$f":"SUMIF('AİDAT GİRİŞİ'!$F:$F,\"=\"&($B23&TEXT($X$7,\"aaa-yy\")),'AİDAT GİRİŞİ'!$D:$D)","v":0},{"$f":"SUMIF('AİDAT GİRİŞİ'!$F:$F,\"=\"&($B23&TEXT($Y$7,\"aaa-yy\")),'AİDAT GİRİŞİ'!$D:$D)","v":0},{"$f":"SUMIF('AİDAT GİRİŞİ'!$F:$F,\"=\"&($B23&TEXT($Z$7,\"aaa-yy\")),'AİDAT GİRİŞİ'!$D:$D)","v":0},{"$f":"SUMIF('AİDAT GİRİŞİ'!$F:$F,\"=\"&($B23&TEXT($AA$7,\"aaa-yy\")),'AİDAT GİRİŞİ'!$D:$D)","v":0},{"$f":"SUMIF('AİDAT GİRİŞİ'!$F:$F,\"=\"&($B23&TEXT($AB$7,\"aaa-yy\")),'AİDAT GİRİŞİ'!$D:$D)","v":0},0]
[18,{"$f":"IF(ISERROR(VLOOKUP(A24,'ÜYE KAYIT LİSTESİ'!A:B,2,0)=TRUE),\"\",VLOOKUP(A24,'ÜYE KAYIT LİSTESİ'!A:B,2,0))","v":""},{"$f":"SUMIF('AİDAT GİRİŞİ'!$F:$F,\"=\"&(B24&TEXT($Q$7,\"aaa-yy\")),'AİDAT GİRİŞİ'!$D:$D)","v":0},{"$f":"SUMIF('AİDAT GİRİŞİ'!$F:$F,\"=\"&($B24&TEXT($R$7,\"aaa-yy\")),'AİDAT GİRİŞİ'!$D:$D)","v":0},{"$f":"SUMIF('AİDAT GİRİŞİ'!$F:$F,\"=\"&($B24&TEXT($S$7,\"aaa-yy\")),'AİDAT GİRİŞİ'!$D:$D)","v":0},{"$f":"SUMIF('AİDAT GİRİŞİ'!$F:$F,\"=\"&($B24&TEXT($T$7,\"aaa-yy\")),'AİDAT GİRİŞİ'!$D:$D)","v":0},{"$f":"SUMIF('AİDAT GİRİŞİ'!$F:$F,\"=\"&($B24&TEXT($U$7,\"aaa-yy\")),'AİDAT GİRİŞİ'!$D:$D)","v":0},{"$f":"SUMIF('AİDAT GİRİŞİ'!$F:$F,\"=\"&($B24&TEXT($V$7,\"aaa-yy\")),'AİDAT GİRİŞİ'!$D:$D)","v":0},{"$f":"SUMIF('AİDAT GİRİŞİ'!$F:$F,\"=\"&($B24&TEXT($W$7,\"aaa-yy\")),'AİDAT GİRİŞİ'!$D:$D)","v":0},{"$f":"SUMIF('AİDAT GİRİŞİ'!$F:$F,\"=\"&($B24&TEXT($X$7,\"aaa-yy\")),'AİDAT GİRİŞİ'!$D:$D)","v":0},{"$f":"SUMIF('AİDAT GİRİŞİ'!$F:$F,\"=\"&($B24&TEXT($Y$7,\"aaa-yy\")),'AİDAT GİRİŞİ'!$D:$D)","v":0},{"$f":"SUMIF('AİDAT GİRİŞİ'!$F:$F,\"=\"&($B24&TEXT($Z$7,\"aaa-yy\")),'AİDAT GİRİŞİ'!$D:$D)","v":0},{"$f":"SUMIF('AİDAT GİRİŞİ'!$F:$F,\"=\"&($B24&TEXT($AA$7,\"aaa-yy\")),'AİDAT GİRİŞİ'!$D:$D)","v":0},{"$f":"SUMIF('AİDAT GİRİŞİ'!$F:$F,\"=\"&($B24&TEXT($AB$7,\"aaa-yy\")),'AİDAT GİRİŞİ'!$D:$D)","v":0},0]
[19,{"$f":"IF(ISERROR(VLOOKUP(A25,'ÜYE KAYIT LİSTESİ'!A:B,2,0)=TRUE),\"\",VLOOKUP(A25,'ÜYE KAYIT LİSTESİ'!A:B,2,0))","v":""},{"$f":"SUMIF('AİDAT GİRİŞİ'!$F:$F,\"=\"&(B25&TEXT($Q$7,\"aaa-yy\")),'AİDAT GİRİŞİ'!$D:$D)","v":0},{"$f":"SUMIF('AİDAT GİRİŞİ'!$F:$F,\"=\"&($B25&TEXT($R$7,\"aaa-yy\")),'AİDAT GİRİŞİ'!$D:$D)","v":0},{"$f":"SUMIF('AİDAT GİRİŞİ'!$F:$F,\"=\"&($B25&TEXT($S$7,\"aaa-yy\")),'AİDAT GİRİŞİ'!$D:$D)","v":0},{"$f":"SUMIF('AİDAT GİRİŞİ'!$F:$F,\"=\"&($B25&TEXT($T$7,\"aaa-yy\")),'AİDAT GİRİŞİ'!$D:$D)","v":0},{"$f":"SUMIF('AİDAT GİRİŞİ'!$F:$F,\"=\"&($B25&TEXT($U$7,\"aaa-yy\")),'AİDAT GİRİŞİ'!$D:$D)","v":0},{"$f":"SUMIF('AİDAT GİRİŞİ'!$F:$F,\"=\"&($B25&TEXT($V$7,\"aaa-yy\")),'AİDAT GİRİŞİ'!$D:$D)","v":0},{"$f":"SUMIF('AİDAT GİRİŞİ'!$F:$F,\"=\"&($B25&TEXT($W$7,\"aaa-yy\")),'AİDAT GİRİŞİ'!$D:$D)","v":0},{"$f":"SUMIF('AİDAT GİRİŞİ'!$F:$F,\"=\"&($B25&TEXT($X$7,\"aaa-yy\")),'AİDAT GİRİŞİ'!$D:$D)","v":0},{"$f":"SUMIF('AİDAT GİRİŞİ'!$F:$F,\"=\"&($B25&TEXT($Y$7,\"aaa-yy\")),'AİDAT GİRİŞİ'!$D:$D)","v":0},{"$f":"SUMIF('AİDAT GİRİŞİ'!$F:$F,\"=\"&($B25&TEXT($Z$7,\"aaa-yy\")),'AİDAT GİRİŞİ'!$D:$D)","v":0},{"$f":"SUMIF('AİDAT GİRİŞİ'!$F:$F,\"=\"&($B25&TEXT($AA$7,\"aaa-yy\")),'AİDAT GİRİŞİ'!$D:$D)","v":0},{"$f":"SUMIF('AİDAT GİRİŞİ'!$F:$F,\"=\"&($B25&TEXT($AB$7,\"aaa-yy\")),'AİDAT GİRİŞİ'!$D:$D)","v":0},0]
[20,{"$f":"IF(ISERROR(VLOOKUP(A26,'ÜYE KAYIT LİSTESİ'!A:B,2,0)=TRUE),\"\",VLOOKUP(A26,'ÜYE KAYIT LİSTESİ'!A:B,2,0))","v":""},{"$f":"SUMIF('AİDAT GİRİŞİ'!$F:$F,\"=\"&(B26&TEXT($Q$7,\"aaa-yy\")),'AİDAT GİRİŞİ'!$D:$D)","v":0},{"$f":"SUMIF('AİDAT GİRİŞİ'!$F:$F,\"=\"&($B26&TEXT($R$7,\"aaa-yy\")),'AİDAT GİRİŞİ'!$D:$D)","v":0},{"$f":"SUMIF('AİDAT GİRİŞİ'!$F:$F,\"=\"&($B26&TEXT($S$7,\"aaa-yy\")),'AİDAT GİRİŞİ'!$D:$D)","v":0},{"$f":"SUMIF('AİDAT GİRİŞİ'!$F:$F,\"=\"&($B26&TEXT($T$7,\"aaa-yy\")),'AİDAT GİRİŞİ'!$D:$D)","v":0},{"$f":"SUMIF('AİDAT GİRİŞİ'!$F:$F,\"=\"&($B26&TEXT($U$7,\"aaa-yy\")),'AİDAT GİRİŞİ'!$D:$D)","v":0},{"$f":"SUMIF('AİDAT GİRİŞİ'!$F:$F,\"=\"&($B26&TEXT($V$7,\"aaa-yy\")),'AİDAT GİRİŞİ'!$D:$D)","v":0},{"$f":"SUMIF('AİDAT GİRİŞİ'!$F:$F,\"=\"&($B26&TEXT($W$7,\"aaa-yy\")),'AİDAT GİRİŞİ'!$D:$D)","v":0},{"$f":"SUMIF('AİDAT GİRİŞİ'!$F:$F,\"=\"&($B26&TEXT($X$7,\"aaa-yy\")),'AİDAT GİRİŞİ'!$D:$D)","v":0},{"$f":"SUMIF('AİDAT GİRİŞİ'!$F:$F,\"=\"&($B26&TEXT($Y$7,\"aaa-yy\")),'AİDAT GİRİŞİ'!$D:$D)","v":0},{"$f":"SUMIF('AİDAT GİRİŞİ'!$F:$F,\"=\"&($B26&TEXT($Z$7,\"aaa-yy\")),'AİDAT GİRİŞİ'!$D:$D)","v":0},{"$f":"SUMIF('AİDAT GİRİŞİ'!$F:$F,\"=\"&($B26&TEXT($AA$7,\"aaa-yy\")),'AİDAT GİRİŞİ'!$D:$D)","v":0},{"$f":"SUMIF('AİDAT GİRİŞİ'!$F:$F,\"=\"&($B26&TEXT($AB$7,\"aaa-yy\")),'AİDAT GİRİŞİ'!$D:$D)","v":0},0]
[21,{"$f":"IF(ISERROR(VLOOKUP(A27,'ÜYE KAYIT LİSTESİ'!A:B,2,0)=TRUE),\"\",VLOOKUP(A27,'ÜYE KAYIT LİSTESİ'!A:B,2,0))","v":""},{"$f":"SUMIF('AİDAT GİRİŞİ'!$F:$F,\"=\"&(B27&TEXT($Q$7,\"aaa-yy\")),'AİDAT GİRİŞİ'!$D:$D)","v":0},{"$f":"SUMIF('AİDAT GİRİŞİ'!$F:$F,\"=\"&($B27&TEXT($R$7,\"aaa-yy\")),'AİDAT GİRİŞİ'!$D:$D)","v":0},{"$f":"SUMIF('AİDAT GİRİŞİ'!$F:$F,\"=\"&($B27&TEXT($S$7,\"aaa-yy\")),'AİDAT GİRİŞİ'!$D:$D)","v":0},{"$f":"SUMIF('AİDAT GİRİŞİ'!$F:$F,\"=\"&($B27&TEXT($T$7,\"aaa-yy\")),'AİDAT GİRİŞİ'!$D:$D)","v":0},{"$f":"SUMIF('AİDAT GİRİŞİ'!$F:$F,\"=\"&($B27&TEXT($U$7,\"aaa-yy\")),'AİDAT GİRİŞİ'!$D:$D)","v":0},{"$f":"SUMIF('AİDAT GİRİŞİ'!$F:$F,\"=\"&($B27&TEXT($V$7,\"aaa-yy\")),'AİDAT GİRİŞİ'!$D:$D)","v":0},{"$f":"SUMIF('AİDAT GİRİŞİ'!$F:$F,\"=\"&($B27&TEXT($W$7,\"aaa-yy\")),'AİDAT GİRİŞİ'!$D:$D)","v":0},{"$f":"SUMIF('AİDAT GİRİŞİ'!$F:$F,\"=\"&($B27&TEXT($X$7,\"aaa-yy\")),'AİDAT GİRİŞİ'!$D:$D)","v":0},{"$f":"SUMIF('AİDAT GİRİŞİ'!$F:$F,\"=\"&($B27&TEXT($Y$7,\"aaa-yy\")),'AİDAT GİRİŞİ'!$D:$D)","v":0},{"$f":"SUMIF('AİDAT GİRİŞİ'!$F:$F,\"=\"&($B27&TEXT($Z$7,\"aaa-yy\")),'AİDAT GİRİŞİ'!$D:$D)","v":0},{"$f":"SUMIF('AİDAT GİRİŞİ'!$F:$F,\"=\"&($B27&TEXT($AA$7,\"aaa-yy\")),'AİDAT GİRİŞİ'!$D:$D)","v":0},{"$f":"SUMIF('AİDAT GİRİŞİ'!$F:$F,\"=\"&($B27&TEXT($AB$7,\"aaa-yy\")),'AİDAT GİRİŞİ'!$D:$D)","v":0},0]
[22,{"$f":"IF(ISERROR(VLOOKUP(A28,'ÜYE KAYIT LİSTESİ'!A:B,2,0)=TRUE),\"\",VLOOKUP(A28,'ÜYE KAYIT LİSTESİ'!A:B,2,0))","v":""},{"$f":"SUMIF('AİDAT GİRİŞİ'!$F:$F,\"=\"&(B28&TEXT($Q$7,\"aaa-yy\")),'AİDAT GİRİŞİ'!$D:$D)","v":0},{"$f":"SUMIF('AİDAT GİRİŞİ'!$F:$F,\"=\"&($B28&TEXT($R$7,\"aaa-yy\")),'AİDAT GİRİŞİ'!$D:$D)","v":0},{"$f":"SUMIF('AİDAT GİRİŞİ'!$F:$F,\"=\"&($B28&TEXT($S$7,\"aaa-yy\")),'AİDAT GİRİŞİ'!$D:$D)","v":0},{"$f":"SUMIF('AİDAT GİRİŞİ'!$F:$F,\"=\"&($B28&TEXT($T$7,\"aaa-yy\")),'AİDAT GİRİŞİ'!$D:$D)","v":0},{"$f":"SUMIF('AİDAT GİRİŞİ'!$F:$F,\"=\"&($B28&TEXT($U$7,\"aaa-yy\")),'AİDAT GİRİŞİ'!$D:$D)","v":0},{"$f":"SUMIF('AİDAT GİRİŞİ'!$F:$F,\"=\"&($B28&TEXT($V$7,\"aaa-yy\")),'AİDAT GİRİŞİ'!$D:$D)","v":0},{"$f":"SUMIF('AİDAT GİRİŞİ'!$F:$F,\"=\"&($B28&TEXT($W$7,\"aaa-yy\")),'AİDAT GİRİŞİ'!$D:$D)","v":0},{"$f":"SUMIF('AİDAT GİRİŞİ'!$F:$F,\"=\"&($B28&TEXT($X$7,\"aaa-yy\")),'AİDAT GİRİŞİ'!$D:$D)","v":0},{"$f":"SUMIF('AİDAT GİRİŞİ'!$F:$F,\"=\"&($B28&TEXT($Y$7,\"aaa-yy\")),'AİDAT GİRİŞİ'!$D:$D)","v":0},{"$f":"SUMIF('AİDAT GİRİŞİ'!$F:$F,\"=\"&($B28&TEXT($Z$7,\"aaa-yy\")),'AİDAT GİRİŞİ'!$D:$D)","v":0},{"$f":"SUMIF('AİDAT GİRİŞİ'!$F:$F,\"=\"&($B28&TEXT($AA$7,\"aaa-yy\")),'AİDAT GİRİŞİ'!$D:$D)","v":0},{"$f":"SUMIF('AİDAT GİRİŞİ'!$F:$F,\"=\"&($B28&TEXT($AB$7,\"aaa-yy\")),'AİDAT GİRİŞİ'!$D:$D)","v":0},0]
[23,{"$f":"IF(ISERROR(VLOOKUP(A29,'ÜYE KAYIT LİSTESİ'!A:B,2,0)=TRUE),\"\",VLOOKUP(A29,'ÜYE KAYIT LİSTESİ'!A:B,2,0))","v":""},{"$f":"SUMIF('AİDAT GİRİŞİ'!$F:$F,\"=\"&(B29&TEXT($Q$7,\"aaa-yy\")),'AİDAT GİRİŞİ'!$D:$D)","v":0},{"$f":"SUMIF('AİDAT GİRİŞİ'!$F:$F,\"=\"&($B29&TEXT($R$7,\"aaa-yy\")),'AİDAT GİRİŞİ'!$D:$D)","v":0},{"$f":"SUMIF('AİDAT GİRİŞİ'!$F:$F,\"=\"&($B29&TEXT($S$7,\"aaa-yy\")),'AİDAT GİRİŞİ'!$D:$D)","v":0},{"$f":"SUMIF('AİDAT GİRİŞİ'!$F:$F,\"=\"&($B29&TEXT($T$7,\"aaa-yy\")),'AİDAT GİRİŞİ'!$D:$D)","v":0},{"$f":"SUMIF('AİDAT GİRİŞİ'!$F:$F,\"=\"&($B29&TEXT($U$7,\"aaa-yy\")),'AİDAT GİRİŞİ'!$D:$D)","v":0},{"$f":"SUMIF('AİDAT GİRİŞİ'!$F:$F,\"=\"&($B29&TEXT($V$7,\"aaa-yy\")),'AİDAT GİRİŞİ'!$D:$D)","v":0},{"$f":"SUMIF('AİDAT GİRİŞİ'!$F:$F,\"=\"&($B29&TEXT($W$7,\"aaa-yy\")),'AİDAT GİRİŞİ'!$D:$D)","v":0},{"$f":"SUMIF('AİDAT GİRİŞİ'!$F:$F,\"=\"&($B29&TEXT($X$7,\"aaa-yy\")),'AİDAT GİRİŞİ'!$D:$D)","v":0},{"$f":"SUMIF('AİDAT GİRİŞİ'!$F:$F,\"=\"&($B29&TEXT($Y$7,\"aaa-yy\")),'AİDAT GİRİŞİ'!$D:$D)","v":0},{"$f":"SUMIF('AİDAT GİRİŞİ'!$F:$F,\"=\"&($B29&TEXT($Z$7,\"aaa-yy\")),'AİDAT GİRİŞİ'!$D:$D)","v":0},{"$f":"SUMIF('AİDAT GİRİŞİ'!$F:$F,\"=\"&($B29&TEXT($AA$7,\"aaa-yy\")),'AİDAT GİRİŞİ'!$D:$D)","v":0},{"$f":"SUMIF('AİDAT GİRİŞİ'!$F:$F,\"=\"&($B29&TEXT($AB$7,\"aaa-yy\")),'AİDAT GİRİŞİ'!$D:$D)","v":0},0]
[24,{"$f":"IF(ISERROR(VLOOKUP(A30,'ÜYE KAYIT LİSTESİ'!A:B,2,0)=TRUE),\"\",VLOOKUP(A30,'ÜYE KAYIT LİSTESİ'!A:B,2,0))","v":""},{"$f":"SUMIF('AİDAT GİRİŞİ'!$F:$F,\"=\"&(B30&TEXT($Q$7,\"aaa-yy\")),'AİDAT GİRİŞİ'!$D:$D)","v":0},{"$f":"SUMIF('AİDAT GİRİŞİ'!$F:$F,\"=\"&($B30&TEXT($R$7,\"aaa-yy\")),'AİDAT GİRİŞİ'!$D:$D)","v":0},{"$f":"SUMIF('AİDAT GİRİŞİ'!$F:$F,\"=\"&($B30&TEXT($S$7,\"aaa-yy\")),'AİDAT GİRİŞİ'!$D:$D)","v":0},{"$f":"SUMIF('AİDAT GİRİŞİ'!$F:$F,\"=\"&($B30&TEXT($T$7,\"aaa-yy\")),'AİDAT GİRİŞİ'!$D:$D)","v":0},{"$f":"SUMIF('AİDAT GİRİŞİ'!$F:$F,\"=\"&($B30&TEXT($U$7,\"aaa-yy\")),'AİDAT GİRİŞİ'!$D:$D)","v":0},{"$f":"SUMIF('AİDAT GİRİŞİ'!$F:$F,\"=\"&($B30&TEXT($V$7,\"aaa-yy\")),'AİDAT GİRİŞİ'!$D:$D)","v":0},{"$f":"SUMIF('AİDAT GİRİŞİ'!$F:$F,\"=\"&($B30&TEXT($W$7,\"aaa-yy\")),'AİDAT GİRİŞİ'!$D:$D)","v":0},{"$f":"SUMIF('AİDAT GİRİŞİ'!$F:$F,\"=\"&($B30&TEXT($X$7,\"aaa-yy\")),'AİDAT GİRİŞİ'!$D:$D)","v":0},{"$f":"SUMIF('AİDAT GİRİŞİ'!$F:$F,\"=\"&($B30&TEXT($Y$7,\"aaa-yy\")),'AİDAT GİRİŞİ'!$D:$D)","v":0},{"$f":"SUMIF('AİDAT GİRİŞİ'!$F:$F,\"=\"&($B30&TEXT($Z$7,\"aaa-yy\")),'AİDAT GİRİŞİ'!$D:$D)","v":0},{"$f":"SUMIF('AİDAT GİRİŞİ'!$F:$F,\"=\"&($B30&TEXT($AA$7,\"aaa-yy\")),'AİDAT GİRİŞİ'!$D:$D)","v":0},{"$f":"SUMIF('AİDAT GİRİŞİ'!$F:$F,\"=\"&($B30&TEXT($AB$7,\"aaa-yy\")),'AİDAT GİRİŞİ'!$D:$D)","v":0},0]
[25,{"$f":"IF(ISERROR(VLOOKUP(A31,'ÜYE KAYIT LİSTESİ'!A:B,2,0)=TRUE),\"\",VLOOKUP(A31,'ÜYE KAYIT LİSTESİ'!A:B,2,0))","v":""},{"$f":"SUMIF('AİDAT GİRİŞİ'!$F:$F,\"=\"&(B31&TEXT($Q$7,\"aaa-yy\")),'AİDAT GİRİŞİ'!$D:$D)","v":0},{"$f":"SUMIF('AİDAT GİRİŞİ'!$F:$F,\"=\"&($B31&TEXT($R$7,\"aaa-yy\")),'AİDAT GİRİŞİ'!$D:$D)","v":0},{"$f":"SUMIF('AİDAT GİRİŞİ'!$F:$F,\"=\"&($B31&TEXT($S$7,\"aaa-yy\")),'AİDAT GİRİŞİ'!$D:$D)","v":0},{"$f":"SUMIF('AİDAT GİRİŞİ'!$F:$F,\"=\"&($B31&TEXT($T$7,\"aaa-yy\")),'AİDAT GİRİŞİ'!$D:$D)","v":0},{"$f":"SUMIF('AİDAT GİRİŞİ'!$F:$F,\"=\"&($B31&TEXT($U$7,\"aaa-yy\")),'AİDAT GİRİŞİ'!$D:$D)","v":0},{"$f":"SUMIF('AİDAT GİRİŞİ'!$F:$F,\"=\"&($B31&TEXT($V$7,\"aaa-yy\")),'AİDAT GİRİŞİ'!$D:$D)","v":0},{"$f":"SUMIF('AİDAT GİRİŞİ'!$F:$F,\"=\"&($B31&TEXT($W$7,\"aaa-yy\")),'AİDAT GİRİŞİ'!$D:$D)","v":0},{"$f":"SUMIF('AİDAT GİRİŞİ'!$F:$F,\"=\"&($B31&TEXT($X$7,\"aaa-yy\")),'AİDAT GİRİŞİ'!$D:$D)","v":0},{"$f":"SUMIF('AİDAT GİRİŞİ'!$F:$F,\"=\"&($B31&TEXT($Y$7,\"aaa-yy\")),'AİDAT GİRİŞİ'!$D:$D)","v":0},{"$f":"SUMIF('AİDAT GİRİŞİ'!$F:$F,\"=\"&($B31&TEXT($Z$7,\"aaa-yy\")),'AİDAT GİRİŞİ'!$D:$D)","v":0},{"$f":"SUMIF('AİDAT GİRİŞİ'!$F:$F,\"=\"&($B31&TEXT($AA$7,\"aaa-yy\")),'AİDAT GİRİŞİ'!$D:$D)","v":0},{"$f":"SUMIF('AİDAT GİRİŞİ'!$F:$F,\"=\"&($B31&TEXT($AB$7,\"aaa-yy\")),'AİDAT GİRİŞİ'!$D:$D)","v":0},0]
[26,{"$f":"IF(ISERROR(VLOOKUP(A32,'ÜYE KAYIT LİSTESİ'!A:B,2,0)=TRUE),\"\",VLOOKUP(A32,'ÜYE KAYIT LİSTESİ'!A:B,2,0))","v":""},{"$f":"SUMIF('AİDAT GİRİŞİ'!$F:$F,\"=\"&(B32&TEXT($Q$7,\"aaa-yy\")),'AİDAT GİRİŞİ'!$D:$D)","v":0},{"$f":"SUMIF('AİDAT GİRİŞİ'!$F:$F,\"=\"&($B32&TEXT($R$7,\"aaa-yy\")),'AİDAT GİRİŞİ'!$D:$D)","v":0},{"$f":"SUMIF('AİDAT GİRİŞİ'!$F:$F,\"=\"&($B32&TEXT($S$7,\"aaa-yy\")),'AİDAT GİRİŞİ'!$D:$D)","v":0},{"$f":"SUMIF('AİDAT GİRİŞİ'!$F:$F,\"=\"&($B32&TEXT($T$7,\"aaa-yy\")),'AİDAT GİRİŞİ'!$D:$D)","v":0},{"$f":"SUMIF('AİDAT GİRİŞİ'!$F:$F,\"=\"&($B32&TEXT($U$7,\"aaa-yy\")),'AİDAT GİRİŞİ'!$D:$D)","v":0},{"$f":"SUMIF('AİDAT GİRİŞİ'!$F:$F,\"=\"&($B32&TEXT($V$7,\"aaa-yy\")),'AİDAT GİRİŞİ'!$D:$D)","v":0},{"$f":"SUMIF('AİDAT GİRİŞİ'!$F:$F,\"=\"&($B32&TEXT($W$7,\"aaa-yy\")),'AİDAT GİRİŞİ'!$D:$D)","v":0},{"$f":"SUMIF('AİDAT GİRİŞİ'!$F:$F,\"=\"&($B32&TEXT($X$7,\"aaa-yy\")),'AİDAT GİRİŞİ'!$D:$D)","v":0},{"$f":"SUMIF('AİDAT GİRİŞİ'!$F:$F,\"=\"&($B32&TEXT($Y$7,\"aaa-yy\")),'AİDAT GİRİŞİ'!$D:$D)","v":0},{"$f":"SUMIF('AİDAT GİRİŞİ'!$F:$F,\"=\"&($B32&TEXT($Z$7,\"aaa-yy\")),'AİDAT GİRİŞİ'!$D:$D)","v":0},{"$f":"SUMIF('AİDAT GİRİŞİ'!$F:$F,\"=\"&($B32&TEXT($AA$7,\"aaa-yy\")),'AİDAT GİRİŞİ'!$D:$D)","v":0},{"$f":"SUMIF('AİDAT GİRİŞİ'!$F:$F,\"=\"&($B32&TEXT($AB$7,\"aaa-yy\")),'AİDAT GİRİŞİ'!$D:$D)","v":0},0]
[27,{"$f":"IF(ISERROR(VLOOKUP(A33,'ÜYE KAYIT LİSTESİ'!A:B,2,0)=TRUE),\"\",VLOOKUP(A33,'ÜYE KAYIT LİSTESİ'!A:B,2,0))","v":""},{"$f":"SUMIF('AİDAT GİRİŞİ'!$F:$F,\"=\"&(B33&TEXT($Q$7,\"aaa-yy\")),'AİDAT GİRİŞİ'!$D:$D)","v":0},{"$f":"SUMIF('AİDAT GİRİŞİ'!$F:$F,\"=\"&($B33&TEXT($R$7,\"aaa-yy\")),'AİDAT GİRİŞİ'!$D:$D)","v":0},{"$f":"SUMIF('AİDAT GİRİŞİ'!$F:$F,\"=\"&($B33&TEXT($S$7,\"aaa-yy\")),'AİDAT GİRİŞİ'!$D:$D)","v":0},{"$f":"SUMIF('AİDAT GİRİŞİ'!$F:$F,\"=\"&($B33&TEXT($T$7,\"aaa-yy\")),'AİDAT GİRİŞİ'!$D:$D)","v":0},{"$f":"SUMIF('AİDAT GİRİŞİ'!$F:$F,\"=\"&($B33&TEXT($U$7,\"aaa-yy\")),'AİDAT GİRİŞİ'!$D:$D)","v":0},{"$f":"SUMIF('AİDAT GİRİŞİ'!$F:$F,\"=\"&($B33&TEXT($V$7,\"aaa-yy\")),'AİDAT GİRİŞİ'!$D:$D)","v":0},{"$f":"SUMIF('AİDAT GİRİŞİ'!$F:$F,\"=\"&($B33&TEXT($W$7,\"aaa-yy\")),'AİDAT GİRİŞİ'!$D:$D)","v":0},{"$f":"SUMIF('AİDAT GİRİŞİ'!$F:$F,\"=\"&($B33&TEXT($X$7,\"aaa-yy\")),'AİDAT GİRİŞİ'!$D:$D)","v":0},{"$f":"SUMIF('AİDAT GİRİŞİ'!$F:$F,\"=\"&($B33&TEXT($Y$7,\"aaa-yy\")),'AİDAT GİRİŞİ'!$D:$D)","v":0},{"$f":"SUMIF('AİDAT GİRİŞİ'!$F:$F,\"=\"&($B33&TEXT($Z$7,\"aaa-yy\")),'AİDAT GİRİŞİ'!$D:$D)","v":0},{"$f":"SUMIF('AİDAT GİRİŞİ'!$F:$F,\"=\"&($B33&TEXT($AA$7,\"aaa-yy\")),'AİDAT GİRİŞİ'!$D:$D)","v":0},{"$f":"SUMIF('AİDAT GİRİŞİ'!$F:$F,\"=\"&($B33&TEXT($AB$7,\"aaa-yy\")),'AİDAT GİRİŞİ'!$D:$D)","v":0},0]
[28,{"$f":"IF(ISERROR(VLOOKUP(A34,'ÜYE KAYIT LİSTESİ'!A:B,2,0)=TRUE),\"\",VLOOKUP(A34,'ÜYE KAYIT LİSTESİ'!A:B,2,0))","v":""},{"$f":"SUMIF('AİDAT GİRİŞİ'!$F:$F,\"=\"&(B34&TEXT($Q$7,\"aaa-yy\")),'AİDAT GİRİŞİ'!$D:$D)","v":0},{"$f":"SUMIF('AİDAT GİRİŞİ'!$F:$F,\"=\"&($B34&TEXT($R$7,\"aaa-yy\")),'AİDAT GİRİŞİ'!$D:$D)","v":0},{"$f":"SUMIF('AİDAT GİRİŞİ'!$F:$F,\"=\"&($B34&TEXT($S$7,\"aaa-yy\")),'AİDAT GİRİŞİ'!$D:$D)","v":0},{"$f":"SUMIF('AİDAT GİRİŞİ'!$F:$F,\"=\"&($B34&TEXT($T$7,\"aaa-yy\")),'AİDAT GİRİŞİ'!$D:$D)","v":0},{"$f":"SUMIF('AİDAT GİRİŞİ'!$F:$F,\"=\"&($B34&TEXT($U$7,\"aaa-yy\")),'AİDAT GİRİŞİ'!$D:$D)","v":0},{"$f":"SUMIF('AİDAT GİRİŞİ'!$F:$F,\"=\"&($B34&TEXT($V$7,\"aaa-yy\")),'AİDAT GİRİŞİ'!$D:$D)","v":0},{"$f":"SUMIF('AİDAT GİRİŞİ'!$F:$F,\"=\"&($B34&TEXT($W$7,\"aaa-yy\")),'AİDAT GİRİŞİ'!$D:$D)","v":0},{"$f":"SUMIF('AİDAT GİRİŞİ'!$F:$F,\"=\"&($B34&TEXT($X$7,\"aaa-yy\")),'AİDAT GİRİŞİ'!$D:$D)","v":0},{"$f":"SUMIF('AİDAT GİRİŞİ'!$F:$F,\"=\"&($B34&TEXT($Y$7,\"aaa-yy\")),'AİDAT GİRİŞİ'!$D:$D)","v":0},{"$f":"SUMIF('AİDAT GİRİŞİ'!$F:$F,\"=\"&($B34&TEXT($Z$7,\"aaa-yy\")),'AİDAT GİRİŞİ'!$D:$D)","v":0},{"$f":"SUMIF('AİDAT GİRİŞİ'!$F:$F,\"=\"&($B34&TEXT($AA$7,\"aaa-yy\")),'AİDAT GİRİŞİ'!$D:$D)","v":0},{"$f":"SUMIF('AİDAT GİRİŞİ'!$F:$F,\"=\"&($B34&TEXT($AB$7,\"aaa-yy\")),'AİDAT GİRİŞİ'!$D:$D)","v":0},0]
[29,{"$f":"IF(ISERROR(VLOOKUP(A35,'ÜYE KAYIT LİSTESİ'!A:B,2,0)=TRUE),\"\",VLOOKUP(A35,'ÜYE KAYIT LİSTESİ'!A:B,2,0))","v":""},{"$f":"SUMIF('AİDAT GİRİŞİ'!$F:$F,\"=\"&(B35&TEXT($Q$7,\"aaa-yy\")),'AİDAT GİRİŞİ'!$D:$D)","v":0},{"$f":"SUMIF('AİDAT GİRİŞİ'!$F:$F,\"=\"&($B35&TEXT($R$7,\"aaa-yy\")),'AİDAT GİRİŞİ'!$D:$D)","v":0},{"$f":"SUMIF('AİDAT GİRİŞİ'!$F:$F,\"=\"&($B35&TEXT($S$7,\"aaa-yy\")),'AİDAT GİRİŞİ'!$D:$D)","v":0},{"$f":"SUMIF('AİDAT GİRİŞİ'!$F:$F,\"=\"&($B35&TEXT($T$7,\"aaa-yy\")),'AİDAT GİRİŞİ'!$D:$D)","v":0},{"$f":"SUMIF('AİDAT GİRİŞİ'!$F:$F,\"=\"&($B35&TEXT($U$7,\"aaa-yy\")),'AİDAT GİRİŞİ'!$D:$D)","v":0},{"$f":"SUMIF('AİDAT GİRİŞİ'!$F:$F,\"=\"&($B35&TEXT($V$7,\"aaa-yy\")),'AİDAT GİRİŞİ'!$D:$D)","v":0},{"$f":"SUMIF('AİDAT GİRİŞİ'!$F:$F,\"=\"&($B35&TEXT($W$7,\"aaa-yy\")),'AİDAT GİRİŞİ'!$D:$D)","v":0},{"$f":"SUMIF('AİDAT GİRİŞİ'!$F:$F,\"=\"&($B35&TEXT($X$7,\"aaa-yy\")),'AİDAT GİRİŞİ'!$D:$D)","v":0},{"$f":"SUMIF('AİDAT GİRİŞİ'!$F:$F,\"=\"&($B35&TEXT($Y$7,\"aaa-yy\")),'AİDAT GİRİŞİ'!$D:$D)","v":0},{"$f":"SUMIF('AİDAT GİRİŞİ'!$F:$F,\"=\"&($B35&TEXT($Z$7,\"aaa-yy\")),'AİDAT GİRİŞİ'!$D:$D)","v":0},{"$f":"SUMIF('AİDAT GİRİŞİ'!$F:$F,\"=\"&($B35&TEXT($AA$7,\"aaa-yy\")),'AİDAT GİRİŞİ'!$D:$D)","v":0},{"$f":"SUMIF('AİDAT GİRİŞİ'!$F:$F,\"=\"&($B35&TEXT($AB$7,\"aaa-yy\")),'AİDAT GİRİŞİ'!$D:$D)","v":0},0]
[30,{"$f":"IF(ISERROR(VLOOKUP(A36,'ÜYE KAYIT LİSTESİ'!A:B,2,0)=TRUE),\"\",VLOOKUP(A36,'ÜYE KAYIT LİSTESİ'!A:B,2,0))","v":""},{"$f":"SUMIF('AİDAT GİRİŞİ'!$F:$F,\"=\"&(B36&TEXT($Q$7,\"aaa-yy\")),'AİDAT GİRİŞİ'!$D:$D)","v":0},{"$f":"SUMIF('AİDAT GİRİŞİ'!$F:$F,\"=\"&($B36&TEXT($R$7,\"aaa-yy\")),'AİDAT GİRİŞİ'!$D:$D)","v":0},{"$f":"SUMIF('AİDAT GİRİŞİ'!$F:$F,\"=\"&($B36&TEXT($S$7,\"aaa-yy\")),'AİDAT GİRİŞİ'!$D:$D)","v":0},{"$f":"SUMIF('AİDAT GİRİŞİ'!$F:$F,\"=\"&($B36&TEXT($T$7,\"aaa-yy\")),'AİDAT GİRİŞİ'!$D:$D)","v":0},{"$f":"SUMIF('AİDAT GİRİŞİ'!$F:$F,\"=\"&($B36&TEXT($U$7,\"aaa-yy\")),'AİDAT GİRİŞİ'!$D:$D)","v":0},{"$f":"SUMIF('AİDAT GİRİŞİ'!$F:$F,\"=\"&($B36&TEXT($V$7,\"aaa-yy\")),'AİDAT GİRİŞİ'!$D:$D)","v":0},{"$f":"SUMIF('AİDAT GİRİŞİ'!$F:$F,\"=\"&($B36&TEXT($W$7,\"aaa-yy\")),'AİDAT GİRİŞİ'!$D:$D)","v":0},{"$f":"SUMIF('AİDAT GİRİŞİ'!$F:$F,\"=\"&($B36&TEXT($X$7,\"aaa-yy\")),'AİDAT GİRİŞİ'!$D:$D)","v":0},{"$f":"SUMIF('AİDAT GİRİŞİ'!$F:$F,\"=\"&($B36&TEXT($Y$7,\"aaa-yy\")),'AİDAT GİRİŞİ'!$D:$D)","v":0},{"$f":"SUMIF('AİDAT GİRİŞİ'!$F:$F,\"=\"&($B36&TEXT($Z$7,\"aaa-yy\")),'AİDAT GİRİŞİ'!$D:$D)","v":0},{"$f":"SUMIF('AİDAT GİRİŞİ'!$F:$F,\"=\"&($B36&TEXT($AA$7,\"aaa-yy\")),'AİDAT GİRİŞİ'!$D:$D)","v":0},{"$f":"SUMIF('AİDAT GİRİŞİ'!$F:$F,\"=\"&($B36&TEXT($AB$7,\"aaa-yy\")),'AİDAT GİRİŞİ'!$D:$D)","v":0},0]
[31,{"$f":"IF(ISERROR(VLOOKUP(A37,'ÜYE KAYIT LİSTESİ'!A:B,2,0)=TRUE),\"\",VLOOKUP(A37,'ÜYE KAYIT LİSTESİ'!A:B,2,0))","v":""},{"$f":"SUMIF('AİDAT GİRİŞİ'!$F:$F,\"=\"&(B37&TEXT($Q$7,\"aaa-yy\")),'AİDAT GİRİŞİ'!$D:$D)","v":0},{"$f":"SUMIF('AİDAT GİRİŞİ'!$F:$F,\"=\"&($B37&TEXT($R$7,\"aaa-yy\")),'AİDAT GİRİŞİ'!$D:$D)","v":0},{"$f":"SUMIF('AİDAT GİRİŞİ'!$F:$F,\"=\"&($B37&TEXT($S$7,\"aaa-yy\")),'AİDAT GİRİŞİ'!$D:$D)","v":0},{"$f":"SUMIF('AİDAT GİRİŞİ'!$F:$F,\"=\"&($B37&TEXT($T$7,\"aaa-yy\")),'AİDAT GİRİŞİ'!$D:$D)","v":0},{"$f":"SUMIF('AİDAT GİRİŞİ'!$F:$F,\"=\"&($B37&TEXT($U$7,\"aaa-yy\")),'AİDAT GİRİŞİ'!$D:$D)","v":0},{"$f":"SUMIF('AİDAT GİRİŞİ'!$F:$F,\"=\"&($B37&TEXT($V$7,\"aaa-yy\")),'AİDAT GİRİŞİ'!$D:$D)","v":0},{"$f":"SUMIF('AİDAT GİRİŞİ'!$F:$F,\"=\"&($B37&TEXT($W$7,\"aaa-yy\")),'AİDAT GİRİŞİ'!$D:$D)","v":0},{"$f":"SUMIF('AİDAT GİRİŞİ'!$F:$F,\"=\"&($B37&TEXT($X$7,\"aaa-yy\")),'AİDAT GİRİŞİ'!$D:$D)","v":0},{"$f":"SUMIF('AİDAT GİRİŞİ'!$F:$F,\"=\"&($B37&TEXT($Y$7,\"aaa-yy\")),'AİDAT GİRİŞİ'!$D:$D)","v":0},{"$f":"SUMIF('AİDAT GİRİŞİ'!$F:$F,\"=\"&($B37&TEXT($Z$7,\"aaa-yy\")),'AİDAT GİRİŞİ'!$D:$D)","v":0},{"$f":"SUMIF('AİDAT GİRİŞİ'!$F:$F,\"=\"&($B37&TEXT($AA$7,\"aaa-yy\")),'AİDAT GİRİŞİ'!$D:$D)","v":0},{"$f":"SUMIF('AİDAT GİRİŞİ'!$F:$F,\"=\"&($B37&TEXT($AB$7,\"aaa-yy\")),'AİDAT GİRİŞİ'!$D:$D)","v":0},0]
[32,{"$f":"IF(ISERROR(VLOOKUP(A38,'ÜYE KAYIT LİSTESİ'!A:B,2,0)=TRUE),\"\",VLOOKUP(A38,'ÜYE KAYIT LİSTESİ'!A:B,2,0))","v":""},{"$f":"SUMIF('AİDAT GİRİŞİ'!$F:$F,\"=\"&(B38&TEXT($Q$7,\"aaa-yy\")),'AİDAT GİRİŞİ'!$D:$D)","v":0},{"$f":"SUMIF('AİDAT GİRİŞİ'!$F:$F,\"=\"&($B38&TEXT($R$7,\"aaa-yy\")),'AİDAT GİRİŞİ'!$D:$D)","v":0},{"$f":"SUMIF('AİDAT GİRİŞİ'!$F:$F,\"=\"&($B38&TEXT($S$7,\"aaa-yy\")),'AİDAT GİRİŞİ'!$D:$D)","v":0},{"$f":"SUMIF('AİDAT GİRİŞİ'!$F:$F,\"=\"&($B38&TEXT($T$7,\"aaa-yy\")),'AİDAT GİRİŞİ'!$D:$D)","v":0},{"$f":"SUMIF('AİDAT GİRİŞİ'!$F:$F,\"=\"&($B38&TEXT($U$7,\"aaa-yy\")),'AİDAT GİRİŞİ'!$D:$D)","v":0},{"$f":"SUMIF('AİDAT GİRİŞİ'!$F:$F,\"=\"&($B38&TEXT($V$7,\"aaa-yy\")),'AİDAT GİRİŞİ'!$D:$D)","v":0},{"$f":"SUMIF('AİDAT GİRİŞİ'!$F:$F,\"=\"&($B38&TEXT($W$7,\"aaa-yy\")),'AİDAT GİRİŞİ'!$D:$D)","v":0},{"$f":"SUMIF('AİDAT GİRİŞİ'!$F:$F,\"=\"&($B38&TEXT($X$7,\"aaa-yy\")),'AİDAT GİRİŞİ'!$D:$D)","v":0},{"$f":"SUMIF('AİDAT GİRİŞİ'!$F:$F,\"=\"&($B38&TEXT($Y$7,\"aaa-yy\")),'AİDAT GİRİŞİ'!$D:$D)","v":0},{"$f":"SUMIF('AİDAT GİRİŞİ'!$F:$F,\"=\"&($B38&TEXT($Z$7,\"aaa-yy\")),'AİDAT GİRİŞİ'!$D:$D)","v":0},{"$f":"SUMIF('AİDAT GİRİŞİ'!$F:$F,\"=\"&($B38&TEXT($AA$7,\"aaa-yy\")),'AİDAT GİRİŞİ'!$D:$D)","v":0},{"$f":"SUMIF('AİDAT GİRİŞİ'!$F:$F,\"=\"&($B38&TEXT($AB$7,\"aaa-yy\")),'AİDAT GİRİŞİ'!$D:$D)","v":0},0]
[33,{"$f":"IF(ISERROR(VLOOKUP(A39,'ÜYE KAYIT LİSTESİ'!A:B,2,0)=TRUE),\"\",VLOOKUP(A39,'ÜYE KAYIT LİSTESİ'!A:B,2,0))","v":""},{"$f":"SUMIF('AİDAT GİRİŞİ'!$F:$F,\"=\"&(B39&TEXT($Q$7,\"aaa-yy\")),'AİDAT GİRİŞİ'!$D:$D)","v":0},{"$f":"SUMIF('AİDAT GİRİŞİ'!$F:$F,\"=\"&($B39&TEXT($R$7,\"aaa-yy\")),'AİDAT GİRİŞİ'!$D:$D)","v":0},{"$f":"SUMIF('AİDAT GİRİŞİ'!$F:$F,\"=\"&($B39&TEXT($S$7,\"aaa-yy\")),'AİDAT GİRİŞİ'!$D:$D)","v":0},{"$f":"SUMIF('AİDAT GİRİŞİ'!$F:$F,\"=\"&($B39&TEXT($T$7,\"aaa-yy\")),'AİDAT GİRİŞİ'!$D:$D)","v":0},{"$f":"SUMIF('AİDAT GİRİŞİ'!$F:$F,\"=\"&($B39&TEXT($U$7,\"aaa-yy\")),'AİDAT GİRİŞİ'!$D:$D)","v":0},{"$f":"SUMIF('AİDAT GİRİŞİ'!$F:$F,\"=\"&($B39&TEXT($V$7,\"aaa-yy\")),'AİDAT GİRİŞİ'!$D:$D)","v":0},{"$f":"SUMIF('AİDAT GİRİŞİ'!$F:$F,\"=\"&($B39&TEXT($W$7,\"aaa-yy\")),'AİDAT GİRİŞİ'!$D:$D)","v":0},{"$f":"SUMIF('AİDAT GİRİŞİ'!$F:$F,\"=\"&($B39&TEXT($X$7,\"aaa-yy\")),'AİDAT GİRİŞİ'!$D:$D)","v":0},{"$f":"SUMIF('AİDAT GİRİŞİ'!$F:$F,\"=\"&($B39&TEXT($Y$7,\"aaa-yy\")),'AİDAT GİRİŞİ'!$D:$D)","v":0},{"$f":"SUMIF('AİDAT GİRİŞİ'!$F:$F,\"=\"&($B39&TEXT($Z$7,\"aaa-yy\")),'AİDAT GİRİŞİ'!$D:$D)","v":0},{"$f":"SUMIF('AİDAT GİRİŞİ'!$F:$F,\"=\"&($B39&TEXT($AA$7,\"aaa-yy\")),'AİDAT GİRİŞİ'!$D:$D)","v":0},{"$f":"SUMIF('AİDAT GİRİŞİ'!$F:$F,\"=\"&($B39&TEXT($AB$7,\"aaa-yy\")),'AİDAT GİRİŞİ'!$D:$D)","v":0},0]
[34,{"$f":"IF(ISERROR(VLOOKUP(A40,'ÜYE KAYIT LİSTESİ'!A:B,2,0)=TRUE),\"\",VLOOKUP(A40,'ÜYE KAYIT LİSTESİ'!A:B,2,0))","v":""},{"$f":"SUMIF('AİDAT GİRİŞİ'!$F:$F,\"=\"&(B40&TEXT($Q$7,\"aaa-yy\")),'AİDAT GİRİŞİ'!$D:$D)","v":0},{"$f":"SUMIF('AİDAT GİRİŞİ'!$F:$F,\"=\"&($B40&TEXT($R$7,\"aaa-yy\")),'AİDAT GİRİŞİ'!$D:$D)","v":0},{"$f":"SUMIF('AİDAT GİRİŞİ'!$F:$F,\"=\"&($B40&TEXT($S$7,\"aaa-yy\")),'AİDAT GİRİŞİ'!$D:$D)","v":0},{"$f":"SUMIF('AİDAT GİRİŞİ'!$F:$F,\"=\"&($B40&TEXT($T$7,\"aaa-yy\")),'AİDAT GİRİŞİ'!$D:$D)","v":0},{"$f":"SUMIF('AİDAT GİRİŞİ'!$F:$F,\"=\"&($B40&TEXT($U$7,\"aaa-yy\")),'AİDAT GİRİŞİ'!$D:$D)","v":0},{"$f":"SUMIF('AİDAT GİRİŞİ'!$F:$F,\"=\"&($B40&TEXT($V$7,\"aaa-yy\")),'AİDAT GİRİŞİ'!$D:$D)","v":0},{"$f":"SUMIF('AİDAT GİRİŞİ'!$F:$F,\"=\"&($B40&TEXT($W$7,\"aaa-yy\")),'AİDAT GİRİŞİ'!$D:$D)","v":0},{"$f":"SUMIF('AİDAT GİRİŞİ'!$F:$F,\"=\"&($B40&TEXT($X$7,\"aaa-yy\")),'AİDAT GİRİŞİ'!$D:$D)","v":0},{"$f":"SUMIF('AİDAT GİRİŞİ'!$F:$F,\"=\"&($B40&TEXT($Y$7,\"aaa-yy\")),'AİDAT GİRİŞİ'!$D:$D)","v":0},{"$f":"SUMIF('AİDAT GİRİŞİ'!$F:$F,\"=\"&($B40&TEXT($Z$7,\"aaa-yy\")),'AİDAT GİRİŞİ'!$D:$D)","v":0},{"$f":"SUMIF('AİDAT GİRİŞİ'!$F:$F,\"=\"&($B40&TEXT($AA$7,\"aaa-yy\")),'AİDAT GİRİŞİ'!$D:$D)","v":0},{"$f":"SUMIF('AİDAT GİRİŞİ'!$F:$F,\"=\"&($B40&TEXT($AB$7,\"aaa-yy\")),'AİDAT GİRİŞİ'!$D:$D)","v":0},0]
[35,{"$f":"IF(ISERROR(VLOOKUP(A41,'ÜYE KAYIT LİSTESİ'!A:B,2,0)=TRUE),\"\",VLOOKUP(A41,'ÜYE KAYIT LİSTESİ'!A:B,2,0))","v":""},{"$f":"SUMIF('AİDAT GİRİŞİ'!$F:$F,\"=\"&(B41&TEXT($Q$7,\"aaa-yy\")),'AİDAT GİRİŞİ'!$D:$D)","v":0},{"$f":"SUMIF('AİDAT GİRİŞİ'!$F:$F,\"=\"&($B41&TEXT($R$7,\"aaa-yy\")),'AİDAT GİRİŞİ'!$D:$D)","v":0},{"$f":"SUMIF('AİDAT GİRİŞİ'!$F:$F,\"=\"&($B41&TEXT($S$7,\"aaa-yy\")),'AİDAT GİRİŞİ'!$D:$D)","v":0},{"$f":"SUMIF('AİDAT GİRİŞİ'!$F:$F,\"=\"&($B41&TEXT($T$7,\"aaa-yy\")),'AİDAT GİRİŞİ'!$D:$D)","v":0},{"$f":"SUMIF('AİDAT GİRİŞİ'!$F:$F,\"=\"&($B41&TEXT($U$7,\"aaa-yy\")),'AİDAT GİRİŞİ'!$D:$D)","v":0},{"$f":"SUMIF('AİDAT GİRİŞİ'!$F:$F,\"=\"&($B41&TEXT($V$7,\"aaa-yy\")),'AİDAT GİRİŞİ'!$D:$D)","v":0},{"$f":"SUMIF('AİDAT GİRİŞİ'!$F:$F,\"=\"&($B41&TEXT($W$7,\"aaa-yy\")),'AİDAT GİRİŞİ'!$D:$D)","v":0},{"$f":"SUMIF('AİDAT GİRİŞİ'!$F:$F,\"=\"&($B41&TEXT($X$7,\"aaa-yy\")),'AİDAT GİRİŞİ'!$D:$D)","v":0},{"$f":"SUMIF('AİDAT GİRİŞİ'!$F:$F,\"=\"&($B41&TEXT($Y$7,\"aaa-yy\")),'AİDAT GİRİŞİ'!$D:$D)","v":0},{"$f":"SUMIF('AİDAT GİRİŞİ'!$F:$F,\"=\"&($B41&TEXT($Z$7,\"aaa-yy\")),'AİDAT GİRİŞİ'!$D:$D)","v":0},{"$f":"SUMIF('AİDAT GİRİŞİ'!$F:$F,\"=\"&($B41&TEXT($AA$7,\"aaa-yy\")),'AİDAT GİRİŞİ'!$D:$D)","v":0},{"$f":"SUMIF('AİDAT GİRİŞİ'!$F:$F,\"=\"&($B41&TEXT($AB$7,\"aaa-yy\")),'AİDAT GİRİŞİ'!$D:$D)","v":0},0]
[36,{"$f":"IF(ISERROR(VLOOKUP(A42,'ÜYE KAYIT LİSTESİ'!A:B,2,0)=TRUE),\"\",VLOOKUP(A42,'ÜYE KAYIT LİSTESİ'!A:B,2,0))","v":""},{"$f":"SUMIF('AİDAT GİRİŞİ'!$F:$F,\"=\"&(B42&TEXT($Q$7,\"aaa-yy\")),'AİDAT GİRİŞİ'!$D:$D)","v":0},{"$f":"SUMIF('AİDAT GİRİŞİ'!$F:$F,\"=\"&($B42&TEXT($R$7,\"aaa-yy\")),'AİDAT GİRİŞİ'!$D:$D)","v":0},{"$f":"SUMIF('AİDAT GİRİŞİ'!$F:$F,\"=\"&($B42&TEXT($S$7,\"aaa-yy\")),'AİDAT GİRİŞİ'!$D:$D)","v":0},{"$f":"SUMIF('AİDAT GİRİŞİ'!$F:$F,\"=\"&($B42&TEXT($T$7,\"aaa-yy\")),'AİDAT GİRİŞİ'!$D:$D)","v":0},{"$f":"SUMIF('AİDAT GİRİŞİ'!$F:$F,\"=\"&($B42&TEXT($U$7,\"aaa-yy\")),'AİDAT GİRİŞİ'!$D:$D)","v":0},{"$f":"SUMIF('AİDAT GİRİŞİ'!$F:$F,\"=\"&($B42&TEXT($V$7,\"aaa-yy\")),'AİDAT GİRİŞİ'!$D:$D)","v":0},{"$f":"SUMIF('AİDAT GİRİŞİ'!$F:$F,\"=\"&($B42&TEXT($W$7,\"aaa-yy\")),'AİDAT GİRİŞİ'!$D:$D)","v":0},{"$f":"SUMIF('AİDAT GİRİŞİ'!$F:$F,\"=\"&($B42&TEXT($X$7,\"aaa-yy\")),'AİDAT GİRİŞİ'!$D:$D)","v":0},{"$f":"SUMIF('AİDAT GİRİŞİ'!$F:$F,\"=\"&($B42&TEXT($Y$7,\"aaa-yy\")),'AİDAT GİRİŞİ'!$D:$D)","v":0},{"$f":"SUMIF('AİDAT GİRİŞİ'!$F:$F,\"=\"&($B42&TEXT($Z$7,\"aaa-yy\")),'AİDAT GİRİŞİ'!$D:$D)","v":0},{"$f":"SUMIF('AİDAT GİRİŞİ'!$F:$F,\"=\"&($B42&TEXT($AA$7,\"aaa-yy\")),'AİDAT GİRİŞİ'!$D:$D)","v":0},{"$f":"SUMIF('AİDAT GİRİŞİ'!$F:$F,\"=\"&($B42&TEXT($AB$7,\"aaa-yy\")),'AİDAT GİRİŞİ'!$D:$D)","v":0},0]
[37,{"$f":"IF(ISERROR(VLOOKUP(A43,'ÜYE KAYIT LİSTESİ'!A:B,2,0)=TRUE),\"\",VLOOKUP(A43,'ÜYE KAYIT LİSTESİ'!A:B,2,0))","v":""},{"$f":"SUMIF('AİDAT GİRİŞİ'!$F:$F,\"=\"&(B43&TEXT($Q$7,\"aaa-yy\")),'AİDAT GİRİŞİ'!$D:$D)","v":0},{"$f":"SUMIF('AİDAT GİRİŞİ'!$F:$F,\"=\"&($B43&TEXT($R$7,\"aaa-yy\")),'AİDAT GİRİŞİ'!$D:$D)","v":0},{"$f":"SUMIF('AİDAT GİRİŞİ'!$F:$F,\"=\"&($B43&TEXT($S$7,\"aaa-yy\")),'AİDAT GİRİŞİ'!$D:$D)","v":0},{"$f":"SUMIF('AİDAT GİRİŞİ'!$F:$F,\"=\"&($B43&TEXT($T$7,\"aaa-yy\")),'AİDAT GİRİŞİ'!$D:$D)","v":0},{"$f":"SUMIF('AİDAT GİRİŞİ'!$F:$F,\"=\"&($B43&TEXT($U$7,\"aaa-yy\")),'AİDAT GİRİŞİ'!$D:$D)","v":0},{"$f":"SUMIF('AİDAT GİRİŞİ'!$F:$F,\"=\"&($B43&TEXT($V$7,\"aaa-yy\")),'AİDAT GİRİŞİ'!$D:$D)","v":0},{"$f":"SUMIF('AİDAT GİRİŞİ'!$F:$F,\"=\"&($B43&TEXT($W$7,\"aaa-yy\")),'AİDAT GİRİŞİ'!$D:$D)","v":0},{"$f":"SUMIF('AİDAT GİRİŞİ'!$F:$F,\"=\"&($B43&TEXT($X$7,\"aaa-yy\")),'AİDAT GİRİŞİ'!$D:$D)","v":0},{"$f":"SUMIF('AİDAT GİRİŞİ'!$F:$F,\"=\"&($B43&TEXT($Y$7,\"aaa-yy\")),'AİDAT GİRİŞİ'!$D:$D)","v":0},{"$f":"SUMIF('AİDAT GİRİŞİ'!$F:$F,\"=\"&($B43&TEXT($Z$7,\"aaa-yy\")),'AİDAT GİRİŞİ'!$D:$D)","v":0},{"$f":"SUMIF('AİDAT GİRİŞİ'!$F:$F,\"=\"&($B43&TEXT($AA$7,\"aaa-yy\")),'AİDAT GİRİŞİ'!$D:$D)","v":0},{"$f":"SUMIF('AİDAT GİRİŞİ'!$F:$F,\"=\"&($B43&TEXT($AB$7,\"aaa-yy\")),'AİDAT GİRİŞİ'!$D:$D)","v":0},0]
[38,{"$f":"IF(ISERROR(VLOOKUP(A44,'ÜYE KAYIT LİSTESİ'!A:B,2,0)=TRUE),\"\",VLOOKUP(A44,'ÜYE KAYIT LİSTESİ'!A:B,2,0))","v":""},{"$f":"SUMIF('AİDAT GİRİŞİ'!$F:$F,\"=\"&(B44&TEXT($Q$7,\"aaa-yy\")),'AİDAT GİRİŞİ'!$D:$D)","v":0},{"$f":"SUMIF('AİDAT GİRİŞİ'!$F:$F,\"=\"&($B44&TEXT($R$7,\"aaa-yy\")),'AİDAT GİRİŞİ'!$D:$D)","v":0},{"$f":"SUMIF('AİDAT GİRİŞİ'!$F:$F,\"=\"&($B44&TEXT($S$7,\"aaa-yy\")),'AİDAT GİRİŞİ'!$D:$D)","v":0},{"$f":"SUMIF('AİDAT GİRİŞİ'!$F:$F,\"=\"&($B44&TEXT($T$7,\"aaa-yy\")),'AİDAT GİRİŞİ'!$D:$D)","v":0},{"$f":"SUMIF('AİDAT GİRİŞİ'!$F:$F,\"=\"&($B44&TEXT($U$7,\"aaa-yy\")),'AİDAT GİRİŞİ'!$D:$D)","v":0},{"$f":"SUMIF('AİDAT GİRİŞİ'!$F:$F,\"=\"&($B44&TEXT($V$7,\"aaa-yy\")),'AİDAT GİRİŞİ'!$D:$D)","v":0},{"$f":"SUMIF('AİDAT GİRİŞİ'!$F:$F,\"=\"&($B44&TEXT($W$7,\"aaa-yy\")),'AİDAT GİRİŞİ'!$D:$D)","v":0},{"$f":"SUMIF('AİDAT GİRİŞİ'!$F:$F,\"=\"&($B44&TEXT($X$7,\"aaa-yy\")),'AİDAT GİRİŞİ'!$D:$D)","v":0},{"$f":"SUMIF('AİDAT GİRİŞİ'!$F:$F,\"=\"&($B44&TEXT($Y$7,\"aaa-yy\")),'AİDAT GİRİŞİ'!$D:$D)","v":0},{"$f":"SUMIF('AİDAT GİRİŞİ'!$F:$F,\"=\"&($B44&TEXT($Z$7,\"aaa-yy\")),'AİDAT GİRİŞİ'!$D:$D)","v":0},{"$f":"SUMIF('AİDAT GİRİŞİ'!$F:$F,\"=\"&($B44&TEXT($AA$7,\"aaa-yy\")),'AİDAT GİRİŞİ'!$D:$D)","v":0},{"$f":"SUMIF('AİDAT GİRİŞİ'!$F:$F,\"=\"&($B44&TEXT($AB$7,\"aaa-yy\")),'AİDAT GİRİŞİ'!$D:$D)","v":0},0]
[39,{"$f":"IF(ISERROR(VLOOKUP(A45,'ÜYE KAYIT LİSTESİ'!A:B,2,0)=TRUE),\"\",VLOOKUP(A45,'ÜYE KAYIT LİSTESİ'!A:B,2,0))","v":""},{"$f":"SUMIF('AİDAT GİRİŞİ'!$F:$F,\"=\"&(B45&TEXT($Q$7,\"aaa-yy\")),'AİDAT GİRİŞİ'!$D:$D)","v":0},{"$f":"SUMIF('AİDAT GİRİŞİ'!$F:$F,\"=\"&($B45&TEXT($R$7,\"aaa-yy\")),'AİDAT GİRİŞİ'!$D:$D)","v":0},{"$f":"SUMIF('AİDAT GİRİŞİ'!$F:$F,\"=\"&($B45&TEXT($S$7,\"aaa-yy\")),'AİDAT GİRİŞİ'!$D:$D)","v":0},{"$f":"SUMIF('AİDAT GİRİŞİ'!$F:$F,\"=\"&($B45&TEXT($T$7,\"aaa-yy\")),'AİDAT GİRİŞİ'!$D:$D)","v":0},{"$f":"SUMIF('AİDAT GİRİŞİ'!$F:$F,\"=\"&($B45&TEXT($U$7,\"aaa-yy\")),'AİDAT GİRİŞİ'!$D:$D)","v":0},{"$f":"SUMIF('AİDAT GİRİŞİ'!$F:$F,\"=\"&($B45&TEXT($V$7,\"aaa-yy\")),'AİDAT GİRİŞİ'!$D:$D)","v":0},{"$f":"SUMIF('AİDAT GİRİŞİ'!$F:$F,\"=\"&($B45&TEXT($W$7,\"aaa-yy\")),'AİDAT GİRİŞİ'!$D:$D)","v":0},{"$f":"SUMIF('AİDAT GİRİŞİ'!$F:$F,\"=\"&($B45&TEXT($X$7,\"aaa-yy\")),'AİDAT GİRİŞİ'!$D:$D)","v":0},{"$f":"SUMIF('AİDAT GİRİŞİ'!$F:$F,\"=\"&($B45&TEXT($Y$7,\"aaa-yy\")),'AİDAT GİRİŞİ'!$D:$D)","v":0},{"$f":"SUMIF('AİDAT GİRİŞİ'!$F:$F,\"=\"&($B45&TEXT($Z$7,\"aaa-yy\")),'AİDAT GİRİŞİ'!$D:$D)","v":0},{"$f":"SUMIF('AİDAT GİRİŞİ'!$F:$F,\"=\"&($B45&TEXT($AA$7,\"aaa-yy\")),'AİDAT GİRİŞİ'!$D:$D)","v":0},{"$f":"SUMIF('AİDAT GİRİŞİ'!$F:$F,\"=\"&($B45&TEXT($AB$7,\"aaa-yy\")),'AİDAT GİRİŞİ'!$D:$D)","v":0},0]
[40,{"$f":"IF(ISERROR(VLOOKUP(A46,'ÜYE KAYIT LİSTESİ'!A:B,2,0)=TRUE),\"\",VLOOKUP(A46,'ÜYE KAYIT LİSTESİ'!A:B,2,0))","v":""},{"$f":"SUMIF('AİDAT GİRİŞİ'!$F:$F,\"=\"&(B46&TEXT($Q$7,\"aaa-yy\")),'AİDAT GİRİŞİ'!$D:$D)","v":0},{"$f":"SUMIF('AİDAT GİRİŞİ'!$F:$F,\"=\"&($B46&TEXT($R$7,\"aaa-yy\")),'AİDAT GİRİŞİ'!$D:$D)","v":0},{"$f":"SUMIF('AİDAT GİRİŞİ'!$F:$F,\"=\"&($B46&TEXT($S$7,\"aaa-yy\")),'AİDAT GİRİŞİ'!$D:$D)","v":0},{"$f":"SUMIF('AİDAT GİRİŞİ'!$F:$F,\"=\"&($B46&TEXT($T$7,\"aaa-yy\")),'AİDAT GİRİŞİ'!$D:$D)","v":0},{"$f":"SUMIF('AİDAT GİRİŞİ'!$F:$F,\"=\"&($B46&TEXT($U$7,\"aaa-yy\")),'AİDAT GİRİŞİ'!$D:$D)","v":0},{"$f":"SUMIF('AİDAT GİRİŞİ'!$F:$F,\"=\"&($B46&TEXT($V$7,\"aaa-yy\")),'AİDAT GİRİŞİ'!$D:$D)","v":0},{"$f":"SUMIF('AİDAT GİRİŞİ'!$F:$F,\"=\"&($B46&TEXT($W$7,\"aaa-yy\")),'AİDAT GİRİŞİ'!$D:$D)","v":0},{"$f":"SUMIF('AİDAT GİRİŞİ'!$F:$F,\"=\"&($B46&TEXT($X$7,\"aaa-yy\")),'AİDAT GİRİŞİ'!$D:$D)","v":0},{"$f":"SUMIF('AİDAT GİRİŞİ'!$F:$F,\"=\"&($B46&TEXT($Y$7,\"aaa-yy\")),'AİDAT GİRİŞİ'!$D:$D)","v":0},{"$f":"SUMIF('AİDAT GİRİŞİ'!$F:$F,\"=\"&($B46&TEXT($Z$7,\"aaa-yy\")),'AİDAT GİRİŞİ'!$D:$D)","v":0},{"$f":"SUMIF('AİDAT GİRİŞİ'!$F:$F,\"=\"&($B46&TEXT($AA$7,\"aaa-yy\")),'AİDAT GİRİŞİ'!$D:$D)","v":0},{"$f":"SUMIF('AİDAT GİRİŞİ'!$F:$F,\"=\"&($B46&TEXT($AB$7,\"aaa-yy\")),'AİDAT GİRİŞİ'!$D:$D)","v":0},0]
[41,{"$f":"IF(ISERROR(VLOOKUP(A47,'ÜYE KAYIT LİSTESİ'!A:B,2,0)=TRUE),\"\",VLOOKUP(A47,'ÜYE KAYIT LİSTESİ'!A:B,2,0))","v":""},{"$f":"SUMIF('AİDAT GİRİŞİ'!$F:$F,\"=\"&(B47&TEXT($Q$7,\"aaa-yy\")),'AİDAT GİRİŞİ'!$D:$D)","v":0},{"$f":"SUMIF('AİDAT GİRİŞİ'!$F:$F,\"=\"&($B47&TEXT($R$7,\"aaa-yy\")),'AİDAT GİRİŞİ'!$D:$D)","v":0},{"$f":"SUMIF('AİDAT GİRİŞİ'!$F:$F,\"=\"&($B47&TEXT($S$7,\"aaa-yy\")),'AİDAT GİRİŞİ'!$D:$D)","v":0},{"$f":"SUMIF('AİDAT GİRİŞİ'!$F:$F,\"=\"&($B47&TEXT($T$7,\"aaa-yy\")),'AİDAT GİRİŞİ'!$D:$D)","v":0},{"$f":"SUMIF('AİDAT GİRİŞİ'!$F:$F,\"=\"&($B47&TEXT($U$7,\"aaa-yy\")),'AİDAT GİRİŞİ'!$D:$D)","v":0},{"$f":"SUMIF('AİDAT GİRİŞİ'!$F:$F,\"=\"&($B47&TEXT($V$7,\"aaa-yy\")),'AİDAT GİRİŞİ'!$D:$D)","v":0},{"$f":"SUMIF('AİDAT GİRİŞİ'!$F:$F,\"=\"&($B47&TEXT($W$7,\"aaa-yy\")),'AİDAT GİRİŞİ'!$D:$D)","v":0},{"$f":"SUMIF('AİDAT GİRİŞİ'!$F:$F,\"=\"&($B47&TEXT($X$7,\"aaa-yy\")),'AİDAT GİRİŞİ'!$D:$D)","v":0},{"$f":"SUMIF('AİDAT GİRİŞİ'!$F:$F,\"=\"&($B47&TEXT($Y$7,\"aaa-yy\")),'AİDAT GİRİŞİ'!$D:$D)","v":0},{"$f":"SUMIF('AİDAT GİRİŞİ'!$F:$F,\"=\"&($B47&TEXT($Z$7,\"aaa-yy\")),'AİDAT GİRİŞİ'!$D:$D)","v":0},{"$f":"SUMIF('AİDAT GİRİŞİ'!$F:$F,\"=\"&($B47&TEXT($AA$7,\"aaa-yy\")),'AİDAT GİRİŞİ'!$D:$D)","v":0},{"$f":"SUMIF('AİDAT GİRİŞİ'!$F:$F,\"=\"&($B47&TEXT($AB$7,\"aaa-yy\")),'AİDAT GİRİŞİ'!$D:$D)","v":0},0]
[42,{"$f":"IF(ISERROR(VLOOKUP(A48,'ÜYE KAYIT LİSTESİ'!A:B,2,0)=TRUE),\"\",VLOOKUP(A48,'ÜYE KAYIT LİSTESİ'!A:B,2,0))","v":""},{"$f":"SUMIF('AİDAT GİRİŞİ'!$F:$F,\"=\"&(B48&TEXT($Q$7,\"aaa-yy\")),'AİDAT GİRİŞİ'!$D:$D)","v":0},{"$f":"SUMIF('AİDAT GİRİŞİ'!$F:$F,\"=\"&($B48&TEXT($R$7,\"aaa-yy\")),'AİDAT GİRİŞİ'!$D:$D)","v":0},{"$f":"SUMIF('AİDAT GİRİŞİ'!$F:$F,\"=\"&($B48&TEXT($S$7,\"aaa-yy\")),'AİDAT GİRİŞİ'!$D:$D)","v":0},{"$f":"SUMIF('AİDAT GİRİŞİ'!$F:$F,\"=\"&($B48&TEXT($T$7,\"aaa-yy\")),'AİDAT GİRİŞİ'!$D:$D)","v":0},{"$f":"SUMIF('AİDAT GİRİŞİ'!$F:$F,\"=\"&($B48&TEXT($U$7,\"aaa-yy\")),'AİDAT GİRİŞİ'!$D:$D)","v":0},{"$f":"SUMIF('AİDAT GİRİŞİ'!$F:$F,\"=\"&($B48&TEXT($V$7,\"aaa-yy\")),'AİDAT GİRİŞİ'!$D:$D)","v":0},{"$f":"SUMIF('AİDAT GİRİŞİ'!$F:$F,\"=\"&($B48&TEXT($W$7,\"aaa-yy\")),'AİDAT GİRİŞİ'!$D:$D)","v":0},{"$f":"SUMIF('AİDAT GİRİŞİ'!$F:$F,\"=\"&($B48&TEXT($X$7,\"aaa-yy\")),'AİDAT GİRİŞİ'!$D:$D)","v":0},{"$f":"SUMIF('AİDAT GİRİŞİ'!$F:$F,\"=\"&($B48&TEXT($Y$7,\"aaa-yy\")),'AİDAT GİRİŞİ'!$D:$D)","v":0},{"$f":"SUMIF('AİDAT GİRİŞİ'!$F:$F,\"=\"&($B48&TEXT($Z$7,\"aaa-yy\")),'AİDAT GİRİŞİ'!$D:$D)","v":0},{"$f":"SUMIF('AİDAT GİRİŞİ'!$F:$F,\"=\"&($B48&TEXT($AA$7,\"aaa-yy\")),'AİDAT GİRİŞİ'!$D:$D)","v":0},{"$f":"SUMIF('AİDAT GİRİŞİ'!$F:$F,\"=\"&($B48&TEXT($AB$7,\"aaa-yy\")),'AİDAT GİRİŞİ'!$D:$D)","v":0},0]
[43,{"$f":"IF(ISERROR(VLOOKUP(A49,'ÜYE KAYIT LİSTESİ'!A:B,2,0)=TRUE),\"\",VLOOKUP(A49,'ÜYE KAYIT LİSTESİ'!A:B,2,0))","v":""},{"$f":"SUMIF('AİDAT GİRİŞİ'!$F:$F,\"=\"&(B49&TEXT($Q$7,\"aaa-yy\")),'AİDAT GİRİŞİ'!$D:$D)","v":0},{"$f":"SUMIF('AİDAT GİRİŞİ'!$F:$F,\"=\"&($B49&TEXT($R$7,\"aaa-yy\")),'AİDAT GİRİŞİ'!$D:$D)","v":0},{"$f":"SUMIF('AİDAT GİRİŞİ'!$F:$F,\"=\"&($B49&TEXT($S$7,\"aaa-yy\")),'AİDAT GİRİŞİ'!$D:$D)","v":0},{"$f":"SUMIF('AİDAT GİRİŞİ'!$F:$F,\"=\"&($B49&TEXT($T$7,\"aaa-yy\")),'AİDAT GİRİŞİ'!$D:$D)","v":0},{"$f":"SUMIF('AİDAT GİRİŞİ'!$F:$F,\"=\"&($B49&TEXT($U$7,\"aaa-yy\")),'AİDAT GİRİŞİ'!$D:$D)","v":0},{"$f":"SUMIF('AİDAT GİRİŞİ'!$F:$F,\"=\"&($B49&TEXT($V$7,\"aaa-yy\")),'AİDAT GİRİŞİ'!$D:$D)","v":0},{"$f":"SUMIF('AİDAT GİRİŞİ'!$F:$F,\"=\"&($B49&TEXT($W$7,\"aaa-yy\")),'AİDAT GİRİŞİ'!$D:$D)","v":0},{"$f":"SUMIF('AİDAT GİRİŞİ'!$F:$F,\"=\"&($B49&TEXT($X$7,\"aaa-yy\")),'AİDAT GİRİŞİ'!$D:$D)","v":0},{"$f":"SUMIF('AİDAT GİRİŞİ'!$F:$F,\"=\"&($B49&TEXT($Y$7,\"aaa-yy\")),'AİDAT GİRİŞİ'!$D:$D)","v":0},{"$f":"SUMIF('AİDAT GİRİŞİ'!$F:$F,\"=\"&($B49&TEXT($Z$7,\"aaa-yy\")),'AİDAT GİRİŞİ'!$D:$D)","v":0},{"$f":"SUMIF('AİDAT GİRİŞİ'!$F:$F,\"=\"&($B49&TEXT($AA$7,\"aaa-yy\")),'AİDAT GİRİŞİ'!$D:$D)","v":0},{"$f":"SUMIF('AİDAT GİRİŞİ'!$F:$F,\"=\"&($B49&TEXT($AB$7,\"aaa-yy\")),'AİDAT GİRİŞİ'!$D:$D)","v":0},0]
[44,{"$f":"IF(ISERROR(VLOOKUP(A50,'ÜYE KAYIT LİSTESİ'!A:B,2,0)=TRUE),\"\",VLOOKUP(A50,'ÜYE KAYIT LİSTESİ'!A:B,2,0))","v":""},{"$f":"SUMIF('AİDAT GİRİŞİ'!$F:$F,\"=\"&(B50&TEXT($Q$7,\"aaa-yy\")),'AİDAT GİRİŞİ'!$D:$D)","v":0},{"$f":"SUMIF('AİDAT GİRİŞİ'!$F:$F,\"=\"&($B50&TEXT($R$7,\"aaa-yy\")),'AİDAT GİRİŞİ'!$D:$D)","v":0},{"$f":"SUMIF('AİDAT GİRİŞİ'!$F:$F,\"=\"&($B50&TEXT($S$7,\"aaa-yy\")),'AİDAT GİRİŞİ'!$D:$D)","v":0},{"$f":"SUMIF('AİDAT GİRİŞİ'!$F:$F,\"=\"&($B50&TEXT($T$7,\"aaa-yy\")),'AİDAT GİRİŞİ'!$D:$D)","v":0},{"$f":"SUMIF('AİDAT GİRİŞİ'!$F:$F,\"=\"&($B50&TEXT($U$7,\"aaa-yy\")),'AİDAT GİRİŞİ'!$D:$D)","v":0},{"$f":"SUMIF('AİDAT GİRİŞİ'!$F:$F,\"=\"&($B50&TEXT($V$7,\"aaa-yy\")),'AİDAT GİRİŞİ'!$D:$D)","v":0},{"$f":"SUMIF('AİDAT GİRİŞİ'!$F:$F,\"=\"&($B50&TEXT($W$7,\"aaa-yy\")),'AİDAT GİRİŞİ'!$D:$D)","v":0},{"$f":"SUMIF('AİDAT GİRİŞİ'!$F:$F,\"=\"&($B50&TEXT($X$7,\"aaa-yy\")),'AİDAT GİRİŞİ'!$D:$D)","v":0},{"$f":"SUMIF('AİDAT GİRİŞİ'!$F:$F,\"=\"&($B50&TEXT($Y$7,\"aaa-yy\")),'AİDAT GİRİŞİ'!$D:$D)","v":0},{"$f":"SUMIF('AİDAT GİRİŞİ'!$F:$F,\"=\"&($B50&TEXT($Z$7,\"aaa-yy\")),'AİDAT GİRİŞİ'!$D:$D)","v":0},{"$f":"SUMIF('AİDAT GİRİŞİ'!$F:$F,\"=\"&($B50&TEXT($AA$7,\"aaa-yy\")),'AİDAT GİRİŞİ'!$D:$D)","v":0},{"$f":"SUMIF('AİDAT GİRİŞİ'!$F:$F,\"=\"&($B50&TEXT($AB$7,\"aaa-yy\")),'AİDAT GİRİŞİ'!$D:$D)","v":0},0]
[45,{"$f":"IF(ISERROR(VLOOKUP(A51,'ÜYE KAYIT LİSTESİ'!A:B,2,0)=TRUE),\"\",VLOOKUP(A51,'ÜYE KAYIT LİSTESİ'!A:B,2,0))","v":""},{"$f":"SUMIF('AİDAT GİRİŞİ'!$F:$F,\"=\"&(B51&TEXT($Q$7,\"aaa-yy\")),'AİDAT GİRİŞİ'!$D:$D)","v":0},{"$f":"SUMIF('AİDAT GİRİŞİ'!$F:$F,\"=\"&($B51&TEXT($R$7,\"aaa-yy\")),'AİDAT GİRİŞİ'!$D:$D)","v":0},{"$f":"SUMIF('AİDAT GİRİŞİ'!$F:$F,\"=\"&($B51&TEXT($S$7,\"aaa-yy\")),'AİDAT GİRİŞİ'!$D:$D)","v":0},{"$f":"SUMIF('AİDAT GİRİŞİ'!$F:$F,\"=\"&($B51&TEXT($T$7,\"aaa-yy\")),'AİDAT GİRİŞİ'!$D:$D)","v":0},{"$f":"SUMIF('AİDAT GİRİŞİ'!$F:$F,\"=\"&($B51&TEXT($U$7,\"aaa-yy\")),'AİDAT GİRİŞİ'!$D:$D)","v":0},{"$f":"SUMIF('AİDAT GİRİŞİ'!$F:$F,\"=\"&($B51&TEXT($V$7,\"aaa-yy\")),'AİDAT GİRİŞİ'!$D:$D)","v":0},{"$f":"SUMIF('AİDAT GİRİŞİ'!$F:$F,\"=\"&($B51&TEXT($W$7,\"aaa-yy\")),'AİDAT GİRİŞİ'!$D:$D)","v":0},{"$f":"SUMIF('AİDAT GİRİŞİ'!$F:$F,\"=\"&($B51&TEXT($X$7,\"aaa-yy\")),'AİDAT GİRİŞİ'!$D:$D)","v":0},{"$f":"SUMIF('AİDAT GİRİŞİ'!$F:$F,\"=\"&($B51&TEXT($Y$7,\"aaa-yy\")),'AİDAT GİRİŞİ'!$D:$D)","v":0},{"$f":"SUMIF('AİDAT GİRİŞİ'!$F:$F,\"=\"&($B51&TEXT($Z$7,\"aaa-yy\")),'AİDAT GİRİŞİ'!$D:$D)","v":0},{"$f":"SUMIF('AİDAT GİRİŞİ'!$F:$F,\"=\"&($B51&TEXT($AA$7,\"aaa-yy\")),'AİDAT GİRİŞİ'!$D:$D)","v":0},{"$f":"SUMIF('AİDAT GİRİŞİ'!$F:$F,\"=\"&($B51&TEXT($AB$7,\"aaa-yy\")),'AİDAT GİRİŞİ'!$D:$D)","v":0},0]
[46,{"$f":"IF(ISERROR(VLOOKUP(A52,'ÜYE KAYIT LİSTESİ'!A:B,2,0)=TRUE),\"\",VLOOKUP(A52,'ÜYE KAYIT LİSTESİ'!A:B,2,0))","v":""},{"$f":"SUMIF('AİDAT GİRİŞİ'!$F:$F,\"=\"&(B52&TEXT($Q$7,\"aaa-yy\")),'AİDAT GİRİŞİ'!$D:$D)","v":0},{"$f":"SUMIF('AİDAT GİRİŞİ'!$F:$F,\"=\"&($B52&TEXT($R$7,\"aaa-yy\")),'AİDAT GİRİŞİ'!$D:$D)","v":0},{"$f":"SUMIF('AİDAT GİRİŞİ'!$F:$F,\"=\"&($B52&TEXT($S$7,\"aaa-yy\")),'AİDAT GİRİŞİ'!$D:$D)","v":0},{"$f":"SUMIF('AİDAT GİRİŞİ'!$F:$F,\"=\"&($B52&TEXT($T$7,\"aaa-yy\")),'AİDAT GİRİŞİ'!$D:$D)","v":0},{"$f":"SUMIF('AİDAT GİRİŞİ'!$F:$F,\"=\"&($B52&TEXT($U$7,\"aaa-yy\")),'AİDAT GİRİŞİ'!$D:$D)","v":0},{"$f":"SUMIF('AİDAT GİRİŞİ'!$F:$F,\"=\"&($B52&TEXT($V$7,\"aaa-yy\")),'AİDAT GİRİŞİ'!$D:$D)","v":0},{"$f":"SUMIF('AİDAT GİRİŞİ'!$F:$F,\"=\"&($B52&TEXT($W$7,\"aaa-yy\")),'AİDAT GİRİŞİ'!$D:$D)","v":0},{"$f":"SUMIF('AİDAT GİRİŞİ'!$F:$F,\"=\"&($B52&TEXT($X$7,\"aaa-yy\")),'AİDAT GİRİŞİ'!$D:$D)","v":0},{"$f":"SUMIF('AİDAT GİRİŞİ'!$F:$F,\"=\"&($B52&TEXT($Y$7,\"aaa-yy\")),'AİDAT GİRİŞİ'!$D:$D)","v":0},{"$f":"SUMIF('AİDAT GİRİŞİ'!$F:$F,\"=\"&($B52&TEXT($Z$7,\"aaa-yy\")),'AİDAT GİRİŞİ'!$D:$D)","v":0},{"$f":"SUMIF('AİDAT GİRİŞİ'!$F:$F,\"=\"&($B52&TEXT($AA$7,\"aaa-yy\")),'AİDAT GİRİŞİ'!$D:$D)","v":0},{"$f":"SUMIF('AİDAT GİRİŞİ'!$F:$F,\"=\"&($B52&TEXT($AB$7,\"aaa-yy\")),'AİDAT GİRİŞİ'!$D:$D)","v":0},0]
[47,{"$f":"IF(ISERROR(VLOOKUP(A53,'ÜYE KAYIT LİSTESİ'!A:B,2,0)=TRUE),\"\",VLOOKUP(A53,'ÜYE KAYIT LİSTESİ'!A:B,2,0))","v":""},{"$f":"SUMIF('AİDAT GİRİŞİ'!$F:$F,\"=\"&(B53&TEXT($Q$7,\"aaa-yy\")),'AİDAT GİRİŞİ'!$D:$D)","v":0},{"$f":"SUMIF('AİDAT GİRİŞİ'!$F:$F,\"=\"&($B53&TEXT($R$7,\"aaa-yy\")),'AİDAT GİRİŞİ'!$D:$D)","v":0},{"$f":"SUMIF('AİDAT GİRİŞİ'!$F:$F,\"=\"&($B53&TEXT($S$7,\"aaa-yy\")),'AİDAT GİRİŞİ'!$D:$D)","v":0},{"$f":"SUMIF('AİDAT GİRİŞİ'!$F:$F,\"=\"&($B53&TEXT($T$7,\"aaa-yy\")),'AİDAT GİRİŞİ'!$D:$D)","v":0},{"$f":"SUMIF('AİDAT GİRİŞİ'!$F:$F,\"=\"&($B53&TEXT($U$7,\"aaa-yy\")),'AİDAT GİRİŞİ'!$D:$D)","v":0},{"$f":"SUMIF('AİDAT GİRİŞİ'!$F:$F,\"=\"&($B53&TEXT($V$7,\"aaa-yy\")),'AİDAT GİRİŞİ'!$D:$D)","v":0},{"$f":"SUMIF('AİDAT GİRİŞİ'!$F:$F,\"=\"&($B53&TEXT($W$7,\"aaa-yy\")),'AİDAT GİRİŞİ'!$D:$D)","v":0},{"$f":"SUMIF('AİDAT GİRİŞİ'!$F:$F,\"=\"&($B53&TEXT($X$7,\"aaa-yy\")),'AİDAT GİRİŞİ'!$D:$D)","v":0},{"$f":"SUMIF('AİDAT GİRİŞİ'!$F:$F,\"=\"&($B53&TEXT($Y$7,\"aaa-yy\")),'AİDAT GİRİŞİ'!$D:$D)","v":0},{"$f":"SUMIF('AİDAT GİRİŞİ'!$F:$F,\"=\"&($B53&TEXT($Z$7,\"aaa-yy\")),'AİDAT GİRİŞİ'!$D:$D)","v":0},{"$f":"SUMIF('AİDAT GİRİŞİ'!$F:$F,\"=\"&($B53&TEXT($AA$7,\"aaa-yy\")),'AİDAT GİRİŞİ'!$D:$D)","v":0},{"$f":"SUMIF('AİDAT GİRİŞİ'!$F:$F,\"=\"&($B53&TEXT($AB$7,\"aaa-yy\")),'AİDAT GİRİŞİ'!$D:$D)","v":0},0]
[48,{"$f":"IF(ISERROR(VLOOKUP(A54,'ÜYE KAYIT LİSTESİ'!A:B,2,0)=TRUE),\"\",VLOOKUP(A54,'ÜYE KAYIT LİSTESİ'!A:B,2,0))","v":""},{"$f":"SUMIF('AİDAT GİRİŞİ'!$F:$F,\"=\"&(B54&TEXT($Q$7,\"aaa-yy\")),'AİDAT GİRİŞİ'!$D:$D)","v":0},{"$f":"SUMIF('AİDAT GİRİŞİ'!$F:$F,\"=\"&($B54&TEXT($R$7,\"aaa-yy\")),'AİDAT GİRİŞİ'!$D:$D)","v":0},{"$f":"SUMIF('AİDAT GİRİŞİ'!$F:$F,\"=\"&($B54&TEXT($S$7,\"aaa-yy\")),'AİDAT GİRİŞİ'!$D:$D)","v":0},{"$f":"SUMIF('AİDAT GİRİŞİ'!$F:$F,\"=\"&($B54&TEXT($T$7,\"aaa-yy\")),'AİDAT GİRİŞİ'!$D:$D)","v":0},{"$f":"SUMIF('AİDAT GİRİŞİ'!$F:$F,\"=\"&($B54&TEXT($U$7,\"aaa-yy\")),'AİDAT GİRİŞİ'!$D:$D)","v":0},{"$f":"SUMIF('AİDAT GİRİŞİ'!$F:$F,\"=\"&($B54&TEXT($V$7,\"aaa-yy\")),'AİDAT GİRİŞİ'!$D:$D)","v":0},{"$f":"SUMIF('AİDAT GİRİŞİ'!$F:$F,\"=\"&($B54&TEXT($W$7,\"aaa-yy\")),'AİDAT GİRİŞİ'!$D:$D)","v":0},{"$f":"SUMIF('AİDAT GİRİŞİ'!$F:$F,\"=\"&($B54&TEXT($X$7,\"aaa-yy\")),'AİDAT GİRİŞİ'!$D:$D)","v":0},{"$f":"SUMIF('AİDAT GİRİŞİ'!$F:$F,\"=\"&($B54&TEXT($Y$7,\"aaa-yy\")),'AİDAT GİRİŞİ'!$D:$D)","v":0},{"$f":"SUMIF('AİDAT GİRİŞİ'!$F:$F,\"=\"&($B54&TEXT($Z$7,\"aaa-yy\")),'AİDAT GİRİŞİ'!$D:$D)","v":0},{"$f":"SUMIF('AİDAT GİRİŞİ'!$F:$F,\"=\"&($B54&TEXT($AA$7,\"aaa-yy\")),'AİDAT GİRİŞİ'!$D:$D)","v":0},{"$f":"SUMIF('AİDAT GİRİŞİ'!$F:$F,\"=\"&($B54&TEXT($AB$7,\"aaa-yy\")),'AİDAT GİRİŞİ'!$D:$D)","v":0},0]
[49,{"$f":"IF(ISERROR(VLOOKUP(A55,'ÜYE KAYIT LİSTESİ'!A:B,2,0)=TRUE),\"\",VLOOKUP(A55,'ÜYE KAYIT LİSTESİ'!A:B,2,0))","v":""},{"$f":"SUMIF('AİDAT GİRİŞİ'!$F:$F,\"=\"&(B55&TEXT($Q$7,\"aaa-yy\")),'AİDAT GİRİŞİ'!$D:$D)","v":0},{"$f":"SUMIF('AİDAT GİRİŞİ'!$F:$F,\"=\"&($B55&TEXT($R$7,\"aaa-yy\")),'AİDAT GİRİŞİ'!$D:$D)","v":0},{"$f":"SUMIF('AİDAT GİRİŞİ'!$F:$F,\"=\"&($B55&TEXT($S$7,\"aaa-yy\")),'AİDAT GİRİŞİ'!$D:$D)","v":0},{"$f":"SUMIF('AİDAT GİRİŞİ'!$F:$F,\"=\"&($B55&TEXT($T$7,\"aaa-yy\")),'AİDAT GİRİŞİ'!$D:$D)","v":0},{"$f":"SUMIF('AİDAT GİRİŞİ'!$F:$F,\"=\"&($B55&TEXT($U$7,\"aaa-yy\")),'AİDAT GİRİŞİ'!$D:$D)","v":0},{"$f":"SUMIF('AİDAT GİRİŞİ'!$F:$F,\"=\"&($B55&TEXT($V$7,\"aaa-yy\")),'AİDAT GİRİŞİ'!$D:$D)","v":0},{"$f":"SUMIF('AİDAT GİRİŞİ'!$F:$F,\"=\"&($B55&TEXT($W$7,\"aaa-yy\")),'AİDAT GİRİŞİ'!$D:$D)","v":0},{"$f":"SUMIF('AİDAT GİRİŞİ'!$F:$F,\"=\"&($B55&TEXT($X$7,\"aaa-yy\")),'AİDAT GİRİŞİ'!$D:$D)","v":0},{"$f":"SUMIF('AİDAT GİRİŞİ'!$F:$F,\"=\"&($B55&TEXT($Y$7,\"aaa-yy\")),'AİDAT GİRİŞİ'!$D:$D)","v":0},{"$f":"SUMIF('AİDAT GİRİŞİ'!$F:$F,\"=\"&($B55&TEXT($Z$7,\"aaa-yy\")),'AİDAT GİRİŞİ'!$D:$D)","v":0},{"$f":"SUMIF('AİDAT GİRİŞİ'!$F:$F,\"=\"&($B55&TEXT($AA$7,\"aaa-yy\")),'AİDAT GİRİŞİ'!$D:$D)","v":0},{"$f":"SUMIF('AİDAT GİRİŞİ'!$F:$F,\"=\"&($B55&TEXT($AB$7,\"aaa-yy\")),'AİDAT GİRİŞİ'!$D:$D)","v":0},0]
[50,{"$f":"IF(ISERROR(VLOOKUP(A56,'ÜYE KAYIT LİSTESİ'!A:B,2,0)=TRUE),\"\",VLOOKUP(A56,'ÜYE KAYIT LİSTESİ'!A:B,2,0))","v":""},{"$f":"SUMIF('AİDAT GİRİŞİ'!$F:$F,\"=\"&(B56&TEXT($Q$7,\"aaa-yy\")),'AİDAT GİRİŞİ'!$D:$D)","v":0},{"$f":"SUMIF('AİDAT GİRİŞİ'!$F:$F,\"=\"&($B56&TEXT($R$7,\"aaa-yy\")),'AİDAT GİRİŞİ'!$D:$D)","v":0},{"$f":"SUMIF('AİDAT GİRİŞİ'!$F:$F,\"=\"&($B56&TEXT($S$7,\"aaa-yy\")),'AİDAT GİRİŞİ'!$D:$D)","v":0},{"$f":"SUMIF('AİDAT GİRİŞİ'!$F:$F,\"=\"&($B56&TEXT($T$7,\"aaa-yy\")),'AİDAT GİRİŞİ'!$D:$D)","v":0},{"$f":"SUMIF('AİDAT GİRİŞİ'!$F:$F,\"=\"&($B56&TEXT($U$7,\"aaa-yy\")),'AİDAT GİRİŞİ'!$D:$D)","v":0},{"$f":"SUMIF('AİDAT GİRİŞİ'!$F:$F,\"=\"&($B56&TEXT($V$7,\"aaa-yy\")),'AİDAT GİRİŞİ'!$D:$D)","v":0},{"$f":"SUMIF('AİDAT GİRİŞİ'!$F:$F,\"=\"&($B56&TEXT($W$7,\"aaa-yy\")),'AİDAT GİRİŞİ'!$D:$D)","v":0},{"$f":"SUMIF('AİDAT GİRİŞİ'!$F:$F,\"=\"&($B56&TEXT($X$7,\"aaa-yy\")),'AİDAT GİRİŞİ'!$D:$D)","v":0},{"$f":"SUMIF('AİDAT GİRİŞİ'!$F:$F,\"=\"&($B56&TEXT($Y$7,\"aaa-yy\")),'AİDAT GİRİŞİ'!$D:$D)","v":0},{"$f":"SUMIF('AİDAT GİRİŞİ'!$F:$F,\"=\"&($B56&TEXT($Z$7,\"aaa-yy\")),'AİDAT GİRİŞİ'!$D:$D)","v":0},{"$f":"SUMIF('AİDAT GİRİŞİ'!$F:$F,\"=\"&($B56&TEXT($AA$7,\"aaa-yy\")),'AİDAT GİRİŞİ'!$D:$D)","v":0},{"$f":"SUMIF('AİDAT GİRİŞİ'!$F:$F,\"=\"&($B56&TEXT($AB$7,\"aaa-yy\")),'AİDAT GİRİŞİ'!$D:$D)","v":0},0]
[51,{"$f":"IF(ISERROR(VLOOKUP(A57,'ÜYE KAYIT LİSTESİ'!A:B,2,0)=TRUE),\"\",VLOOKUP(A57,'ÜYE KAYIT LİSTESİ'!A:B,2,0))","v":""},{"$f":"SUMIF('AİDAT GİRİŞİ'!$F:$F,\"=\"&(B57&TEXT($Q$7,\"aaa-yy\")),'AİDAT GİRİŞİ'!$D:$D)","v":0},{"$f":"SUMIF('AİDAT GİRİŞİ'!$F:$F,\"=\"&($B57&TEXT($R$7,\"aaa-yy\")),'AİDAT GİRİŞİ'!$D:$D)","v":0},{"$f":"SUMIF('AİDAT GİRİŞİ'!$F:$F,\"=\"&($B57&TEXT($S$7,\"aaa-yy\")),'AİDAT GİRİŞİ'!$D:$D)","v":0},{"$f":"SUMIF('AİDAT GİRİŞİ'!$F:$F,\"=\"&($B57&TEXT($T$7,\"aaa-yy\")),'AİDAT GİRİŞİ'!$D:$D)","v":0},{"$f":"SUMIF('AİDAT GİRİŞİ'!$F:$F,\"=\"&($B57&TEXT($U$7,\"aaa-yy\")),'AİDAT GİRİŞİ'!$D:$D)","v":0},{"$f":"SUMIF('AİDAT GİRİŞİ'!$F:$F,\"=\"&($B57&TEXT($V$7,\"aaa-yy\")),'AİDAT GİRİŞİ'!$D:$D)","v":0},{"$f":"SUMIF('AİDAT GİRİŞİ'!$F:$F,\"=\"&($B57&TEXT($W$7,\"aaa-yy\")),'AİDAT GİRİŞİ'!$D:$D)","v":0},{"$f":"SUMIF('AİDAT GİRİŞİ'!$F:$F,\"=\"&($B57&TEXT($X$7,\"aaa-yy\")),'AİDAT GİRİŞİ'!$D:$D)","v":0},{"$f":"SUMIF('AİDAT GİRİŞİ'!$F:$F,\"=\"&($B57&TEXT($Y$7,\"aaa-yy\")),'AİDAT GİRİŞİ'!$D:$D)","v":0},{"$f":"SUMIF('AİDAT GİRİŞİ'!$F:$F,\"=\"&($B57&TEXT($Z$7,\"aaa-yy\")),'AİDAT GİRİŞİ'!$D:$D)","v":0},{"$f":"SUMIF('AİDAT GİRİŞİ'!$F:$F,\"=\"&($B57&TEXT($AA$7,\"aaa-yy\")),'AİDAT GİRİŞİ'!$D:$D)","v":0},{"$f":"SUMIF('AİDAT GİRİŞİ'!$F:$F,\"=\"&($B57&TEXT($AB$7,\"aaa-yy\")),'AİDAT GİRİŞİ'!$D:$D)","v":0},0]
[52,{"$f":"IF(ISERROR(VLOOKUP(A58,'ÜYE KAYIT LİSTESİ'!A:B,2,0)=TRUE),\"\",VLOOKUP(A58,'ÜYE KAYIT LİSTESİ'!A:B,2,0))","v":""},{"$f":"SUMIF('AİDAT GİRİŞİ'!$F:$F,\"=\"&(B58&TEXT($Q$7,\"aaa-yy\")),'AİDAT GİRİŞİ'!$D:$D)","v":0},{"$f":"SUMIF('AİDAT GİRİŞİ'!$F:$F,\"=\"&($B58&TEXT($R$7,\"aaa-yy\")),'AİDAT GİRİŞİ'!$D:$D)","v":0},{"$f":"SUMIF('AİDAT GİRİŞİ'!$F:$F,\"=\"&($B58&TEXT($S$7,\"aaa-yy\")),'AİDAT GİRİŞİ'!$D:$D)","v":0},{"$f":"SUMIF('AİDAT GİRİŞİ'!$F:$F,\"=\"&($B58&TEXT($T$7,\"aaa-yy\")),'AİDAT GİRİŞİ'!$D:$D)","v":0},{"$f":"SUMIF('AİDAT GİRİŞİ'!$F:$F,\"=\"&($B58&TEXT($U$7,\"aaa-yy\")),'AİDAT GİRİŞİ'!$D:$D)","v":0},{"$f":"SUMIF('AİDAT GİRİŞİ'!$F:$F,\"=\"&($B58&TEXT($V$7,\"aaa-yy\")),'AİDAT GİRİŞİ'!$D:$D)","v":0},{"$f":"SUMIF('AİDAT GİRİŞİ'!$F:$F,\"=\"&($B58&TEXT($W$7,\"aaa-yy\")),'AİDAT GİRİŞİ'!$D:$D)","v":0},{"$f":"SUMIF('AİDAT GİRİŞİ'!$F:$F,\"=\"&($B58&TEXT($X$7,\"aaa-yy\")),'AİDAT GİRİŞİ'!$D:$D)","v":0},{"$f":"SUMIF('AİDAT GİRİŞİ'!$F:$F,\"=\"&($B58&TEXT($Y$7,\"aaa-yy\")),'AİDAT GİRİŞİ'!$D:$D)","v":0},{"$f":"SUMIF('AİDAT GİRİŞİ'!$F:$F,\"=\"&($B58&TEXT($Z$7,\"aaa-yy\")),'AİDAT GİRİŞİ'!$D:$D)","v":0},{"$f":"SUMIF('AİDAT GİRİŞİ'!$F:$F,\"=\"&($B58&TEXT($AA$7,\"aaa-yy\")),'AİDAT GİRİŞİ'!$D:$D)","v":0},{"$f":"SUMIF('AİDAT GİRİŞİ'!$F:$F,\"=\"&($B58&TEXT($AB$7,\"aaa-yy\")),'AİDAT GİRİŞİ'!$D:$D)","v":0},0]
[53,{"$f":"IF(ISERROR(VLOOKUP(A59,'ÜYE KAYIT LİSTESİ'!A:B,2,0)=TRUE),\"\",VLOOKUP(A59,'ÜYE KAYIT LİSTESİ'!A:B,2,0))","v":""},{"$f":"SUMIF('AİDAT GİRİŞİ'!$F:$F,\"=\"&(B59&TEXT($Q$7,\"aaa-yy\")),'AİDAT GİRİŞİ'!$D:$D)","v":0},{"$f":"SUMIF('AİDAT GİRİŞİ'!$F:$F,\"=\"&($B59&TEXT($R$7,\"aaa-yy\")),'AİDAT GİRİŞİ'!$D:$D)","v":0},{"$f":"SUMIF('AİDAT GİRİŞİ'!$F:$F,\"=\"&($B59&TEXT($S$7,\"aaa-yy\")),'AİDAT GİRİŞİ'!$D:$D)","v":0},{"$f":"SUMIF('AİDAT GİRİŞİ'!$F:$F,\"=\"&($B59&TEXT($T$7,\"aaa-yy\")),'AİDAT GİRİŞİ'!$D:$D)","v":0},{"$f":"SUMIF('AİDAT GİRİŞİ'!$F:$F,\"=\"&($B59&TEXT($U$7,\"aaa-yy\")),'AİDAT GİRİŞİ'!$D:$D)","v":0},{"$f":"SUMIF('AİDAT GİRİŞİ'!$F:$F,\"=\"&($B59&TEXT($V$7,\"aaa-yy\")),'AİDAT GİRİŞİ'!$D:$D)","v":0},{"$f":"SUMIF('AİDAT GİRİŞİ'!$F:$F,\"=\"&($B59&TEXT($W$7,\"aaa-yy\")),'AİDAT GİRİŞİ'!$D:$D)","v":0},{"$f":"SUMIF('AİDAT GİRİŞİ'!$F:$F,\"=\"&($B59&TEXT($X$7,\"aaa-yy\")),'AİDAT GİRİŞİ'!$D:$D)","v":0},{"$f":"SUMIF('AİDAT GİRİŞİ'!$F:$F,\"=\"&($B59&TEXT($Y$7,\"aaa-yy\")),'AİDAT GİRİŞİ'!$D:$D)","v":0},{"$f":"SUMIF('AİDAT GİRİŞİ'!$F:$F,\"=\"&($B59&TEXT($Z$7,\"aaa-yy\")),'AİDAT GİRİŞİ'!$D:$D)","v":0},{"$f":"SUMIF('AİDAT GİRİŞİ'!$F:$F,\"=\"&($B59&TEXT($AA$7,\"aaa-yy\")),'AİDAT GİRİŞİ'!$D:$D)","v":0},{"$f":"SUMIF('AİDAT GİRİŞİ'!$F:$F,\"=\"&($B59&TEXT($AB$7,\"aaa-yy\")),'AİDAT GİRİŞİ'!$D:$D)","v":0},0]
[54,{"$f":"IF(ISERROR(VLOOKUP(A60,'ÜYE KAYIT LİSTESİ'!A:B,2,0)=TRUE),\"\",VLOOKUP(A60,'ÜYE KAYIT LİSTESİ'!A:B,2,0))","v":""},{"$f":"SUMIF('AİDAT GİRİŞİ'!$F:$F,\"=\"&(B60&TEXT($Q$7,\"aaa-yy\")),'AİDAT GİRİŞİ'!$D:$D)","v":0},{"$f":"SUMIF('AİDAT GİRİŞİ'!$F:$F,\"=\"&($B60&TEXT($R$7,\"aaa-yy\")),'AİDAT GİRİŞİ'!$D:$D)","v":0},{"$f":"SUMIF('AİDAT GİRİŞİ'!$F:$F,\"=\"&($B60&TEXT($S$7,\"aaa-yy\")),'AİDAT GİRİŞİ'!$D:$D)","v":0},{"$f":"SUMIF('AİDAT GİRİŞİ'!$F:$F,\"=\"&($B60&TEXT($T$7,\"aaa-yy\")),'AİDAT GİRİŞİ'!$D:$D)","v":0},{"$f":"SUMIF('AİDAT GİRİŞİ'!$F:$F,\"=\"&($B60&TEXT($U$7,\"aaa-yy\")),'AİDAT GİRİŞİ'!$D:$D)","v":0},{"$f":"SUMIF('AİDAT GİRİŞİ'!$F:$F,\"=\"&($B60&TEXT($V$7,\"aaa-yy\")),'AİDAT GİRİŞİ'!$D:$D)","v":0},{"$f":"SUMIF('AİDAT GİRİŞİ'!$F:$F,\"=\"&($B60&TEXT($W$7,\"aaa-yy\")),'AİDAT GİRİŞİ'!$D:$D)","v":0},{"$f":"SUMIF('AİDAT GİRİŞİ'!$F:$F,\"=\"&($B60&TEXT($X$7,\"aaa-yy\")),'AİDAT GİRİŞİ'!$D:$D)","v":0},{"$f":"SUMIF('AİDAT GİRİŞİ'!$F:$F,\"=\"&($B60&TEXT($Y$7,\"aaa-yy\")),'AİDAT GİRİŞİ'!$D:$D)","v":0},{"$f":"SUMIF('AİDAT GİRİŞİ'!$F:$F,\"=\"&($B60&TEXT($Z$7,\"aaa-yy\")),'AİDAT GİRİŞİ'!$D:$D)","v":0},{"$f":"SUMIF('AİDAT GİRİŞİ'!$F:$F,\"=\"&($B60&TEXT($AA$7,\"aaa-yy\")),'AİDAT GİRİŞİ'!$D:$D)","v":0},{"$f":"SUMIF('AİDAT GİRİŞİ'!$F:$F,\"=\"&($B60&TEXT($AB$7,\"aaa-yy\")),'AİDAT GİRİŞİ'!$D:$D)","v":0},0]
[55,{"$f":"IF(ISERROR(VLOOKUP(A61,'ÜYE KAYIT LİSTESİ'!A:B,2,0)=TRUE),\"\",VLOOKUP(A61,'ÜYE KAYIT LİSTESİ'!A:B,2,0))","v":""},{"$f":"SUMIF('AİDAT GİRİŞİ'!$F:$F,\"=\"&(B61&TEXT($Q$7,\"aaa-yy\")),'AİDAT GİRİŞİ'!$D:$D)","v":0},{"$f":"SUMIF('AİDAT GİRİŞİ'!$F:$F,\"=\"&($B61&TEXT($R$7,\"aaa-yy\")),'AİDAT GİRİŞİ'!$D:$D)","v":0},{"$f":"SUMIF('AİDAT GİRİŞİ'!$F:$F,\"=\"&($B61&TEXT($S$7,\"aaa-yy\")),'AİDAT GİRİŞİ'!$D:$D)","v":0},{"$f":"SUMIF('AİDAT GİRİŞİ'!$F:$F,\"=\"&($B61&TEXT($T$7,\"aaa-yy\")),'AİDAT GİRİŞİ'!$D:$D)","v":0},{"$f":"SUMIF('AİDAT GİRİŞİ'!$F:$F,\"=\"&($B61&TEXT($U$7,\"aaa-yy\")),'AİDAT GİRİŞİ'!$D:$D)","v":0},{"$f":"SUMIF('AİDAT GİRİŞİ'!$F:$F,\"=\"&($B61&TEXT($V$7,\"aaa-yy\")),'AİDAT GİRİŞİ'!$D:$D)","v":0},{"$f":"SUMIF('AİDAT GİRİŞİ'!$F:$F,\"=\"&($B61&TEXT($W$7,\"aaa-yy\")),'AİDAT GİRİŞİ'!$D:$D)","v":0},{"$f":"SUMIF('AİDAT GİRİŞİ'!$F:$F,\"=\"&($B61&TEXT($X$7,\"aaa-yy\")),'AİDAT GİRİŞİ'!$D:$D)","v":0},{"$f":"SUMIF('AİDAT GİRİŞİ'!$F:$F,\"=\"&($B61&TEXT($Y$7,\"aaa-yy\")),'AİDAT GİRİŞİ'!$D:$D)","v":0},{"$f":"SUMIF('AİDAT GİRİŞİ'!$F:$F,\"=\"&($B61&TEXT($Z$7,\"aaa-yy\")),'AİDAT GİRİŞİ'!$D:$D)","v":0},{"$f":"SUMIF('AİDAT GİRİŞİ'!$F:$F,\"=\"&($B61&TEXT($AA$7,\"aaa-yy\")),'AİDAT GİRİŞİ'!$D:$D)","v":0},{"$f":"SUMIF('AİDAT GİRİŞİ'!$F:$F,\"=\"&($B61&TEXT($AB$7,\"aaa-yy\")),'AİDAT GİRİŞİ'!$D:$D)","v":0},0]
[56,{"$f":"IF(ISERROR(VLOOKUP(A62,'ÜYE KAYIT LİSTESİ'!A:B,2,0)=TRUE),\"\",VLOOKUP(A62,'ÜYE KAYIT LİSTESİ'!A:B,2,0))","v":""},{"$f":"SUMIF('AİDAT GİRİŞİ'!$F:$F,\"=\"&(B62&TEXT($Q$7,\"aaa-yy\")),'AİDAT GİRİŞİ'!$D:$D)","v":0},{"$f":"SUMIF('AİDAT GİRİŞİ'!$F:$F,\"=\"&($B62&TEXT($R$7,\"aaa-yy\")),'AİDAT GİRİŞİ'!$D:$D)","v":0},{"$f":"SUMIF('AİDAT GİRİŞİ'!$F:$F,\"=\"&($B62&TEXT($S$7,\"aaa-yy\")),'AİDAT GİRİŞİ'!$D:$D)","v":0},{"$f":"SUMIF('AİDAT GİRİŞİ'!$F:$F,\"=\"&($B62&TEXT($T$7,\"aaa-yy\")),'AİDAT GİRİŞİ'!$D:$D)","v":0},{"$f":"SUMIF('AİDAT GİRİŞİ'!$F:$F,\"=\"&($B62&TEXT($U$7,\"aaa-yy\")),'AİDAT GİRİŞİ'!$D:$D)","v":0},{"$f":"SUMIF('AİDAT GİRİŞİ'!$F:$F,\"=\"&($B62&TEXT($V$7,\"aaa-yy\")),'AİDAT GİRİŞİ'!$D:$D)","v":0},{"$f":"SUMIF('AİDAT GİRİŞİ'!$F:$F,\"=\"&($B62&TEXT($W$7,\"aaa-yy\")),'AİDAT GİRİŞİ'!$D:$D)","v":0},{"$f":"SUMIF('AİDAT GİRİŞİ'!$F:$F,\"=\"&($B62&TEXT($X$7,\"aaa-yy\")),'AİDAT GİRİŞİ'!$D:$D)","v":0},{"$f":"SUMIF('AİDAT GİRİŞİ'!$F:$F,\"=\"&($B62&TEXT($Y$7,\"aaa-yy\")),'AİDAT GİRİŞİ'!$D:$D)","v":0},{"$f":"SUMIF('AİDAT GİRİŞİ'!$F:$F,\"=\"&($B62&TEXT($Z$7,\"aaa-yy\")),'AİDAT GİRİŞİ'!$D:$D)","v":0},{"$f":"SUMIF('AİDAT GİRİŞİ'!$F:$F,\"=\"&($B62&TEXT($AA$7,\"aaa-yy\")),'AİDAT GİRİŞİ'!$D:$D)","v":0},{"$f":"SUMIF('AİDAT GİRİŞİ'!$F:$F,\"=\"&($B62&TEXT($AB$7,\"aaa-yy\")),'AİDAT GİRİŞİ'!$D:$D)","v":0},0]
[57,{"$f":"IF(ISERROR(VLOOKUP(A63,'ÜYE KAYIT LİSTESİ'!A:B,2,0)=TRUE),\"\",VLOOKUP(A63,'ÜYE KAYIT LİSTESİ'!A:B,2,0))","v":""},{"$f":"SUMIF('AİDAT GİRİŞİ'!$F:$F,\"=\"&(B63&TEXT($Q$7,\"aaa-yy\")),'AİDAT GİRİŞİ'!$D:$D)","v":0},{"$f":"SUMIF('AİDAT GİRİŞİ'!$F:$F,\"=\"&($B63&TEXT($R$7,\"aaa-yy\")),'AİDAT GİRİŞİ'!$D:$D)","v":0},{"$f":"SUMIF('AİDAT GİRİŞİ'!$F:$F,\"=\"&($B63&TEXT($S$7,\"aaa-yy\")),'AİDAT GİRİŞİ'!$D:$D)","v":0},{"$f":"SUMIF('AİDAT GİRİŞİ'!$F:$F,\"=\"&($B63&TEXT($T$7,\"aaa-yy\")),'AİDAT GİRİŞİ'!$D:$D)","v":0},{"$f":"SUMIF('AİDAT GİRİŞİ'!$F:$F,\"=\"&($B63&TEXT($U$7,\"aaa-yy\")),'AİDAT GİRİŞİ'!$D:$D)","v":0},{"$f":"SUMIF('AİDAT GİRİŞİ'!$F:$F,\"=\"&($B63&TEXT($V$7,\"aaa-yy\")),'AİDAT GİRİŞİ'!$D:$D)","v":0},{"$f":"SUMIF('AİDAT GİRİŞİ'!$F:$F,\"=\"&($B63&TEXT($W$7,\"aaa-yy\")),'AİDAT GİRİŞİ'!$D:$D)","v":0},{"$f":"SUMIF('AİDAT GİRİŞİ'!$F:$F,\"=\"&($B63&TEXT($X$7,\"aaa-yy\")),'AİDAT GİRİŞİ'!$D:$D)","v":0},{"$f":"SUMIF('AİDAT GİRİŞİ'!$F:$F,\"=\"&($B63&TEXT($Y$7,\"aaa-yy\")),'AİDAT GİRİŞİ'!$D:$D)","v":0},{"$f":"SUMIF('AİDAT GİRİŞİ'!$F:$F,\"=\"&($B63&TEXT($Z$7,\"aaa-yy\")),'AİDAT GİRİŞİ'!$D:$D)","v":0},{"$f":"SUMIF('AİDAT GİRİŞİ'!$F:$F,\"=\"&($B63&TEXT($AA$7,\"aaa-yy\")),'AİDAT GİRİŞİ'!$D:$D)","v":0},{"$f":"SUMIF('AİDAT GİRİŞİ'!$F:$F,\"=\"&($B63&TEXT($AB$7,\"aaa-yy\")),'AİDAT GİRİŞİ'!$D:$D)","v":0},0]
[58,{"$f":"IF(ISERROR(VLOOKUP(A64,'ÜYE KAYIT LİSTESİ'!A:B,2,0)=TRUE),\"\",VLOOKUP(A64,'ÜYE KAYIT LİSTESİ'!A:B,2,0))","v":""},{"$f":"SUMIF('AİDAT GİRİŞİ'!$F:$F,\"=\"&(B64&TEXT($Q$7,\"aaa-yy\")),'AİDAT GİRİŞİ'!$D:$D)","v":0},{"$f":"SUMIF('AİDAT GİRİŞİ'!$F:$F,\"=\"&($B64&TEXT($R$7,\"aaa-yy\")),'AİDAT GİRİŞİ'!$D:$D)","v":0},{"$f":"SUMIF('AİDAT GİRİŞİ'!$F:$F,\"=\"&($B64&TEXT($S$7,\"aaa-yy\")),'AİDAT GİRİŞİ'!$D:$D)","v":0},{"$f":"SUMIF('AİDAT GİRİŞİ'!$F:$F,\"=\"&($B64&TEXT($T$7,\"aaa-yy\")),'AİDAT GİRİŞİ'!$D:$D)","v":0},{"$f":"SUMIF('AİDAT GİRİŞİ'!$F:$F,\"=\"&($B64&TEXT($U$7,\"aaa-yy\")),'AİDAT GİRİŞİ'!$D:$D)","v":0},{"$f":"SUMIF('AİDAT GİRİŞİ'!$F:$F,\"=\"&($B64&TEXT($V$7,\"aaa-yy\")),'AİDAT GİRİŞİ'!$D:$D)","v":0},{"$f":"SUMIF('AİDAT GİRİŞİ'!$F:$F,\"=\"&($B64&TEXT($W$7,\"aaa-yy\")),'AİDAT GİRİŞİ'!$D:$D)","v":0},{"$f":"SUMIF('AİDAT GİRİŞİ'!$F:$F,\"=\"&($B64&TEXT($X$7,\"aaa-yy\")),'AİDAT GİRİŞİ'!$D:$D)","v":0},{"$f":"SUMIF('AİDAT GİRİŞİ'!$F:$F,\"=\"&($B64&TEXT($Y$7,\"aaa-yy\")),'AİDAT GİRİŞİ'!$D:$D)","v":0},{"$f":"SUMIF('AİDAT GİRİŞİ'!$F:$F,\"=\"&($B64&TEXT($Z$7,\"aaa-yy\")),'AİDAT GİRİŞİ'!$D:$D)","v":0},{"$f":"SUMIF('AİDAT GİRİŞİ'!$F:$F,\"=\"&($B64&TEXT($AA$7,\"aaa-yy\")),'AİDAT GİRİŞİ'!$D:$D)","v":0},{"$f":"SUMIF('AİDAT GİRİŞİ'!$F:$F,\"=\"&($B64&TEXT($AB$7,\"aaa-yy\")),'AİDAT GİRİŞİ'!$D:$D)","v":0},0]
[59,{"$f":"IF(ISERROR(VLOOKUP(A65,'ÜYE KAYIT LİSTESİ'!A:B,2,0)=TRUE),\"\",VLOOKUP(A65,'ÜYE KAYIT LİSTESİ'!A:B,2,0))","v":""},{"$f":"SUMIF('AİDAT GİRİŞİ'!$F:$F,\"=\"&(B65&TEXT($Q$7,\"aaa-yy\")),'AİDAT GİRİŞİ'!$D:$D)","v":0},{"$f":"SUMIF('AİDAT GİRİŞİ'!$F:$F,\"=\"&($B65&TEXT($R$7,\"aaa-yy\")),'AİDAT GİRİŞİ'!$D:$D)","v":0},{"$f":"SUMIF('AİDAT GİRİŞİ'!$F:$F,\"=\"&($B65&TEXT($S$7,\"aaa-yy\")),'AİDAT GİRİŞİ'!$D:$D)","v":0},{"$f":"SUMIF('AİDAT GİRİŞİ'!$F:$F,\"=\"&($B65&TEXT($T$7,\"aaa-yy\")),'AİDAT GİRİŞİ'!$D:$D)","v":0},{"$f":"SUMIF('AİDAT GİRİŞİ'!$F:$F,\"=\"&($B65&TEXT($U$7,\"aaa-yy\")),'AİDAT GİRİŞİ'!$D:$D)","v":0},{"$f":"SUMIF('AİDAT GİRİŞİ'!$F:$F,\"=\"&($B65&TEXT($V$7,\"aaa-yy\")),'AİDAT GİRİŞİ'!$D:$D)","v":0},{"$f":"SUMIF('AİDAT GİRİŞİ'!$F:$F,\"=\"&($B65&TEXT($W$7,\"aaa-yy\")),'AİDAT GİRİŞİ'!$D:$D)","v":0},{"$f":"SUMIF('AİDAT GİRİŞİ'!$F:$F,\"=\"&($B65&TEXT($X$7,\"aaa-yy\")),'AİDAT GİRİŞİ'!$D:$D)","v":0},{"$f":"SUMIF('AİDAT GİRİŞİ'!$F:$F,\"=\"&($B65&TEXT($Y$7,\"aaa-yy\")),'AİDAT GİRİŞİ'!$D:$D)","v":0},{"$f":"SUMIF('AİDAT GİRİŞİ'!$F:$F,\"=\"&($B65&TEXT($Z$7,\"aaa-yy\")),'AİDAT GİRİŞİ'!$D:$D)","v":0},{"$f":"SUMIF('AİDAT GİRİŞİ'!$F:$F,\"=\"&($B65&TEXT($AA$7,\"aaa-yy\")),'AİDAT GİRİŞİ'!$D:$D)","v":0},{"$f":"SUMIF('AİDAT GİRİŞİ'!$F:$F,\"=\"&($B65&TEXT($AB$7,\"aaa-yy\")),'AİDAT GİRİŞİ'!$D:$D)","v":0},0]
[60,{"$f":"IF(ISERROR(VLOOKUP(A66,'ÜYE KAYIT LİSTESİ'!A:B,2,0)=TRUE),\"\",VLOOKUP(A66,'ÜYE KAYIT LİSTESİ'!A:B,2,0))","v":""},{"$f":"SUMIF('AİDAT GİRİŞİ'!$F:$F,\"=\"&(B66&TEXT($Q$7,\"aaa-yy\")),'AİDAT GİRİŞİ'!$D:$D)","v":0},{"$f":"SUMIF('AİDAT GİRİŞİ'!$F:$F,\"=\"&($B66&TEXT($R$7,\"aaa-yy\")),'AİDAT GİRİŞİ'!$D:$D)","v":0},{"$f":"SUMIF('AİDAT GİRİŞİ'!$F:$F,\"=\"&($B66&TEXT($S$7,\"aaa-yy\")),'AİDAT GİRİŞİ'!$D:$D)","v":0},{"$f":"SUMIF('AİDAT GİRİŞİ'!$F:$F,\"=\"&($B66&TEXT($T$7,\"aaa-yy\")),'AİDAT GİRİŞİ'!$D:$D)","v":0},{"$f":"SUMIF('AİDAT GİRİŞİ'!$F:$F,\"=\"&($B66&TEXT($U$7,\"aaa-yy\")),'AİDAT GİRİŞİ'!$D:$D)","v":0},{"$f":"SUMIF('AİDAT GİRİŞİ'!$F:$F,\"=\"&($B66&TEXT($V$7,\"aaa-yy\")),'AİDAT GİRİŞİ'!$D:$D)","v":0},{"$f":"SUMIF('AİDAT GİRİŞİ'!$F:$F,\"=\"&($B66&TEXT($W$7,\"aaa-yy\")),'AİDAT GİRİŞİ'!$D:$D)","v":0},{"$f":"SUMIF('AİDAT GİRİŞİ'!$F:$F,\"=\"&($B66&TEXT($X$7,\"aaa-yy\")),'AİDAT GİRİŞİ'!$D:$D)","v":0},{"$f":"SUMIF('AİDAT GİRİŞİ'!$F:$F,\"=\"&($B66&TEXT($Y$7,\"aaa-yy\")),'AİDAT GİRİŞİ'!$D:$D)","v":0},{"$f":"SUMIF('AİDAT GİRİŞİ'!$F:$F,\"=\"&($B66&TEXT($Z$7,\"aaa-yy\")),'AİDAT GİRİŞİ'!$D:$D)","v":0},{"$f":"SUMIF('AİDAT GİRİŞİ'!$F:$F,\"=\"&($B66&TEXT($AA$7,\"aaa-yy\")),'AİDAT GİRİŞİ'!$D:$D)","v":0},{"$f":"SUMIF('AİDAT GİRİŞİ'!$F:$F,\"=\"&($B66&TEXT($AB$7,\"aaa-yy\")),'AİDAT GİRİŞİ'!$D:$D)","v":0},0]
[61,{"$f":"IF(ISERROR(VLOOKUP(A67,'ÜYE KAYIT LİSTESİ'!A:B,2,0)=TRUE),\"\",VLOOKUP(A67,'ÜYE KAYIT LİSTESİ'!A:B,2,0))","v":""},{"$f":"SUMIF('AİDAT GİRİŞİ'!$F:$F,\"=\"&(B67&TEXT($Q$7,\"aaa-yy\")),'AİDAT GİRİŞİ'!$D:$D)","v":0},{"$f":"SUMIF('AİDAT GİRİŞİ'!$F:$F,\"=\"&($B67&TEXT($R$7,\"aaa-yy\")),'AİDAT GİRİŞİ'!$D:$D)","v":0},{"$f":"SUMIF('AİDAT GİRİŞİ'!$F:$F,\"=\"&($B67&TEXT($S$7,\"aaa-yy\")),'AİDAT GİRİŞİ'!$D:$D)","v":0},{"$f":"SUMIF('AİDAT GİRİŞİ'!$F:$F,\"=\"&($B67&TEXT($T$7,\"aaa-yy\")),'AİDAT GİRİŞİ'!$D:$D)","v":0},{"$f":"SUMIF('AİDAT GİRİŞİ'!$F:$F,\"=\"&($B67&TEXT($U$7,\"aaa-yy\")),'AİDAT GİRİŞİ'!$D:$D)","v":0},{"$f":"SUMIF('AİDAT GİRİŞİ'!$F:$F,\"=\"&($B67&TEXT($V$7,\"aaa-yy\")),'AİDAT GİRİŞİ'!$D:$D)","v":0},{"$f":"SUMIF('AİDAT GİRİŞİ'!$F:$F,\"=\"&($B67&TEXT($W$7,\"aaa-yy\")),'AİDAT GİRİŞİ'!$D:$D)","v":0},{"$f":"SUMIF('AİDAT GİRİŞİ'!$F:$F,\"=\"&($B67&TEXT($X$7,\"aaa-yy\")),'AİDAT GİRİŞİ'!$D:$D)","v":0},{"$f":"SUMIF('AİDAT GİRİŞİ'!$F:$F,\"=\"&($B67&TEXT($Y$7,\"aaa-yy\")),'AİDAT GİRİŞİ'!$D:$D)","v":0},{"$f":"SUMIF('AİDAT GİRİŞİ'!$F:$F,\"=\"&($B67&TEXT($Z$7,\"aaa-yy\")),'AİDAT GİRİŞİ'!$D:$D)","v":0},{"$f":"SUMIF('AİDAT GİRİŞİ'!$F:$F,\"=\"&($B67&TEXT($AA$7,\"aaa-yy\")),'AİDAT GİRİŞİ'!$D:$D)","v":0},{"$f":"SUMIF('AİDAT GİRİŞİ'!$F:$F,\"=\"&($B67&TEXT($AB$7,\"aaa-yy\")),'AİDAT GİRİŞİ'!$D:$D)","v":0},0]
[62,{"$f":"IF(ISERROR(VLOOKUP(A68,'ÜYE KAYIT LİSTESİ'!A:B,2,0)=TRUE),\"\",VLOOKUP(A68,'ÜYE KAYIT LİSTESİ'!A:B,2,0))","v":""},{"$f":"SUMIF('AİDAT GİRİŞİ'!$F:$F,\"=\"&(B68&TEXT($Q$7,\"aaa-yy\")),'AİDAT GİRİŞİ'!$D:$D)","v":0},{"$f":"SUMIF('AİDAT GİRİŞİ'!$F:$F,\"=\"&($B68&TEXT($R$7,\"aaa-yy\")),'AİDAT GİRİŞİ'!$D:$D)","v":0},{"$f":"SUMIF('AİDAT GİRİŞİ'!$F:$F,\"=\"&($B68&TEXT($S$7,\"aaa-yy\")),'AİDAT GİRİŞİ'!$D:$D)","v":0},{"$f":"SUMIF('AİDAT GİRİŞİ'!$F:$F,\"=\"&($B68&TEXT($T$7,\"aaa-yy\")),'AİDAT GİRİŞİ'!$D:$D)","v":0},{"$f":"SUMIF('AİDAT GİRİŞİ'!$F:$F,\"=\"&($B68&TEXT($U$7,\"aaa-yy\")),'AİDAT GİRİŞİ'!$D:$D)","v":0},{"$f":"SUMIF('AİDAT GİRİŞİ'!$F:$F,\"=\"&($B68&TEXT($V$7,\"aaa-yy\")),'AİDAT GİRİŞİ'!$D:$D)","v":0},{"$f":"SUMIF('AİDAT GİRİŞİ'!$F:$F,\"=\"&($B68&TEXT($W$7,\"aaa-yy\")),'AİDAT GİRİŞİ'!$D:$D)","v":0},{"$f":"SUMIF('AİDAT GİRİŞİ'!$F:$F,\"=\"&($B68&TEXT($X$7,\"aaa-yy\")),'AİDAT GİRİŞİ'!$D:$D)","v":0},{"$f":"SUMIF('AİDAT GİRİŞİ'!$F:$F,\"=\"&($B68&TEXT($Y$7,\"aaa-yy\")),'AİDAT GİRİŞİ'!$D:$D)","v":0},{"$f":"SUMIF('AİDAT GİRİŞİ'!$F:$F,\"=\"&($B68&TEXT($Z$7,\"aaa-yy\")),'AİDAT GİRİŞİ'!$D:$D)","v":0},{"$f":"SUMIF('AİDAT GİRİŞİ'!$F:$F,\"=\"&($B68&TEXT($AA$7,\"aaa-yy\")),'AİDAT GİRİŞİ'!$D:$D)","v":0},{"$f":"SUMIF('AİDAT GİRİŞİ'!$F:$F,\"=\"&($B68&TEXT($AB$7,\"aaa-yy\")),'AİDAT GİRİŞİ'!$D:$D)","v":0},0]
[63,{"$f":"IF(ISERROR(VLOOKUP(A69,'ÜYE KAYIT LİSTESİ'!A:B,2,0)=TRUE),\"\",VLOOKUP(A69,'ÜYE KAYIT LİSTESİ'!A:B,2,0))","v":""},{"$f":"SUMIF('AİDAT GİRİŞİ'!$F:$F,\"=\"&(B69&TEXT($Q$7,\"aaa-yy\")),'AİDAT GİRİŞİ'!$D:$D)","v":0},{"$f":"SUMIF('AİDAT GİRİŞİ'!$F:$F,\"=\"&($B69&TEXT($R$7,\"aaa-yy\")),'AİDAT GİRİŞİ'!$D:$D)","v":0},{"$f":"SUMIF('AİDAT GİRİŞİ'!$F:$F,\"=\"&($B69&TEXT($S$7,\"aaa-yy\")),'AİDAT GİRİŞİ'!$D:$D)","v":0},{"$f":"SUMIF('AİDAT GİRİŞİ'!$F:$F,\"=\"&($B69&TEXT($T$7,\"aaa-yy\")),'AİDAT GİRİŞİ'!$D:$D)","v":0},{"$f":"SUMIF('AİDAT GİRİŞİ'!$F:$F,\"=\"&($B69&TEXT($U$7,\"aaa-yy\")),'AİDAT GİRİŞİ'!$D:$D)","v":0},{"$f":"SUMIF('AİDAT GİRİŞİ'!$F:$F,\"=\"&($B69&TEXT($V$7,\"aaa-yy\")),'AİDAT GİRİŞİ'!$D:$D)","v":0},{"$f":"SUMIF('AİDAT GİRİŞİ'!$F:$F,\"=\"&($B69&TEXT($W$7,\"aaa-yy\")),'AİDAT GİRİŞİ'!$D:$D)","v":0},{"$f":"SUMIF('AİDAT GİRİŞİ'!$F:$F,\"=\"&($B69&TEXT($X$7,\"aaa-yy\")),'AİDAT GİRİŞİ'!$D:$D)","v":0},{"$f":"SUMIF('AİDAT GİRİŞİ'!$F:$F,\"=\"&($B69&TEXT($Y$7,\"aaa-yy\")),'AİDAT GİRİŞİ'!$D:$D)","v":0},{"$f":"SUMIF('AİDAT GİRİŞİ'!$F:$F,\"=\"&($B69&TEXT($Z$7,\"aaa-yy\")),'AİDAT GİRİŞİ'!$D:$D)","v":0},{"$f":"SUMIF('AİDAT GİRİŞİ'!$F:$F,\"=\"&($B69&TEXT($AA$7,\"aaa-yy\")),'AİDAT GİRİŞİ'!$D:$D)","v":0},{"$f":"SUMIF('AİDAT GİRİŞİ'!$F:$F,\"=\"&($B69&TEXT($AB$7,\"aaa-yy\")),'AİDAT GİRİŞİ'!$D:$D)","v":0},0]
[64,{"$f":"IF(ISERROR(VLOOKUP(A70,'ÜYE KAYIT LİSTESİ'!A:B,2,0)=TRUE),\"\",VLOOKUP(A70,'ÜYE KAYIT LİSTESİ'!A:B,2,0))","v":""},{"$f":"SUMIF('AİDAT GİRİŞİ'!$F:$F,\"=\"&(B70&TEXT($Q$7,\"aaa-yy\")),'AİDAT GİRİŞİ'!$D:$D)","v":0},{"$f":"SUMIF('AİDAT GİRİŞİ'!$F:$F,\"=\"&($B70&TEXT($R$7,\"aaa-yy\")),'AİDAT GİRİŞİ'!$D:$D)","v":0},{"$f":"SUMIF('AİDAT GİRİŞİ'!$F:$F,\"=\"&($B70&TEXT($S$7,\"aaa-yy\")),'AİDAT GİRİŞİ'!$D:$D)","v":0},{"$f":"SUMIF('AİDAT GİRİŞİ'!$F:$F,\"=\"&($B70&TEXT($T$7,\"aaa-yy\")),'AİDAT GİRİŞİ'!$D:$D)","v":0},{"$f":"SUMIF('AİDAT GİRİŞİ'!$F:$F,\"=\"&($B70&TEXT($U$7,\"aaa-yy\")),'AİDAT GİRİŞİ'!$D:$D)","v":0},{"$f":"SUMIF('AİDAT GİRİŞİ'!$F:$F,\"=\"&($B70&TEXT($V$7,\"aaa-yy\")),'AİDAT GİRİŞİ'!$D:$D)","v":0},{"$f":"SUMIF('AİDAT GİRİŞİ'!$F:$F,\"=\"&($B70&TEXT($W$7,\"aaa-yy\")),'AİDAT GİRİŞİ'!$D:$D)","v":0},{"$f":"SUMIF('AİDAT GİRİŞİ'!$F:$F,\"=\"&($B70&TEXT($X$7,\"aaa-yy\")),'AİDAT GİRİŞİ'!$D:$D)","v":0},{"$f":"SUMIF('AİDAT GİRİŞİ'!$F:$F,\"=\"&($B70&TEXT($Y$7,\"aaa-yy\")),'AİDAT GİRİŞİ'!$D:$D)","v":0},{"$f":"SUMIF('AİDAT GİRİŞİ'!$F:$F,\"=\"&($B70&TEXT($Z$7,\"aaa-yy\")),'AİDAT GİRİŞİ'!$D:$D)","v":0},{"$f":"SUMIF('AİDAT GİRİŞİ'!$F:$F,\"=\"&($B70&TEXT($AA$7,\"aaa-yy\")),'AİDAT GİRİŞİ'!$D:$D)","v":0},{"$f":"SUMIF('AİDAT GİRİŞİ'!$F:$F,\"=\"&($B70&TEXT($AB$7,\"aaa-yy\")),'AİDAT GİRİŞİ'!$D:$D)","v":0},0]
[65,{"$f":"IF(ISERROR(VLOOKUP(A71,'ÜYE KAYIT LİSTESİ'!A:B,2,0)=TRUE),\"\",VLOOKUP(A71,'ÜYE KAYIT LİSTESİ'!A:B,2,0))","v":""},{"$f":"SUMIF('AİDAT GİRİŞİ'!$F:$F,\"=\"&(B71&TEXT($Q$7,\"aaa-yy\")),'AİDAT GİRİŞİ'!$D:$D)","v":0},{"$f":"SUMIF('AİDAT GİRİŞİ'!$F:$F,\"=\"&($B71&TEXT($R$7,\"aaa-yy\")),'AİDAT GİRİŞİ'!$D:$D)","v":0},{"$f":"SUMIF('AİDAT GİRİŞİ'!$F:$F,\"=\"&($B71&TEXT($S$7,\"aaa-yy\")),'AİDAT GİRİŞİ'!$D:$D)","v":0},{"$f":"SUMIF('AİDAT GİRİŞİ'!$F:$F,\"=\"&($B71&TEXT($T$7,\"aaa-yy\")),'AİDAT GİRİŞİ'!$D:$D)","v":0},{"$f":"SUMIF('AİDAT GİRİŞİ'!$F:$F,\"=\"&($B71&TEXT($U$7,\"aaa-yy\")),'AİDAT GİRİŞİ'!$D:$D)","v":0},{"$f":"SUMIF('AİDAT GİRİŞİ'!$F:$F,\"=\"&($B71&TEXT($V$7,\"aaa-yy\")),'AİDAT GİRİŞİ'!$D:$D)","v":0},{"$f":"SUMIF('AİDAT GİRİŞİ'!$F:$F,\"=\"&($B71&TEXT($W$7,\"aaa-yy\")),'AİDAT GİRİŞİ'!$D:$D)","v":0},{"$f":"SUMIF('AİDAT GİRİŞİ'!$F:$F,\"=\"&($B71&TEXT($X$7,\"aaa-yy\")),'AİDAT GİRİŞİ'!$D:$D)","v":0},{"$f":"SUMIF('AİDAT GİRİŞİ'!$F:$F,\"=\"&($B71&TEXT($Y$7,\"aaa-yy\")),'AİDAT GİRİŞİ'!$D:$D)","v":0},{"$f":"SUMIF('AİDAT GİRİŞİ'!$F:$F,\"=\"&($B71&TEXT($Z$7,\"aaa-yy\")),'AİDAT GİRİŞİ'!$D:$D)","v":0},{"$f":"SUMIF('AİDAT GİRİŞİ'!$F:$F,\"=\"&($B71&TEXT($AA$7,\"aaa-yy\")),'AİDAT GİRİŞİ'!$D:$D)","v":0},{"$f":"SUMIF('AİDAT GİRİŞİ'!$F:$F,\"=\"&($B71&TEXT($AB$7,\"aaa-yy\")),'AİDAT GİRİŞİ'!$D:$D)","v":0},{"$f":"SUM(C71:N71)","v":0}]
[66,{"$f":"IF(ISERROR(VLOOKUP(A72,'ÜYE KAYIT LİSTESİ'!A:B,2,0)=TRUE),\"\",VLOOKUP(A72,'ÜYE KAYIT LİSTESİ'!A:B,2,0))","v":""},{"$f":"SUMIF('AİDAT GİRİŞİ'!$F:$F,\"=\"&(B72&TEXT($Q$7,\"aaa-yy\")),'AİDAT GİRİŞİ'!$D:$D)","v":0},{"$f":"SUMIF('AİDAT GİRİŞİ'!$F:$F,\"=\"&($B72&TEXT($R$7,\"aaa-yy\")),'AİDAT GİRİŞİ'!$D:$D)","v":0},{"$f":"SUMIF('AİDAT GİRİŞİ'!$F:$F,\"=\"&($B72&TEXT($S$7,\"aaa-yy\")),'AİDAT GİRİŞİ'!$D:$D)","v":0},{"$f":"SUMIF('AİDAT GİRİŞİ'!$F:$F,\"=\"&($B72&TEXT($T$7,\"aaa-yy\")),'AİDAT GİRİŞİ'!$D:$D)","v":0},{"$f":"SUMIF('AİDAT GİRİŞİ'!$F:$F,\"=\"&($B72&TEXT($U$7,\"aaa-yy\")),'AİDAT GİRİŞİ'!$D:$D)","v":0},{"$f":"SUMIF('AİDAT GİRİŞİ'!$F:$F,\"=\"&($B72&TEXT($V$7,\"aaa-yy\")),'AİDAT GİRİŞİ'!$D:$D)","v":0},{"$f":"SUMIF('AİDAT GİRİŞİ'!$F:$F,\"=\"&($B72&TEXT($W$7,\"aaa-yy\")),'AİDAT GİRİŞİ'!$D:$D)","v":0},{"$f":"SUMIF('AİDAT GİRİŞİ'!$F:$F,\"=\"&($B72&TEXT($X$7,\"aaa-yy\")),'AİDAT GİRİŞİ'!$D:$D)","v":0},{"$f":"SUMIF('AİDAT GİRİŞİ'!$F:$F,\"=\"&($B72&TEXT($Y$7,\"aaa-yy\")),'AİDAT GİRİŞİ'!$D:$D)","v":0},{"$f":"SUMIF('AİDAT GİRİŞİ'!$F:$F,\"=\"&($B72&TEXT($Z$7,\"aaa-yy\")),'AİDAT GİRİŞİ'!$D:$D)","v":0},{"$f":"SUMIF('AİDAT GİRİŞİ'!$F:$F,\"=\"&($B72&TEXT($AA$7,\"aaa-yy\")),'AİDAT GİRİŞİ'!$D:$D)","v":0},{"$f":"SUMIF('AİDAT GİRİŞİ'!$F:$F,\"=\"&($B72&TEXT($AB$7,\"aaa-yy\")),'AİDAT GİRİŞİ'!$D:$D)","v":0},0]
[67,{"$f":"IF(ISERROR(VLOOKUP(A73,'ÜYE KAYIT LİSTESİ'!A:B,2,0)=TRUE),\"\",VLOOKUP(A73,'ÜYE KAYIT LİSTESİ'!A:B,2,0))","v":""},{"$f":"SUMIF('AİDAT GİRİŞİ'!$F:$F,\"=\"&(B73&TEXT($Q$7,\"aaa-yy\")),'AİDAT GİRİŞİ'!$D:$D)","v":0},{"$f":"SUMIF('AİDAT GİRİŞİ'!$F:$F,\"=\"&($B73&TEXT($R$7,\"aaa-yy\")),'AİDAT GİRİŞİ'!$D:$D)","v":0},{"$f":"SUMIF('AİDAT GİRİŞİ'!$F:$F,\"=\"&($B73&TEXT($S$7,\"aaa-yy\")),'AİDAT GİRİŞİ'!$D:$D)","v":0},{"$f":"SUMIF('AİDAT GİRİŞİ'!$F:$F,\"=\"&($B73&TEXT($T$7,\"aaa-yy\")),'AİDAT GİRİŞİ'!$D:$D)","v":0},{"$f":"SUMIF('AİDAT GİRİŞİ'!$F:$F,\"=\"&($B73&TEXT($U$7,\"aaa-yy\")),'AİDAT GİRİŞİ'!$D:$D)","v":0},{"$f":"SUMIF('AİDAT GİRİŞİ'!$F:$F,\"=\"&($B73&TEXT($V$7,\"aaa-yy\")),'AİDAT GİRİŞİ'!$D:$D)","v":0},{"$f":"SUMIF('AİDAT GİRİŞİ'!$F:$F,\"=\"&($B73&TEXT($W$7,\"aaa-yy\")),'AİDAT GİRİŞİ'!$D:$D)","v":0},{"$f":"SUMIF('AİDAT GİRİŞİ'!$F:$F,\"=\"&($B73&TEXT($X$7,\"aaa-yy\")),'AİDAT GİRİŞİ'!$D:$D)","v":0},{"$f":"SUMIF('AİDAT GİRİŞİ'!$F:$F,\"=\"&($B73&TEXT($Y$7,\"aaa-yy\")),'AİDAT GİRİŞİ'!$D:$D)","v":0},{"$f":"SUMIF('AİDAT GİRİŞİ'!$F:$F,\"=\"&($B73&TEXT($Z$7,\"aaa-yy\")),'AİDAT GİRİŞİ'!$D:$D)","v":0},{"$f":"SUMIF('AİDAT GİRİŞİ'!$F:$F,\"=\"&($B73&TEXT($AA$7,\"aaa-yy\")),'AİDAT GİRİŞİ'!$D:$D)","v":0},{"$f":"SUMIF('AİDAT GİRİŞİ'!$F:$F,\"=\"&($B73&TEXT($AB$7,\"aaa-yy\")),'AİDAT GİRİŞİ'!$D:$D)","v":0},0]
[68,{"$f":"IF(ISERROR(VLOOKUP(A74,'ÜYE KAYIT LİSTESİ'!A:B,2,0)=TRUE),\"\",VLOOKUP(A74,'ÜYE KAYIT LİSTESİ'!A:B,2,0))","v":""},{"$f":"SUMIF('AİDAT GİRİŞİ'!$F:$F,\"=\"&(B74&TEXT($Q$7,\"aaa-yy\")),'AİDAT GİRİŞİ'!$D:$D)","v":0},{"$f":"SUMIF('AİDAT GİRİŞİ'!$F:$F,\"=\"&($B74&TEXT($R$7,\"aaa-yy\")),'AİDAT GİRİŞİ'!$D:$D)","v":0},{"$f":"SUMIF('AİDAT GİRİŞİ'!$F:$F,\"=\"&($B74&TEXT($S$7,\"aaa-yy\")),'AİDAT GİRİŞİ'!$D:$D)","v":0},{"$f":"SUMIF('AİDAT GİRİŞİ'!$F:$F,\"=\"&($B74&TEXT($T$7,\"aaa-yy\")),'AİDAT GİRİŞİ'!$D:$D)","v":0},{"$f":"SUMIF('AİDAT GİRİŞİ'!$F:$F,\"=\"&($B74&TEXT($U$7,\"aaa-yy\")),'AİDAT GİRİŞİ'!$D:$D)","v":0},{"$f":"SUMIF('AİDAT GİRİŞİ'!$F:$F,\"=\"&($B74&TEXT($V$7,\"aaa-yy\")),'AİDAT GİRİŞİ'!$D:$D)","v":0},{"$f":"SUMIF('AİDAT GİRİŞİ'!$F:$F,\"=\"&($B74&TEXT($W$7,\"aaa-yy\")),'AİDAT GİRİŞİ'!$D:$D)","v":0},{"$f":"SUMIF('AİDAT GİRİŞİ'!$F:$F,\"=\"&($B74&TEXT($X$7,\"aaa-yy\")),'AİDAT GİRİŞİ'!$D:$D)","v":0},{"$f":"SUMIF('AİDAT GİRİŞİ'!$F:$F,\"=\"&($B74&TEXT($Y$7,\"aaa-yy\")),'AİDAT GİRİŞİ'!$D:$D)","v":0},{"$f":"SUMIF('AİDAT GİRİŞİ'!$F:$F,\"=\"&($B74&TEXT($Z$7,\"aaa-yy\")),'AİDAT GİRİŞİ'!$D:$D)","v":0},{"$f":"SUMIF('AİDAT GİRİŞİ'!$F:$F,\"=\"&($B74&TEXT($AA$7,\"aaa-yy\")),'AİDAT GİRİŞİ'!$D:$D)","v":0},{"$f":"SUMIF('AİDAT GİRİŞİ'!$F:$F,\"=\"&($B74&TEXT($AB$7,\"aaa-yy\")),'AİDAT GİRİŞİ'!$D:$D)","v":0},0]
[69,{"$f":"IF(ISERROR(VLOOKUP(A75,'ÜYE KAYIT LİSTESİ'!A:B,2,0)=TRUE),\"\",VLOOKUP(A75,'ÜYE KAYIT LİSTESİ'!A:B,2,0))","v":""},{"$f":"SUMIF('AİDAT GİRİŞİ'!$F:$F,\"=\"&(B75&TEXT($Q$7,\"aaa-yy\")),'AİDAT GİRİŞİ'!$D:$D)","v":0},{"$f":"SUMIF('AİDAT GİRİŞİ'!$F:$F,\"=\"&($B75&TEXT($R$7,\"aaa-yy\")),'AİDAT GİRİŞİ'!$D:$D)","v":0},{"$f":"SUMIF('AİDAT GİRİŞİ'!$F:$F,\"=\"&($B75&TEXT($S$7,\"aaa-yy\")),'AİDAT GİRİŞİ'!$D:$D)","v":0},{"$f":"SUMIF('AİDAT GİRİŞİ'!$F:$F,\"=\"&($B75&TEXT($T$7,\"aaa-yy\")),'AİDAT GİRİŞİ'!$D:$D)","v":0},{"$f":"SUMIF('AİDAT GİRİŞİ'!$F:$F,\"=\"&($B75&TEXT($U$7,\"aaa-yy\")),'AİDAT GİRİŞİ'!$D:$D)","v":0},{"$f":"SUMIF('AİDAT GİRİŞİ'!$F:$F,\"=\"&($B75&TEXT($V$7,\"aaa-yy\")),'AİDAT GİRİŞİ'!$D:$D)","v":0},{"$f":"SUMIF('AİDAT GİRİŞİ'!$F:$F,\"=\"&($B75&TEXT($W$7,\"aaa-yy\")),'AİDAT GİRİŞİ'!$D:$D)","v":0},{"$f":"SUMIF('AİDAT GİRİŞİ'!$F:$F,\"=\"&($B75&TEXT($X$7,\"aaa-yy\")),'AİDAT GİRİŞİ'!$D:$D)","v":0},{"$f":"SUMIF('AİDAT GİRİŞİ'!$F:$F,\"=\"&($B75&TEXT($Y$7,\"aaa-yy\")),'AİDAT GİRİŞİ'!$D:$D)","v":0},{"$f":"SUMIF('AİDAT GİRİŞİ'!$F:$F,\"=\"&($B75&TEXT($Z$7,\"aaa-yy\")),'AİDAT GİRİŞİ'!$D:$D)","v":0},{"$f":"SUMIF('AİDAT GİRİŞİ'!$F:$F,\"=\"&($B75&TEXT($AA$7,\"aaa-yy\")),'AİDAT GİRİŞİ'!$D:$D)","v":0},{"$f":"SUMIF('AİDAT GİRİŞİ'!$F:$F,\"=\"&($B75&TEXT($AB$7,\"aaa-yy\")),'AİDAT GİRİŞİ'!$D:$D)","v":0},0]
[70,{"$f":"IF(ISERROR(VLOOKUP(A76,'ÜYE KAYIT LİSTESİ'!A:B,2,0)=TRUE),\"\",VLOOKUP(A76,'ÜYE KAYIT LİSTESİ'!A:B,2,0))","v":""},{"$f":"SUMIF('AİDAT GİRİŞİ'!$F:$F,\"=\"&(B76&TEXT($Q$7,\"aaa-yy\")),'AİDAT GİRİŞİ'!$D:$D)","v":0},{"$f":"SUMIF('AİDAT GİRİŞİ'!$F:$F,\"=\"&($B76&TEXT($R$7,\"aaa-yy\")),'AİDAT GİRİŞİ'!$D:$D)","v":0},{"$f":"SUMIF('AİDAT GİRİŞİ'!$F:$F,\"=\"&($B76&TEXT($S$7,\"aaa-yy\")),'AİDAT GİRİŞİ'!$D:$D)","v":0},{"$f":"SUMIF('AİDAT GİRİŞİ'!$F:$F,\"=\"&($B76&TEXT($T$7,\"aaa-yy\")),'AİDAT GİRİŞİ'!$D:$D)","v":0},{"$f":"SUMIF('AİDAT GİRİŞİ'!$F:$F,\"=\"&($B76&TEXT($U$7,\"aaa-yy\")),'AİDAT GİRİŞİ'!$D:$D)","v":0},{"$f":"SUMIF('AİDAT GİRİŞİ'!$F:$F,\"=\"&($B76&TEXT($V$7,\"aaa-yy\")),'AİDAT GİRİŞİ'!$D:$D)","v":0},{"$f":"SUMIF('AİDAT GİRİŞİ'!$F:$F,\"=\"&($B76&TEXT($W$7,\"aaa-yy\")),'AİDAT GİRİŞİ'!$D:$D)","v":0},{"$f":"SUMIF('AİDAT GİRİŞİ'!$F:$F,\"=\"&($B76&TEXT($X$7,\"aaa-yy\")),'AİDAT GİRİŞİ'!$D:$D)","v":0},{"$f":"SUMIF('AİDAT GİRİŞİ'!$F:$F,\"=\"&($B76&TEXT($Y$7,\"aaa-yy\")),'AİDAT GİRİŞİ'!$D:$D)","v":0},{"$f":"SUMIF('AİDAT GİRİŞİ'!$F:$F,\"=\"&($B76&TEXT($Z$7,\"aaa-yy\")),'AİDAT GİRİŞİ'!$D:$D)","v":0},{"$f":"SUMIF('AİDAT GİRİŞİ'!$F:$F,\"=\"&($B76&TEXT($AA$7,\"aaa-yy\")),'AİDAT GİRİŞİ'!$D:$D)","v":0},{"$f":"SUMIF('AİDAT GİRİŞİ'!$F:$F,\"=\"&($B76&TEXT($AB$7,\"aaa-yy\")),'AİDAT GİRİŞİ'!$D:$D)","v":0},0]
[71,{"$f":"IF(ISERROR(VLOOKUP(A77,'ÜYE KAYIT LİSTESİ'!A:B,2,0)=TRUE),\"\",VLOOKUP(A77,'ÜYE KAYIT LİSTESİ'!A:B,2,0))","v":""},{"$f":"SUMIF('AİDAT GİRİŞİ'!$F:$F,\"=\"&(B77&TEXT($Q$7,\"aaa-yy\")),'AİDAT GİRİŞİ'!$D:$D)","v":0},{"$f":"SUMIF('AİDAT GİRİŞİ'!$F:$F,\"=\"&($B77&TEXT($R$7,\"aaa-yy\")),'AİDAT GİRİŞİ'!$D:$D)","v":0},{"$f":"SUMIF('AİDAT GİRİŞİ'!$F:$F,\"=\"&($B77&TEXT($S$7,\"aaa-yy\")),'AİDAT GİRİŞİ'!$D:$D)","v":0},{"$f":"SUMIF('AİDAT GİRİŞİ'!$F:$F,\"=\"&($B77&TEXT($T$7,\"aaa-yy\")),'AİDAT GİRİŞİ'!$D:$D)","v":0},{"$f":"SUMIF('AİDAT GİRİŞİ'!$F:$F,\"=\"&($B77&TEXT($U$7,\"aaa-yy\")),'AİDAT GİRİŞİ'!$D:$D)","v":0},{"$f":"SUMIF('AİDAT GİRİŞİ'!$F:$F,\"=\"&($B77&TEXT($V$7,\"aaa-yy\")),'AİDAT GİRİŞİ'!$D:$D)","v":0},{"$f":"SUMIF('AİDAT GİRİŞİ'!$F:$F,\"=\"&($B77&TEXT($W$7,\"aaa-yy\")),'AİDAT GİRİŞİ'!$D:$D)","v":0},{"$f":"SUMIF('AİDAT GİRİŞİ'!$F:$F,\"=\"&($B77&TEXT($X$7,\"aaa-yy\")),'AİDAT GİRİŞİ'!$D:$D)","v":0},{"$f":"SUMIF('AİDAT GİRİŞİ'!$F:$F,\"=\"&($B77&TEXT($Y$7,\"aaa-yy\")),'AİDAT GİRİŞİ'!$D:$D)","v":0},{"$f":"SUMIF('AİDAT GİRİŞİ'!$F:$F,\"=\"&($B77&TEXT($Z$7,\"aaa-yy\")),'AİDAT GİRİŞİ'!$D:$D)","v":0},{"$f":"SUMIF('AİDAT GİRİŞİ'!$F:$F,\"=\"&($B77&TEXT($AA$7,\"aaa-yy\")),'AİDAT GİRİŞİ'!$D:$D)","v":0},{"$f":"SUMIF('AİDAT GİRİŞİ'!$F:$F,\"=\"&($B77&TEXT($AB$7,\"aaa-yy\")),'AİDAT GİRİŞİ'!$D:$D)","v":0},0]
[72,{"$f":"IF(ISERROR(VLOOKUP(A78,'ÜYE KAYIT LİSTESİ'!A:B,2,0)=TRUE),\"\",VLOOKUP(A78,'ÜYE KAYIT LİSTESİ'!A:B,2,0))","v":""},{"$f":"SUMIF('AİDAT GİRİŞİ'!$F:$F,\"=\"&(B78&TEXT($Q$7,\"aaa-yy\")),'AİDAT GİRİŞİ'!$D:$D)","v":0},{"$f":"SUMIF('AİDAT GİRİŞİ'!$F:$F,\"=\"&($B78&TEXT($R$7,\"aaa-yy\")),'AİDAT GİRİŞİ'!$D:$D)","v":0},{"$f":"SUMIF('AİDAT GİRİŞİ'!$F:$F,\"=\"&($B78&TEXT($S$7,\"aaa-yy\")),'AİDAT GİRİŞİ'!$D:$D)","v":0},{"$f":"SUMIF('AİDAT GİRİŞİ'!$F:$F,\"=\"&($B78&TEXT($T$7,\"aaa-yy\")),'AİDAT GİRİŞİ'!$D:$D)","v":0},{"$f":"SUMIF('AİDAT GİRİŞİ'!$F:$F,\"=\"&($B78&TEXT($U$7,\"aaa-yy\")),'AİDAT GİRİŞİ'!$D:$D)","v":0},{"$f":"SUMIF('AİDAT GİRİŞİ'!$F:$F,\"=\"&($B78&TEXT($V$7,\"aaa-yy\")),'AİDAT GİRİŞİ'!$D:$D)","v":0},{"$f":"SUMIF('AİDAT GİRİŞİ'!$F:$F,\"=\"&($B78&TEXT($W$7,\"aaa-yy\")),'AİDAT GİRİŞİ'!$D:$D)","v":0},{"$f":"SUMIF('AİDAT GİRİŞİ'!$F:$F,\"=\"&($B78&TEXT($X$7,\"aaa-yy\")),'AİDAT GİRİŞİ'!$D:$D)","v":0},{"$f":"SUMIF('AİDAT GİRİŞİ'!$F:$F,\"=\"&($B78&TEXT($Y$7,\"aaa-yy\")),'AİDAT GİRİŞİ'!$D:$D)","v":0},{"$f":"SUMIF('AİDAT GİRİŞİ'!$F:$F,\"=\"&($B78&TEXT($Z$7,\"aaa-yy\")),'AİDAT GİRİŞİ'!$D:$D)","v":0},{"$f":"SUMIF('AİDAT GİRİŞİ'!$F:$F,\"=\"&($B78&TEXT($AA$7,\"aaa-yy\")),'AİDAT GİRİŞİ'!$D:$D)","v":0},{"$f":"SUMIF('AİDAT GİRİŞİ'!$F:$F,\"=\"&($B78&TEXT($AB$7,\"aaa-yy\")),'AİDAT GİRİŞİ'!$D:$D)","v":0},0]
[73,{"$f":"IF(ISERROR(VLOOKUP(A79,'ÜYE KAYIT LİSTESİ'!A:B,2,0)=TRUE),\"\",VLOOKUP(A79,'ÜYE KAYIT LİSTESİ'!A:B,2,0))","v":""},{"$f":"SUMIF('AİDAT GİRİŞİ'!$F:$F,\"=\"&(B79&TEXT($Q$7,\"aaa-yy\")),'AİDAT GİRİŞİ'!$D:$D)","v":0},{"$f":"SUMIF('AİDAT GİRİŞİ'!$F:$F,\"=\"&($B79&TEXT($R$7,\"aaa-yy\")),'AİDAT GİRİŞİ'!$D:$D)","v":0},{"$f":"SUMIF('AİDAT GİRİŞİ'!$F:$F,\"=\"&($B79&TEXT($S$7,\"aaa-yy\")),'AİDAT GİRİŞİ'!$D:$D)","v":0},{"$f":"SUMIF('AİDAT GİRİŞİ'!$F:$F,\"=\"&($B79&TEXT($T$7,\"aaa-yy\")),'AİDAT GİRİŞİ'!$D:$D)","v":0},{"$f":"SUMIF('AİDAT GİRİŞİ'!$F:$F,\"=\"&($B79&TEXT($U$7,\"aaa-yy\")),'AİDAT GİRİŞİ'!$D:$D)","v":0},{"$f":"SUMIF('AİDAT GİRİŞİ'!$F:$F,\"=\"&($B79&TEXT($V$7,\"aaa-yy\")),'AİDAT GİRİŞİ'!$D:$D)","v":0},{"$f":"SUMIF('AİDAT GİRİŞİ'!$F:$F,\"=\"&($B79&TEXT($W$7,\"aaa-yy\")),'AİDAT GİRİŞİ'!$D:$D)","v":0},{"$f":"SUMIF('AİDAT GİRİŞİ'!$F:$F,\"=\"&($B79&TEXT($X$7,\"aaa-yy\")),'AİDAT GİRİŞİ'!$D:$D)","v":0},{"$f":"SUMIF('AİDAT GİRİŞİ'!$F:$F,\"=\"&($B79&TEXT($Y$7,\"aaa-yy\")),'AİDAT GİRİŞİ'!$D:$D)","v":0},{"$f":"SUMIF('AİDAT GİRİŞİ'!$F:$F,\"=\"&($B79&TEXT($Z$7,\"aaa-yy\")),'AİDAT GİRİŞİ'!$D:$D)","v":0},{"$f":"SUMIF('AİDAT GİRİŞİ'!$F:$F,\"=\"&($B79&TEXT($AA$7,\"aaa-yy\")),'AİDAT GİRİŞİ'!$D:$D)","v":0},{"$f":"SUMIF('AİDAT GİRİŞİ'!$F:$F,\"=\"&($B79&TEXT($AB$7,\"aaa-yy\")),'AİDAT GİRİŞİ'!$D:$D)","v":0},0]
[74,{"$f":"IF(ISERROR(VLOOKUP(A80,'ÜYE KAYIT LİSTESİ'!A:B,2,0)=TRUE),\"\",VLOOKUP(A80,'ÜYE KAYIT LİSTESİ'!A:B,2,0))","v":""},{"$f":"SUMIF('AİDAT GİRİŞİ'!$F:$F,\"=\"&(B80&TEXT($Q$7,\"aaa-yy\")),'AİDAT GİRİŞİ'!$D:$D)","v":0},{"$f":"SUMIF('AİDAT GİRİŞİ'!$F:$F,\"=\"&($B80&TEXT($R$7,\"aaa-yy\")),'AİDAT GİRİŞİ'!$D:$D)","v":0},{"$f":"SUMIF('AİDAT GİRİŞİ'!$F:$F,\"=\"&($B80&TEXT($S$7,\"aaa-yy\")),'AİDAT GİRİŞİ'!$D:$D)","v":0},{"$f":"SUMIF('AİDAT GİRİŞİ'!$F:$F,\"=\"&($B80&TEXT($T$7,\"aaa-yy\")),'AİDAT GİRİŞİ'!$D:$D)","v":0},{"$f":"SUMIF('AİDAT GİRİŞİ'!$F:$F,\"=\"&($B80&TEXT($U$7,\"aaa-yy\")),'AİDAT GİRİŞİ'!$D:$D)","v":0},{"$f":"SUMIF('AİDAT GİRİŞİ'!$F:$F,\"=\"&($B80&TEXT($V$7,\"aaa-yy\")),'AİDAT GİRİŞİ'!$D:$D)","v":0},{"$f":"SUMIF('AİDAT GİRİŞİ'!$F:$F,\"=\"&($B80&TEXT($W$7,\"aaa-yy\")),'AİDAT GİRİŞİ'!$D:$D)","v":0},{"$f":"SUMIF('AİDAT GİRİŞİ'!$F:$F,\"=\"&($B80&TEXT($X$7,\"aaa-yy\")),'AİDAT GİRİŞİ'!$D:$D)","v":0},{"$f":"SUMIF('AİDAT GİRİŞİ'!$F:$F,\"=\"&($B80&TEXT($Y$7,\"aaa-yy\")),'AİDAT GİRİŞİ'!$D:$D)","v":0},{"$f":"SUMIF('AİDAT GİRİŞİ'!$F:$F,\"=\"&($B80&TEXT($Z$7,\"aaa-yy\")),'AİDAT GİRİŞİ'!$D:$D)","v":0},{"$f":"SUMIF('AİDAT GİRİŞİ'!$F:$F,\"=\"&($B80&TEXT($AA$7,\"aaa-yy\")),'AİDAT GİRİŞİ'!$D:$D)","v":0},{"$f":"SUMIF('AİDAT GİRİŞİ'!$F:$F,\"=\"&($B80&TEXT($AB$7,\"aaa-yy\")),'AİDAT GİRİŞİ'!$D:$D)","v":0},0]
[75,{"$f":"IF(ISERROR(VLOOKUP(A81,'ÜYE KAYIT LİSTESİ'!A:B,2,0)=TRUE),\"\",VLOOKUP(A81,'ÜYE KAYIT LİSTESİ'!A:B,2,0))","v":""},{"$f":"SUMIF('AİDAT GİRİŞİ'!$F:$F,\"=\"&(B81&TEXT($Q$7,\"aaa-yy\")),'AİDAT GİRİŞİ'!$D:$D)","v":0},{"$f":"SUMIF('AİDAT GİRİŞİ'!$F:$F,\"=\"&($B81&TEXT($R$7,\"aaa-yy\")),'AİDAT GİRİŞİ'!$D:$D)","v":0},{"$f":"SUMIF('AİDAT GİRİŞİ'!$F:$F,\"=\"&($B81&TEXT($S$7,\"aaa-yy\")),'AİDAT GİRİŞİ'!$D:$D)","v":0},{"$f":"SUMIF('AİDAT GİRİŞİ'!$F:$F,\"=\"&($B81&TEXT($T$7,\"aaa-yy\")),'AİDAT GİRİŞİ'!$D:$D)","v":0},{"$f":"SUMIF('AİDAT GİRİŞİ'!$F:$F,\"=\"&($B81&TEXT($U$7,\"aaa-yy\")),'AİDAT GİRİŞİ'!$D:$D)","v":0},{"$f":"SUMIF('AİDAT GİRİŞİ'!$F:$F,\"=\"&($B81&TEXT($V$7,\"aaa-yy\")),'AİDAT GİRİŞİ'!$D:$D)","v":0},{"$f":"SUMIF('AİDAT GİRİŞİ'!$F:$F,\"=\"&($B81&TEXT($W$7,\"aaa-yy\")),'AİDAT GİRİŞİ'!$D:$D)","v":0},{"$f":"SUMIF('AİDAT GİRİŞİ'!$F:$F,\"=\"&($B81&TEXT($X$7,\"aaa-yy\")),'AİDAT GİRİŞİ'!$D:$D)","v":0},{"$f":"SUMIF('AİDAT GİRİŞİ'!$F:$F,\"=\"&($B81&TEXT($Y$7,\"aaa-yy\")),'AİDAT GİRİŞİ'!$D:$D)","v":0},{"$f":"SUMIF('AİDAT GİRİŞİ'!$F:$F,\"=\"&($B81&TEXT($Z$7,\"aaa-yy\")),'AİDAT GİRİŞİ'!$D:$D)","v":0},{"$f":"SUMIF('AİDAT GİRİŞİ'!$F:$F,\"=\"&($B81&TEXT($AA$7,\"aaa-yy\")),'AİDAT GİRİŞİ'!$D:$D)","v":0},{"$f":"SUMIF('AİDAT GİRİŞİ'!$F:$F,\"=\"&($B81&TEXT($AB$7,\"aaa-yy\")),'AİDAT GİRİŞİ'!$D:$D)","v":0},0]
[76,{"$f":"IF(ISERROR(VLOOKUP(A82,'ÜYE KAYIT LİSTESİ'!A:B,2,0)=TRUE),\"\",VLOOKUP(A82,'ÜYE KAYIT LİSTESİ'!A:B,2,0))","v":""},{"$f":"SUMIF('AİDAT GİRİŞİ'!$F:$F,\"=\"&(B82&TEXT($Q$7,\"aaa-yy\")),'AİDAT GİRİŞİ'!$D:$D)","v":0},{"$f":"SUMIF('AİDAT GİRİŞİ'!$F:$F,\"=\"&($B82&TEXT($R$7,\"aaa-yy\")),'AİDAT GİRİŞİ'!$D:$D)","v":0},{"$f":"SUMIF('AİDAT GİRİŞİ'!$F:$F,\"=\"&($B82&TEXT($S$7,\"aaa-yy\")),'AİDAT GİRİŞİ'!$D:$D)","v":0},{"$f":"SUMIF('AİDAT GİRİŞİ'!$F:$F,\"=\"&($B82&TEXT($T$7,\"aaa-yy\")),'AİDAT GİRİŞİ'!$D:$D)","v":0},{"$f":"SUMIF('AİDAT GİRİŞİ'!$F:$F,\"=\"&($B82&TEXT($U$7,\"aaa-yy\")),'AİDAT GİRİŞİ'!$D:$D)","v":0},{"$f":"SUMIF('AİDAT GİRİŞİ'!$F:$F,\"=\"&($B82&TEXT($V$7,\"aaa-yy\")),'AİDAT GİRİŞİ'!$D:$D)","v":0},{"$f":"SUMIF('AİDAT GİRİŞİ'!$F:$F,\"=\"&($B82&TEXT($W$7,\"aaa-yy\")),'AİDAT GİRİŞİ'!$D:$D)","v":0},{"$f":"SUMIF('AİDAT GİRİŞİ'!$F:$F,\"=\"&($B82&TEXT($X$7,\"aaa-yy\")),'AİDAT GİRİŞİ'!$D:$D)","v":0},{"$f":"SUMIF('AİDAT GİRİŞİ'!$F:$F,\"=\"&($B82&TEXT($Y$7,\"aaa-yy\")),'AİDAT GİRİŞİ'!$D:$D)","v":0},{"$f":"SUMIF('AİDAT GİRİŞİ'!$F:$F,\"=\"&($B82&TEXT($Z$7,\"aaa-yy\")),'AİDAT GİRİŞİ'!$D:$D)","v":0},{"$f":"SUMIF('AİDAT GİRİŞİ'!$F:$F,\"=\"&($B82&TEXT($AA$7,\"aaa-yy\")),'AİDAT GİRİŞİ'!$D:$D)","v":0},{"$f":"SUMIF('AİDAT GİRİŞİ'!$F:$F,\"=\"&($B82&TEXT($AB$7,\"aaa-yy\")),'AİDAT GİRİŞİ'!$D:$D)","v":0},0]
[77,{"$f":"IF(ISERROR(VLOOKUP(A83,'ÜYE KAYIT LİSTESİ'!A:B,2,0)=TRUE),\"\",VLOOKUP(A83,'ÜYE KAYIT LİSTESİ'!A:B,2,0))","v":""},{"$f":"SUMIF('AİDAT GİRİŞİ'!$F:$F,\"=\"&(B83&TEXT($Q$7,\"aaa-yy\")),'AİDAT GİRİŞİ'!$D:$D)","v":0},{"$f":"SUMIF('AİDAT GİRİŞİ'!$F:$F,\"=\"&($B83&TEXT($R$7,\"aaa-yy\")),'AİDAT GİRİŞİ'!$D:$D)","v":0},{"$f":"SUMIF('AİDAT GİRİŞİ'!$F:$F,\"=\"&($B83&TEXT($S$7,\"aaa-yy\")),'AİDAT GİRİŞİ'!$D:$D)","v":0},{"$f":"SUMIF('AİDAT GİRİŞİ'!$F:$F,\"=\"&($B83&TEXT($T$7,\"aaa-yy\")),'AİDAT GİRİŞİ'!$D:$D)","v":0},{"$f":"SUMIF('AİDAT GİRİŞİ'!$F:$F,\"=\"&($B83&TEXT($U$7,\"aaa-yy\")),'AİDAT GİRİŞİ'!$D:$D)","v":0},{"$f":"SUMIF('AİDAT GİRİŞİ'!$F:$F,\"=\"&($B83&TEXT($V$7,\"aaa-yy\")),'AİDAT GİRİŞİ'!$D:$D)","v":0},{"$f":"SUMIF('AİDAT GİRİŞİ'!$F:$F,\"=\"&($B83&TEXT($W$7,\"aaa-yy\")),'AİDAT GİRİŞİ'!$D:$D)","v":0},{"$f":"SUMIF('AİDAT GİRİŞİ'!$F:$F,\"=\"&($B83&TEXT($X$7,\"aaa-yy\")),'AİDAT GİRİŞİ'!$D:$D)","v":0},{"$f":"SUMIF('AİDAT GİRİŞİ'!$F:$F,\"=\"&($B83&TEXT($Y$7,\"aaa-yy\")),'AİDAT GİRİŞİ'!$D:$D)","v":0},{"$f":"SUMIF('AİDAT GİRİŞİ'!$F:$F,\"=\"&($B83&TEXT($Z$7,\"aaa-yy\")),'AİDAT GİRİŞİ'!$D:$D)","v":0},{"$f":"SUMIF('AİDAT GİRİŞİ'!$F:$F,\"=\"&($B83&TEXT($AA$7,\"aaa-yy\")),'AİDAT GİRİŞİ'!$D:$D)","v":0},{"$f":"SUMIF('AİDAT GİRİŞİ'!$F:$F,\"=\"&($B83&TEXT($AB$7,\"aaa-yy\")),'AİDAT GİRİŞİ'!$D:$D)","v":0},0]
[78,{"$f":"IF(ISERROR(VLOOKUP(A84,'ÜYE KAYIT LİSTESİ'!A:B,2,0)=TRUE),\"\",VLOOKUP(A84,'ÜYE KAYIT LİSTESİ'!A:B,2,0))","v":""},{"$f":"SUMIF('AİDAT GİRİŞİ'!$F:$F,\"=\"&(B84&TEXT($Q$7,\"aaa-yy\")),'AİDAT GİRİŞİ'!$D:$D)","v":0},{"$f":"SUMIF('AİDAT GİRİŞİ'!$F:$F,\"=\"&($B84&TEXT($R$7,\"aaa-yy\")),'AİDAT GİRİŞİ'!$D:$D)","v":0},{"$f":"SUMIF('AİDAT GİRİŞİ'!$F:$F,\"=\"&($B84&TEXT($S$7,\"aaa-yy\")),'AİDAT GİRİŞİ'!$D:$D)","v":0},{"$f":"SUMIF('AİDAT GİRİŞİ'!$F:$F,\"=\"&($B84&TEXT($T$7,\"aaa-yy\")),'AİDAT GİRİŞİ'!$D:$D)","v":0},{"$f":"SUMIF('AİDAT GİRİŞİ'!$F:$F,\"=\"&($B84&TEXT($U$7,\"aaa-yy\")),'AİDAT GİRİŞİ'!$D:$D)","v":0},{"$f":"SUMIF('AİDAT GİRİŞİ'!$F:$F,\"=\"&($B84&TEXT($V$7,\"aaa-yy\")),'AİDAT GİRİŞİ'!$D:$D)","v":0},{"$f":"SUMIF('AİDAT GİRİŞİ'!$F:$F,\"=\"&($B84&TEXT($W$7,\"aaa-yy\")),'AİDAT GİRİŞİ'!$D:$D)","v":0},{"$f":"SUMIF('AİDAT GİRİŞİ'!$F:$F,\"=\"&($B84&TEXT($X$7,\"aaa-yy\")),'AİDAT GİRİŞİ'!$D:$D)","v":0},{"$f":"SUMIF('AİDAT GİRİŞİ'!$F:$F,\"=\"&($B84&TEXT($Y$7,\"aaa-yy\")),'AİDAT GİRİŞİ'!$D:$D)","v":0},{"$f":"SUMIF('AİDAT GİRİŞİ'!$F:$F,\"=\"&($B84&TEXT($Z$7,\"aaa-yy\")),'AİDAT GİRİŞİ'!$D:$D)","v":0},{"$f":"SUMIF('AİDAT GİRİŞİ'!$F:$F,\"=\"&($B84&TEXT($AA$7,\"aaa-yy\")),'AİDAT GİRİŞİ'!$D:$D)","v":0},{"$f":"SUMIF('AİDAT GİRİŞİ'!$F:$F,\"=\"&($B84&TEXT($AB$7,\"aaa-yy\")),'AİDAT GİRİŞİ'!$D:$D)","v":0},0]
[79,{"$f":"IF(ISERROR(VLOOKUP(A85,'ÜYE KAYIT LİSTESİ'!A:B,2,0)=TRUE),\"\",VLOOKUP(A85,'ÜYE KAYIT LİSTESİ'!A:B,2,0))","v":""},{"$f":"SUMIF('AİDAT GİRİŞİ'!$F:$F,\"=\"&(B85&TEXT($Q$7,\"aaa-yy\")),'AİDAT GİRİŞİ'!$D:$D)","v":0},{"$f":"SUMIF('AİDAT GİRİŞİ'!$F:$F,\"=\"&($B85&TEXT($R$7,\"aaa-yy\")),'AİDAT GİRİŞİ'!$D:$D)","v":0},{"$f":"SUMIF('AİDAT GİRİŞİ'!$F:$F,\"=\"&($B85&TEXT($S$7,\"aaa-yy\")),'AİDAT GİRİŞİ'!$D:$D)","v":0},{"$f":"SUMIF('AİDAT GİRİŞİ'!$F:$F,\"=\"&($B85&TEXT($T$7,\"aaa-yy\")),'AİDAT GİRİŞİ'!$D:$D)","v":0},{"$f":"SUMIF('AİDAT GİRİŞİ'!$F:$F,\"=\"&($B85&TEXT($U$7,\"aaa-yy\")),'AİDAT GİRİŞİ'!$D:$D)","v":0},{"$f":"SUMIF('AİDAT GİRİŞİ'!$F:$F,\"=\"&($B85&TEXT($V$7,\"aaa-yy\")),'AİDAT GİRİŞİ'!$D:$D)","v":0},{"$f":"SUMIF('AİDAT GİRİŞİ'!$F:$F,\"=\"&($B85&TEXT($W$7,\"aaa-yy\")),'AİDAT GİRİŞİ'!$D:$D)","v":0},{"$f":"SUMIF('AİDAT GİRİŞİ'!$F:$F,\"=\"&($B85&TEXT($X$7,\"aaa-yy\")),'AİDAT GİRİŞİ'!$D:$D)","v":0},{"$f":"SUMIF('AİDAT GİRİŞİ'!$F:$F,\"=\"&($B85&TEXT($Y$7,\"aaa-yy\")),'AİDAT GİRİŞİ'!$D:$D)","v":0},{"$f":"SUMIF('AİDAT GİRİŞİ'!$F:$F,\"=\"&($B85&TEXT($Z$7,\"aaa-yy\")),'AİDAT GİRİŞİ'!$D:$D)","v":0},{"$f":"SUMIF('AİDAT GİRİŞİ'!$F:$F,\"=\"&($B85&TEXT($AA$7,\"aaa-yy\")),'AİDAT GİRİŞİ'!$D:$D)","v":0},{"$f":"SUMIF('AİDAT GİRİŞİ'!$F:$F,\"=\"&($B85&TEXT($AB$7,\"aaa-yy\")),'AİDAT GİRİŞİ'!$D:$D)","v":0},0]
[80,{"$f":"IF(ISERROR(VLOOKUP(A86,'ÜYE KAYIT LİSTESİ'!A:B,2,0)=TRUE),\"\",VLOOKUP(A86,'ÜYE KAYIT LİSTESİ'!A:B,2,0))","v":""},{"$f":"SUMIF('AİDAT GİRİŞİ'!$F:$F,\"=\"&(B86&TEXT($Q$7,\"aaa-yy\")),'AİDAT GİRİŞİ'!$D:$D)","v":0},{"$f":"SUMIF('AİDAT GİRİŞİ'!$F:$F,\"=\"&($B86&TEXT($R$7,\"aaa-yy\")),'AİDAT GİRİŞİ'!$D:$D)","v":0},{"$f":"SUMIF('AİDAT GİRİŞİ'!$F:$F,\"=\"&($B86&TEXT($S$7,\"aaa-yy\")),'AİDAT GİRİŞİ'!$D:$D)","v":0},{"$f":"SUMIF('AİDAT GİRİŞİ'!$F:$F,\"=\"&($B86&TEXT($T$7,\"aaa-yy\")),'AİDAT GİRİŞİ'!$D:$D)","v":0},{"$f":"SUMIF('AİDAT GİRİŞİ'!$F:$F,\"=\"&($B86&TEXT($U$7,\"aaa-yy\")),'AİDAT GİRİŞİ'!$D:$D)","v":0},{"$f":"SUMIF('AİDAT GİRİŞİ'!$F:$F,\"=\"&($B86&TEXT($V$7,\"aaa-yy\")),'AİDAT GİRİŞİ'!$D:$D)","v":0},{"$f":"SUMIF('AİDAT GİRİŞİ'!$F:$F,\"=\"&($B86&TEXT($W$7,\"aaa-yy\")),'AİDAT GİRİŞİ'!$D:$D)","v":0},{"$f":"SUMIF('AİDAT GİRİŞİ'!$F:$F,\"=\"&($B86&TEXT($X$7,\"aaa-yy\")),'AİDAT GİRİŞİ'!$D:$D)","v":0},{"$f":"SUMIF('AİDAT GİRİŞİ'!$F:$F,\"=\"&($B86&TEXT($Y$7,\"aaa-yy\")),'AİDAT GİRİŞİ'!$D:$D)","v":0},{"$f":"SUMIF('AİDAT GİRİŞİ'!$F:$F,\"=\"&($B86&TEXT($Z$7,\"aaa-yy\")),'AİDAT GİRİŞİ'!$D:$D)","v":0},{"$f":"SUMIF('AİDAT GİRİŞİ'!$F:$F,\"=\"&($B86&TEXT($AA$7,\"aaa-yy\")),'AİDAT GİRİŞİ'!$D:$D)","v":0},{"$f":"SUMIF('AİDAT GİRİŞİ'!$F:$F,\"=\"&($B86&TEXT($AB$7,\"aaa-yy\")),'AİDAT GİRİŞİ'!$D:$D)","v":0},0]
[81,{"$f":"IF(ISERROR(VLOOKUP(A87,'ÜYE KAYIT LİSTESİ'!A:B,2,0)=TRUE),\"\",VLOOKUP(A87,'ÜYE KAYIT LİSTESİ'!A:B,2,0))","v":""},{"$f":"SUMIF('AİDAT GİRİŞİ'!$F:$F,\"=\"&(B87&TEXT($Q$7,\"aaa-yy\")),'AİDAT GİRİŞİ'!$D:$D)","v":0},{"$f":"SUMIF('AİDAT GİRİŞİ'!$F:$F,\"=\"&($B87&TEXT($R$7,\"aaa-yy\")),'AİDAT GİRİŞİ'!$D:$D)","v":0},{"$f":"SUMIF('AİDAT GİRİŞİ'!$F:$F,\"=\"&($B87&TEXT($S$7,\"aaa-yy\")),'AİDAT GİRİŞİ'!$D:$D)","v":0},{"$f":"SUMIF('AİDAT GİRİŞİ'!$F:$F,\"=\"&($B87&TEXT($T$7,\"aaa-yy\")),'AİDAT GİRİŞİ'!$D:$D)","v":0},{"$f":"SUMIF('AİDAT GİRİŞİ'!$F:$F,\"=\"&($B87&TEXT($U$7,\"aaa-yy\")),'AİDAT GİRİŞİ'!$D:$D)","v":0},{"$f":"SUMIF('AİDAT GİRİŞİ'!$F:$F,\"=\"&($B87&TEXT($V$7,\"aaa-yy\")),'AİDAT GİRİŞİ'!$D:$D)","v":0},{"$f":"SUMIF('AİDAT GİRİŞİ'!$F:$F,\"=\"&($B87&TEXT($W$7,\"aaa-yy\")),'AİDAT GİRİŞİ'!$D:$D)","v":0},{"$f":"SUMIF('AİDAT GİRİŞİ'!$F:$F,\"=\"&($B87&TEXT($X$7,\"aaa-yy\")),'AİDAT GİRİŞİ'!$D:$D)","v":0},{"$f":"SUMIF('AİDAT GİRİŞİ'!$F:$F,\"=\"&($B87&TEXT($Y$7,\"aaa-yy\")),'AİDAT GİRİŞİ'!$D:$D)","v":0},{"$f":"SUMIF('AİDAT GİRİŞİ'!$F:$F,\"=\"&($B87&TEXT($Z$7,\"aaa-yy\")),'AİDAT GİRİŞİ'!$D:$D)","v":0},{"$f":"SUMIF('AİDAT GİRİŞİ'!$F:$F,\"=\"&($B87&TEXT($AA$7,\"aaa-yy\")),'AİDAT GİRİŞİ'!$D:$D)","v":0},{"$f":"SUMIF('AİDAT GİRİŞİ'!$F:$F,\"=\"&($B87&TEXT($AB$7,\"aaa-yy\")),'AİDAT GİRİŞİ'!$D:$D)","v":0},0]
[82,{"$f":"IF(ISERROR(VLOOKUP(A88,'ÜYE KAYIT LİSTESİ'!A:B,2,0)=TRUE),\"\",VLOOKUP(A88,'ÜYE KAYIT LİSTESİ'!A:B,2,0))","v":""},{"$f":"SUMIF('AİDAT GİRİŞİ'!$F:$F,\"=\"&(B88&TEXT($Q$7,\"aaa-yy\")),'AİDAT GİRİŞİ'!$D:$D)","v":0},{"$f":"SUMIF('AİDAT GİRİŞİ'!$F:$F,\"=\"&($B88&TEXT($R$7,\"aaa-yy\")),'AİDAT GİRİŞİ'!$D:$D)","v":0},{"$f":"SUMIF('AİDAT GİRİŞİ'!$F:$F,\"=\"&($B88&TEXT($S$7,\"aaa-yy\")),'AİDAT GİRİŞİ'!$D:$D)","v":0},{"$f":"SUMIF('AİDAT GİRİŞİ'!$F:$F,\"=\"&($B88&TEXT($T$7,\"aaa-yy\")),'AİDAT GİRİŞİ'!$D:$D)","v":0},{"$f":"SUMIF('AİDAT GİRİŞİ'!$F:$F,\"=\"&($B88&TEXT($U$7,\"aaa-yy\")),'AİDAT GİRİŞİ'!$D:$D)","v":0},{"$f":"SUMIF('AİDAT GİRİŞİ'!$F:$F,\"=\"&($B88&TEXT($V$7,\"aaa-yy\")),'AİDAT GİRİŞİ'!$D:$D)","v":0},{"$f":"SUMIF('AİDAT GİRİŞİ'!$F:$F,\"=\"&($B88&TEXT($W$7,\"aaa-yy\")),'AİDAT GİRİŞİ'!$D:$D)","v":0},{"$f":"SUMIF('AİDAT GİRİŞİ'!$F:$F,\"=\"&($B88&TEXT($X$7,\"aaa-yy\")),'AİDAT GİRİŞİ'!$D:$D)","v":0},{"$f":"SUMIF('AİDAT GİRİŞİ'!$F:$F,\"=\"&($B88&TEXT($Y$7,\"aaa-yy\")),'AİDAT GİRİŞİ'!$D:$D)","v":0},{"$f":"SUMIF('AİDAT GİRİŞİ'!$F:$F,\"=\"&($B88&TEXT($Z$7,\"aaa-yy\")),'AİDAT GİRİŞİ'!$D:$D)","v":0},{"$f":"SUMIF('AİDAT GİRİŞİ'!$F:$F,\"=\"&($B88&TEXT($AA$7,\"aaa-yy\")),'AİDAT GİRİŞİ'!$D:$D)","v":0},{"$f":"SUMIF('AİDAT GİRİŞİ'!$F:$F,\"=\"&($B88&TEXT($AB$7,\"aaa-yy\")),'AİDAT GİRİŞİ'!$D:$D)","v":0},0]
[83,{"$f":"IF(ISERROR(VLOOKUP(A89,'ÜYE KAYIT LİSTESİ'!A:B,2,0)=TRUE),\"\",VLOOKUP(A89,'ÜYE KAYIT LİSTESİ'!A:B,2,0))","v":""},{"$f":"SUMIF('AİDAT GİRİŞİ'!$F:$F,\"=\"&(B89&TEXT($Q$7,\"aaa-yy\")),'AİDAT GİRİŞİ'!$D:$D)","v":0},{"$f":"SUMIF('AİDAT GİRİŞİ'!$F:$F,\"=\"&($B89&TEXT($R$7,\"aaa-yy\")),'AİDAT GİRİŞİ'!$D:$D)","v":0},{"$f":"SUMIF('AİDAT GİRİŞİ'!$F:$F,\"=\"&($B89&TEXT($S$7,\"aaa-yy\")),'AİDAT GİRİŞİ'!$D:$D)","v":0},{"$f":"SUMIF('AİDAT GİRİŞİ'!$F:$F,\"=\"&($B89&TEXT($T$7,\"aaa-yy\")),'AİDAT GİRİŞİ'!$D:$D)","v":0},{"$f":"SUMIF('AİDAT GİRİŞİ'!$F:$F,\"=\"&($B89&TEXT($U$7,\"aaa-yy\")),'AİDAT GİRİŞİ'!$D:$D)","v":0},{"$f":"SUMIF('AİDAT GİRİŞİ'!$F:$F,\"=\"&($B89&TEXT($V$7,\"aaa-yy\")),'AİDAT GİRİŞİ'!$D:$D)","v":0},{"$f":"SUMIF('AİDAT GİRİŞİ'!$F:$F,\"=\"&($B89&TEXT($W$7,\"aaa-yy\")),'AİDAT GİRİŞİ'!$D:$D)","v":0},{"$f":"SUMIF('AİDAT GİRİŞİ'!$F:$F,\"=\"&($B89&TEXT($X$7,\"aaa-yy\")),'AİDAT GİRİŞİ'!$D:$D)","v":0},{"$f":"SUMIF('AİDAT GİRİŞİ'!$F:$F,\"=\"&($B89&TEXT($Y$7,\"aaa-yy\")),'AİDAT GİRİŞİ'!$D:$D)","v":0},{"$f":"SUMIF('AİDAT GİRİŞİ'!$F:$F,\"=\"&($B89&TEXT($Z$7,\"aaa-yy\")),'AİDAT GİRİŞİ'!$D:$D)","v":0},{"$f":"SUMIF('AİDAT GİRİŞİ'!$F:$F,\"=\"&($B89&TEXT($AA$7,\"aaa-yy\")),'AİDAT GİRİŞİ'!$D:$D)","v":0},{"$f":"SUMIF('AİDAT GİRİŞİ'!$F:$F,\"=\"&($B89&TEXT($AB$7,\"aaa-yy\")),'AİDAT GİRİŞİ'!$D:$D)","v":0},0]
[84,{"$f":"IF(ISERROR(VLOOKUP(A90,'ÜYE KAYIT LİSTESİ'!A:B,2,0)=TRUE),\"\",VLOOKUP(A90,'ÜYE KAYIT LİSTESİ'!A:B,2,0))","v":""},{"$f":"SUMIF('AİDAT GİRİŞİ'!$F:$F,\"=\"&(B90&TEXT($Q$7,\"aaa-yy\")),'AİDAT GİRİŞİ'!$D:$D)","v":0},{"$f":"SUMIF('AİDAT GİRİŞİ'!$F:$F,\"=\"&($B90&TEXT($R$7,\"aaa-yy\")),'AİDAT GİRİŞİ'!$D:$D)","v":0},{"$f":"SUMIF('AİDAT GİRİŞİ'!$F:$F,\"=\"&($B90&TEXT($S$7,\"aaa-yy\")),'AİDAT GİRİŞİ'!$D:$D)","v":0},{"$f":"SUMIF('AİDAT GİRİŞİ'!$F:$F,\"=\"&($B90&TEXT($T$7,\"aaa-yy\")),'AİDAT GİRİŞİ'!$D:$D)","v":0},{"$f":"SUMIF('AİDAT GİRİŞİ'!$F:$F,\"=\"&($B90&TEXT($U$7,\"aaa-yy\")),'AİDAT GİRİŞİ'!$D:$D)","v":0},{"$f":"SUMIF('AİDAT GİRİŞİ'!$F:$F,\"=\"&($B90&TEXT($V$7,\"aaa-yy\")),'AİDAT GİRİŞİ'!$D:$D)","v":0},{"$f":"SUMIF('AİDAT GİRİŞİ'!$F:$F,\"=\"&($B90&TEXT($W$7,\"aaa-yy\")),'AİDAT GİRİŞİ'!$D:$D)","v":0},{"$f":"SUMIF('AİDAT GİRİŞİ'!$F:$F,\"=\"&($B90&TEXT($X$7,\"aaa-yy\")),'AİDAT GİRİŞİ'!$D:$D)","v":0},{"$f":"SUMIF('AİDAT GİRİŞİ'!$F:$F,\"=\"&($B90&TEXT($Y$7,\"aaa-yy\")),'AİDAT GİRİŞİ'!$D:$D)","v":0},{"$f":"SUMIF('AİDAT GİRİŞİ'!$F:$F,\"=\"&($B90&TEXT($Z$7,\"aaa-yy\")),'AİDAT GİRİŞİ'!$D:$D)","v":0},{"$f":"SUMIF('AİDAT GİRİŞİ'!$F:$F,\"=\"&($B90&TEXT($AA$7,\"aaa-yy\")),'AİDAT GİRİŞİ'!$D:$D)","v":0},{"$f":"SUMIF('AİDAT GİRİŞİ'!$F:$F,\"=\"&($B90&TEXT($AB$7,\"aaa-yy\")),'AİDAT GİRİŞİ'!$D:$D)","v":0},0]
[85,{"$f":"IF(ISERROR(VLOOKUP(A91,'ÜYE KAYIT LİSTESİ'!A:B,2,0)=TRUE),\"\",VLOOKUP(A91,'ÜYE KAYIT LİSTESİ'!A:B,2,0))","v":""},{"$f":"SUMIF('AİDAT GİRİŞİ'!$F:$F,\"=\"&(B91&TEXT($Q$7,\"aaa-yy\")),'AİDAT GİRİŞİ'!$D:$D)","v":0},{"$f":"SUMIF('AİDAT GİRİŞİ'!$F:$F,\"=\"&($B91&TEXT($R$7,\"aaa-yy\")),'AİDAT GİRİŞİ'!$D:$D)","v":0},{"$f":"SUMIF('AİDAT GİRİŞİ'!$F:$F,\"=\"&($B91&TEXT($S$7,\"aaa-yy\")),'AİDAT GİRİŞİ'!$D:$D)","v":0},{"$f":"SUMIF('AİDAT GİRİŞİ'!$F:$F,\"=\"&($B91&TEXT($T$7,\"aaa-yy\")),'AİDAT GİRİŞİ'!$D:$D)","v":0},{"$f":"SUMIF('AİDAT GİRİŞİ'!$F:$F,\"=\"&($B91&TEXT($U$7,\"aaa-yy\")),'AİDAT GİRİŞİ'!$D:$D)","v":0},{"$f":"SUMIF('AİDAT GİRİŞİ'!$F:$F,\"=\"&($B91&TEXT($V$7,\"aaa-yy\")),'AİDAT GİRİŞİ'!$D:$D)","v":0},{"$f":"SUMIF('AİDAT GİRİŞİ'!$F:$F,\"=\"&($B91&TEXT($W$7,\"aaa-yy\")),'AİDAT GİRİŞİ'!$D:$D)","v":0},{"$f":"SUMIF('AİDAT GİRİŞİ'!$F:$F,\"=\"&($B91&TEXT($X$7,\"aaa-yy\")),'AİDAT GİRİŞİ'!$D:$D)","v":0},{"$f":"SUMIF('AİDAT GİRİŞİ'!$F:$F,\"=\"&($B91&TEXT($Y$7,\"aaa-yy\")),'AİDAT GİRİŞİ'!$D:$D)","v":0},{"$f":"SUMIF('AİDAT GİRİŞİ'!$F:$F,\"=\"&($B91&TEXT($Z$7,\"aaa-yy\")),'AİDAT GİRİŞİ'!$D:$D)","v":0},{"$f":"SUMIF('AİDAT GİRİŞİ'!$F:$F,\"=\"&($B91&TEXT($AA$7,\"aaa-yy\")),'AİDAT GİRİŞİ'!$D:$D)","v":0},{"$f":"SUMIF('AİDAT GİRİŞİ'!$F:$F,\"=\"&($B91&TEXT($AB$7,\"aaa-yy\")),'AİDAT GİRİŞİ'!$D:$D)","v":0},0]
[86,{"$f":"IF(ISERROR(VLOOKUP(A92,'ÜYE KAYIT LİSTESİ'!A:B,2,0)=TRUE),\"\",VLOOKUP(A92,'ÜYE KAYIT LİSTESİ'!A:B,2,0))","v":""},{"$f":"SUMIF('AİDAT GİRİŞİ'!$F:$F,\"=\"&(B92&TEXT($Q$7,\"aaa-yy\")),'AİDAT GİRİŞİ'!$D:$D)","v":0},{"$f":"SUMIF('AİDAT GİRİŞİ'!$F:$F,\"=\"&($B92&TEXT($R$7,\"aaa-yy\")),'AİDAT GİRİŞİ'!$D:$D)","v":0},{"$f":"SUMIF('AİDAT GİRİŞİ'!$F:$F,\"=\"&($B92&TEXT($S$7,\"aaa-yy\")),'AİDAT GİRİŞİ'!$D:$D)","v":0},{"$f":"SUMIF('AİDAT GİRİŞİ'!$F:$F,\"=\"&($B92&TEXT($T$7,\"aaa-yy\")),'AİDAT GİRİŞİ'!$D:$D)","v":0},{"$f":"SUMIF('AİDAT GİRİŞİ'!$F:$F,\"=\"&($B92&TEXT($U$7,\"aaa-yy\")),'AİDAT GİRİŞİ'!$D:$D)","v":0},{"$f":"SUMIF('AİDAT GİRİŞİ'!$F:$F,\"=\"&($B92&TEXT($V$7,\"aaa-yy\")),'AİDAT GİRİŞİ'!$D:$D)","v":0},{"$f":"SUMIF('AİDAT GİRİŞİ'!$F:$F,\"=\"&($B92&TEXT($W$7,\"aaa-yy\")),'AİDAT GİRİŞİ'!$D:$D)","v":0},{"$f":"SUMIF('AİDAT GİRİŞİ'!$F:$F,\"=\"&($B92&TEXT($X$7,\"aaa-yy\")),'AİDAT GİRİŞİ'!$D:$D)","v":0},{"$f":"SUMIF('AİDAT GİRİŞİ'!$F:$F,\"=\"&($B92&TEXT($Y$7,\"aaa-yy\")),'AİDAT GİRİŞİ'!$D:$D)","v":0},{"$f":"SUMIF('AİDAT GİRİŞİ'!$F:$F,\"=\"&($B92&TEXT($Z$7,\"aaa-yy\")),'AİDAT GİRİŞİ'!$D:$D)","v":0},{"$f":"SUMIF('AİDAT GİRİŞİ'!$F:$F,\"=\"&($B92&TEXT($AA$7,\"aaa-yy\")),'AİDAT GİRİŞİ'!$D:$D)","v":0},{"$f":"SUMIF('AİDAT GİRİŞİ'!$F:$F,\"=\"&($B92&TEXT($AB$7,\"aaa-yy\")),'AİDAT GİRİŞİ'!$D:$D)","v":0},0]
[87,{"$f":"IF(ISERROR(VLOOKUP(A93,'ÜYE KAYIT LİSTESİ'!A:B,2,0)=TRUE),\"\",VLOOKUP(A93,'ÜYE KAYIT LİSTESİ'!A:B,2,0))","v":""},{"$f":"SUMIF('AİDAT GİRİŞİ'!$F:$F,\"=\"&(B93&TEXT($Q$7,\"aaa-yy\")),'AİDAT GİRİŞİ'!$D:$D)","v":0},{"$f":"SUMIF('AİDAT GİRİŞİ'!$F:$F,\"=\"&($B93&TEXT($R$7,\"aaa-yy\")),'AİDAT GİRİŞİ'!$D:$D)","v":0},{"$f":"SUMIF('AİDAT GİRİŞİ'!$F:$F,\"=\"&($B93&TEXT($S$7,\"aaa-yy\")),'AİDAT GİRİŞİ'!$D:$D)","v":0},{"$f":"SUMIF('AİDAT GİRİŞİ'!$F:$F,\"=\"&($B93&TEXT($T$7,\"aaa-yy\")),'AİDAT GİRİŞİ'!$D:$D)","v":0},{"$f":"SUMIF('AİDAT GİRİŞİ'!$F:$F,\"=\"&($B93&TEXT($U$7,\"aaa-yy\")),'AİDAT GİRİŞİ'!$D:$D)","v":0},{"$f":"SUMIF('AİDAT GİRİŞİ'!$F:$F,\"=\"&($B93&TEXT($V$7,\"aaa-yy\")),'AİDAT GİRİŞİ'!$D:$D)","v":0},{"$f":"SUMIF('AİDAT GİRİŞİ'!$F:$F,\"=\"&($B93&TEXT($W$7,\"aaa-yy\")),'AİDAT GİRİŞİ'!$D:$D)","v":0},{"$f":"SUMIF('AİDAT GİRİŞİ'!$F:$F,\"=\"&($B93&TEXT($X$7,\"aaa-yy\")),'AİDAT GİRİŞİ'!$D:$D)","v":0},{"$f":"SUMIF('AİDAT GİRİŞİ'!$F:$F,\"=\"&($B93&TEXT($Y$7,\"aaa-yy\")),'AİDAT GİRİŞİ'!$D:$D)","v":0},{"$f":"SUMIF('AİDAT GİRİŞİ'!$F:$F,\"=\"&($B93&TEXT($Z$7,\"aaa-yy\")),'AİDAT GİRİŞİ'!$D:$D)","v":0},{"$f":"SUMIF('AİDAT GİRİŞİ'!$F:$F,\"=\"&($B93&TEXT($AA$7,\"aaa-yy\")),'AİDAT GİRİŞİ'!$D:$D)","v":0},{"$f":"SUMIF('AİDAT GİRİŞİ'!$F:$F,\"=\"&($B93&TEXT($AB$7,\"aaa-yy\")),'AİDAT GİRİŞİ'!$D:$D)","v":0},0]
[88,{"$f":"IF(ISERROR(VLOOKUP(A94,'ÜYE KAYIT LİSTESİ'!A:B,2,0)=TRUE),\"\",VLOOKUP(A94,'ÜYE KAYIT LİSTESİ'!A:B,2,0))","v":""},{"$f":"SUMIF('AİDAT GİRİŞİ'!$F:$F,\"=\"&(B94&TEXT($Q$7,\"aaa-yy\")),'AİDAT GİRİŞİ'!$D:$D)","v":0},{"$f":"SUMIF('AİDAT GİRİŞİ'!$F:$F,\"=\"&($B94&TEXT($R$7,\"aaa-yy\")),'AİDAT GİRİŞİ'!$D:$D)","v":0},{"$f":"SUMIF('AİDAT GİRİŞİ'!$F:$F,\"=\"&($B94&TEXT($S$7,\"aaa-yy\")),'AİDAT GİRİŞİ'!$D:$D)","v":0},{"$f":"SUMIF('AİDAT GİRİŞİ'!$F:$F,\"=\"&($B94&TEXT($T$7,\"aaa-yy\")),'AİDAT GİRİŞİ'!$D:$D)","v":0},{"$f":"SUMIF('AİDAT GİRİŞİ'!$F:$F,\"=\"&($B94&TEXT($U$7,\"aaa-yy\")),'AİDAT GİRİŞİ'!$D:$D)","v":0},{"$f":"SUMIF('AİDAT GİRİŞİ'!$F:$F,\"=\"&($B94&TEXT($V$7,\"aaa-yy\")),'AİDAT GİRİŞİ'!$D:$D)","v":0},{"$f":"SUMIF('AİDAT GİRİŞİ'!$F:$F,\"=\"&($B94&TEXT($W$7,\"aaa-yy\")),'AİDAT GİRİŞİ'!$D:$D)","v":0},{"$f":"SUMIF('AİDAT GİRİŞİ'!$F:$F,\"=\"&($B94&TEXT($X$7,\"aaa-yy\")),'AİDAT GİRİŞİ'!$D:$D)","v":0},{"$f":"SUMIF('AİDAT GİRİŞİ'!$F:$F,\"=\"&($B94&TEXT($Y$7,\"aaa-yy\")),'AİDAT GİRİŞİ'!$D:$D)","v":0},{"$f":"SUMIF('AİDAT GİRİŞİ'!$F:$F,\"=\"&($B94&TEXT($Z$7,\"aaa-yy\")),'AİDAT GİRİŞİ'!$D:$D)","v":0},{"$f":"SUMIF('AİDAT GİRİŞİ'!$F:$F,\"=\"&($B94&TEXT($AA$7,\"aaa-yy\")),'AİDAT GİRİŞİ'!$D:$D)","v":0},{"$f":"SUMIF('AİDAT GİRİŞİ'!$F:$F,\"=\"&($B94&TEXT($AB$7,\"aaa-yy\")),'AİDAT GİRİŞİ'!$D:$D)","v":0},0]
[89,{"$f":"IF(ISERROR(VLOOKUP(A95,'ÜYE KAYIT LİSTESİ'!A:B,2,0)=TRUE),\"\",VLOOKUP(A95,'ÜYE KAYIT LİSTESİ'!A:B,2,0))","v":""},{"$f":"SUMIF('AİDAT GİRİŞİ'!$F:$F,\"=\"&(B95&TEXT($Q$7,\"aaa-yy\")),'AİDAT GİRİŞİ'!$D:$D)","v":0},{"$f":"SUMIF('AİDAT GİRİŞİ'!$F:$F,\"=\"&($B95&TEXT($R$7,\"aaa-yy\")),'AİDAT GİRİŞİ'!$D:$D)","v":0},{"$f":"SUMIF('AİDAT GİRİŞİ'!$F:$F,\"=\"&($B95&TEXT($S$7,\"aaa-yy\")),'AİDAT GİRİŞİ'!$D:$D)","v":0},{"$f":"SUMIF('AİDAT GİRİŞİ'!$F:$F,\"=\"&($B95&TEXT($T$7,\"aaa-yy\")),'AİDAT GİRİŞİ'!$D:$D)","v":0},{"$f":"SUMIF('AİDAT GİRİŞİ'!$F:$F,\"=\"&($B95&TEXT($U$7,\"aaa-yy\")),'AİDAT GİRİŞİ'!$D:$D)","v":0},{"$f":"SUMIF('AİDAT GİRİŞİ'!$F:$F,\"=\"&($B95&TEXT($V$7,\"aaa-yy\")),'AİDAT GİRİŞİ'!$D:$D)","v":0},{"$f":"SUMIF('AİDAT GİRİŞİ'!$F:$F,\"=\"&($B95&TEXT($W$7,\"aaa-yy\")),'AİDAT GİRİŞİ'!$D:$D)","v":0},{"$f":"SUMIF('AİDAT GİRİŞİ'!$F:$F,\"=\"&($B95&TEXT($X$7,\"aaa-yy\")),'AİDAT GİRİŞİ'!$D:$D)","v":0},{"$f":"SUMIF('AİDAT GİRİŞİ'!$F:$F,\"=\"&($B95&TEXT($Y$7,\"aaa-yy\")),'AİDAT GİRİŞİ'!$D:$D)","v":0},{"$f":"SUMIF('AİDAT GİRİŞİ'!$F:$F,\"=\"&($B95&TEXT($Z$7,\"aaa-yy\")),'AİDAT GİRİŞİ'!$D:$D)","v":0},{"$f":"SUMIF('AİDAT GİRİŞİ'!$F:$F,\"=\"&($B95&TEXT($AA$7,\"aaa-yy\")),'AİDAT GİRİŞİ'!$D:$D)","v":0},{"$f":"SUMIF('AİDAT GİRİŞİ'!$F:$F,\"=\"&($B95&TEXT($AB$7,\"aaa-yy\")),'AİDAT GİRİŞİ'!$D:$D)","v":0},0]
[90,{"$f":"IF(ISERROR(VLOOKUP(A96,'ÜYE KAYIT LİSTESİ'!A:B,2,0)=TRUE),\"\",VLOOKUP(A96,'ÜYE KAYIT LİSTESİ'!A:B,2,0))","v":""},{"$f":"SUMIF('AİDAT GİRİŞİ'!$F:$F,\"=\"&(B96&TEXT($Q$7,\"aaa-yy\")),'AİDAT GİRİŞİ'!$D:$D)","v":0},{"$f":"SUMIF('AİDAT GİRİŞİ'!$F:$F,\"=\"&($B96&TEXT($R$7,\"aaa-yy\")),'AİDAT GİRİŞİ'!$D:$D)","v":0},{"$f":"SUMIF('AİDAT GİRİŞİ'!$F:$F,\"=\"&($B96&TEXT($S$7,\"aaa-yy\")),'AİDAT GİRİŞİ'!$D:$D)","v":0},{"$f":"SUMIF('AİDAT GİRİŞİ'!$F:$F,\"=\"&($B96&TEXT($T$7,\"aaa-yy\")),'AİDAT GİRİŞİ'!$D:$D)","v":0},{"$f":"SUMIF('AİDAT GİRİŞİ'!$F:$F,\"=\"&($B96&TEXT($U$7,\"aaa-yy\")),'AİDAT GİRİŞİ'!$D:$D)","v":0},{"$f":"SUMIF('AİDAT GİRİŞİ'!$F:$F,\"=\"&($B96&TEXT($V$7,\"aaa-yy\")),'AİDAT GİRİŞİ'!$D:$D)","v":0},{"$f":"SUMIF('AİDAT GİRİŞİ'!$F:$F,\"=\"&($B96&TEXT($W$7,\"aaa-yy\")),'AİDAT GİRİŞİ'!$D:$D)","v":0},{"$f":"SUMIF('AİDAT GİRİŞİ'!$F:$F,\"=\"&($B96&TEXT($X$7,\"aaa-yy\")),'AİDAT GİRİŞİ'!$D:$D)","v":0},{"$f":"SUMIF('AİDAT GİRİŞİ'!$F:$F,\"=\"&($B96&TEXT($Y$7,\"aaa-yy\")),'AİDAT GİRİŞİ'!$D:$D)","v":0},{"$f":"SUMIF('AİDAT GİRİŞİ'!$F:$F,\"=\"&($B96&TEXT($Z$7,\"aaa-yy\")),'AİDAT GİRİŞİ'!$D:$D)","v":0},{"$f":"SUMIF('AİDAT GİRİŞİ'!$F:$F,\"=\"&($B96&TEXT($AA$7,\"aaa-yy\")),'AİDAT GİRİŞİ'!$D:$D)","v":0},{"$f":"SUMIF('AİDAT GİRİŞİ'!$F:$F,\"=\"&($B96&TEXT($AB$7,\"aaa-yy\")),'AİDAT GİRİŞİ'!$D:$D)","v":0},0]
[91,{"$f":"IF(ISERROR(VLOOKUP(A97,'ÜYE KAYIT LİSTESİ'!A:B,2,0)=TRUE),\"\",VLOOKUP(A97,'ÜYE KAYIT LİSTESİ'!A:B,2,0))","v":""},{"$f":"SUMIF('AİDAT GİRİŞİ'!$F:$F,\"=\"&(B97&TEXT($Q$7,\"aaa-yy\")),'AİDAT GİRİŞİ'!$D:$D)","v":0},{"$f":"SUMIF('AİDAT GİRİŞİ'!$F:$F,\"=\"&($B97&TEXT($R$7,\"aaa-yy\")),'AİDAT GİRİŞİ'!$D:$D)","v":0},{"$f":"SUMIF('AİDAT GİRİŞİ'!$F:$F,\"=\"&($B97&TEXT($S$7,\"aaa-yy\")),'AİDAT GİRİŞİ'!$D:$D)","v":0},{"$f":"SUMIF('AİDAT GİRİŞİ'!$F:$F,\"=\"&($B97&TEXT($T$7,\"aaa-yy\")),'AİDAT GİRİŞİ'!$D:$D)","v":0},{"$f":"SUMIF('AİDAT GİRİŞİ'!$F:$F,\"=\"&($B97&TEXT($U$7,\"aaa-yy\")),'AİDAT GİRİŞİ'!$D:$D)","v":0},{"$f":"SUMIF('AİDAT GİRİŞİ'!$F:$F,\"=\"&($B97&TEXT($V$7,\"aaa-yy\")),'AİDAT GİRİŞİ'!$D:$D)","v":0},{"$f":"SUMIF('AİDAT GİRİŞİ'!$F:$F,\"=\"&($B97&TEXT($W$7,\"aaa-yy\")),'AİDAT GİRİŞİ'!$D:$D)","v":0},{"$f":"SUMIF('AİDAT GİRİŞİ'!$F:$F,\"=\"&($B97&TEXT($X$7,\"aaa-yy\")),'AİDAT GİRİŞİ'!$D:$D)","v":0},{"$f":"SUMIF('AİDAT GİRİŞİ'!$F:$F,\"=\"&($B97&TEXT($Y$7,\"aaa-yy\")),'AİDAT GİRİŞİ'!$D:$D)","v":0},{"$f":"SUMIF('AİDAT GİRİŞİ'!$F:$F,\"=\"&($B97&TEXT($Z$7,\"aaa-yy\")),'AİDAT GİRİŞİ'!$D:$D)","v":0},{"$f":"SUMIF('AİDAT GİRİŞİ'!$F:$F,\"=\"&($B97&TEXT($AA$7,\"aaa-yy\")),'AİDAT GİRİŞİ'!$D:$D)","v":0},{"$f":"SUMIF('AİDAT GİRİŞİ'!$F:$F,\"=\"&($B97&TEXT($AB$7,\"aaa-yy\")),'AİDAT GİRİŞİ'!$D:$D)","v":0},0]
[92,{"$f":"IF(ISERROR(VLOOKUP(A98,'ÜYE KAYIT LİSTESİ'!A:B,2,0)=TRUE),\"\",VLOOKUP(A98,'ÜYE KAYIT LİSTESİ'!A:B,2,0))","v":""},{"$f":"SUMIF('AİDAT GİRİŞİ'!$F:$F,\"=\"&(B98&TEXT($Q$7,\"aaa-yy\")),'AİDAT GİRİŞİ'!$D:$D)","v":0},{"$f":"SUMIF('AİDAT GİRİŞİ'!$F:$F,\"=\"&($B98&TEXT($R$7,\"aaa-yy\")),'AİDAT GİRİŞİ'!$D:$D)","v":0},{"$f":"SUMIF('AİDAT GİRİŞİ'!$F:$F,\"=\"&($B98&TEXT($S$7,\"aaa-yy\")),'AİDAT GİRİŞİ'!$D:$D)","v":0},{"$f":"SUMIF('AİDAT GİRİŞİ'!$F:$F,\"=\"&($B98&TEXT($T$7,\"aaa-yy\")),'AİDAT GİRİŞİ'!$D:$D)","v":0},{"$f":"SUMIF('AİDAT GİRİŞİ'!$F:$F,\"=\"&($B98&TEXT($U$7,\"aaa-yy\")),'AİDAT GİRİŞİ'!$D:$D)","v":0},{"$f":"SUMIF('AİDAT GİRİŞİ'!$F:$F,\"=\"&($B98&TEXT($V$7,\"aaa-yy\")),'AİDAT GİRİŞİ'!$D:$D)","v":0},{"$f":"SUMIF('AİDAT GİRİŞİ'!$F:$F,\"=\"&($B98&TEXT($W$7,\"aaa-yy\")),'AİDAT GİRİŞİ'!$D:$D)","v":0},{"$f":"SUMIF('AİDAT GİRİŞİ'!$F:$F,\"=\"&($B98&TEXT($X$7,\"aaa-yy\")),'AİDAT GİRİŞİ'!$D:$D)","v":0},{"$f":"SUMIF('AİDAT GİRİŞİ'!$F:$F,\"=\"&($B98&TEXT($Y$7,\"aaa-yy\")),'AİDAT GİRİŞİ'!$D:$D)","v":0},{"$f":"SUMIF('AİDAT GİRİŞİ'!$F:$F,\"=\"&($B98&TEXT($Z$7,\"aaa-yy\")),'AİDAT GİRİŞİ'!$D:$D)","v":0},{"$f":"SUMIF('AİDAT GİRİŞİ'!$F:$F,\"=\"&($B98&TEXT($AA$7,\"aaa-yy\")),'AİDAT GİRİŞİ'!$D:$D)","v":0},{"$f":"SUMIF('AİDAT GİRİŞİ'!$F:$F,\"=\"&($B98&TEXT($AB$7,\"aaa-yy\")),'AİDAT GİRİŞİ'!$D:$D)","v":0},0]
[93,{"$f":"IF(ISERROR(VLOOKUP(A99,'ÜYE KAYIT LİSTESİ'!A:B,2,0)=TRUE),\"\",VLOOKUP(A99,'ÜYE KAYIT LİSTESİ'!A:B,2,0))","v":""},{"$f":"SUMIF('AİDAT GİRİŞİ'!$F:$F,\"=\"&(B99&TEXT($Q$7,\"aaa-yy\")),'AİDAT GİRİŞİ'!$D:$D)","v":0},{"$f":"SUMIF('AİDAT GİRİŞİ'!$F:$F,\"=\"&($B99&TEXT($R$7,\"aaa-yy\")),'AİDAT GİRİŞİ'!$D:$D)","v":0},{"$f":"SUMIF('AİDAT GİRİŞİ'!$F:$F,\"=\"&($B99&TEXT($S$7,\"aaa-yy\")),'AİDAT GİRİŞİ'!$D:$D)","v":0},{"$f":"SUMIF('AİDAT GİRİŞİ'!$F:$F,\"=\"&($B99&TEXT($T$7,\"aaa-yy\")),'AİDAT GİRİŞİ'!$D:$D)","v":0},{"$f":"SUMIF('AİDAT GİRİŞİ'!$F:$F,\"=\"&($B99&TEXT($U$7,\"aaa-yy\")),'AİDAT GİRİŞİ'!$D:$D)","v":0},{"$f":"SUMIF('AİDAT GİRİŞİ'!$F:$F,\"=\"&($B99&TEXT($V$7,\"aaa-yy\")),'AİDAT GİRİŞİ'!$D:$D)","v":0},{"$f":"SUMIF('AİDAT GİRİŞİ'!$F:$F,\"=\"&($B99&TEXT($W$7,\"aaa-yy\")),'AİDAT GİRİŞİ'!$D:$D)","v":0},{"$f":"SUMIF('AİDAT GİRİŞİ'!$F:$F,\"=\"&($B99&TEXT($X$7,\"aaa-yy\")),'AİDAT GİRİŞİ'!$D:$D)","v":0},{"$f":"SUMIF('AİDAT GİRİŞİ'!$F:$F,\"=\"&($B99&TEXT($Y$7,\"aaa-yy\")),'AİDAT GİRİŞİ'!$D:$D)","v":0},{"$f":"SUMIF('AİDAT GİRİŞİ'!$F:$F,\"=\"&($B99&TEXT($Z$7,\"aaa-yy\")),'AİDAT GİRİŞİ'!$D:$D)","v":0},{"$f":"SUMIF('AİDAT GİRİŞİ'!$F:$F,\"=\"&($B99&TEXT($AA$7,\"aaa-yy\")),'AİDAT GİRİŞİ'!$D:$D)","v":0},{"$f":"SUMIF('AİDAT GİRİŞİ'!$F:$F,\"=\"&($B99&TEXT($AB$7,\"aaa-yy\")),'AİDAT GİRİŞİ'!$D:$D)","v":0},0]
[94,{"$f":"IF(ISERROR(VLOOKUP(A100,'ÜYE KAYIT LİSTESİ'!A:B,2,0)=TRUE),\"\",VLOOKUP(A100,'ÜYE KAYIT LİSTESİ'!A:B,2,0))","v":""},{"$f":"SUMIF('AİDAT GİRİŞİ'!$F:$F,\"=\"&(B100&TEXT($Q$7,\"aaa-yy\")),'AİDAT GİRİŞİ'!$D:$D)","v":0},{"$f":"SUMIF('AİDAT GİRİŞİ'!$F:$F,\"=\"&($B100&TEXT($R$7,\"aaa-yy\")),'AİDAT GİRİŞİ'!$D:$D)","v":0},{"$f":"SUMIF('AİDAT GİRİŞİ'!$F:$F,\"=\"&($B100&TEXT($S$7,\"aaa-yy\")),'AİDAT GİRİŞİ'!$D:$D)","v":0},{"$f":"SUMIF('AİDAT GİRİŞİ'!$F:$F,\"=\"&($B100&TEXT($T$7,\"aaa-yy\")),'AİDAT GİRİŞİ'!$D:$D)","v":0},{"$f":"SUMIF('AİDAT GİRİŞİ'!$F:$F,\"=\"&($B100&TEXT($U$7,\"aaa-yy\")),'AİDAT GİRİŞİ'!$D:$D)","v":0},{"$f":"SUMIF('AİDAT GİRİŞİ'!$F:$F,\"=\"&($B100&TEXT($V$7,\"aaa-yy\")),'AİDAT GİRİŞİ'!$D:$D)","v":0},{"$f":"SUMIF('AİDAT GİRİŞİ'!$F:$F,\"=\"&($B100&TEXT($W$7,\"aaa-yy\")),'AİDAT GİRİŞİ'!$D:$D)","v":0},{"$f":"SUMIF('AİDAT GİRİŞİ'!$F:$F,\"=\"&($B100&TEXT($X$7,\"aaa-yy\")),'AİDAT GİRİŞİ'!$D:$D)","v":0},{"$f":"SUMIF('AİDAT GİRİŞİ'!$F:$F,\"=\"&($B100&TEXT($Y$7,\"aaa-yy\")),'AİDAT GİRİŞİ'!$D:$D)","v":0},{"$f":"SUMIF('AİDAT GİRİŞİ'!$F:$F,\"=\"&($B100&TEXT($Z$7,\"aaa-yy\")),'AİDAT GİRİŞİ'!$D:$D)","v":0},{"$f":"SUMIF('AİDAT GİRİŞİ'!$F:$F,\"=\"&($B100&TEXT($AA$7,\"aaa-yy\")),'AİDAT GİRİŞİ'!$D:$D)","v":0},{"$f":"SUMIF('AİDAT GİRİŞİ'!$F:$F,\"=\"&($B100&TEXT($AB$7,\"aaa-yy\")),'AİDAT GİRİŞİ'!$D:$D)","v":0},0]
[95,{"$f":"IF(ISERROR(VLOOKUP(A101,'ÜYE KAYIT LİSTESİ'!A:B,2,0)=TRUE),\"\",VLOOKUP(A101,'ÜYE KAYIT LİSTESİ'!A:B,2,0))","v":""},{"$f":"SUMIF('AİDAT GİRİŞİ'!$F:$F,\"=\"&(B101&TEXT($Q$7,\"aaa-yy\")),'AİDAT GİRİŞİ'!$D:$D)","v":0},{"$f":"SUMIF('AİDAT GİRİŞİ'!$F:$F,\"=\"&($B101&TEXT($R$7,\"aaa-yy\")),'AİDAT GİRİŞİ'!$D:$D)","v":0},{"$f":"SUMIF('AİDAT GİRİŞİ'!$F:$F,\"=\"&($B101&TEXT($S$7,\"aaa-yy\")),'AİDAT GİRİŞİ'!$D:$D)","v":0},{"$f":"SUMIF('AİDAT GİRİŞİ'!$F:$F,\"=\"&($B101&TEXT($T$7,\"aaa-yy\")),'AİDAT GİRİŞİ'!$D:$D)","v":0},{"$f":"SUMIF('AİDAT GİRİŞİ'!$F:$F,\"=\"&($B101&TEXT($U$7,\"aaa-yy\")),'AİDAT GİRİŞİ'!$D:$D)","v":0},{"$f":"SUMIF('AİDAT GİRİŞİ'!$F:$F,\"=\"&($B101&TEXT($V$7,\"aaa-yy\")),'AİDAT GİRİŞİ'!$D:$D)","v":0},{"$f":"SUMIF('AİDAT GİRİŞİ'!$F:$F,\"=\"&($B101&TEXT($W$7,\"aaa-yy\")),'AİDAT GİRİŞİ'!$D:$D)","v":0},{"$f":"SUMIF('AİDAT GİRİŞİ'!$F:$F,\"=\"&($B101&TEXT($X$7,\"aaa-yy\")),'AİDAT GİRİŞİ'!$D:$D)","v":0},{"$f":"SUMIF('AİDAT GİRİŞİ'!$F:$F,\"=\"&($B101&TEXT($Y$7,\"aaa-yy\")),'AİDAT GİRİŞİ'!$D:$D)","v":0},{"$f":"SUMIF('AİDAT GİRİŞİ'!$F:$F,\"=\"&($B101&TEXT($Z$7,\"aaa-yy\")),'AİDAT GİRİŞİ'!$D:$D)","v":0},{"$f":"SUMIF('AİDAT GİRİŞİ'!$F:$F,\"=\"&($B101&TEXT($AA$7,\"aaa-yy\")),'AİDAT GİRİŞİ'!$D:$D)","v":0},{"$f":"SUMIF('AİDAT GİRİŞİ'!$F:$F,\"=\"&($B101&TEXT($AB$7,\"aaa-yy\")),'AİDAT GİRİŞİ'!$D:$D)","v":0},0]
[96,{"$f":"IF(ISERROR(VLOOKUP(A102,'ÜYE KAYIT LİSTESİ'!A:B,2,0)=TRUE),\"\",VLOOKUP(A102,'ÜYE KAYIT LİSTESİ'!A:B,2,0))","v":""},{"$f":"SUMIF('AİDAT GİRİŞİ'!$F:$F,\"=\"&(B102&TEXT($Q$7,\"aaa-yy\")),'AİDAT GİRİŞİ'!$D:$D)","v":0},{"$f":"SUMIF('AİDAT GİRİŞİ'!$F:$F,\"=\"&($B102&TEXT($R$7,\"aaa-yy\")),'AİDAT GİRİŞİ'!$D:$D)","v":0},{"$f":"SUMIF('AİDAT GİRİŞİ'!$F:$F,\"=\"&($B102&TEXT($S$7,\"aaa-yy\")),'AİDAT GİRİŞİ'!$D:$D)","v":0},{"$f":"SUMIF('AİDAT GİRİŞİ'!$F:$F,\"=\"&($B102&TEXT($T$7,\"aaa-yy\")),'AİDAT GİRİŞİ'!$D:$D)","v":0},{"$f":"SUMIF('AİDAT GİRİŞİ'!$F:$F,\"=\"&($B102&TEXT($U$7,\"aaa-yy\")),'AİDAT GİRİŞİ'!$D:$D)","v":0},{"$f":"SUMIF('AİDAT GİRİŞİ'!$F:$F,\"=\"&($B102&TEXT($V$7,\"aaa-yy\")),'AİDAT GİRİŞİ'!$D:$D)","v":0},{"$f":"SUMIF('AİDAT GİRİŞİ'!$F:$F,\"=\"&($B102&TEXT($W$7,\"aaa-yy\")),'AİDAT GİRİŞİ'!$D:$D)","v":0},{"$f":"SUMIF('AİDAT GİRİŞİ'!$F:$F,\"=\"&($B102&TEXT($X$7,\"aaa-yy\")),'AİDAT GİRİŞİ'!$D:$D)","v":0},{"$f":"SUMIF('AİDAT GİRİŞİ'!$F:$F,\"=\"&($B102&TEXT($Y$7,\"aaa-yy\")),'AİDAT GİRİŞİ'!$D:$D)","v":0},{"$f":"SUMIF('AİDAT GİRİŞİ'!$F:$F,\"=\"&($B102&TEXT($Z$7,\"aaa-yy\")),'AİDAT GİRİŞİ'!$D:$D)","v":0},{"$f":"SUMIF('AİDAT GİRİŞİ'!$F:$F,\"=\"&($B102&TEXT($AA$7,\"aaa-yy\")),'AİDAT GİRİŞİ'!$D:$D)","v":0},{"$f":"SUMIF('AİDAT GİRİŞİ'!$F:$F,\"=\"&($B102&TEXT($AB$7,\"aaa-yy\")),'AİDAT GİRİŞİ'!$D:$D)","v":0},0]
[97,{"$f":"IF(ISERROR(VLOOKUP(A103,'ÜYE KAYIT LİSTESİ'!A:B,2,0)=TRUE),\"\",VLOOKUP(A103,'ÜYE KAYIT LİSTESİ'!A:B,2,0))","v":""},{"$f":"SUMIF('AİDAT GİRİŞİ'!$F:$F,\"=\"&(B103&TEXT($Q$7,\"aaa-yy\")),'AİDAT GİRİŞİ'!$D:$D)","v":0},{"$f":"SUMIF('AİDAT GİRİŞİ'!$F:$F,\"=\"&($B103&TEXT($R$7,\"aaa-yy\")),'AİDAT GİRİŞİ'!$D:$D)","v":0},{"$f":"SUMIF('AİDAT GİRİŞİ'!$F:$F,\"=\"&($B103&TEXT($S$7,\"aaa-yy\")),'AİDAT GİRİŞİ'!$D:$D)","v":0},{"$f":"SUMIF('AİDAT GİRİŞİ'!$F:$F,\"=\"&($B103&TEXT($T$7,\"aaa-yy\")),'AİDAT GİRİŞİ'!$D:$D)","v":0},{"$f":"SUMIF('AİDAT GİRİŞİ'!$F:$F,\"=\"&($B103&TEXT($U$7,\"aaa-yy\")),'AİDAT GİRİŞİ'!$D:$D)","v":0},{"$f":"SUMIF('AİDAT GİRİŞİ'!$F:$F,\"=\"&($B103&TEXT($V$7,\"aaa-yy\")),'AİDAT GİRİŞİ'!$D:$D)","v":0},{"$f":"SUMIF('AİDAT GİRİŞİ'!$F:$F,\"=\"&($B103&TEXT($W$7,\"aaa-yy\")),'AİDAT GİRİŞİ'!$D:$D)","v":0},{"$f":"SUMIF('AİDAT GİRİŞİ'!$F:$F,\"=\"&($B103&TEXT($X$7,\"aaa-yy\")),'AİDAT GİRİŞİ'!$D:$D)","v":0},{"$f":"SUMIF('AİDAT GİRİŞİ'!$F:$F,\"=\"&($B103&TEXT($Y$7,\"aaa-yy\")),'AİDAT GİRİŞİ'!$D:$D)","v":0},{"$f":"SUMIF('AİDAT GİRİŞİ'!$F:$F,\"=\"&($B103&TEXT($Z$7,\"aaa-yy\")),'AİDAT GİRİŞİ'!$D:$D)","v":0},{"$f":"SUMIF('AİDAT GİRİŞİ'!$F:$F,\"=\"&($B103&TEXT($AA$7,\"aaa-yy\")),'AİDAT GİRİŞİ'!$D:$D)","v":0},{"$f":"SUMIF('AİDAT GİRİŞİ'!$F:$F,\"=\"&($B103&TEXT($AB$7,\"aaa-yy\")),'AİDAT GİRİŞİ'!$D:$D)","v":0},0]
[98,{"$f":"IF(ISERROR(VLOOKUP(A104,'ÜYE KAYIT LİSTESİ'!A:B,2,0)=TRUE),\"\",VLOOKUP(A104,'ÜYE KAYIT LİSTESİ'!A:B,2,0))","v":""},{"$f":"SUMIF('AİDAT GİRİŞİ'!$F:$F,\"=\"&(B104&TEXT($Q$7,\"aaa-yy\")),'AİDAT GİRİŞİ'!$D:$D)","v":0},{"$f":"SUMIF('AİDAT GİRİŞİ'!$F:$F,\"=\"&($B104&TEXT($R$7,\"aaa-yy\")),'AİDAT GİRİŞİ'!$D:$D)","v":0},{"$f":"SUMIF('AİDAT GİRİŞİ'!$F:$F,\"=\"&($B104&TEXT($S$7,\"aaa-yy\")),'AİDAT GİRİŞİ'!$D:$D)","v":0},{"$f":"SUMIF('AİDAT GİRİŞİ'!$F:$F,\"=\"&($B104&TEXT($T$7,\"aaa-yy\")),'AİDAT GİRİŞİ'!$D:$D)","v":0},{"$f":"SUMIF('AİDAT GİRİŞİ'!$F:$F,\"=\"&($B104&TEXT($U$7,\"aaa-yy\")),'AİDAT GİRİŞİ'!$D:$D)","v":0},{"$f":"SUMIF('AİDAT GİRİŞİ'!$F:$F,\"=\"&($B104&TEXT($V$7,\"aaa-yy\")),'AİDAT GİRİŞİ'!$D:$D)","v":0},{"$f":"SUMIF('AİDAT GİRİŞİ'!$F:$F,\"=\"&($B104&TEXT($W$7,\"aaa-yy\")),'AİDAT GİRİŞİ'!$D:$D)","v":0},{"$f":"SUMIF('AİDAT GİRİŞİ'!$F:$F,\"=\"&($B104&TEXT($X$7,\"aaa-yy\")),'AİDAT GİRİŞİ'!$D:$D)","v":0},{"$f":"SUMIF('AİDAT GİRİŞİ'!$F:$F,\"=\"&($B104&TEXT($Y$7,\"aaa-yy\")),'AİDAT GİRİŞİ'!$D:$D)","v":0},{"$f":"SUMIF('AİDAT GİRİŞİ'!$F:$F,\"=\"&($B104&TEXT($Z$7,\"aaa-yy\")),'AİDAT GİRİŞİ'!$D:$D)","v":0},{"$f":"SUMIF('AİDAT GİRİŞİ'!$F:$F,\"=\"&($B104&TEXT($AA$7,\"aaa-yy\")),'AİDAT GİRİŞİ'!$D:$D)","v":0},{"$f":"SUMIF('AİDAT GİRİŞİ'!$F:$F,\"=\"&($B104&TEXT($AB$7,\"aaa-yy\")),'AİDAT GİRİŞİ'!$D:$D)","v":0},0]
[99,{"$f":"IF(ISERROR(VLOOKUP(A105,'ÜYE KAYIT LİSTESİ'!A:B,2,0)=TRUE),\"\",VLOOKUP(A105,'ÜYE KAYIT LİSTESİ'!A:B,2,0))","v":""},{"$f":"SUMIF('AİDAT GİRİŞİ'!$F:$F,\"=\"&(B105&TEXT($Q$7,\"aaa-yy\")),'AİDAT GİRİŞİ'!$D:$D)","v":0},{"$f":"SUMIF('AİDAT GİRİŞİ'!$F:$F,\"=\"&($B105&TEXT($R$7,\"aaa-yy\")),'AİDAT GİRİŞİ'!$D:$D)","v":0},{"$f":"SUMIF('AİDAT GİRİŞİ'!$F:$F,\"=\"&($B105&TEXT($S$7,\"aaa-yy\")),'AİDAT GİRİŞİ'!$D:$D)","v":0},{"$f":"SUMIF('AİDAT GİRİŞİ'!$F:$F,\"=\"&($B105&TEXT($T$7,\"aaa-yy\")),'AİDAT GİRİŞİ'!$D:$D)","v":0},{"$f":"SUMIF('AİDAT GİRİŞİ'!$F:$F,\"=\"&($B105&TEXT($U$7,\"aaa-yy\")),'AİDAT GİRİŞİ'!$D:$D)","v":0},{"$f":"SUMIF('AİDAT GİRİŞİ'!$F:$F,\"=\"&($B105&TEXT($V$7,\"aaa-yy\")),'AİDAT GİRİŞİ'!$D:$D)","v":0},{"$f":"SUMIF('AİDAT GİRİŞİ'!$F:$F,\"=\"&($B105&TEXT($W$7,\"aaa-yy\")),'AİDAT GİRİŞİ'!$D:$D)","v":0},{"$f":"SUMIF('AİDAT GİRİŞİ'!$F:$F,\"=\"&($B105&TEXT($X$7,\"aaa-yy\")),'AİDAT GİRİŞİ'!$D:$D)","v":0},{"$f":"SUMIF('AİDAT GİRİŞİ'!$F:$F,\"=\"&($B105&TEXT($Y$7,\"aaa-yy\")),'AİDAT GİRİŞİ'!$D:$D)","v":0},{"$f":"SUMIF('AİDAT GİRİŞİ'!$F:$F,\"=\"&($B105&TEXT($Z$7,\"aaa-yy\")),'AİDAT GİRİŞİ'!$D:$D)","v":0},{"$f":"SUMIF('AİDAT GİRİŞİ'!$F:$F,\"=\"&($B105&TEXT($AA$7,\"aaa-yy\")),'AİDAT GİRİŞİ'!$D:$D)","v":0},{"$f":"SUMIF('AİDAT GİRİŞİ'!$F:$F,\"=\"&($B105&TEXT($AB$7,\"aaa-yy\")),'AİDAT GİRİŞİ'!$D:$D)","v":0},0]
[100,{"$f":"IF(ISERROR(VLOOKUP(A106,'ÜYE KAYIT LİSTESİ'!A:B,2,0)=TRUE),\"\",VLOOKUP(A106,'ÜYE KAYIT LİSTESİ'!A:B,2,0))","v":""},{"$f":"SUMIF('AİDAT GİRİŞİ'!$F:$F,\"=\"&(B106&TEXT($Q$7,\"aaa-yy\")),'AİDAT GİRİŞİ'!$D:$D)","v":0},{"$f":"SUMIF('AİDAT GİRİŞİ'!$F:$F,\"=\"&($B106&TEXT($R$7,\"aaa-yy\")),'AİDAT GİRİŞİ'!$D:$D)","v":0},{"$f":"SUMIF('AİDAT GİRİŞİ'!$F:$F,\"=\"&($B106&TEXT($S$7,\"aaa-yy\")),'AİDAT GİRİŞİ'!$D:$D)","v":0},{"$f":"SUMIF('AİDAT GİRİŞİ'!$F:$F,\"=\"&($B106&TEXT($T$7,\"aaa-yy\")),'AİDAT GİRİŞİ'!$D:$D)","v":0},{"$f":"SUMIF('AİDAT GİRİŞİ'!$F:$F,\"=\"&($B106&TEXT($U$7,\"aaa-yy\")),'AİDAT GİRİŞİ'!$D:$D)","v":0},{"$f":"SUMIF('AİDAT GİRİŞİ'!$F:$F,\"=\"&($B106&TEXT($V$7,\"aaa-yy\")),'AİDAT GİRİŞİ'!$D:$D)","v":0},{"$f":"SUMIF('AİDAT GİRİŞİ'!$F:$F,\"=\"&($B106&TEXT($W$7,\"aaa-yy\")),'AİDAT GİRİŞİ'!$D:$D)","v":0},{"$f":"SUMIF('AİDAT GİRİŞİ'!$F:$F,\"=\"&($B106&TEXT($X$7,\"aaa-yy\")),'AİDAT GİRİŞİ'!$D:$D)","v":0},{"$f":"SUMIF('AİDAT GİRİŞİ'!$F:$F,\"=\"&($B106&TEXT($Y$7,\"aaa-yy\")),'AİDAT GİRİŞİ'!$D:$D)","v":0},{"$f":"SUMIF('AİDAT GİRİŞİ'!$F:$F,\"=\"&($B106&TEXT($Z$7,\"aaa-yy\")),'AİDAT GİRİŞİ'!$D:$D)","v":0},{"$f":"SUMIF('AİDAT GİRİŞİ'!$F:$F,\"=\"&($B106&TEXT($AA$7,\"aaa-yy\")),'AİDAT GİRİŞİ'!$D:$D)","v":0},{"$f":"SUMIF('AİDAT GİRİŞİ'!$F:$F,\"=\"&($B106&TEXT($AB$7,\"aaa-yy\")),'AİDAT GİRİŞİ'!$D:$D)","v":0},0]
[101,{"$f":"IF(ISERROR(VLOOKUP(A107,'ÜYE KAYIT LİSTESİ'!A:B,2,0)=TRUE),\"\",VLOOKUP(A107,'ÜYE KAYIT LİSTESİ'!A:B,2,0))","v":""},{"$f":"SUMIF('AİDAT GİRİŞİ'!$F:$F,\"=\"&(B107&TEXT($Q$7,\"aaa-yy\")),'AİDAT GİRİŞİ'!$D:$D)","v":0},{"$f":"SUMIF('AİDAT GİRİŞİ'!$F:$F,\"=\"&($B107&TEXT($R$7,\"aaa-yy\")),'AİDAT GİRİŞİ'!$D:$D)","v":0},{"$f":"SUMIF('AİDAT GİRİŞİ'!$F:$F,\"=\"&($B107&TEXT($S$7,\"aaa-yy\")),'AİDAT GİRİŞİ'!$D:$D)","v":0},{"$f":"SUMIF('AİDAT GİRİŞİ'!$F:$F,\"=\"&($B107&TEXT($T$7,\"aaa-yy\")),'AİDAT GİRİŞİ'!$D:$D)","v":0},{"$f":"SUMIF('AİDAT GİRİŞİ'!$F:$F,\"=\"&($B107&TEXT($U$7,\"aaa-yy\")),'AİDAT GİRİŞİ'!$D:$D)","v":0},{"$f":"SUMIF('AİDAT GİRİŞİ'!$F:$F,\"=\"&($B107&TEXT($V$7,\"aaa-yy\")),'AİDAT GİRİŞİ'!$D:$D)","v":0},{"$f":"SUMIF('AİDAT GİRİŞİ'!$F:$F,\"=\"&($B107&TEXT($W$7,\"aaa-yy\")),'AİDAT GİRİŞİ'!$D:$D)","v":0},{"$f":"SUMIF('AİDAT GİRİŞİ'!$F:$F,\"=\"&($B107&TEXT($X$7,\"aaa-yy\")),'AİDAT GİRİŞİ'!$D:$D)","v":0},{"$f":"SUMIF('AİDAT GİRİŞİ'!$F:$F,\"=\"&($B107&TEXT($Y$7,\"aaa-yy\")),'AİDAT GİRİŞİ'!$D:$D)","v":0},{"$f":"SUMIF('AİDAT GİRİŞİ'!$F:$F,\"=\"&($B107&TEXT($Z$7,\"aaa-yy\")),'AİDAT GİRİŞİ'!$D:$D)","v":0},{"$f":"SUMIF('AİDAT GİRİŞİ'!$F:$F,\"=\"&($B107&TEXT($AA$7,\"aaa-yy\")),'AİDAT GİRİŞİ'!$D:$D)","v":0},{"$f":"SUMIF('AİDAT GİRİŞİ'!$F:$F,\"=\"&($B107&TEXT($AB$7,\"aaa-yy\")),'AİDAT GİRİŞİ'!$D:$D)","v":0},0]
[102,{"$f":"IF(ISERROR(VLOOKUP(A108,'ÜYE KAYIT LİSTESİ'!A:B,2,0)=TRUE),\"\",VLOOKUP(A108,'ÜYE KAYIT LİSTESİ'!A:B,2,0))","v":""},{"$f":"SUMIF('AİDAT GİRİŞİ'!$F:$F,\"=\"&(B108&TEXT($Q$7,\"aaa-yy\")),'AİDAT GİRİŞİ'!$D:$D)","v":0},{"$f":"SUMIF('AİDAT GİRİŞİ'!$F:$F,\"=\"&($B108&TEXT($R$7,\"aaa-yy\")),'AİDAT GİRİŞİ'!$D:$D)","v":0},{"$f":"SUMIF('AİDAT GİRİŞİ'!$F:$F,\"=\"&($B108&TEXT($S$7,\"aaa-yy\")),'AİDAT GİRİŞİ'!$D:$D)","v":0},{"$f":"SUMIF('AİDAT GİRİŞİ'!$F:$F,\"=\"&($B108&TEXT($T$7,\"aaa-yy\")),'AİDAT GİRİŞİ'!$D:$D)","v":0},{"$f":"SUMIF('AİDAT GİRİŞİ'!$F:$F,\"=\"&($B108&TEXT($U$7,\"aaa-yy\")),'AİDAT GİRİŞİ'!$D:$D)","v":0},{"$f":"SUMIF('AİDAT GİRİŞİ'!$F:$F,\"=\"&($B108&TEXT($V$7,\"aaa-yy\")),'AİDAT GİRİŞİ'!$D:$D)","v":0},{"$f":"SUMIF('AİDAT GİRİŞİ'!$F:$F,\"=\"&($B108&TEXT($W$7,\"aaa-yy\")),'AİDAT GİRİŞİ'!$D:$D)","v":0},{"$f":"SUMIF('AİDAT GİRİŞİ'!$F:$F,\"=\"&($B108&TEXT($X$7,\"aaa-yy\")),'AİDAT GİRİŞİ'!$D:$D)","v":0},{"$f":"SUMIF('AİDAT GİRİŞİ'!$F:$F,\"=\"&($B108&TEXT($Y$7,\"aaa-yy\")),'AİDAT GİRİŞİ'!$D:$D)","v":0},{"$f":"SUMIF('AİDAT GİRİŞİ'!$F:$F,\"=\"&($B108&TEXT($Z$7,\"aaa-yy\")),'AİDAT GİRİŞİ'!$D:$D)","v":0},{"$f":"SUMIF('AİDAT GİRİŞİ'!$F:$F,\"=\"&($B108&TEXT($AA$7,\"aaa-yy\")),'AİDAT GİRİŞİ'!$D:$D)","v":0},{"$f":"SUMIF('AİDAT GİRİŞİ'!$F:$F,\"=\"&($B108&TEXT($AB$7,\"aaa-yy\")),'AİDAT GİRİŞİ'!$D:$D)","v":0},0]
[103,{"$f":"IF(ISERROR(VLOOKUP(A109,'ÜYE KAYIT LİSTESİ'!A:B,2,0)=TRUE),\"\",VLOOKUP(A109,'ÜYE KAYIT LİSTESİ'!A:B,2,0))","v":""},{"$f":"SUMIF('AİDAT GİRİŞİ'!$F:$F,\"=\"&(B109&TEXT($Q$7,\"aaa-yy\")),'AİDAT GİRİŞİ'!$D:$D)","v":0},{"$f":"SUMIF('AİDAT GİRİŞİ'!$F:$F,\"=\"&($B109&TEXT($R$7,\"aaa-yy\")),'AİDAT GİRİŞİ'!$D:$D)","v":0},{"$f":"SUMIF('AİDAT GİRİŞİ'!$F:$F,\"=\"&($B109&TEXT($S$7,\"aaa-yy\")),'AİDAT GİRİŞİ'!$D:$D)","v":0},{"$f":"SUMIF('AİDAT GİRİŞİ'!$F:$F,\"=\"&($B109&TEXT($T$7,\"aaa-yy\")),'AİDAT GİRİŞİ'!$D:$D)","v":0},{"$f":"SUMIF('AİDAT GİRİŞİ'!$F:$F,\"=\"&($B109&TEXT($U$7,\"aaa-yy\")),'AİDAT GİRİŞİ'!$D:$D)","v":0},{"$f":"SUMIF('AİDAT GİRİŞİ'!$F:$F,\"=\"&($B109&TEXT($V$7,\"aaa-yy\")),'AİDAT GİRİŞİ'!$D:$D)","v":0},{"$f":"SUMIF('AİDAT GİRİŞİ'!$F:$F,\"=\"&($B109&TEXT($W$7,\"aaa-yy\")),'AİDAT GİRİŞİ'!$D:$D)","v":0},{"$f":"SUMIF('AİDAT GİRİŞİ'!$F:$F,\"=\"&($B109&TEXT($X$7,\"aaa-yy\")),'AİDAT GİRİŞİ'!$D:$D)","v":0},{"$f":"SUMIF('AİDAT GİRİŞİ'!$F:$F,\"=\"&($B109&TEXT($Y$7,\"aaa-yy\")),'AİDAT GİRİŞİ'!$D:$D)","v":0},{"$f":"SUMIF('AİDAT GİRİŞİ'!$F:$F,\"=\"&($B109&TEXT($Z$7,\"aaa-yy\")),'AİDAT GİRİŞİ'!$D:$D)","v":0},{"$f":"SUMIF('AİDAT GİRİŞİ'!$F:$F,\"=\"&($B109&TEXT($AA$7,\"aaa-yy\")),'AİDAT GİRİŞİ'!$D:$D)","v":0},{"$f":"SUMIF('AİDAT GİRİŞİ'!$F:$F,\"=\"&($B109&TEXT($AB$7,\"aaa-yy\")),'AİDAT GİRİŞİ'!$D:$D)","v":0},0]
[104,{"$f":"IF(ISERROR(VLOOKUP(A110,'ÜYE KAYIT LİSTESİ'!A:B,2,0)=TRUE),\"\",VLOOKUP(A110,'ÜYE KAYIT LİSTESİ'!A:B,2,0))","v":""},{"$f":"SUMIF('AİDAT GİRİŞİ'!$F:$F,\"=\"&(B110&TEXT($Q$7,\"aaa-yy\")),'AİDAT GİRİŞİ'!$D:$D)","v":0},{"$f":"SUMIF('AİDAT GİRİŞİ'!$F:$F,\"=\"&($B110&TEXT($R$7,\"aaa-yy\")),'AİDAT GİRİŞİ'!$D:$D)","v":0},{"$f":"SUMIF('AİDAT GİRİŞİ'!$F:$F,\"=\"&($B110&TEXT($S$7,\"aaa-yy\")),'AİDAT GİRİŞİ'!$D:$D)","v":0},{"$f":"SUMIF('AİDAT GİRİŞİ'!$F:$F,\"=\"&($B110&TEXT($T$7,\"aaa-yy\")),'AİDAT GİRİŞİ'!$D:$D)","v":0},{"$f":"SUMIF('AİDAT GİRİŞİ'!$F:$F,\"=\"&($B110&TEXT($U$7,\"aaa-yy\")),'AİDAT GİRİŞİ'!$D:$D)","v":0},{"$f":"SUMIF('AİDAT GİRİŞİ'!$F:$F,\"=\"&($B110&TEXT($V$7,\"aaa-yy\")),'AİDAT GİRİŞİ'!$D:$D)","v":0},{"$f":"SUMIF('AİDAT GİRİŞİ'!$F:$F,\"=\"&($B110&TEXT($W$7,\"aaa-yy\")),'AİDAT GİRİŞİ'!$D:$D)","v":0},{"$f":"SUMIF('AİDAT GİRİŞİ'!$F:$F,\"=\"&($B110&TEXT($X$7,\"aaa-yy\")),'AİDAT GİRİŞİ'!$D:$D)","v":0},{"$f":"SUMIF('AİDAT GİRİŞİ'!$F:$F,\"=\"&($B110&TEXT($Y$7,\"aaa-yy\")),'AİDAT GİRİŞİ'!$D:$D)","v":0},{"$f":"SUMIF('AİDAT GİRİŞİ'!$F:$F,\"=\"&($B110&TEXT($Z$7,\"aaa-yy\")),'AİDAT GİRİŞİ'!$D:$D)","v":0},{"$f":"SUMIF('AİDAT GİRİŞİ'!$F:$F,\"=\"&($B110&TEXT($AA$7,\"aaa-yy\")),'AİDAT GİRİŞİ'!$D:$D)","v":0},{"$f":"SUMIF('AİDAT GİRİŞİ'!$F:$F,\"=\"&($B110&TEXT($AB$7,\"aaa-yy\")),'AİDAT GİRİŞİ'!$D:$D)","v":0},0]
[105,{"$f":"IF(ISERROR(VLOOKUP(A111,'ÜYE KAYIT LİSTESİ'!A:B,2,0)=TRUE),\"\",VLOOKUP(A111,'ÜYE KAYIT LİSTESİ'!A:B,2,0))","v":""},{"$f":"SUMIF('AİDAT GİRİŞİ'!$F:$F,\"=\"&(B111&TEXT($Q$7,\"aaa-yy\")),'AİDAT GİRİŞİ'!$D:$D)","v":0},{"$f":"SUMIF('AİDAT GİRİŞİ'!$F:$F,\"=\"&($B111&TEXT($R$7,\"aaa-yy\")),'AİDAT GİRİŞİ'!$D:$D)","v":0},{"$f":"SUMIF('AİDAT GİRİŞİ'!$F:$F,\"=\"&($B111&TEXT($S$7,\"aaa-yy\")),'AİDAT GİRİŞİ'!$D:$D)","v":0},{"$f":"SUMIF('AİDAT GİRİŞİ'!$F:$F,\"=\"&($B111&TEXT($T$7,\"aaa-yy\")),'AİDAT GİRİŞİ'!$D:$D)","v":0},{"$f":"SUMIF('AİDAT GİRİŞİ'!$F:$F,\"=\"&($B111&TEXT($U$7,\"aaa-yy\")),'AİDAT GİRİŞİ'!$D:$D)","v":0},{"$f":"SUMIF('AİDAT GİRİŞİ'!$F:$F,\"=\"&($B111&TEXT($V$7,\"aaa-yy\")),'AİDAT GİRİŞİ'!$D:$D)","v":0},{"$f":"SUMIF('AİDAT GİRİŞİ'!$F:$F,\"=\"&($B111&TEXT($W$7,\"aaa-yy\")),'AİDAT GİRİŞİ'!$D:$D)","v":0},{"$f":"SUMIF('AİDAT GİRİŞİ'!$F:$F,\"=\"&($B111&TEXT($X$7,\"aaa-yy\")),'AİDAT GİRİŞİ'!$D:$D)","v":0},{"$f":"SUMIF('AİDAT GİRİŞİ'!$F:$F,\"=\"&($B111&TEXT($Y$7,\"aaa-yy\")),'AİDAT GİRİŞİ'!$D:$D)","v":0},{"$f":"SUMIF('AİDAT GİRİŞİ'!$F:$F,\"=\"&($B111&TEXT($Z$7,\"aaa-yy\")),'AİDAT GİRİŞİ'!$D:$D)","v":0},{"$f":"SUMIF('AİDAT GİRİŞİ'!$F:$F,\"=\"&($B111&TEXT($AA$7,\"aaa-yy\")),'AİDAT GİRİŞİ'!$D:$D)","v":0},{"$f":"SUMIF('AİDAT GİRİŞİ'!$F:$F,\"=\"&($B111&TEXT($AB$7,\"aaa-yy\")),'AİDAT GİRİŞİ'!$D:$D)","v":0},0]
[106,{"$f":"IF(ISERROR(VLOOKUP(A112,'ÜYE KAYIT LİSTESİ'!A:B,2,0)=TRUE),\"\",VLOOKUP(A112,'ÜYE KAYIT LİSTESİ'!A:B,2,0))","v":""},{"$f":"SUMIF('AİDAT GİRİŞİ'!$F:$F,\"=\"&(B112&TEXT($Q$7,\"aaa-yy\")),'AİDAT GİRİŞİ'!$D:$D)","v":0},{"$f":"SUMIF('AİDAT GİRİŞİ'!$F:$F,\"=\"&($B112&TEXT($R$7,\"aaa-yy\")),'AİDAT GİRİŞİ'!$D:$D)","v":0},{"$f":"SUMIF('AİDAT GİRİŞİ'!$F:$F,\"=\"&($B112&TEXT($S$7,\"aaa-yy\")),'AİDAT GİRİŞİ'!$D:$D)","v":0},{"$f":"SUMIF('AİDAT GİRİŞİ'!$F:$F,\"=\"&($B112&TEXT($T$7,\"aaa-yy\")),'AİDAT GİRİŞİ'!$D:$D)","v":0},{"$f":"SUMIF('AİDAT GİRİŞİ'!$F:$F,\"=\"&($B112&TEXT($U$7,\"aaa-yy\")),'AİDAT GİRİŞİ'!$D:$D)","v":0},{"$f":"SUMIF('AİDAT GİRİŞİ'!$F:$F,\"=\"&($B112&TEXT($V$7,\"aaa-yy\")),'AİDAT GİRİŞİ'!$D:$D)","v":0},{"$f":"SUMIF('AİDAT GİRİŞİ'!$F:$F,\"=\"&($B112&TEXT($W$7,\"aaa-yy\")),'AİDAT GİRİŞİ'!$D:$D)","v":0},{"$f":"SUMIF('AİDAT GİRİŞİ'!$F:$F,\"=\"&($B112&TEXT($X$7,\"aaa-yy\")),'AİDAT GİRİŞİ'!$D:$D)","v":0},{"$f":"SUMIF('AİDAT GİRİŞİ'!$F:$F,\"=\"&($B112&TEXT($Y$7,\"aaa-yy\")),'AİDAT GİRİŞİ'!$D:$D)","v":0},{"$f":"SUMIF('AİDAT GİRİŞİ'!$F:$F,\"=\"&($B112&TEXT($Z$7,\"aaa-yy\")),'AİDAT GİRİŞİ'!$D:$D)","v":0},{"$f":"SUMIF('AİDAT GİRİŞİ'!$F:$F,\"=\"&($B112&TEXT($AA$7,\"aaa-yy\")),'AİDAT GİRİŞİ'!$D:$D)","v":0},{"$f":"SUMIF('AİDAT GİRİŞİ'!$F:$F,\"=\"&($B112&TEXT($AB$7,\"aaa-yy\")),'AİDAT GİRİŞİ'!$D:$D)","v":0},0]
[107,{"$f":"IF(ISERROR(VLOOKUP(A113,'ÜYE KAYIT LİSTESİ'!A:B,2,0)=TRUE),\"\",VLOOKUP(A113,'ÜYE KAYIT LİSTESİ'!A:B,2,0))","v":""},{"$f":"SUMIF('AİDAT GİRİŞİ'!$F:$F,\"=\"&(B113&TEXT($Q$7,\"aaa-yy\")),'AİDAT GİRİŞİ'!$D:$D)","v":0},{"$f":"SUMIF('AİDAT GİRİŞİ'!$F:$F,\"=\"&($B113&TEXT($R$7,\"aaa-yy\")),'AİDAT GİRİŞİ'!$D:$D)","v":0},{"$f":"SUMIF('AİDAT GİRİŞİ'!$F:$F,\"=\"&($B113&TEXT($S$7,\"aaa-yy\")),'AİDAT GİRİŞİ'!$D:$D)","v":0},{"$f":"SUMIF('AİDAT GİRİŞİ'!$F:$F,\"=\"&($B113&TEXT($T$7,\"aaa-yy\")),'AİDAT GİRİŞİ'!$D:$D)","v":0},{"$f":"SUMIF('AİDAT GİRİŞİ'!$F:$F,\"=\"&($B113&TEXT($U$7,\"aaa-yy\")),'AİDAT GİRİŞİ'!$D:$D)","v":0},{"$f":"SUMIF('AİDAT GİRİŞİ'!$F:$F,\"=\"&($B113&TEXT($V$7,\"aaa-yy\")),'AİDAT GİRİŞİ'!$D:$D)","v":0},{"$f":"SUMIF('AİDAT GİRİŞİ'!$F:$F,\"=\"&($B113&TEXT($W$7,\"aaa-yy\")),'AİDAT GİRİŞİ'!$D:$D)","v":0},{"$f":"SUMIF('AİDAT GİRİŞİ'!$F:$F,\"=\"&($B113&TEXT($X$7,\"aaa-yy\")),'AİDAT GİRİŞİ'!$D:$D)","v":0},{"$f":"SUMIF('AİDAT GİRİŞİ'!$F:$F,\"=\"&($B113&TEXT($Y$7,\"aaa-yy\")),'AİDAT GİRİŞİ'!$D:$D)","v":0},{"$f":"SUMIF('AİDAT GİRİŞİ'!$F:$F,\"=\"&($B113&TEXT($Z$7,\"aaa-yy\")),'AİDAT GİRİŞİ'!$D:$D)","v":0},{"$f":"SUMIF('AİDAT GİRİŞİ'!$F:$F,\"=\"&($B113&TEXT($AA$7,\"aaa-yy\")),'AİDAT GİRİŞİ'!$D:$D)","v":0},{"$f":"SUMIF('AİDAT GİRİŞİ'!$F:$F,\"=\"&($B113&TEXT($AB$7,\"aaa-yy\")),'AİDAT GİRİŞİ'!$D:$D)","v":0},0]
[108,{"$f":"IF(ISERROR(VLOOKUP(A114,'ÜYE KAYIT LİSTESİ'!A:B,2,0)=TRUE),\"\",VLOOKUP(A114,'ÜYE KAYIT LİSTESİ'!A:B,2,0))","v":""},{"$f":"SUMIF('AİDAT GİRİŞİ'!$F:$F,\"=\"&(B114&TEXT($Q$7,\"aaa-yy\")),'AİDAT GİRİŞİ'!$D:$D)","v":0},{"$f":"SUMIF('AİDAT GİRİŞİ'!$F:$F,\"=\"&($B114&TEXT($R$7,\"aaa-yy\")),'AİDAT GİRİŞİ'!$D:$D)","v":0},{"$f":"SUMIF('AİDAT GİRİŞİ'!$F:$F,\"=\"&($B114&TEXT($S$7,\"aaa-yy\")),'AİDAT GİRİŞİ'!$D:$D)","v":0},{"$f":"SUMIF('AİDAT GİRİŞİ'!$F:$F,\"=\"&($B114&TEXT($T$7,\"aaa-yy\")),'AİDAT GİRİŞİ'!$D:$D)","v":0},{"$f":"SUMIF('AİDAT GİRİŞİ'!$F:$F,\"=\"&($B114&TEXT($U$7,\"aaa-yy\")),'AİDAT GİRİŞİ'!$D:$D)","v":0},{"$f":"SUMIF('AİDAT GİRİŞİ'!$F:$F,\"=\"&($B114&TEXT($V$7,\"aaa-yy\")),'AİDAT GİRİŞİ'!$D:$D)","v":0},{"$f":"SUMIF('AİDAT GİRİŞİ'!$F:$F,\"=\"&($B114&TEXT($W$7,\"aaa-yy\")),'AİDAT GİRİŞİ'!$D:$D)","v":0},{"$f":"SUMIF('AİDAT GİRİŞİ'!$F:$F,\"=\"&($B114&TEXT($X$7,\"aaa-yy\")),'AİDAT GİRİŞİ'!$D:$D)","v":0},{"$f":"SUMIF('AİDAT GİRİŞİ'!$F:$F,\"=\"&($B114&TEXT($Y$7,\"aaa-yy\")),'AİDAT GİRİŞİ'!$D:$D)","v":0},{"$f":"SUMIF('AİDAT GİRİŞİ'!$F:$F,\"=\"&($B114&TEXT($Z$7,\"aaa-yy\")),'AİDAT GİRİŞİ'!$D:$D)","v":0},{"$f":"SUMIF('AİDAT GİRİŞİ'!$F:$F,\"=\"&($B114&TEXT($AA$7,\"aaa-yy\")),'AİDAT GİRİŞİ'!$D:$D)","v":0},{"$f":"SUMIF('AİDAT GİRİŞİ'!$F:$F,\"=\"&($B114&TEXT($AB$7,\"aaa-yy\")),'AİDAT GİRİŞİ'!$D:$D)","v":0},0]
[109,{"$f":"IF(ISERROR(VLOOKUP(A115,'ÜYE KAYIT LİSTESİ'!A:B,2,0)=TRUE),\"\",VLOOKUP(A115,'ÜYE KAYIT LİSTESİ'!A:B,2,0))","v":""},{"$f":"SUMIF('AİDAT GİRİŞİ'!$F:$F,\"=\"&(B115&TEXT($Q$7,\"aaa-yy\")),'AİDAT GİRİŞİ'!$D:$D)","v":0},{"$f":"SUMIF('AİDAT GİRİŞİ'!$F:$F,\"=\"&($B115&TEXT($R$7,\"aaa-yy\")),'AİDAT GİRİŞİ'!$D:$D)","v":0},{"$f":"SUMIF('AİDAT GİRİŞİ'!$F:$F,\"=\"&($B115&TEXT($S$7,\"aaa-yy\")),'AİDAT GİRİŞİ'!$D:$D)","v":0},{"$f":"SUMIF('AİDAT GİRİŞİ'!$F:$F,\"=\"&($B115&TEXT($T$7,\"aaa-yy\")),'AİDAT GİRİŞİ'!$D:$D)","v":0},{"$f":"SUMIF('AİDAT GİRİŞİ'!$F:$F,\"=\"&($B115&TEXT($U$7,\"aaa-yy\")),'AİDAT GİRİŞİ'!$D:$D)","v":0},{"$f":"SUMIF('AİDAT GİRİŞİ'!$F:$F,\"=\"&($B115&TEXT($V$7,\"aaa-yy\")),'AİDAT GİRİŞİ'!$D:$D)","v":0},{"$f":"SUMIF('AİDAT GİRİŞİ'!$F:$F,\"=\"&($B115&TEXT($W$7,\"aaa-yy\")),'AİDAT GİRİŞİ'!$D:$D)","v":0},{"$f":"SUMIF('AİDAT GİRİŞİ'!$F:$F,\"=\"&($B115&TEXT($X$7,\"aaa-yy\")),'AİDAT GİRİŞİ'!$D:$D)","v":0},{"$f":"SUMIF('AİDAT GİRİŞİ'!$F:$F,\"=\"&($B115&TEXT($Y$7,\"aaa-yy\")),'AİDAT GİRİŞİ'!$D:$D)","v":0},{"$f":"SUMIF('AİDAT GİRİŞİ'!$F:$F,\"=\"&($B115&TEXT($Z$7,\"aaa-yy\")),'AİDAT GİRİŞİ'!$D:$D)","v":0},{"$f":"SUMIF('AİDAT GİRİŞİ'!$F:$F,\"=\"&($B115&TEXT($AA$7,\"aaa-yy\")),'AİDAT GİRİŞİ'!$D:$D)","v":0},{"$f":"SUMIF('AİDAT GİRİŞİ'!$F:$F,\"=\"&($B115&TEXT($AB$7,\"aaa-yy\")),'AİDAT GİRİŞİ'!$D:$D)","v":0},0]
[110,{"$f":"IF(ISERROR(VLOOKUP(A116,'ÜYE KAYIT LİSTESİ'!A:B,2,0)=TRUE),\"\",VLOOKUP(A116,'ÜYE KAYIT LİSTESİ'!A:B,2,0))","v":""},{"$f":"SUMIF('AİDAT GİRİŞİ'!$F:$F,\"=\"&(B116&TEXT($Q$7,\"aaa-yy\")),'AİDAT GİRİŞİ'!$D:$D)","v":0},{"$f":"SUMIF('AİDAT GİRİŞİ'!$F:$F,\"=\"&($B116&TEXT($R$7,\"aaa-yy\")),'AİDAT GİRİŞİ'!$D:$D)","v":0},{"$f":"SUMIF('AİDAT GİRİŞİ'!$F:$F,\"=\"&($B116&TEXT($S$7,\"aaa-yy\")),'AİDAT GİRİŞİ'!$D:$D)","v":0},{"$f":"SUMIF('AİDAT GİRİŞİ'!$F:$F,\"=\"&($B116&TEXT($T$7,\"aaa-yy\")),'AİDAT GİRİŞİ'!$D:$D)","v":0},{"$f":"SUMIF('AİDAT GİRİŞİ'!$F:$F,\"=\"&($B116&TEXT($U$7,\"aaa-yy\")),'AİDAT GİRİŞİ'!$D:$D)","v":0},{"$f":"SUMIF('AİDAT GİRİŞİ'!$F:$F,\"=\"&($B116&TEXT($V$7,\"aaa-yy\")),'AİDAT GİRİŞİ'!$D:$D)","v":0},{"$f":"SUMIF('AİDAT GİRİŞİ'!$F:$F,\"=\"&($B116&TEXT($W$7,\"aaa-yy\")),'AİDAT GİRİŞİ'!$D:$D)","v":0},{"$f":"SUMIF('AİDAT GİRİŞİ'!$F:$F,\"=\"&($B116&TEXT($X$7,\"aaa-yy\")),'AİDAT GİRİŞİ'!$D:$D)","v":0},{"$f":"SUMIF('AİDAT GİRİŞİ'!$F:$F,\"=\"&($B116&TEXT($Y$7,\"aaa-yy\")),'AİDAT GİRİŞİ'!$D:$D)","v":0},{"$f":"SUMIF('AİDAT GİRİŞİ'!$F:$F,\"=\"&($B116&TEXT($Z$7,\"aaa-yy\")),'AİDAT GİRİŞİ'!$D:$D)","v":0},{"$f":"SUMIF('AİDAT GİRİŞİ'!$F:$F,\"=\"&($B116&TEXT($AA$7,\"aaa-yy\")),'AİDAT GİRİŞİ'!$D:$D)","v":0},{"$f":"SUMIF('AİDAT GİRİŞİ'!$F:$F,\"=\"&($B116&TEXT($AB$7,\"aaa-yy\")),'AİDAT GİRİŞİ'!$D:$D)","v":0},0]
[111,{"$f":"IF(ISERROR(VLOOKUP(A117,'ÜYE KAYIT LİSTESİ'!A:B,2,0)=TRUE),\"\",VLOOKUP(A117,'ÜYE KAYIT LİSTESİ'!A:B,2,0))","v":""},{"$f":"SUMIF('AİDAT GİRİŞİ'!$F:$F,\"=\"&(B117&TEXT($Q$7,\"aaa-yy\")),'AİDAT GİRİŞİ'!$D:$D)","v":0},{"$f":"SUMIF('AİDAT GİRİŞİ'!$F:$F,\"=\"&($B117&TEXT($R$7,\"aaa-yy\")),'AİDAT GİRİŞİ'!$D:$D)","v":0},{"$f":"SUMIF('AİDAT GİRİŞİ'!$F:$F,\"=\"&($B117&TEXT($S$7,\"aaa-yy\")),'AİDAT GİRİŞİ'!$D:$D)","v":0},{"$f":"SUMIF('AİDAT GİRİŞİ'!$F:$F,\"=\"&($B117&TEXT($T$7,\"aaa-yy\")),'AİDAT GİRİŞİ'!$D:$D)","v":0},{"$f":"SUMIF('AİDAT GİRİŞİ'!$F:$F,\"=\"&($B117&TEXT($U$7,\"aaa-yy\")),'AİDAT GİRİŞİ'!$D:$D)","v":0},{"$f":"SUMIF('AİDAT GİRİŞİ'!$F:$F,\"=\"&($B117&TEXT($V$7,\"aaa-yy\")),'AİDAT GİRİŞİ'!$D:$D)","v":0},{"$f":"SUMIF('AİDAT GİRİŞİ'!$F:$F,\"=\"&($B117&TEXT($W$7,\"aaa-yy\")),'AİDAT GİRİŞİ'!$D:$D)","v":0},{"$f":"SUMIF('AİDAT GİRİŞİ'!$F:$F,\"=\"&($B117&TEXT($X$7,\"aaa-yy\")),'AİDAT GİRİŞİ'!$D:$D)","v":0},{"$f":"SUMIF('AİDAT GİRİŞİ'!$F:$F,\"=\"&($B117&TEXT($Y$7,\"aaa-yy\")),'AİDAT GİRİŞİ'!$D:$D)","v":0},{"$f":"SUMIF('AİDAT GİRİŞİ'!$F:$F,\"=\"&($B117&TEXT($Z$7,\"aaa-yy\")),'AİDAT GİRİŞİ'!$D:$D)","v":0},{"$f":"SUMIF('AİDAT GİRİŞİ'!$F:$F,\"=\"&($B117&TEXT($AA$7,\"aaa-yy\")),'AİDAT GİRİŞİ'!$D:$D)","v":0},{"$f":"SUMIF('AİDAT GİRİŞİ'!$F:$F,\"=\"&($B117&TEXT($AB$7,\"aaa-yy\")),'AİDAT GİRİŞİ'!$D:$D)","v":0},0]
[112,{"$f":"IF(ISERROR(VLOOKUP(A118,'ÜYE KAYIT LİSTESİ'!A:B,2,0)=TRUE),\"\",VLOOKUP(A118,'ÜYE KAYIT LİSTESİ'!A:B,2,0))","v":""},{"$f":"SUMIF('AİDAT GİRİŞİ'!$F:$F,\"=\"&(B118&TEXT($Q$7,\"aaa-yy\")),'AİDAT GİRİŞİ'!$D:$D)","v":0},{"$f":"SUMIF('AİDAT GİRİŞİ'!$F:$F,\"=\"&($B118&TEXT($R$7,\"aaa-yy\")),'AİDAT GİRİŞİ'!$D:$D)","v":0},{"$f":"SUMIF('AİDAT GİRİŞİ'!$F:$F,\"=\"&($B118&TEXT($S$7,\"aaa-yy\")),'AİDAT GİRİŞİ'!$D:$D)","v":0},{"$f":"SUMIF('AİDAT GİRİŞİ'!$F:$F,\"=\"&($B118&TEXT($T$7,\"aaa-yy\")),'AİDAT GİRİŞİ'!$D:$D)","v":0},{"$f":"SUMIF('AİDAT GİRİŞİ'!$F:$F,\"=\"&($B118&TEXT($U$7,\"aaa-yy\")),'AİDAT GİRİŞİ'!$D:$D)","v":0},{"$f":"SUMIF('AİDAT GİRİŞİ'!$F:$F,\"=\"&($B118&TEXT($V$7,\"aaa-yy\")),'AİDAT GİRİŞİ'!$D:$D)","v":0},{"$f":"SUMIF('AİDAT GİRİŞİ'!$F:$F,\"=\"&($B118&TEXT($W$7,\"aaa-yy\")),'AİDAT GİRİŞİ'!$D:$D)","v":0},{"$f":"SUMIF('AİDAT GİRİŞİ'!$F:$F,\"=\"&($B118&TEXT($X$7,\"aaa-yy\")),'AİDAT GİRİŞİ'!$D:$D)","v":0},{"$f":"SUMIF('AİDAT GİRİŞİ'!$F:$F,\"=\"&($B118&TEXT($Y$7,\"aaa-yy\")),'AİDAT GİRİŞİ'!$D:$D)","v":0},{"$f":"SUMIF('AİDAT GİRİŞİ'!$F:$F,\"=\"&($B118&TEXT($Z$7,\"aaa-yy\")),'AİDAT GİRİŞİ'!$D:$D)","v":0},{"$f":"SUMIF('AİDAT GİRİŞİ'!$F:$F,\"=\"&($B118&TEXT($AA$7,\"aaa-yy\")),'AİDAT GİRİŞİ'!$D:$D)","v":0},{"$f":"SUMIF('AİDAT GİRİŞİ'!$F:$F,\"=\"&($B118&TEXT($AB$7,\"aaa-yy\")),'AİDAT GİRİŞİ'!$D:$D)","v":0},0]
[113,{"$f":"IF(ISERROR(VLOOKUP(A119,'ÜYE KAYIT LİSTESİ'!A:B,2,0)=TRUE),\"\",VLOOKUP(A119,'ÜYE KAYIT LİSTESİ'!A:B,2,0))","v":""},{"$f":"SUMIF('AİDAT GİRİŞİ'!$F:$F,\"=\"&(B119&TEXT($Q$7,\"aaa-yy\")),'AİDAT GİRİŞİ'!$D:$D)","v":0},{"$f":"SUMIF('AİDAT GİRİŞİ'!$F:$F,\"=\"&($B119&TEXT($R$7,\"aaa-yy\")),'AİDAT GİRİŞİ'!$D:$D)","v":0},{"$f":"SUMIF('AİDAT GİRİŞİ'!$F:$F,\"=\"&($B119&TEXT($S$7,\"aaa-yy\")),'AİDAT GİRİŞİ'!$D:$D)","v":0},{"$f":"SUMIF('AİDAT GİRİŞİ'!$F:$F,\"=\"&($B119&TEXT($T$7,\"aaa-yy\")),'AİDAT GİRİŞİ'!$D:$D)","v":0},{"$f":"SUMIF('AİDAT GİRİŞİ'!$F:$F,\"=\"&($B119&TEXT($U$7,\"aaa-yy\")),'AİDAT GİRİŞİ'!$D:$D)","v":0},{"$f":"SUMIF('AİDAT GİRİŞİ'!$F:$F,\"=\"&($B119&TEXT($V$7,\"aaa-yy\")),'AİDAT GİRİŞİ'!$D:$D)","v":0},{"$f":"SUMIF('AİDAT GİRİŞİ'!$F:$F,\"=\"&($B119&TEXT($W$7,\"aaa-yy\")),'AİDAT GİRİŞİ'!$D:$D)","v":0},{"$f":"SUMIF('AİDAT GİRİŞİ'!$F:$F,\"=\"&($B119&TEXT($X$7,\"aaa-yy\")),'AİDAT GİRİŞİ'!$D:$D)","v":0},{"$f":"SUMIF('AİDAT GİRİŞİ'!$F:$F,\"=\"&($B119&TEXT($Y$7,\"aaa-yy\")),'AİDAT GİRİŞİ'!$D:$D)","v":0},{"$f":"SUMIF('AİDAT GİRİŞİ'!$F:$F,\"=\"&($B119&TEXT($Z$7,\"aaa-yy\")),'AİDAT GİRİŞİ'!$D:$D)","v":0},{"$f":"SUMIF('AİDAT GİRİŞİ'!$F:$F,\"=\"&($B119&TEXT($AA$7,\"aaa-yy\")),'AİDAT GİRİŞİ'!$D:$D)","v":0},{"$f":"SUMIF('AİDAT GİRİŞİ'!$F:$F,\"=\"&($B119&TEXT($AB$7,\"aaa-yy\")),'AİDAT GİRİŞİ'!$D:$D)","v":0},0]
[114,{"$f":"IF(ISERROR(VLOOKUP(A120,'ÜYE KAYIT LİSTESİ'!A:B,2,0)=TRUE),\"\",VLOOKUP(A120,'ÜYE KAYIT LİSTESİ'!A:B,2,0))","v":""},{"$f":"SUMIF('AİDAT GİRİŞİ'!$F:$F,\"=\"&(B120&TEXT($Q$7,\"aaa-yy\")),'AİDAT GİRİŞİ'!$D:$D)","v":0},{"$f":"SUMIF('AİDAT GİRİŞİ'!$F:$F,\"=\"&($B120&TEXT($R$7,\"aaa-yy\")),'AİDAT GİRİŞİ'!$D:$D)","v":0},{"$f":"SUMIF('AİDAT GİRİŞİ'!$F:$F,\"=\"&($B120&TEXT($S$7,\"aaa-yy\")),'AİDAT GİRİŞİ'!$D:$D)","v":0},{"$f":"SUMIF('AİDAT GİRİŞİ'!$F:$F,\"=\"&($B120&TEXT($T$7,\"aaa-yy\")),'AİDAT GİRİŞİ'!$D:$D)","v":0},{"$f":"SUMIF('AİDAT GİRİŞİ'!$F:$F,\"=\"&($B120&TEXT($U$7,\"aaa-yy\")),'AİDAT GİRİŞİ'!$D:$D)","v":0},{"$f":"SUMIF('AİDAT GİRİŞİ'!$F:$F,\"=\"&($B120&TEXT($V$7,\"aaa-yy\")),'AİDAT GİRİŞİ'!$D:$D)","v":0},{"$f":"SUMIF('AİDAT GİRİŞİ'!$F:$F,\"=\"&($B120&TEXT($W$7,\"aaa-yy\")),'AİDAT GİRİŞİ'!$D:$D)","v":0},{"$f":"SUMIF('AİDAT GİRİŞİ'!$F:$F,\"=\"&($B120&TEXT($X$7,\"aaa-yy\")),'AİDAT GİRİŞİ'!$D:$D)","v":0},{"$f":"SUMIF('AİDAT GİRİŞİ'!$F:$F,\"=\"&($B120&TEXT($Y$7,\"aaa-yy\")),'AİDAT GİRİŞİ'!$D:$D)","v":0},{"$f":"SUMIF('AİDAT GİRİŞİ'!$F:$F,\"=\"&($B120&TEXT($Z$7,\"aaa-yy\")),'AİDAT GİRİŞİ'!$D:$D)","v":0},{"$f":"SUMIF('AİDAT GİRİŞİ'!$F:$F,\"=\"&($B120&TEXT($AA$7,\"aaa-yy\")),'AİDAT GİRİŞİ'!$D:$D)","v":0},{"$f":"SUMIF('AİDAT GİRİŞİ'!$F:$F,\"=\"&($B120&TEXT($AB$7,\"aaa-yy\")),'AİDAT GİRİŞİ'!$D:$D)","v":0},0]
[115,{"$f":"IF(ISERROR(VLOOKUP(A121,'ÜYE KAYIT LİSTESİ'!A:B,2,0)=TRUE),\"\",VLOOKUP(A121,'ÜYE KAYIT LİSTESİ'!A:B,2,0))","v":""},{"$f":"SUMIF('AİDAT GİRİŞİ'!$F:$F,\"=\"&(B121&TEXT($Q$7,\"aaa-yy\")),'AİDAT GİRİŞİ'!$D:$D)","v":0},{"$f":"SUMIF('AİDAT GİRİŞİ'!$F:$F,\"=\"&($B121&TEXT($R$7,\"aaa-yy\")),'AİDAT GİRİŞİ'!$D:$D)","v":0},{"$f":"SUMIF('AİDAT GİRİŞİ'!$F:$F,\"=\"&($B121&TEXT($S$7,\"aaa-yy\")),'AİDAT GİRİŞİ'!$D:$D)","v":0},{"$f":"SUMIF('AİDAT GİRİŞİ'!$F:$F,\"=\"&($B121&TEXT($T$7,\"aaa-yy\")),'AİDAT GİRİŞİ'!$D:$D)","v":0},{"$f":"SUMIF('AİDAT GİRİŞİ'!$F:$F,\"=\"&($B121&TEXT($U$7,\"aaa-yy\")),'AİDAT GİRİŞİ'!$D:$D)","v":0},{"$f":"SUMIF('AİDAT GİRİŞİ'!$F:$F,\"=\"&($B121&TEXT($V$7,\"aaa-yy\")),'AİDAT GİRİŞİ'!$D:$D)","v":0},{"$f":"SUMIF('AİDAT GİRİŞİ'!$F:$F,\"=\"&($B121&TEXT($W$7,\"aaa-yy\")),'AİDAT GİRİŞİ'!$D:$D)","v":0},{"$f":"SUMIF('AİDAT GİRİŞİ'!$F:$F,\"=\"&($B121&TEXT($X$7,\"aaa-yy\")),'AİDAT GİRİŞİ'!$D:$D)","v":0},{"$f":"SUMIF('AİDAT GİRİŞİ'!$F:$F,\"=\"&($B121&TEXT($Y$7,\"aaa-yy\")),'AİDAT GİRİŞİ'!$D:$D)","v":0},{"$f":"SUMIF('AİDAT GİRİŞİ'!$F:$F,\"=\"&($B121&TEXT($Z$7,\"aaa-yy\")),'AİDAT GİRİŞİ'!$D:$D)","v":0},{"$f":"SUMIF('AİDAT GİRİŞİ'!$F:$F,\"=\"&($B121&TEXT($AA$7,\"aaa-yy\")),'AİDAT GİRİŞİ'!$D:$D)","v":0},{"$f":"SUMIF('AİDAT GİRİŞİ'!$F:$F,\"=\"&($B121&TEXT($AB$7,\"aaa-yy\")),'AİDAT GİRİŞİ'!$D:$D)","v":0},0]
[116,{"$f":"IF(ISERROR(VLOOKUP(A122,'ÜYE KAYIT LİSTESİ'!A:B,2,0)=TRUE),\"\",VLOOKUP(A122,'ÜYE KAYIT LİSTESİ'!A:B,2,0))","v":""},{"$f":"SUMIF('AİDAT GİRİŞİ'!$F:$F,\"=\"&(B122&TEXT($Q$7,\"aaa-yy\")),'AİDAT GİRİŞİ'!$D:$D)","v":0},{"$f":"SUMIF('AİDAT GİRİŞİ'!$F:$F,\"=\"&($B122&TEXT($R$7,\"aaa-yy\")),'AİDAT GİRİŞİ'!$D:$D)","v":0},{"$f":"SUMIF('AİDAT GİRİŞİ'!$F:$F,\"=\"&($B122&TEXT($S$7,\"aaa-yy\")),'AİDAT GİRİŞİ'!$D:$D)","v":0},{"$f":"SUMIF('AİDAT GİRİŞİ'!$F:$F,\"=\"&($B122&TEXT($T$7,\"aaa-yy\")),'AİDAT GİRİŞİ'!$D:$D)","v":0},{"$f":"SUMIF('AİDAT GİRİŞİ'!$F:$F,\"=\"&($B122&TEXT($U$7,\"aaa-yy\")),'AİDAT GİRİŞİ'!$D:$D)","v":0},{"$f":"SUMIF('AİDAT GİRİŞİ'!$F:$F,\"=\"&($B122&TEXT($V$7,\"aaa-yy\")),'AİDAT GİRİŞİ'!$D:$D)","v":0},{"$f":"SUMIF('AİDAT GİRİŞİ'!$F:$F,\"=\"&($B122&TEXT($W$7,\"aaa-yy\")),'AİDAT GİRİŞİ'!$D:$D)","v":0},{"$f":"SUMIF('AİDAT GİRİŞİ'!$F:$F,\"=\"&($B122&TEXT($X$7,\"aaa-yy\")),'AİDAT GİRİŞİ'!$D:$D)","v":0},{"$f":"SUMIF('AİDAT GİRİŞİ'!$F:$F,\"=\"&($B122&TEXT($Y$7,\"aaa-yy\")),'AİDAT GİRİŞİ'!$D:$D)","v":0},{"$f":"SUMIF('AİDAT GİRİŞİ'!$F:$F,\"=\"&($B122&TEXT($Z$7,\"aaa-yy\")),'AİDAT GİRİŞİ'!$D:$D)","v":0},{"$f":"SUMIF('AİDAT GİRİŞİ'!$F:$F,\"=\"&($B122&TEXT($AA$7,\"aaa-yy\")),'AİDAT GİRİŞİ'!$D:$D)","v":0},{"$f":"SUMIF('AİDAT GİRİŞİ'!$F:$F,\"=\"&($B122&TEXT($AB$7,\"aaa-yy\")),'AİDAT GİRİŞİ'!$D:$D)","v":0},0]
[117,{"$f":"IF(ISERROR(VLOOKUP(A123,'ÜYE KAYIT LİSTESİ'!A:B,2,0)=TRUE),\"\",VLOOKUP(A123,'ÜYE KAYIT LİSTESİ'!A:B,2,0))","v":""},{"$f":"SUMIF('AİDAT GİRİŞİ'!$F:$F,\"=\"&(B123&TEXT($Q$7,\"aaa-yy\")),'AİDAT GİRİŞİ'!$D:$D)","v":0},{"$f":"SUMIF('AİDAT GİRİŞİ'!$F:$F,\"=\"&($B123&TEXT($R$7,\"aaa-yy\")),'AİDAT GİRİŞİ'!$D:$D)","v":0},{"$f":"SUMIF('AİDAT GİRİŞİ'!$F:$F,\"=\"&($B123&TEXT($S$7,\"aaa-yy\")),'AİDAT GİRİŞİ'!$D:$D)","v":0},{"$f":"SUMIF('AİDAT GİRİŞİ'!$F:$F,\"=\"&($B123&TEXT($T$7,\"aaa-yy\")),'AİDAT GİRİŞİ'!$D:$D)","v":0},{"$f":"SUMIF('AİDAT GİRİŞİ'!$F:$F,\"=\"&($B123&TEXT($U$7,\"aaa-yy\")),'AİDAT GİRİŞİ'!$D:$D)","v":0},{"$f":"SUMIF('AİDAT GİRİŞİ'!$F:$F,\"=\"&($B123&TEXT($V$7,\"aaa-yy\")),'AİDAT GİRİŞİ'!$D:$D)","v":0},{"$f":"SUMIF('AİDAT GİRİŞİ'!$F:$F,\"=\"&($B123&TEXT($W$7,\"aaa-yy\")),'AİDAT GİRİŞİ'!$D:$D)","v":0},{"$f":"SUMIF('AİDAT GİRİŞİ'!$F:$F,\"=\"&($B123&TEXT($X$7,\"aaa-yy\")),'AİDAT GİRİŞİ'!$D:$D)","v":0},{"$f":"SUMIF('AİDAT GİRİŞİ'!$F:$F,\"=\"&($B123&TEXT($Y$7,\"aaa-yy\")),'AİDAT GİRİŞİ'!$D:$D)","v":0},{"$f":"SUMIF('AİDAT GİRİŞİ'!$F:$F,\"=\"&($B123&TEXT($Z$7,\"aaa-yy\")),'AİDAT GİRİŞİ'!$D:$D)","v":0},{"$f":"SUMIF('AİDAT GİRİŞİ'!$F:$F,\"=\"&($B123&TEXT($AA$7,\"aaa-yy\")),'AİDAT GİRİŞİ'!$D:$D)","v":0},{"$f":"SUMIF('AİDAT GİRİŞİ'!$F:$F,\"=\"&($B123&TEXT($AB$7,\"aaa-yy\")),'AİDAT GİRİŞİ'!$D:$D)","v":0},0]
[118,{"$f":"IF(ISERROR(VLOOKUP(A124,'ÜYE KAYIT LİSTESİ'!A:B,2,0)=TRUE),\"\",VLOOKUP(A124,'ÜYE KAYIT LİSTESİ'!A:B,2,0))","v":""},{"$f":"SUMIF('AİDAT GİRİŞİ'!$F:$F,\"=\"&(B124&TEXT($Q$7,\"aaa-yy\")),'AİDAT GİRİŞİ'!$D:$D)","v":0},{"$f":"SUMIF('AİDAT GİRİŞİ'!$F:$F,\"=\"&($B124&TEXT($R$7,\"aaa-yy\")),'AİDAT GİRİŞİ'!$D:$D)","v":0},{"$f":"SUMIF('AİDAT GİRİŞİ'!$F:$F,\"=\"&($B124&TEXT($S$7,\"aaa-yy\")),'AİDAT GİRİŞİ'!$D:$D)","v":0},{"$f":"SUMIF('AİDAT GİRİŞİ'!$F:$F,\"=\"&($B124&TEXT($T$7,\"aaa-yy\")),'AİDAT GİRİŞİ'!$D:$D)","v":0},{"$f":"SUMIF('AİDAT GİRİŞİ'!$F:$F,\"=\"&($B124&TEXT($U$7,\"aaa-yy\")),'AİDAT GİRİŞİ'!$D:$D)","v":0},{"$f":"SUMIF('AİDAT GİRİŞİ'!$F:$F,\"=\"&($B124&TEXT($V$7,\"aaa-yy\")),'AİDAT GİRİŞİ'!$D:$D)","v":0},{"$f":"SUMIF('AİDAT GİRİŞİ'!$F:$F,\"=\"&($B124&TEXT($W$7,\"aaa-yy\")),'AİDAT GİRİŞİ'!$D:$D)","v":0},{"$f":"SUMIF('AİDAT GİRİŞİ'!$F:$F,\"=\"&($B124&TEXT($X$7,\"aaa-yy\")),'AİDAT GİRİŞİ'!$D:$D)","v":0},{"$f":"SUMIF('AİDAT GİRİŞİ'!$F:$F,\"=\"&($B124&TEXT($Y$7,\"aaa-yy\")),'AİDAT GİRİŞİ'!$D:$D)","v":0},{"$f":"SUMIF('AİDAT GİRİŞİ'!$F:$F,\"=\"&($B124&TEXT($Z$7,\"aaa-yy\")),'AİDAT GİRİŞİ'!$D:$D)","v":0},{"$f":"SUMIF('AİDAT GİRİŞİ'!$F:$F,\"=\"&($B124&TEXT($AA$7,\"aaa-yy\")),'AİDAT GİRİŞİ'!$D:$D)","v":0},{"$f":"SUMIF('AİDAT GİRİŞİ'!$F:$F,\"=\"&($B124&TEXT($AB$7,\"aaa-yy\")),'AİDAT GİRİŞİ'!$D:$D)","v":0},0]
[119,{"$f":"IF(ISERROR(VLOOKUP(A125,'ÜYE KAYIT LİSTESİ'!A:B,2,0)=TRUE),\"\",VLOOKUP(A125,'ÜYE KAYIT LİSTESİ'!A:B,2,0))","v":""},{"$f":"SUMIF('AİDAT GİRİŞİ'!$F:$F,\"=\"&(B125&TEXT($Q$7,\"aaa-yy\")),'AİDAT GİRİŞİ'!$D:$D)","v":0},{"$f":"SUMIF('AİDAT GİRİŞİ'!$F:$F,\"=\"&($B125&TEXT($R$7,\"aaa-yy\")),'AİDAT GİRİŞİ'!$D:$D)","v":0},{"$f":"SUMIF('AİDAT GİRİŞİ'!$F:$F,\"=\"&($B125&TEXT($S$7,\"aaa-yy\")),'AİDAT GİRİŞİ'!$D:$D)","v":0},{"$f":"SUMIF('AİDAT GİRİŞİ'!$F:$F,\"=\"&($B125&TEXT($T$7,\"aaa-yy\")),'AİDAT GİRİŞİ'!$D:$D)","v":0},{"$f":"SUMIF('AİDAT GİRİŞİ'!$F:$F,\"=\"&($B125&TEXT($U$7,\"aaa-yy\")),'AİDAT GİRİŞİ'!$D:$D)","v":0},{"$f":"SUMIF('AİDAT GİRİŞİ'!$F:$F,\"=\"&($B125&TEXT($V$7,\"aaa-yy\")),'AİDAT GİRİŞİ'!$D:$D)","v":0},{"$f":"SUMIF('AİDAT GİRİŞİ'!$F:$F,\"=\"&($B125&TEXT($W$7,\"aaa-yy\")),'AİDAT GİRİŞİ'!$D:$D)","v":0},{"$f":"SUMIF('AİDAT GİRİŞİ'!$F:$F,\"=\"&($B125&TEXT($X$7,\"aaa-yy\")),'AİDAT GİRİŞİ'!$D:$D)","v":0},{"$f":"SUMIF('AİDAT GİRİŞİ'!$F:$F,\"=\"&($B125&TEXT($Y$7,\"aaa-yy\")),'AİDAT GİRİŞİ'!$D:$D)","v":0},{"$f":"SUMIF('AİDAT GİRİŞİ'!$F:$F,\"=\"&($B125&TEXT($Z$7,\"aaa-yy\")),'AİDAT GİRİŞİ'!$D:$D)","v":0},{"$f":"SUMIF('AİDAT GİRİŞİ'!$F:$F,\"=\"&($B125&TEXT($AA$7,\"aaa-yy\")),'AİDAT GİRİŞİ'!$D:$D)","v":0},{"$f":"SUMIF('AİDAT GİRİŞİ'!$F:$F,\"=\"&($B125&TEXT($AB$7,\"aaa-yy\")),'AİDAT GİRİŞİ'!$D:$D)","v":0},0]
[120,{"$f":"IF(ISERROR(VLOOKUP(A126,'ÜYE KAYIT LİSTESİ'!A:B,2,0)=TRUE),\"\",VLOOKUP(A126,'ÜYE KAYIT LİSTESİ'!A:B,2,0))","v":""},{"$f":"SUMIF('AİDAT GİRİŞİ'!$F:$F,\"=\"&(B126&TEXT($Q$7,\"aaa-yy\")),'AİDAT GİRİŞİ'!$D:$D)","v":0},{"$f":"SUMIF('AİDAT GİRİŞİ'!$F:$F,\"=\"&($B126&TEXT($R$7,\"aaa-yy\")),'AİDAT GİRİŞİ'!$D:$D)","v":0},{"$f":"SUMIF('AİDAT GİRİŞİ'!$F:$F,\"=\"&($B126&TEXT($S$7,\"aaa-yy\")),'AİDAT GİRİŞİ'!$D:$D)","v":0},{"$f":"SUMIF('AİDAT GİRİŞİ'!$F:$F,\"=\"&($B126&TEXT($T$7,\"aaa-yy\")),'AİDAT GİRİŞİ'!$D:$D)","v":0},{"$f":"SUMIF('AİDAT GİRİŞİ'!$F:$F,\"=\"&($B126&TEXT($U$7,\"aaa-yy\")),'AİDAT GİRİŞİ'!$D:$D)","v":0},{"$f":"SUMIF('AİDAT GİRİŞİ'!$F:$F,\"=\"&($B126&TEXT($V$7,\"aaa-yy\")),'AİDAT GİRİŞİ'!$D:$D)","v":0},{"$f":"SUMIF('AİDAT GİRİŞİ'!$F:$F,\"=\"&($B126&TEXT($W$7,\"aaa-yy\")),'AİDAT GİRİŞİ'!$D:$D)","v":0},{"$f":"SUMIF('AİDAT GİRİŞİ'!$F:$F,\"=\"&($B126&TEXT($X$7,\"aaa-yy\")),'AİDAT GİRİŞİ'!$D:$D)","v":0},{"$f":"SUMIF('AİDAT GİRİŞİ'!$F:$F,\"=\"&($B126&TEXT($Y$7,\"aaa-yy\")),'AİDAT GİRİŞİ'!$D:$D)","v":0},{"$f":"SUMIF('AİDAT GİRİŞİ'!$F:$F,\"=\"&($B126&TEXT($Z$7,\"aaa-yy\")),'AİDAT GİRİŞİ'!$D:$D)","v":0},{"$f":"SUMIF('AİDAT GİRİŞİ'!$F:$F,\"=\"&($B126&TEXT($AA$7,\"aaa-yy\")),'AİDAT GİRİŞİ'!$D:$D)","v":0},{"$f":"SUMIF('AİDAT GİRİŞİ'!$F:$F,\"=\"&($B126&TEXT($AB$7,\"aaa-yy\")),'AİDAT GİRİŞİ'!$D:$D)","v":0},0]
[121,{"$f":"IF(ISERROR(VLOOKUP(A127,'ÜYE KAYIT LİSTESİ'!A:B,2,0)=TRUE),\"\",VLOOKUP(A127,'ÜYE KAYIT LİSTESİ'!A:B,2,0))","v":""},{"$f":"SUMIF('AİDAT GİRİŞİ'!$F:$F,\"=\"&(B127&TEXT($Q$7,\"aaa-yy\")),'AİDAT GİRİŞİ'!$D:$D)","v":0},{"$f":"SUMIF('AİDAT GİRİŞİ'!$F:$F,\"=\"&($B127&TEXT($R$7,\"aaa-yy\")),'AİDAT GİRİŞİ'!$D:$D)","v":0},{"$f":"SUMIF('AİDAT GİRİŞİ'!$F:$F,\"=\"&($B127&TEXT($S$7,\"aaa-yy\")),'AİDAT GİRİŞİ'!$D:$D)","v":0},{"$f":"SUMIF('AİDAT GİRİŞİ'!$F:$F,\"=\"&($B127&TEXT($T$7,\"aaa-yy\")),'AİDAT GİRİŞİ'!$D:$D)","v":0},{"$f":"SUMIF('AİDAT GİRİŞİ'!$F:$F,\"=\"&($B127&TEXT($U$7,\"aaa-yy\")),'AİDAT GİRİŞİ'!$D:$D)","v":0},{"$f":"SUMIF('AİDAT GİRİŞİ'!$F:$F,\"=\"&($B127&TEXT($V$7,\"aaa-yy\")),'AİDAT GİRİŞİ'!$D:$D)","v":0},{"$f":"SUMIF('AİDAT GİRİŞİ'!$F:$F,\"=\"&($B127&TEXT($W$7,\"aaa-yy\")),'AİDAT GİRİŞİ'!$D:$D)","v":0},{"$f":"SUMIF('AİDAT GİRİŞİ'!$F:$F,\"=\"&($B127&TEXT($X$7,\"aaa-yy\")),'AİDAT GİRİŞİ'!$D:$D)","v":0},{"$f":"SUMIF('AİDAT GİRİŞİ'!$F:$F,\"=\"&($B127&TEXT($Y$7,\"aaa-yy\")),'AİDAT GİRİŞİ'!$D:$D)","v":0},{"$f":"SUMIF('AİDAT GİRİŞİ'!$F:$F,\"=\"&($B127&TEXT($Z$7,\"aaa-yy\")),'AİDAT GİRİŞİ'!$D:$D)","v":0},{"$f":"SUMIF('AİDAT GİRİŞİ'!$F:$F,\"=\"&($B127&TEXT($AA$7,\"aaa-yy\")),'AİDAT GİRİŞİ'!$D:$D)","v":0},{"$f":"SUMIF('AİDAT GİRİŞİ'!$F:$F,\"=\"&($B127&TEXT($AB$7,\"aaa-yy\")),'AİDAT GİRİŞİ'!$D:$D)","v":0},0]
[122,{"$f":"IF(ISERROR(VLOOKUP(A128,'ÜYE KAYIT LİSTESİ'!A:B,2,0)=TRUE),\"\",VLOOKUP(A128,'ÜYE KAYIT LİSTESİ'!A:B,2,0))","v":""},{"$f":"SUMIF('AİDAT GİRİŞİ'!$F:$F,\"=\"&(B128&TEXT($Q$7,\"aaa-yy\")),'AİDAT GİRİŞİ'!$D:$D)","v":0},{"$f":"SUMIF('AİDAT GİRİŞİ'!$F:$F,\"=\"&($B128&TEXT($R$7,\"aaa-yy\")),'AİDAT GİRİŞİ'!$D:$D)","v":0},{"$f":"SUMIF('AİDAT GİRİŞİ'!$F:$F,\"=\"&($B128&TEXT($S$7,\"aaa-yy\")),'AİDAT GİRİŞİ'!$D:$D)","v":0},{"$f":"SUMIF('AİDAT GİRİŞİ'!$F:$F,\"=\"&($B128&TEXT($T$7,\"aaa-yy\")),'AİDAT GİRİŞİ'!$D:$D)","v":0},{"$f":"SUMIF('AİDAT GİRİŞİ'!$F:$F,\"=\"&($B128&TEXT($U$7,\"aaa-yy\")),'AİDAT GİRİŞİ'!$D:$D)","v":0},{"$f":"SUMIF('AİDAT GİRİŞİ'!$F:$F,\"=\"&($B128&TEXT($V$7,\"aaa-yy\")),'AİDAT GİRİŞİ'!$D:$D)","v":0},{"$f":"SUMIF('AİDAT GİRİŞİ'!$F:$F,\"=\"&($B128&TEXT($W$7,\"aaa-yy\")),'AİDAT GİRİŞİ'!$D:$D)","v":0},{"$f":"SUMIF('AİDAT GİRİŞİ'!$F:$F,\"=\"&($B128&TEXT($X$7,\"aaa-yy\")),'AİDAT GİRİŞİ'!$D:$D)","v":0},{"$f":"SUMIF('AİDAT GİRİŞİ'!$F:$F,\"=\"&($B128&TEXT($Y$7,\"aaa-yy\")),'AİDAT GİRİŞİ'!$D:$D)","v":0},{"$f":"SUMIF('AİDAT GİRİŞİ'!$F:$F,\"=\"&($B128&TEXT($Z$7,\"aaa-yy\")),'AİDAT GİRİŞİ'!$D:$D)","v":0},{"$f":"SUMIF('AİDAT GİRİŞİ'!$F:$F,\"=\"&($B128&TEXT($AA$7,\"aaa-yy\")),'AİDAT GİRİŞİ'!$D:$D)","v":0},{"$f":"SUMIF('AİDAT GİRİŞİ'!$F:$F,\"=\"&($B128&TEXT($AB$7,\"aaa-yy\")),'AİDAT GİRİŞİ'!$D:$D)","v":0},0]
[123,{"$f":"IF(ISERROR(VLOOKUP(A129,'ÜYE KAYIT LİSTESİ'!A:B,2,0)=TRUE),\"\",VLOOKUP(A129,'ÜYE KAYIT LİSTESİ'!A:B,2,0))","v":""},{"$f":"SUMIF('AİDAT GİRİŞİ'!$F:$F,\"=\"&(B129&TEXT($Q$7,\"aaa-yy\")),'AİDAT GİRİŞİ'!$D:$D)","v":0},{"$f":"SUMIF('AİDAT GİRİŞİ'!$F:$F,\"=\"&($B129&TEXT($R$7,\"aaa-yy\")),'AİDAT GİRİŞİ'!$D:$D)","v":0},{"$f":"SUMIF('AİDAT GİRİŞİ'!$F:$F,\"=\"&($B129&TEXT($S$7,\"aaa-yy\")),'AİDAT GİRİŞİ'!$D:$D)","v":0},{"$f":"SUMIF('AİDAT GİRİŞİ'!$F:$F,\"=\"&($B129&TEXT($T$7,\"aaa-yy\")),'AİDAT GİRİŞİ'!$D:$D)","v":0},{"$f":"SUMIF('AİDAT GİRİŞİ'!$F:$F,\"=\"&($B129&TEXT($U$7,\"aaa-yy\")),'AİDAT GİRİŞİ'!$D:$D)","v":0},{"$f":"SUMIF('AİDAT GİRİŞİ'!$F:$F,\"=\"&($B129&TEXT($V$7,\"aaa-yy\")),'AİDAT GİRİŞİ'!$D:$D)","v":0},{"$f":"SUMIF('AİDAT GİRİŞİ'!$F:$F,\"=\"&($B129&TEXT($W$7,\"aaa-yy\")),'AİDAT GİRİŞİ'!$D:$D)","v":0},{"$f":"SUMIF('AİDAT GİRİŞİ'!$F:$F,\"=\"&($B129&TEXT($X$7,\"aaa-yy\")),'AİDAT GİRİŞİ'!$D:$D)","v":0},{"$f":"SUMIF('AİDAT GİRİŞİ'!$F:$F,\"=\"&($B129&TEXT($Y$7,\"aaa-yy\")),'AİDAT GİRİŞİ'!$D:$D)","v":0},{"$f":"SUMIF('AİDAT GİRİŞİ'!$F:$F,\"=\"&($B129&TEXT($Z$7,\"aaa-yy\")),'AİDAT GİRİŞİ'!$D:$D)","v":0},{"$f":"SUMIF('AİDAT GİRİŞİ'!$F:$F,\"=\"&($B129&TEXT($AA$7,\"aaa-yy\")),'AİDAT GİRİŞİ'!$D:$D)","v":0},{"$f":"SUMIF('AİDAT GİRİŞİ'!$F:$F,\"=\"&($B129&TEXT($AB$7,\"aaa-yy\")),'AİDAT GİRİŞİ'!$D:$D)","v":0},0]
[124,{"$f":"IF(ISERROR(VLOOKUP(A130,'ÜYE KAYIT LİSTESİ'!A:B,2,0)=TRUE),\"\",VLOOKUP(A130,'ÜYE KAYIT LİSTESİ'!A:B,2,0))","v":""},{"$f":"SUMIF('AİDAT GİRİŞİ'!$F:$F,\"=\"&(B130&TEXT($Q$7,\"aaa-yy\")),'AİDAT GİRİŞİ'!$D:$D)","v":0},{"$f":"SUMIF('AİDAT GİRİŞİ'!$F:$F,\"=\"&($B130&TEXT($R$7,\"aaa-yy\")),'AİDAT GİRİŞİ'!$D:$D)","v":0},{"$f":"SUMIF('AİDAT GİRİŞİ'!$F:$F,\"=\"&($B130&TEXT($S$7,\"aaa-yy\")),'AİDAT GİRİŞİ'!$D:$D)","v":0},{"$f":"SUMIF('AİDAT GİRİŞİ'!$F:$F,\"=\"&($B130&TEXT($T$7,\"aaa-yy\")),'AİDAT GİRİŞİ'!$D:$D)","v":0},{"$f":"SUMIF('AİDAT GİRİŞİ'!$F:$F,\"=\"&($B130&TEXT($U$7,\"aaa-yy\")),'AİDAT GİRİŞİ'!$D:$D)","v":0},{"$f":"SUMIF('AİDAT GİRİŞİ'!$F:$F,\"=\"&($B130&TEXT($V$7,\"aaa-yy\")),'AİDAT GİRİŞİ'!$D:$D)","v":0},{"$f":"SUMIF('AİDAT GİRİŞİ'!$F:$F,\"=\"&($B130&TEXT($W$7,\"aaa-yy\")),'AİDAT GİRİŞİ'!$D:$D)","v":0},{"$f":"SUMIF('AİDAT GİRİŞİ'!$F:$F,\"=\"&($B130&TEXT($X$7,\"aaa-yy\")),'AİDAT GİRİŞİ'!$D:$D)","v":0},{"$f":"SUMIF('AİDAT GİRİŞİ'!$F:$F,\"=\"&($B130&TEXT($Y$7,\"aaa-yy\")),'AİDAT GİRİŞİ'!$D:$D)","v":0},{"$f":"SUMIF('AİDAT GİRİŞİ'!$F:$F,\"=\"&($B130&TEXT($Z$7,\"aaa-yy\")),'AİDAT GİRİŞİ'!$D:$D)","v":0},{"$f":"SUMIF('AİDAT GİRİŞİ'!$F:$F,\"=\"&($B130&TEXT($AA$7,\"aaa-yy\")),'AİDAT GİRİŞİ'!$D:$D)","v":0},{"$f":"SUMIF('AİDAT GİRİŞİ'!$F:$F,\"=\"&($B130&TEXT($AB$7,\"aaa-yy\")),'AİDAT GİRİŞİ'!$D:$D)","v":0},0]
[125,{"$f":"IF(ISERROR(VLOOKUP(A131,'ÜYE KAYIT LİSTESİ'!A:B,2,0)=TRUE),\"\",VLOOKUP(A131,'ÜYE KAYIT LİSTESİ'!A:B,2,0))","v":""},{"$f":"SUMIF('AİDAT GİRİŞİ'!$F:$F,\"=\"&(B131&TEXT($Q$7,\"aaa-yy\")),'AİDAT GİRİŞİ'!$D:$D)","v":0},{"$f":"SUMIF('AİDAT GİRİŞİ'!$F:$F,\"=\"&($B131&TEXT($R$7,\"aaa-yy\")),'AİDAT GİRİŞİ'!$D:$D)","v":0},{"$f":"SUMIF('AİDAT GİRİŞİ'!$F:$F,\"=\"&($B131&TEXT($S$7,\"aaa-yy\")),'AİDAT GİRİŞİ'!$D:$D)","v":0},{"$f":"SUMIF('AİDAT GİRİŞİ'!$F:$F,\"=\"&($B131&TEXT($T$7,\"aaa-yy\")),'AİDAT GİRİŞİ'!$D:$D)","v":0},{"$f":"SUMIF('AİDAT GİRİŞİ'!$F:$F,\"=\"&($B131&TEXT($U$7,\"aaa-yy\")),'AİDAT GİRİŞİ'!$D:$D)","v":0},{"$f":"SUMIF('AİDAT GİRİŞİ'!$F:$F,\"=\"&($B131&TEXT($V$7,\"aaa-yy\")),'AİDAT GİRİŞİ'!$D:$D)","v":0},{"$f":"SUMIF('AİDAT GİRİŞİ'!$F:$F,\"=\"&($B131&TEXT($W$7,\"aaa-yy\")),'AİDAT GİRİŞİ'!$D:$D)","v":0},{"$f":"SUMIF('AİDAT GİRİŞİ'!$F:$F,\"=\"&($B131&TEXT($X$7,\"aaa-yy\")),'AİDAT GİRİŞİ'!$D:$D)","v":0},{"$f":"SUMIF('AİDAT GİRİŞİ'!$F:$F,\"=\"&($B131&TEXT($Y$7,\"aaa-yy\")),'AİDAT GİRİŞİ'!$D:$D)","v":0},{"$f":"SUMIF('AİDAT GİRİŞİ'!$F:$F,\"=\"&($B131&TEXT($Z$7,\"aaa-yy\")),'AİDAT GİRİŞİ'!$D:$D)","v":0},{"$f":"SUMIF('AİDAT GİRİŞİ'!$F:$F,\"=\"&($B131&TEXT($AA$7,\"aaa-yy\")),'AİDAT GİRİŞİ'!$D:$D)","v":0},{"$f":"SUMIF('AİDAT GİRİŞİ'!$F:$F,\"=\"&($B131&TEXT($AB$7,\"aaa-yy\")),'AİDAT GİRİŞİ'!$D:$D)","v":0},0]
[126,{"$f":"IF(ISERROR(VLOOKUP(A132,'ÜYE KAYIT LİSTESİ'!A:B,2,0)=TRUE),\"\",VLOOKUP(A132,'ÜYE KAYIT LİSTESİ'!A:B,2,0))","v":""},{"$f":"SUMIF('AİDAT GİRİŞİ'!$F:$F,\"=\"&(B132&TEXT($Q$7,\"aaa-yy\")),'AİDAT GİRİŞİ'!$D:$D)","v":0},{"$f":"SUMIF('AİDAT GİRİŞİ'!$F:$F,\"=\"&($B132&TEXT($R$7,\"aaa-yy\")),'AİDAT GİRİŞİ'!$D:$D)","v":0},{"$f":"SUMIF('AİDAT GİRİŞİ'!$F:$F,\"=\"&($B132&TEXT($S$7,\"aaa-yy\")),'AİDAT GİRİŞİ'!$D:$D)","v":0},{"$f":"SUMIF('AİDAT GİRİŞİ'!$F:$F,\"=\"&($B132&TEXT($T$7,\"aaa-yy\")),'AİDAT GİRİŞİ'!$D:$D)","v":0},{"$f":"SUMIF('AİDAT GİRİŞİ'!$F:$F,\"=\"&($B132&TEXT($U$7,\"aaa-yy\")),'AİDAT GİRİŞİ'!$D:$D)","v":0},{"$f":"SUMIF('AİDAT GİRİŞİ'!$F:$F,\"=\"&($B132&TEXT($V$7,\"aaa-yy\")),'AİDAT GİRİŞİ'!$D:$D)","v":0},{"$f":"SUMIF('AİDAT GİRİŞİ'!$F:$F,\"=\"&($B132&TEXT($W$7,\"aaa-yy\")),'AİDAT GİRİŞİ'!$D:$D)","v":0},{"$f":"SUMIF('AİDAT GİRİŞİ'!$F:$F,\"=\"&($B132&TEXT($X$7,\"aaa-yy\")),'AİDAT GİRİŞİ'!$D:$D)","v":0},{"$f":"SUMIF('AİDAT GİRİŞİ'!$F:$F,\"=\"&($B132&TEXT($Y$7,\"aaa-yy\")),'AİDAT GİRİŞİ'!$D:$D)","v":0},{"$f":"SUMIF('AİDAT GİRİŞİ'!$F:$F,\"=\"&($B132&TEXT($Z$7,\"aaa-yy\")),'AİDAT GİRİŞİ'!$D:$D)","v":0},{"$f":"SUMIF('AİDAT GİRİŞİ'!$F:$F,\"=\"&($B132&TEXT($AA$7,\"aaa-yy\")),'AİDAT GİRİŞİ'!$D:$D)","v":0},{"$f":"SUMIF('AİDAT GİRİŞİ'!$F:$F,\"=\"&($B132&TEXT($AB$7,\"aaa-yy\")),'AİDAT GİRİŞİ'!$D:$D)","v":0},0]
[127,{"$f":"IF(ISERROR(VLOOKUP(A133,'ÜYE KAYIT LİSTESİ'!A:B,2,0)=TRUE),\"\",VLOOKUP(A133,'ÜYE KAYIT LİSTESİ'!A:B,2,0))","v":""},{"$f":"SUMIF('AİDAT GİRİŞİ'!$F:$F,\"=\"&(B133&TEXT($Q$7,\"aaa-yy\")),'AİDAT GİRİŞİ'!$D:$D)","v":0},{"$f":"SUMIF('AİDAT GİRİŞİ'!$F:$F,\"=\"&($B133&TEXT($R$7,\"aaa-yy\")),'AİDAT GİRİŞİ'!$D:$D)","v":0},{"$f":"SUMIF('AİDAT GİRİŞİ'!$F:$F,\"=\"&($B133&TEXT($S$7,\"aaa-yy\")),'AİDAT GİRİŞİ'!$D:$D)","v":0},{"$f":"SUMIF('AİDAT GİRİŞİ'!$F:$F,\"=\"&($B133&TEXT($T$7,\"aaa-yy\")),'AİDAT GİRİŞİ'!$D:$D)","v":0},{"$f":"SUMIF('AİDAT GİRİŞİ'!$F:$F,\"=\"&($B133&TEXT($U$7,\"aaa-yy\")),'AİDAT GİRİŞİ'!$D:$D)","v":0},{"$f":"SUMIF('AİDAT GİRİŞİ'!$F:$F,\"=\"&($B133&TEXT($V$7,\"aaa-yy\")),'AİDAT GİRİŞİ'!$D:$D)","v":0},{"$f":"SUMIF('AİDAT GİRİŞİ'!$F:$F,\"=\"&($B133&TEXT($W$7,\"aaa-yy\")),'AİDAT GİRİŞİ'!$D:$D)","v":0},{"$f":"SUMIF('AİDAT GİRİŞİ'!$F:$F,\"=\"&($B133&TEXT($X$7,\"aaa-yy\")),'AİDAT GİRİŞİ'!$D:$D)","v":0},{"$f":"SUMIF('AİDAT GİRİŞİ'!$F:$F,\"=\"&($B133&TEXT($Y$7,\"aaa-yy\")),'AİDAT GİRİŞİ'!$D:$D)","v":0},{"$f":"SUMIF('AİDAT GİRİŞİ'!$F:$F,\"=\"&($B133&TEXT($Z$7,\"aaa-yy\")),'AİDAT GİRİŞİ'!$D:$D)","v":0},{"$f":"SUMIF('AİDAT GİRİŞİ'!$F:$F,\"=\"&($B133&TEXT($AA$7,\"aaa-yy\")),'AİDAT GİRİŞİ'!$D:$D)","v":0},{"$f":"SUMIF('AİDAT GİRİŞİ'!$F:$F,\"=\"&($B133&TEXT($AB$7,\"aaa-yy\")),'AİDAT GİRİŞİ'!$D:$D)","v":0},0]
[128,{"$f":"IF(ISERROR(VLOOKUP(A134,'ÜYE KAYIT LİSTESİ'!A:B,2,0)=TRUE),\"\",VLOOKUP(A134,'ÜYE KAYIT LİSTESİ'!A:B,2,0))","v":""},{"$f":"SUMIF('AİDAT GİRİŞİ'!$F:$F,\"=\"&(B134&TEXT($Q$7,\"aaa-yy\")),'AİDAT GİRİŞİ'!$D:$D)","v":0},{"$f":"SUMIF('AİDAT GİRİŞİ'!$F:$F,\"=\"&($B134&TEXT($R$7,\"aaa-yy\")),'AİDAT GİRİŞİ'!$D:$D)","v":0},{"$f":"SUMIF('AİDAT GİRİŞİ'!$F:$F,\"=\"&($B134&TEXT($S$7,\"aaa-yy\")),'AİDAT GİRİŞİ'!$D:$D)","v":0},{"$f":"SUMIF('AİDAT GİRİŞİ'!$F:$F,\"=\"&($B134&TEXT($T$7,\"aaa-yy\")),'AİDAT GİRİŞİ'!$D:$D)","v":0},{"$f":"SUMIF('AİDAT GİRİŞİ'!$F:$F,\"=\"&($B134&TEXT($U$7,\"aaa-yy\")),'AİDAT GİRİŞİ'!$D:$D)","v":0},{"$f":"SUMIF('AİDAT GİRİŞİ'!$F:$F,\"=\"&($B134&TEXT($V$7,\"aaa-yy\")),'AİDAT GİRİŞİ'!$D:$D)","v":0},{"$f":"SUMIF('AİDAT GİRİŞİ'!$F:$F,\"=\"&($B134&TEXT($W$7,\"aaa-yy\")),'AİDAT GİRİŞİ'!$D:$D)","v":0},{"$f":"SUMIF('AİDAT GİRİŞİ'!$F:$F,\"=\"&($B134&TEXT($X$7,\"aaa-yy\")),'AİDAT GİRİŞİ'!$D:$D)","v":0},{"$f":"SUMIF('AİDAT GİRİŞİ'!$F:$F,\"=\"&($B134&TEXT($Y$7,\"aaa-yy\")),'AİDAT GİRİŞİ'!$D:$D)","v":0},{"$f":"SUMIF('AİDAT GİRİŞİ'!$F:$F,\"=\"&($B134&TEXT($Z$7,\"aaa-yy\")),'AİDAT GİRİŞİ'!$D:$D)","v":0},{"$f":"SUMIF('AİDAT GİRİŞİ'!$F:$F,\"=\"&($B134&TEXT($AA$7,\"aaa-yy\")),'AİDAT GİRİŞİ'!$D:$D)","v":0},{"$f":"SUMIF('AİDAT GİRİŞİ'!$F:$F,\"=\"&($B134&TEXT($AB$7,\"aaa-yy\")),'AİDAT GİRİŞİ'!$D:$D)","v":0},0]
[129,{"$f":"IF(ISERROR(VLOOKUP(A135,'ÜYE KAYIT LİSTESİ'!A:B,2,0)=TRUE),\"\",VLOOKUP(A135,'ÜYE KAYIT LİSTESİ'!A:B,2,0))","v":""},{"$f":"SUMIF('AİDAT GİRİŞİ'!$F:$F,\"=\"&(B135&TEXT($Q$7,\"aaa-yy\")),'AİDAT GİRİŞİ'!$D:$D)","v":0},{"$f":"SUMIF('AİDAT GİRİŞİ'!$F:$F,\"=\"&($B135&TEXT($R$7,\"aaa-yy\")),'AİDAT GİRİŞİ'!$D:$D)","v":0},{"$f":"SUMIF('AİDAT GİRİŞİ'!$F:$F,\"=\"&($B135&TEXT($S$7,\"aaa-yy\")),'AİDAT GİRİŞİ'!$D:$D)","v":0},{"$f":"SUMIF('AİDAT GİRİŞİ'!$F:$F,\"=\"&($B135&TEXT($T$7,\"aaa-yy\")),'AİDAT GİRİŞİ'!$D:$D)","v":0},{"$f":"SUMIF('AİDAT GİRİŞİ'!$F:$F,\"=\"&($B135&TEXT($U$7,\"aaa-yy\")),'AİDAT GİRİŞİ'!$D:$D)","v":0},{"$f":"SUMIF('AİDAT GİRİŞİ'!$F:$F,\"=\"&($B135&TEXT($V$7,\"aaa-yy\")),'AİDAT GİRİŞİ'!$D:$D)","v":0},{"$f":"SUMIF('AİDAT GİRİŞİ'!$F:$F,\"=\"&($B135&TEXT($W$7,\"aaa-yy\")),'AİDAT GİRİŞİ'!$D:$D)","v":0},{"$f":"SUMIF('AİDAT GİRİŞİ'!$F:$F,\"=\"&($B135&TEXT($X$7,\"aaa-yy\")),'AİDAT GİRİŞİ'!$D:$D)","v":0},{"$f":"SUMIF('AİDAT GİRİŞİ'!$F:$F,\"=\"&($B135&TEXT($Y$7,\"aaa-yy\")),'AİDAT GİRİŞİ'!$D:$D)","v":0},{"$f":"SUMIF('AİDAT GİRİŞİ'!$F:$F,\"=\"&($B135&TEXT($Z$7,\"aaa-yy\")),'AİDAT GİRİŞİ'!$D:$D)","v":0},{"$f":"SUMIF('AİDAT GİRİŞİ'!$F:$F,\"=\"&($B135&TEXT($AA$7,\"aaa-yy\")),'AİDAT GİRİŞİ'!$D:$D)","v":0},{"$f":"SUMIF('AİDAT GİRİŞİ'!$F:$F,\"=\"&($B135&TEXT($AB$7,\"aaa-yy\")),'AİDAT GİRİŞİ'!$D:$D)","v":0},{"$f":"SUM(C135:N135)","v":0}]
[130,{"$f":"IF(ISERROR(VLOOKUP(A136,'ÜYE KAYIT LİSTESİ'!A:B,2,0)=TRUE),\"\",VLOOKUP(A136,'ÜYE KAYIT LİSTESİ'!A:B,2,0))","v":""},{"$f":"SUMIF('AİDAT GİRİŞİ'!$F:$F,\"=\"&(B136&TEXT($Q$7,\"aaa-yy\")),'AİDAT GİRİŞİ'!$D:$D)","v":0},{"$f":"SUMIF('AİDAT GİRİŞİ'!$F:$F,\"=\"&($B136&TEXT($R$7,\"aaa-yy\")),'AİDAT GİRİŞİ'!$D:$D)","v":0},{"$f":"SUMIF('AİDAT GİRİŞİ'!$F:$F,\"=\"&($B136&TEXT($S$7,\"aaa-yy\")),'AİDAT GİRİŞİ'!$D:$D)","v":0},{"$f":"SUMIF('AİDAT GİRİŞİ'!$F:$F,\"=\"&($B136&TEXT($T$7,\"aaa-yy\")),'AİDAT GİRİŞİ'!$D:$D)","v":0},{"$f":"SUMIF('AİDAT GİRİŞİ'!$F:$F,\"=\"&($B136&TEXT($U$7,\"aaa-yy\")),'AİDAT GİRİŞİ'!$D:$D)","v":0},{"$f":"SUMIF('AİDAT GİRİŞİ'!$F:$F,\"=\"&($B136&TEXT($V$7,\"aaa-yy\")),'AİDAT GİRİŞİ'!$D:$D)","v":0},{"$f":"SUMIF('AİDAT GİRİŞİ'!$F:$F,\"=\"&($B136&TEXT($W$7,\"aaa-yy\")),'AİDAT GİRİŞİ'!$D:$D)","v":0},{"$f":"SUMIF('AİDAT GİRİŞİ'!$F:$F,\"=\"&($B136&TEXT($X$7,\"aaa-yy\")),'AİDAT GİRİŞİ'!$D:$D)","v":0},{"$f":"SUMIF('AİDAT GİRİŞİ'!$F:$F,\"=\"&($B136&TEXT($Y$7,\"aaa-yy\")),'AİDAT GİRİŞİ'!$D:$D)","v":0},{"$f":"SUMIF('AİDAT GİRİŞİ'!$F:$F,\"=\"&($B136&TEXT($Z$7,\"aaa-yy\")),'AİDAT GİRİŞİ'!$D:$D)","v":0},{"$f":"SUMIF('AİDAT GİRİŞİ'!$F:$F,\"=\"&($B136&TEXT($AA$7,\"aaa-yy\")),'AİDAT GİRİŞİ'!$D:$D)","v":0},{"$f":"SUMIF('AİDAT GİRİŞİ'!$F:$F,\"=\"&($B136&TEXT($AB$7,\"aaa-yy\")),'AİDAT GİRİŞİ'!$D:$D)","v":0},0]
[131,{"$f":"IF(ISERROR(VLOOKUP(A137,'ÜYE KAYIT LİSTESİ'!A:B,2,0)=TRUE),\"\",VLOOKUP(A137,'ÜYE KAYIT LİSTESİ'!A:B,2,0))","v":""},{"$f":"SUMIF('AİDAT GİRİŞİ'!$F:$F,\"=\"&(B137&TEXT($Q$7,\"aaa-yy\")),'AİDAT GİRİŞİ'!$D:$D)","v":0},{"$f":"SUMIF('AİDAT GİRİŞİ'!$F:$F,\"=\"&($B137&TEXT($R$7,\"aaa-yy\")),'AİDAT GİRİŞİ'!$D:$D)","v":0},{"$f":"SUMIF('AİDAT GİRİŞİ'!$F:$F,\"=\"&($B137&TEXT($S$7,\"aaa-yy\")),'AİDAT GİRİŞİ'!$D:$D)","v":0},{"$f":"SUMIF('AİDAT GİRİŞİ'!$F:$F,\"=\"&($B137&TEXT($T$7,\"aaa-yy\")),'AİDAT GİRİŞİ'!$D:$D)","v":0},{"$f":"SUMIF('AİDAT GİRİŞİ'!$F:$F,\"=\"&($B137&TEXT($U$7,\"aaa-yy\")),'AİDAT GİRİŞİ'!$D:$D)","v":0},{"$f":"SUMIF('AİDAT GİRİŞİ'!$F:$F,\"=\"&($B137&TEXT($V$7,\"aaa-yy\")),'AİDAT GİRİŞİ'!$D:$D)","v":0},{"$f":"SUMIF('AİDAT GİRİŞİ'!$F:$F,\"=\"&($B137&TEXT($W$7,\"aaa-yy\")),'AİDAT GİRİŞİ'!$D:$D)","v":0},{"$f":"SUMIF('AİDAT GİRİŞİ'!$F:$F,\"=\"&($B137&TEXT($X$7,\"aaa-yy\")),'AİDAT GİRİŞİ'!$D:$D)","v":0},{"$f":"SUMIF('AİDAT GİRİŞİ'!$F:$F,\"=\"&($B137&TEXT($Y$7,\"aaa-yy\")),'AİDAT GİRİŞİ'!$D:$D)","v":0},{"$f":"SUMIF('AİDAT GİRİŞİ'!$F:$F,\"=\"&($B137&TEXT($Z$7,\"aaa-yy\")),'AİDAT GİRİŞİ'!$D:$D)","v":0},{"$f":"SUMIF('AİDAT GİRİŞİ'!$F:$F,\"=\"&($B137&TEXT($AA$7,\"aaa-yy\")),'AİDAT GİRİŞİ'!$D:$D)","v":0},{"$f":"SUMIF('AİDAT GİRİŞİ'!$F:$F,\"=\"&($B137&TEXT($AB$7,\"aaa-yy\")),'AİDAT GİRİŞİ'!$D:$D)","v":0},0]
[132,{"$f":"IF(ISERROR(VLOOKUP(A138,'ÜYE KAYIT LİSTESİ'!A:B,2,0)=TRUE),\"\",VLOOKUP(A138,'ÜYE KAYIT LİSTESİ'!A:B,2,0))","v":""},{"$f":"SUMIF('AİDAT GİRİŞİ'!$F:$F,\"=\"&(B138&TEXT($Q$7,\"aaa-yy\")),'AİDAT GİRİŞİ'!$D:$D)","v":0},{"$f":"SUMIF('AİDAT GİRİŞİ'!$F:$F,\"=\"&($B138&TEXT($R$7,\"aaa-yy\")),'AİDAT GİRİŞİ'!$D:$D)","v":0},{"$f":"SUMIF('AİDAT GİRİŞİ'!$F:$F,\"=\"&($B138&TEXT($S$7,\"aaa-yy\")),'AİDAT GİRİŞİ'!$D:$D)","v":0},{"$f":"SUMIF('AİDAT GİRİŞİ'!$F:$F,\"=\"&($B138&TEXT($T$7,\"aaa-yy\")),'AİDAT GİRİŞİ'!$D:$D)","v":0},{"$f":"SUMIF('AİDAT GİRİŞİ'!$F:$F,\"=\"&($B138&TEXT($U$7,\"aaa-yy\")),'AİDAT GİRİŞİ'!$D:$D)","v":0},{"$f":"SUMIF('AİDAT GİRİŞİ'!$F:$F,\"=\"&($B138&TEXT($V$7,\"aaa-yy\")),'AİDAT GİRİŞİ'!$D:$D)","v":0},{"$f":"SUMIF('AİDAT GİRİŞİ'!$F:$F,\"=\"&($B138&TEXT($W$7,\"aaa-yy\")),'AİDAT GİRİŞİ'!$D:$D)","v":0},{"$f":"SUMIF('AİDAT GİRİŞİ'!$F:$F,\"=\"&($B138&TEXT($X$7,\"aaa-yy\")),'AİDAT GİRİŞİ'!$D:$D)","v":0},{"$f":"SUMIF('AİDAT GİRİŞİ'!$F:$F,\"=\"&($B138&TEXT($Y$7,\"aaa-yy\")),'AİDAT GİRİŞİ'!$D:$D)","v":0},{"$f":"SUMIF('AİDAT GİRİŞİ'!$F:$F,\"=\"&($B138&TEXT($Z$7,\"aaa-yy\")),'AİDAT GİRİŞİ'!$D:$D)","v":0},{"$f":"SUMIF('AİDAT GİRİŞİ'!$F:$F,\"=\"&($B138&TEXT($AA$7,\"aaa-yy\")),'AİDAT GİRİŞİ'!$D:$D)","v":0},{"$f":"SUMIF('AİDAT GİRİŞİ'!$F:$F,\"=\"&($B138&TEXT($AB$7,\"aaa-yy\")),'AİDAT GİRİŞİ'!$D:$D)","v":0},0]
[133,{"$f":"IF(ISERROR(VLOOKUP(A139,'ÜYE KAYIT LİSTESİ'!A:B,2,0)=TRUE),\"\",VLOOKUP(A139,'ÜYE KAYIT LİSTESİ'!A:B,2,0))","v":""},{"$f":"SUMIF('AİDAT GİRİŞİ'!$F:$F,\"=\"&(B139&TEXT($Q$7,\"aaa-yy\")),'AİDAT GİRİŞİ'!$D:$D)","v":0},{"$f":"SUMIF('AİDAT GİRİŞİ'!$F:$F,\"=\"&($B139&TEXT($R$7,\"aaa-yy\")),'AİDAT GİRİŞİ'!$D:$D)","v":0},{"$f":"SUMIF('AİDAT GİRİŞİ'!$F:$F,\"=\"&($B139&TEXT($S$7,\"aaa-yy\")),'AİDAT GİRİŞİ'!$D:$D)","v":0},{"$f":"SUMIF('AİDAT GİRİŞİ'!$F:$F,\"=\"&($B139&TEXT($T$7,\"aaa-yy\")),'AİDAT GİRİŞİ'!$D:$D)","v":0},{"$f":"SUMIF('AİDAT GİRİŞİ'!$F:$F,\"=\"&($B139&TEXT($U$7,\"aaa-yy\")),'AİDAT GİRİŞİ'!$D:$D)","v":0},{"$f":"SUMIF('AİDAT GİRİŞİ'!$F:$F,\"=\"&($B139&TEXT($V$7,\"aaa-yy\")),'AİDAT GİRİŞİ'!$D:$D)","v":0},{"$f":"SUMIF('AİDAT GİRİŞİ'!$F:$F,\"=\"&($B139&TEXT($W$7,\"aaa-yy\")),'AİDAT GİRİŞİ'!$D:$D)","v":0},{"$f":"SUMIF('AİDAT GİRİŞİ'!$F:$F,\"=\"&($B139&TEXT($X$7,\"aaa-yy\")),'AİDAT GİRİŞİ'!$D:$D)","v":0},{"$f":"SUMIF('AİDAT GİRİŞİ'!$F:$F,\"=\"&($B139&TEXT($Y$7,\"aaa-yy\")),'AİDAT GİRİŞİ'!$D:$D)","v":0},{"$f":"SUMIF('AİDAT GİRİŞİ'!$F:$F,\"=\"&($B139&TEXT($Z$7,\"aaa-yy\")),'AİDAT GİRİŞİ'!$D:$D)","v":0},{"$f":"SUMIF('AİDAT GİRİŞİ'!$F:$F,\"=\"&($B139&TEXT($AA$7,\"aaa-yy\")),'AİDAT GİRİŞİ'!$D:$D)","v":0},{"$f":"SUMIF('AİDAT GİRİŞİ'!$F:$F,\"=\"&($B139&TEXT($AB$7,\"aaa-yy\")),'AİDAT GİRİŞİ'!$D:$D)","v":0},0]
[134,{"$f":"IF(ISERROR(VLOOKUP(A140,'ÜYE KAYIT LİSTESİ'!A:B,2,0)=TRUE),\"\",VLOOKUP(A140,'ÜYE KAYIT LİSTESİ'!A:B,2,0))","v":""},{"$f":"SUMIF('AİDAT GİRİŞİ'!$F:$F,\"=\"&(B140&TEXT($Q$7,\"aaa-yy\")),'AİDAT GİRİŞİ'!$D:$D)","v":0},{"$f":"SUMIF('AİDAT GİRİŞİ'!$F:$F,\"=\"&($B140&TEXT($R$7,\"aaa-yy\")),'AİDAT GİRİŞİ'!$D:$D)","v":0},{"$f":"SUMIF('AİDAT GİRİŞİ'!$F:$F,\"=\"&($B140&TEXT($S$7,\"aaa-yy\")),'AİDAT GİRİŞİ'!$D:$D)","v":0},{"$f":"SUMIF('AİDAT GİRİŞİ'!$F:$F,\"=\"&($B140&TEXT($T$7,\"aaa-yy\")),'AİDAT GİRİŞİ'!$D:$D)","v":0},{"$f":"SUMIF('AİDAT GİRİŞİ'!$F:$F,\"=\"&($B140&TEXT($U$7,\"aaa-yy\")),'AİDAT GİRİŞİ'!$D:$D)","v":0},{"$f":"SUMIF('AİDAT GİRİŞİ'!$F:$F,\"=\"&($B140&TEXT($V$7,\"aaa-yy\")),'AİDAT GİRİŞİ'!$D:$D)","v":0},{"$f":"SUMIF('AİDAT GİRİŞİ'!$F:$F,\"=\"&($B140&TEXT($W$7,\"aaa-yy\")),'AİDAT GİRİŞİ'!$D:$D)","v":0},{"$f":"SUMIF('AİDAT GİRİŞİ'!$F:$F,\"=\"&($B140&TEXT($X$7,\"aaa-yy\")),'AİDAT GİRİŞİ'!$D:$D)","v":0},{"$f":"SUMIF('AİDAT GİRİŞİ'!$F:$F,\"=\"&($B140&TEXT($Y$7,\"aaa-yy\")),'AİDAT GİRİŞİ'!$D:$D)","v":0},{"$f":"SUMIF('AİDAT GİRİŞİ'!$F:$F,\"=\"&($B140&TEXT($Z$7,\"aaa-yy\")),'AİDAT GİRİŞİ'!$D:$D)","v":0},{"$f":"SUMIF('AİDAT GİRİŞİ'!$F:$F,\"=\"&($B140&TEXT($AA$7,\"aaa-yy\")),'AİDAT GİRİŞİ'!$D:$D)","v":0},{"$f":"SUMIF('AİDAT GİRİŞİ'!$F:$F,\"=\"&($B140&TEXT($AB$7,\"aaa-yy\")),'AİDAT GİRİŞİ'!$D:$D)","v":0},0]
[135,{"$f":"IF(ISERROR(VLOOKUP(A141,'ÜYE KAYIT LİSTESİ'!A:B,2,0)=TRUE),\"\",VLOOKUP(A141,'ÜYE KAYIT LİSTESİ'!A:B,2,0))","v":""},{"$f":"SUMIF('AİDAT GİRİŞİ'!$F:$F,\"=\"&(B141&TEXT($Q$7,\"aaa-yy\")),'AİDAT GİRİŞİ'!$D:$D)","v":0},{"$f":"SUMIF('AİDAT GİRİŞİ'!$F:$F,\"=\"&($B141&TEXT($R$7,\"aaa-yy\")),'AİDAT GİRİŞİ'!$D:$D)","v":0},{"$f":"SUMIF('AİDAT GİRİŞİ'!$F:$F,\"=\"&($B141&TEXT($S$7,\"aaa-yy\")),'AİDAT GİRİŞİ'!$D:$D)","v":0},{"$f":"SUMIF('AİDAT GİRİŞİ'!$F:$F,\"=\"&($B141&TEXT($T$7,\"aaa-yy\")),'AİDAT GİRİŞİ'!$D:$D)","v":0},{"$f":"SUMIF('AİDAT GİRİŞİ'!$F:$F,\"=\"&($B141&TEXT($U$7,\"aaa-yy\")),'AİDAT GİRİŞİ'!$D:$D)","v":0},{"$f":"SUMIF('AİDAT GİRİŞİ'!$F:$F,\"=\"&($B141&TEXT($V$7,\"aaa-yy\")),'AİDAT GİRİŞİ'!$D:$D)","v":0},{"$f":"SUMIF('AİDAT GİRİŞİ'!$F:$F,\"=\"&($B141&TEXT($W$7,\"aaa-yy\")),'AİDAT GİRİŞİ'!$D:$D)","v":0},{"$f":"SUMIF('AİDAT GİRİŞİ'!$F:$F,\"=\"&($B141&TEXT($X$7,\"aaa-yy\")),'AİDAT GİRİŞİ'!$D:$D)","v":0},{"$f":"SUMIF('AİDAT GİRİŞİ'!$F:$F,\"=\"&($B141&TEXT($Y$7,\"aaa-yy\")),'AİDAT GİRİŞİ'!$D:$D)","v":0},{"$f":"SUMIF('AİDAT GİRİŞİ'!$F:$F,\"=\"&($B141&TEXT($Z$7,\"aaa-yy\")),'AİDAT GİRİŞİ'!$D:$D)","v":0},{"$f":"SUMIF('AİDAT GİRİŞİ'!$F:$F,\"=\"&($B141&TEXT($AA$7,\"aaa-yy\")),'AİDAT GİRİŞİ'!$D:$D)","v":0},{"$f":"SUMIF('AİDAT GİRİŞİ'!$F:$F,\"=\"&($B141&TEXT($AB$7,\"aaa-yy\")),'AİDAT GİRİŞİ'!$D:$D)","v":0},0]
[136,{"$f":"IF(ISERROR(VLOOKUP(A142,'ÜYE KAYIT LİSTESİ'!A:B,2,0)=TRUE),\"\",VLOOKUP(A142,'ÜYE KAYIT LİSTESİ'!A:B,2,0))","v":""},{"$f":"SUMIF('AİDAT GİRİŞİ'!$F:$F,\"=\"&(B142&TEXT($Q$7,\"aaa-yy\")),'AİDAT GİRİŞİ'!$D:$D)","v":0},{"$f":"SUMIF('AİDAT GİRİŞİ'!$F:$F,\"=\"&($B142&TEXT($R$7,\"aaa-yy\")),'AİDAT GİRİŞİ'!$D:$D)","v":0},{"$f":"SUMIF('AİDAT GİRİŞİ'!$F:$F,\"=\"&($B142&TEXT($S$7,\"aaa-yy\")),'AİDAT GİRİŞİ'!$D:$D)","v":0},{"$f":"SUMIF('AİDAT GİRİŞİ'!$F:$F,\"=\"&($B142&TEXT($T$7,\"aaa-yy\")),'AİDAT GİRİŞİ'!$D:$D)","v":0},{"$f":"SUMIF('AİDAT GİRİŞİ'!$F:$F,\"=\"&($B142&TEXT($U$7,\"aaa-yy\")),'AİDAT GİRİŞİ'!$D:$D)","v":0},{"$f":"SUMIF('AİDAT GİRİŞİ'!$F:$F,\"=\"&($B142&TEXT($V$7,\"aaa-yy\")),'AİDAT GİRİŞİ'!$D:$D)","v":0},{"$f":"SUMIF('AİDAT GİRİŞİ'!$F:$F,\"=\"&($B142&TEXT($W$7,\"aaa-yy\")),'AİDAT GİRİŞİ'!$D:$D)","v":0},{"$f":"SUMIF('AİDAT GİRİŞİ'!$F:$F,\"=\"&($B142&TEXT($X$7,\"aaa-yy\")),'AİDAT GİRİŞİ'!$D:$D)","v":0},{"$f":"SUMIF('AİDAT GİRİŞİ'!$F:$F,\"=\"&($B142&TEXT($Y$7,\"aaa-yy\")),'AİDAT GİRİŞİ'!$D:$D)","v":0},{"$f":"SUMIF('AİDAT GİRİŞİ'!$F:$F,\"=\"&($B142&TEXT($Z$7,\"aaa-yy\")),'AİDAT GİRİŞİ'!$D:$D)","v":0},{"$f":"SUMIF('AİDAT GİRİŞİ'!$F:$F,\"=\"&($B142&TEXT($AA$7,\"aaa-yy\")),'AİDAT GİRİŞİ'!$D:$D)","v":0},{"$f":"SUMIF('AİDAT GİRİŞİ'!$F:$F,\"=\"&($B142&TEXT($AB$7,\"aaa-yy\")),'AİDAT GİRİŞİ'!$D:$D)","v":0},0]
[137,{"$f":"IF(ISERROR(VLOOKUP(A143,'ÜYE KAYIT LİSTESİ'!A:B,2,0)=TRUE),\"\",VLOOKUP(A143,'ÜYE KAYIT LİSTESİ'!A:B,2,0))","v":""},{"$f":"SUMIF('AİDAT GİRİŞİ'!$F:$F,\"=\"&(B143&TEXT($Q$7,\"aaa-yy\")),'AİDAT GİRİŞİ'!$D:$D)","v":0},{"$f":"SUMIF('AİDAT GİRİŞİ'!$F:$F,\"=\"&($B143&TEXT($R$7,\"aaa-yy\")),'AİDAT GİRİŞİ'!$D:$D)","v":0},{"$f":"SUMIF('AİDAT GİRİŞİ'!$F:$F,\"=\"&($B143&TEXT($S$7,\"aaa-yy\")),'AİDAT GİRİŞİ'!$D:$D)","v":0},{"$f":"SUMIF('AİDAT GİRİŞİ'!$F:$F,\"=\"&($B143&TEXT($T$7,\"aaa-yy\")),'AİDAT GİRİŞİ'!$D:$D)","v":0},{"$f":"SUMIF('AİDAT GİRİŞİ'!$F:$F,\"=\"&($B143&TEXT($U$7,\"aaa-yy\")),'AİDAT GİRİŞİ'!$D:$D)","v":0},{"$f":"SUMIF('AİDAT GİRİŞİ'!$F:$F,\"=\"&($B143&TEXT($V$7,\"aaa-yy\")),'AİDAT GİRİŞİ'!$D:$D)","v":0},{"$f":"SUMIF('AİDAT GİRİŞİ'!$F:$F,\"=\"&($B143&TEXT($W$7,\"aaa-yy\")),'AİDAT GİRİŞİ'!$D:$D)","v":0},{"$f":"SUMIF('AİDAT GİRİŞİ'!$F:$F,\"=\"&($B143&TEXT($X$7,\"aaa-yy\")),'AİDAT GİRİŞİ'!$D:$D)","v":0},{"$f":"SUMIF('AİDAT GİRİŞİ'!$F:$F,\"=\"&($B143&TEXT($Y$7,\"aaa-yy\")),'AİDAT GİRİŞİ'!$D:$D)","v":0},{"$f":"SUMIF('AİDAT GİRİŞİ'!$F:$F,\"=\"&($B143&TEXT($Z$7,\"aaa-yy\")),'AİDAT GİRİŞİ'!$D:$D)","v":0},{"$f":"SUMIF('AİDAT GİRİŞİ'!$F:$F,\"=\"&($B143&TEXT($AA$7,\"aaa-yy\")),'AİDAT GİRİŞİ'!$D:$D)","v":0},{"$f":"SUMIF('AİDAT GİRİŞİ'!$F:$F,\"=\"&($B143&TEXT($AB$7,\"aaa-yy\")),'AİDAT GİRİŞİ'!$D:$D)","v":0},0]
[138,{"$f":"IF(ISERROR(VLOOKUP(A144,'ÜYE KAYIT LİSTESİ'!A:B,2,0)=TRUE),\"\",VLOOKUP(A144,'ÜYE KAYIT LİSTESİ'!A:B,2,0))","v":""},{"$f":"SUMIF('AİDAT GİRİŞİ'!$F:$F,\"=\"&(B144&TEXT($Q$7,\"aaa-yy\")),'AİDAT GİRİŞİ'!$D:$D)","v":0},{"$f":"SUMIF('AİDAT GİRİŞİ'!$F:$F,\"=\"&($B144&TEXT($R$7,\"aaa-yy\")),'AİDAT GİRİŞİ'!$D:$D)","v":0},{"$f":"SUMIF('AİDAT GİRİŞİ'!$F:$F,\"=\"&($B144&TEXT($S$7,\"aaa-yy\")),'AİDAT GİRİŞİ'!$D:$D)","v":0},{"$f":"SUMIF('AİDAT GİRİŞİ'!$F:$F,\"=\"&($B144&TEXT($T$7,\"aaa-yy\")),'AİDAT GİRİŞİ'!$D:$D)","v":0},{"$f":"SUMIF('AİDAT GİRİŞİ'!$F:$F,\"=\"&($B144&TEXT($U$7,\"aaa-yy\")),'AİDAT GİRİŞİ'!$D:$D)","v":0},{"$f":"SUMIF('AİDAT GİRİŞİ'!$F:$F,\"=\"&($B144&TEXT($V$7,\"aaa-yy\")),'AİDAT GİRİŞİ'!$D:$D)","v":0},{"$f":"SUMIF('AİDAT GİRİŞİ'!$F:$F,\"=\"&($B144&TEXT($W$7,\"aaa-yy\")),'AİDAT GİRİŞİ'!$D:$D)","v":0},{"$f":"SUMIF('AİDAT GİRİŞİ'!$F:$F,\"=\"&($B144&TEXT($X$7,\"aaa-yy\")),'AİDAT GİRİŞİ'!$D:$D)","v":0},{"$f":"SUMIF('AİDAT GİRİŞİ'!$F:$F,\"=\"&($B144&TEXT($Y$7,\"aaa-yy\")),'AİDAT GİRİŞİ'!$D:$D)","v":0},{"$f":"SUMIF('AİDAT GİRİŞİ'!$F:$F,\"=\"&($B144&TEXT($Z$7,\"aaa-yy\")),'AİDAT GİRİŞİ'!$D:$D)","v":0},{"$f":"SUMIF('AİDAT GİRİŞİ'!$F:$F,\"=\"&($B144&TEXT($AA$7,\"aaa-yy\")),'AİDAT GİRİŞİ'!$D:$D)","v":0},{"$f":"SUMIF('AİDAT GİRİŞİ'!$F:$F,\"=\"&($B144&TEXT($AB$7,\"aaa-yy\")),'AİDAT GİRİŞİ'!$D:$D)","v":0},0]
[139,{"$f":"IF(ISERROR(VLOOKUP(A145,'ÜYE KAYIT LİSTESİ'!A:B,2,0)=TRUE),\"\",VLOOKUP(A145,'ÜYE KAYIT LİSTESİ'!A:B,2,0))","v":""},{"$f":"SUMIF('AİDAT GİRİŞİ'!$F:$F,\"=\"&(B145&TEXT($Q$7,\"aaa-yy\")),'AİDAT GİRİŞİ'!$D:$D)","v":0},{"$f":"SUMIF('AİDAT GİRİŞİ'!$F:$F,\"=\"&($B145&TEXT($R$7,\"aaa-yy\")),'AİDAT GİRİŞİ'!$D:$D)","v":0},{"$f":"SUMIF('AİDAT GİRİŞİ'!$F:$F,\"=\"&($B145&TEXT($S$7,\"aaa-yy\")),'AİDAT GİRİŞİ'!$D:$D)","v":0},{"$f":"SUMIF('AİDAT GİRİŞİ'!$F:$F,\"=\"&($B145&TEXT($T$7,\"aaa-yy\")),'AİDAT GİRİŞİ'!$D:$D)","v":0},{"$f":"SUMIF('AİDAT GİRİŞİ'!$F:$F,\"=\"&($B145&TEXT($U$7,\"aaa-yy\")),'AİDAT GİRİŞİ'!$D:$D)","v":0},{"$f":"SUMIF('AİDAT GİRİŞİ'!$F:$F,\"=\"&($B145&TEXT($V$7,\"aaa-yy\")),'AİDAT GİRİŞİ'!$D:$D)","v":0},{"$f":"SUMIF('AİDAT GİRİŞİ'!$F:$F,\"=\"&($B145&TEXT($W$7,\"aaa-yy\")),'AİDAT GİRİŞİ'!$D:$D)","v":0},{"$f":"SUMIF('AİDAT GİRİŞİ'!$F:$F,\"=\"&($B145&TEXT($X$7,\"aaa-yy\")),'AİDAT GİRİŞİ'!$D:$D)","v":0},{"$f":"SUMIF('AİDAT GİRİŞİ'!$F:$F,\"=\"&($B145&TEXT($Y$7,\"aaa-yy\")),'AİDAT GİRİŞİ'!$D:$D)","v":0},{"$f":"SUMIF('AİDAT GİRİŞİ'!$F:$F,\"=\"&($B145&TEXT($Z$7,\"aaa-yy\")),'AİDAT GİRİŞİ'!$D:$D)","v":0},{"$f":"SUMIF('AİDAT GİRİŞİ'!$F:$F,\"=\"&($B145&TEXT($AA$7,\"aaa-yy\")),'AİDAT GİRİŞİ'!$D:$D)","v":0},{"$f":"SUMIF('AİDAT GİRİŞİ'!$F:$F,\"=\"&($B145&TEXT($AB$7,\"aaa-yy\")),'AİDAT GİRİŞİ'!$D:$D)","v":0},0]
[140,{"$f":"IF(ISERROR(VLOOKUP(A146,'ÜYE KAYIT LİSTESİ'!A:B,2,0)=TRUE),\"\",VLOOKUP(A146,'ÜYE KAYIT LİSTESİ'!A:B,2,0))","v":""},{"$f":"SUMIF('AİDAT GİRİŞİ'!$F:$F,\"=\"&(B146&TEXT($Q$7,\"aaa-yy\")),'AİDAT GİRİŞİ'!$D:$D)","v":0},{"$f":"SUMIF('AİDAT GİRİŞİ'!$F:$F,\"=\"&($B146&TEXT($R$7,\"aaa-yy\")),'AİDAT GİRİŞİ'!$D:$D)","v":0},{"$f":"SUMIF('AİDAT GİRİŞİ'!$F:$F,\"=\"&($B146&TEXT($S$7,\"aaa-yy\")),'AİDAT GİRİŞİ'!$D:$D)","v":0},{"$f":"SUMIF('AİDAT GİRİŞİ'!$F:$F,\"=\"&($B146&TEXT($T$7,\"aaa-yy\")),'AİDAT GİRİŞİ'!$D:$D)","v":0},{"$f":"SUMIF('AİDAT GİRİŞİ'!$F:$F,\"=\"&($B146&TEXT($U$7,\"aaa-yy\")),'AİDAT GİRİŞİ'!$D:$D)","v":0},{"$f":"SUMIF('AİDAT GİRİŞİ'!$F:$F,\"=\"&($B146&TEXT($V$7,\"aaa-yy\")),'AİDAT GİRİŞİ'!$D:$D)","v":0},{"$f":"SUMIF('AİDAT GİRİŞİ'!$F:$F,\"=\"&($B146&TEXT($W$7,\"aaa-yy\")),'AİDAT GİRİŞİ'!$D:$D)","v":0},{"$f":"SUMIF('AİDAT GİRİŞİ'!$F:$F,\"=\"&($B146&TEXT($X$7,\"aaa-yy\")),'AİDAT GİRİŞİ'!$D:$D)","v":0},{"$f":"SUMIF('AİDAT GİRİŞİ'!$F:$F,\"=\"&($B146&TEXT($Y$7,\"aaa-yy\")),'AİDAT GİRİŞİ'!$D:$D)","v":0},{"$f":"SUMIF('AİDAT GİRİŞİ'!$F:$F,\"=\"&($B146&TEXT($Z$7,\"aaa-yy\")),'AİDAT GİRİŞİ'!$D:$D)","v":0},{"$f":"SUMIF('AİDAT GİRİŞİ'!$F:$F,\"=\"&($B146&TEXT($AA$7,\"aaa-yy\")),'AİDAT GİRİŞİ'!$D:$D)","v":0},{"$f":"SUMIF('AİDAT GİRİŞİ'!$F:$F,\"=\"&($B146&TEXT($AB$7,\"aaa-yy\")),'AİDAT GİRİŞİ'!$D:$D)","v":0},0]
[141,{"$f":"IF(ISERROR(VLOOKUP(A147,'ÜYE KAYIT LİSTESİ'!A:B,2,0)=TRUE),\"\",VLOOKUP(A147,'ÜYE KAYIT LİSTESİ'!A:B,2,0))","v":""},{"$f":"SUMIF('AİDAT GİRİŞİ'!$F:$F,\"=\"&(B147&TEXT($Q$7,\"aaa-yy\")),'AİDAT GİRİŞİ'!$D:$D)","v":0},{"$f":"SUMIF('AİDAT GİRİŞİ'!$F:$F,\"=\"&($B147&TEXT($R$7,\"aaa-yy\")),'AİDAT GİRİŞİ'!$D:$D)","v":0},{"$f":"SUMIF('AİDAT GİRİŞİ'!$F:$F,\"=\"&($B147&TEXT($S$7,\"aaa-yy\")),'AİDAT GİRİŞİ'!$D:$D)","v":0},{"$f":"SUMIF('AİDAT GİRİŞİ'!$F:$F,\"=\"&($B147&TEXT($T$7,\"aaa-yy\")),'AİDAT GİRİŞİ'!$D:$D)","v":0},{"$f":"SUMIF('AİDAT GİRİŞİ'!$F:$F,\"=\"&($B147&TEXT($U$7,\"aaa-yy\")),'AİDAT GİRİŞİ'!$D:$D)","v":0},{"$f":"SUMIF('AİDAT GİRİŞİ'!$F:$F,\"=\"&($B147&TEXT($V$7,\"aaa-yy\")),'AİDAT GİRİŞİ'!$D:$D)","v":0},{"$f":"SUMIF('AİDAT GİRİŞİ'!$F:$F,\"=\"&($B147&TEXT($W$7,\"aaa-yy\")),'AİDAT GİRİŞİ'!$D:$D)","v":0},{"$f":"SUMIF('AİDAT GİRİŞİ'!$F:$F,\"=\"&($B147&TEXT($X$7,\"aaa-yy\")),'AİDAT GİRİŞİ'!$D:$D)","v":0},{"$f":"SUMIF('AİDAT GİRİŞİ'!$F:$F,\"=\"&($B147&TEXT($Y$7,\"aaa-yy\")),'AİDAT GİRİŞİ'!$D:$D)","v":0},{"$f":"SUMIF('AİDAT GİRİŞİ'!$F:$F,\"=\"&($B147&TEXT($Z$7,\"aaa-yy\")),'AİDAT GİRİŞİ'!$D:$D)","v":0},{"$f":"SUMIF('AİDAT GİRİŞİ'!$F:$F,\"=\"&($B147&TEXT($AA$7,\"aaa-yy\")),'AİDAT GİRİŞİ'!$D:$D)","v":0},{"$f":"SUMIF('AİDAT GİRİŞİ'!$F:$F,\"=\"&($B147&TEXT($AB$7,\"aaa-yy\")),'AİDAT GİRİŞİ'!$D:$D)","v":0},0]
[142,{"$f":"IF(ISERROR(VLOOKUP(A148,'ÜYE KAYIT LİSTESİ'!A:B,2,0)=TRUE),\"\",VLOOKUP(A148,'ÜYE KAYIT LİSTESİ'!A:B,2,0))","v":""},{"$f":"SUMIF('AİDAT GİRİŞİ'!$F:$F,\"=\"&(B148&TEXT($Q$7,\"aaa-yy\")),'AİDAT GİRİŞİ'!$D:$D)","v":0},{"$f":"SUMIF('AİDAT GİRİŞİ'!$F:$F,\"=\"&($B148&TEXT($R$7,\"aaa-yy\")),'AİDAT GİRİŞİ'!$D:$D)","v":0},{"$f":"SUMIF('AİDAT GİRİŞİ'!$F:$F,\"=\"&($B148&TEXT($S$7,\"aaa-yy\")),'AİDAT GİRİŞİ'!$D:$D)","v":0},{"$f":"SUMIF('AİDAT GİRİŞİ'!$F:$F,\"=\"&($B148&TEXT($T$7,\"aaa-yy\")),'AİDAT GİRİŞİ'!$D:$D)","v":0},{"$f":"SUMIF('AİDAT GİRİŞİ'!$F:$F,\"=\"&($B148&TEXT($U$7,\"aaa-yy\")),'AİDAT GİRİŞİ'!$D:$D)","v":0},{"$f":"SUMIF('AİDAT GİRİŞİ'!$F:$F,\"=\"&($B148&TEXT($V$7,\"aaa-yy\")),'AİDAT GİRİŞİ'!$D:$D)","v":0},{"$f":"SUMIF('AİDAT GİRİŞİ'!$F:$F,\"=\"&($B148&TEXT($W$7,\"aaa-yy\")),'AİDAT GİRİŞİ'!$D:$D)","v":0},{"$f":"SUMIF('AİDAT GİRİŞİ'!$F:$F,\"=\"&($B148&TEXT($X$7,\"aaa-yy\")),'AİDAT GİRİŞİ'!$D:$D)","v":0},{"$f":"SUMIF('AİDAT GİRİŞİ'!$F:$F,\"=\"&($B148&TEXT($Y$7,\"aaa-yy\")),'AİDAT GİRİŞİ'!$D:$D)","v":0},{"$f":"SUMIF('AİDAT GİRİŞİ'!$F:$F,\"=\"&($B148&TEXT($Z$7,\"aaa-yy\")),'AİDAT GİRİŞİ'!$D:$D)","v":0},{"$f":"SUMIF('AİDAT GİRİŞİ'!$F:$F,\"=\"&($B148&TEXT($AA$7,\"aaa-yy\")),'AİDAT GİRİŞİ'!$D:$D)","v":0},{"$f":"SUMIF('AİDAT GİRİŞİ'!$F:$F,\"=\"&($B148&TEXT($AB$7,\"aaa-yy\")),'AİDAT GİRİŞİ'!$D:$D)","v":0},0]
[143,{"$f":"IF(ISERROR(VLOOKUP(A149,'ÜYE KAYIT LİSTESİ'!A:B,2,0)=TRUE),\"\",VLOOKUP(A149,'ÜYE KAYIT LİSTESİ'!A:B,2,0))","v":""},{"$f":"SUMIF('AİDAT GİRİŞİ'!$F:$F,\"=\"&(B149&TEXT($Q$7,\"aaa-yy\")),'AİDAT GİRİŞİ'!$D:$D)","v":0},{"$f":"SUMIF('AİDAT GİRİŞİ'!$F:$F,\"=\"&($B149&TEXT($R$7,\"aaa-yy\")),'AİDAT GİRİŞİ'!$D:$D)","v":0},{"$f":"SUMIF('AİDAT GİRİŞİ'!$F:$F,\"=\"&($B149&TEXT($S$7,\"aaa-yy\")),'AİDAT GİRİŞİ'!$D:$D)","v":0},{"$f":"SUMIF('AİDAT GİRİŞİ'!$F:$F,\"=\"&($B149&TEXT($T$7,\"aaa-yy\")),'AİDAT GİRİŞİ'!$D:$D)","v":0},{"$f":"SUMIF('AİDAT GİRİŞİ'!$F:$F,\"=\"&($B149&TEXT($U$7,\"aaa-yy\")),'AİDAT GİRİŞİ'!$D:$D)","v":0},{"$f":"SUMIF('AİDAT GİRİŞİ'!$F:$F,\"=\"&($B149&TEXT($V$7,\"aaa-yy\")),'AİDAT GİRİŞİ'!$D:$D)","v":0},{"$f":"SUMIF('AİDAT GİRİŞİ'!$F:$F,\"=\"&($B149&TEXT($W$7,\"aaa-yy\")),'AİDAT GİRİŞİ'!$D:$D)","v":0},{"$f":"SUMIF('AİDAT GİRİŞİ'!$F:$F,\"=\"&($B149&TEXT($X$7,\"aaa-yy\")),'AİDAT GİRİŞİ'!$D:$D)","v":0},{"$f":"SUMIF('AİDAT GİRİŞİ'!$F:$F,\"=\"&($B149&TEXT($Y$7,\"aaa-yy\")),'AİDAT GİRİŞİ'!$D:$D)","v":0},{"$f":"SUMIF('AİDAT GİRİŞİ'!$F:$F,\"=\"&($B149&TEXT($Z$7,\"aaa-yy\")),'AİDAT GİRİŞİ'!$D:$D)","v":0},{"$f":"SUMIF('AİDAT GİRİŞİ'!$F:$F,\"=\"&($B149&TEXT($AA$7,\"aaa-yy\")),'AİDAT GİRİŞİ'!$D:$D)","v":0},{"$f":"SUMIF('AİDAT GİRİŞİ'!$F:$F,\"=\"&($B149&TEXT($AB$7,\"aaa-yy\")),'AİDAT GİRİŞİ'!$D:$D)","v":0},0]
[144,{"$f":"IF(ISERROR(VLOOKUP(A150,'ÜYE KAYIT LİSTESİ'!A:B,2,0)=TRUE),\"\",VLOOKUP(A150,'ÜYE KAYIT LİSTESİ'!A:B,2,0))","v":""},{"$f":"SUMIF('AİDAT GİRİŞİ'!$F:$F,\"=\"&(B150&TEXT($Q$7,\"aaa-yy\")),'AİDAT GİRİŞİ'!$D:$D)","v":0},{"$f":"SUMIF('AİDAT GİRİŞİ'!$F:$F,\"=\"&($B150&TEXT($R$7,\"aaa-yy\")),'AİDAT GİRİŞİ'!$D:$D)","v":0},{"$f":"SUMIF('AİDAT GİRİŞİ'!$F:$F,\"=\"&($B150&TEXT($S$7,\"aaa-yy\")),'AİDAT GİRİŞİ'!$D:$D)","v":0},{"$f":"SUMIF('AİDAT GİRİŞİ'!$F:$F,\"=\"&($B150&TEXT($T$7,\"aaa-yy\")),'AİDAT GİRİŞİ'!$D:$D)","v":0},{"$f":"SUMIF('AİDAT GİRİŞİ'!$F:$F,\"=\"&($B150&TEXT($U$7,\"aaa-yy\")),'AİDAT GİRİŞİ'!$D:$D)","v":0},{"$f":"SUMIF('AİDAT GİRİŞİ'!$F:$F,\"=\"&($B150&TEXT($V$7,\"aaa-yy\")),'AİDAT GİRİŞİ'!$D:$D)","v":0},{"$f":"SUMIF('AİDAT GİRİŞİ'!$F:$F,\"=\"&($B150&TEXT($W$7,\"aaa-yy\")),'AİDAT GİRİŞİ'!$D:$D)","v":0},{"$f":"SUMIF('AİDAT GİRİŞİ'!$F:$F,\"=\"&($B150&TEXT($X$7,\"aaa-yy\")),'AİDAT GİRİŞİ'!$D:$D)","v":0},{"$f":"SUMIF('AİDAT GİRİŞİ'!$F:$F,\"=\"&($B150&TEXT($Y$7,\"aaa-yy\")),'AİDAT GİRİŞİ'!$D:$D)","v":0},{"$f":"SUMIF('AİDAT GİRİŞİ'!$F:$F,\"=\"&($B150&TEXT($Z$7,\"aaa-yy\")),'AİDAT GİRİŞİ'!$D:$D)","v":0},{"$f":"SUMIF('AİDAT GİRİŞİ'!$F:$F,\"=\"&($B150&TEXT($AA$7,\"aaa-yy\")),'AİDAT GİRİŞİ'!$D:$D)","v":0},{"$f":"SUMIF('AİDAT GİRİŞİ'!$F:$F,\"=\"&($B150&TEXT($AB$7,\"aaa-yy\")),'AİDAT GİRİŞİ'!$D:$D)","v":0},0]
[145,{"$f":"IF(ISERROR(VLOOKUP(A151,'ÜYE KAYIT LİSTESİ'!A:B,2,0)=TRUE),\"\",VLOOKUP(A151,'ÜYE KAYIT LİSTESİ'!A:B,2,0))","v":""},{"$f":"SUMIF('AİDAT GİRİŞİ'!$F:$F,\"=\"&(B151&TEXT($Q$7,\"aaa-yy\")),'AİDAT GİRİŞİ'!$D:$D)","v":0},{"$f":"SUMIF('AİDAT GİRİŞİ'!$F:$F,\"=\"&($B151&TEXT($R$7,\"aaa-yy\")),'AİDAT GİRİŞİ'!$D:$D)","v":0},{"$f":"SUMIF('AİDAT GİRİŞİ'!$F:$F,\"=\"&($B151&TEXT($S$7,\"aaa-yy\")),'AİDAT GİRİŞİ'!$D:$D)","v":0},{"$f":"SUMIF('AİDAT GİRİŞİ'!$F:$F,\"=\"&($B151&TEXT($T$7,\"aaa-yy\")),'AİDAT GİRİŞİ'!$D:$D)","v":0},{"$f":"SUMIF('AİDAT GİRİŞİ'!$F:$F,\"=\"&($B151&TEXT($U$7,\"aaa-yy\")),'AİDAT GİRİŞİ'!$D:$D)","v":0},{"$f":"SUMIF('AİDAT GİRİŞİ'!$F:$F,\"=\"&($B151&TEXT($V$7,\"aaa-yy\")),'AİDAT GİRİŞİ'!$D:$D)","v":0},{"$f":"SUMIF('AİDAT GİRİŞİ'!$F:$F,\"=\"&($B151&TEXT($W$7,\"aaa-yy\")),'AİDAT GİRİŞİ'!$D:$D)","v":0},{"$f":"SUMIF('AİDAT GİRİŞİ'!$F:$F,\"=\"&($B151&TEXT($X$7,\"aaa-yy\")),'AİDAT GİRİŞİ'!$D:$D)","v":0},{"$f":"SUMIF('AİDAT GİRİŞİ'!$F:$F,\"=\"&($B151&TEXT($Y$7,\"aaa-yy\")),'AİDAT GİRİŞİ'!$D:$D)","v":0},{"$f":"SUMIF('AİDAT GİRİŞİ'!$F:$F,\"=\"&($B151&TEXT($Z$7,\"aaa-yy\")),'AİDAT GİRİŞİ'!$D:$D)","v":0},{"$f":"SUMIF('AİDAT GİRİŞİ'!$F:$F,\"=\"&($B151&TEXT($AA$7,\"aaa-yy\")),'AİDAT GİRİŞİ'!$D:$D)","v":0},{"$f":"SUMIF('AİDAT GİRİŞİ'!$F:$F,\"=\"&($B151&TEXT($AB$7,\"aaa-yy\")),'AİDAT GİRİŞİ'!$D:$D)","v":0},0]
[146,{"$f":"IF(ISERROR(VLOOKUP(A152,'ÜYE KAYIT LİSTESİ'!A:B,2,0)=TRUE),\"\",VLOOKUP(A152,'ÜYE KAYIT LİSTESİ'!A:B,2,0))","v":""},{"$f":"SUMIF('AİDAT GİRİŞİ'!$F:$F,\"=\"&(B152&TEXT($Q$7,\"aaa-yy\")),'AİDAT GİRİŞİ'!$D:$D)","v":0},{"$f":"SUMIF('AİDAT GİRİŞİ'!$F:$F,\"=\"&($B152&TEXT($R$7,\"aaa-yy\")),'AİDAT GİRİŞİ'!$D:$D)","v":0},{"$f":"SUMIF('AİDAT GİRİŞİ'!$F:$F,\"=\"&($B152&TEXT($S$7,\"aaa-yy\")),'AİDAT GİRİŞİ'!$D:$D)","v":0},{"$f":"SUMIF('AİDAT GİRİŞİ'!$F:$F,\"=\"&($B152&TEXT($T$7,\"aaa-yy\")),'AİDAT GİRİŞİ'!$D:$D)","v":0},{"$f":"SUMIF('AİDAT GİRİŞİ'!$F:$F,\"=\"&($B152&TEXT($U$7,\"aaa-yy\")),'AİDAT GİRİŞİ'!$D:$D)","v":0},{"$f":"SUMIF('AİDAT GİRİŞİ'!$F:$F,\"=\"&($B152&TEXT($V$7,\"aaa-yy\")),'AİDAT GİRİŞİ'!$D:$D)","v":0},{"$f":"SUMIF('AİDAT GİRİŞİ'!$F:$F,\"=\"&($B152&TEXT($W$7,\"aaa-yy\")),'AİDAT GİRİŞİ'!$D:$D)","v":0},{"$f":"SUMIF('AİDAT GİRİŞİ'!$F:$F,\"=\"&($B152&TEXT($X$7,\"aaa-yy\")),'AİDAT GİRİŞİ'!$D:$D)","v":0},{"$f":"SUMIF('AİDAT GİRİŞİ'!$F:$F,\"=\"&($B152&TEXT($Y$7,\"aaa-yy\")),'AİDAT GİRİŞİ'!$D:$D)","v":0},{"$f":"SUMIF('AİDAT GİRİŞİ'!$F:$F,\"=\"&($B152&TEXT($Z$7,\"aaa-yy\")),'AİDAT GİRİŞİ'!$D:$D)","v":0},{"$f":"SUMIF('AİDAT GİRİŞİ'!$F:$F,\"=\"&($B152&TEXT($AA$7,\"aaa-yy\")),'AİDAT GİRİŞİ'!$D:$D)","v":0},{"$f":"SUMIF('AİDAT GİRİŞİ'!$F:$F,\"=\"&($B152&TEXT($AB$7,\"aaa-yy\")),'AİDAT GİRİŞİ'!$D:$D)","v":0},0]
[147,{"$f":"IF(ISERROR(VLOOKUP(A153,'ÜYE KAYIT LİSTESİ'!A:B,2,0)=TRUE),\"\",VLOOKUP(A153,'ÜYE KAYIT LİSTESİ'!A:B,2,0))","v":""},{"$f":"SUMIF('AİDAT GİRİŞİ'!$F:$F,\"=\"&(B153&TEXT($Q$7,\"aaa-yy\")),'AİDAT GİRİŞİ'!$D:$D)","v":0},{"$f":"SUMIF('AİDAT GİRİŞİ'!$F:$F,\"=\"&($B153&TEXT($R$7,\"aaa-yy\")),'AİDAT GİRİŞİ'!$D:$D)","v":0},{"$f":"SUMIF('AİDAT GİRİŞİ'!$F:$F,\"=\"&($B153&TEXT($S$7,\"aaa-yy\")),'AİDAT GİRİŞİ'!$D:$D)","v":0},{"$f":"SUMIF('AİDAT GİRİŞİ'!$F:$F,\"=\"&($B153&TEXT($T$7,\"aaa-yy\")),'AİDAT GİRİŞİ'!$D:$D)","v":0},{"$f":"SUMIF('AİDAT GİRİŞİ'!$F:$F,\"=\"&($B153&TEXT($U$7,\"aaa-yy\")),'AİDAT GİRİŞİ'!$D:$D)","v":0},{"$f":"SUMIF('AİDAT GİRİŞİ'!$F:$F,\"=\"&($B153&TEXT($V$7,\"aaa-yy\")),'AİDAT GİRİŞİ'!$D:$D)","v":0},{"$f":"SUMIF('AİDAT GİRİŞİ'!$F:$F,\"=\"&($B153&TEXT($W$7,\"aaa-yy\")),'AİDAT GİRİŞİ'!$D:$D)","v":0},{"$f":"SUMIF('AİDAT GİRİŞİ'!$F:$F,\"=\"&($B153&TEXT($X$7,\"aaa-yy\")),'AİDAT GİRİŞİ'!$D:$D)","v":0},{"$f":"SUMIF('AİDAT GİRİŞİ'!$F:$F,\"=\"&($B153&TEXT($Y$7,\"aaa-yy\")),'AİDAT GİRİŞİ'!$D:$D)","v":0},{"$f":"SUMIF('AİDAT GİRİŞİ'!$F:$F,\"=\"&($B153&TEXT($Z$7,\"aaa-yy\")),'AİDAT GİRİŞİ'!$D:$D)","v":0},{"$f":"SUMIF('AİDAT GİRİŞİ'!$F:$F,\"=\"&($B153&TEXT($AA$7,\"aaa-yy\")),'AİDAT GİRİŞİ'!$D:$D)","v":0},{"$f":"SUMIF('AİDAT GİRİŞİ'!$F:$F,\"=\"&($B153&TEXT($AB$7,\"aaa-yy\")),'AİDAT GİRİŞİ'!$D:$D)","v":0},0]
[148,{"$f":"IF(ISERROR(VLOOKUP(A154,'ÜYE KAYIT LİSTESİ'!A:B,2,0)=TRUE),\"\",VLOOKUP(A154,'ÜYE KAYIT LİSTESİ'!A:B,2,0))","v":""},{"$f":"SUMIF('AİDAT GİRİŞİ'!$F:$F,\"=\"&(B154&TEXT($Q$7,\"aaa-yy\")),'AİDAT GİRİŞİ'!$D:$D)","v":0},{"$f":"SUMIF('AİDAT GİRİŞİ'!$F:$F,\"=\"&($B154&TEXT($R$7,\"aaa-yy\")),'AİDAT GİRİŞİ'!$D:$D)","v":0},{"$f":"SUMIF('AİDAT GİRİŞİ'!$F:$F,\"=\"&($B154&TEXT($S$7,\"aaa-yy\")),'AİDAT GİRİŞİ'!$D:$D)","v":0},{"$f":"SUMIF('AİDAT GİRİŞİ'!$F:$F,\"=\"&($B154&TEXT($T$7,\"aaa-yy\")),'AİDAT GİRİŞİ'!$D:$D)","v":0},{"$f":"SUMIF('AİDAT GİRİŞİ'!$F:$F,\"=\"&($B154&TEXT($U$7,\"aaa-yy\")),'AİDAT GİRİŞİ'!$D:$D)","v":0},{"$f":"SUMIF('AİDAT GİRİŞİ'!$F:$F,\"=\"&($B154&TEXT($V$7,\"aaa-yy\")),'AİDAT GİRİŞİ'!$D:$D)","v":0},{"$f":"SUMIF('AİDAT GİRİŞİ'!$F:$F,\"=\"&($B154&TEXT($W$7,\"aaa-yy\")),'AİDAT GİRİŞİ'!$D:$D)","v":0},{"$f":"SUMIF('AİDAT GİRİŞİ'!$F:$F,\"=\"&($B154&TEXT($X$7,\"aaa-yy\")),'AİDAT GİRİŞİ'!$D:$D)","v":0},{"$f":"SUMIF('AİDAT GİRİŞİ'!$F:$F,\"=\"&($B154&TEXT($Y$7,\"aaa-yy\")),'AİDAT GİRİŞİ'!$D:$D)","v":0},{"$f":"SUMIF('AİDAT GİRİŞİ'!$F:$F,\"=\"&($B154&TEXT($Z$7,\"aaa-yy\")),'AİDAT GİRİŞİ'!$D:$D)","v":0},{"$f":"SUMIF('AİDAT GİRİŞİ'!$F:$F,\"=\"&($B154&TEXT($AA$7,\"aaa-yy\")),'AİDAT GİRİŞİ'!$D:$D)","v":0},{"$f":"SUMIF('AİDAT GİRİŞİ'!$F:$F,\"=\"&($B154&TEXT($AB$7,\"aaa-yy\")),'AİDAT GİRİŞİ'!$D:$D)","v":0},0]
[149,{"$f":"IF(ISERROR(VLOOKUP(A155,'ÜYE KAYIT LİSTESİ'!A:B,2,0)=TRUE),\"\",VLOOKUP(A155,'ÜYE KAYIT LİSTESİ'!A:B,2,0))","v":""},{"$f":"SUMIF('AİDAT GİRİŞİ'!$F:$F,\"=\"&(B155&TEXT($Q$7,\"aaa-yy\")),'AİDAT GİRİŞİ'!$D:$D)","v":0},{"$f":"SUMIF('AİDAT GİRİŞİ'!$F:$F,\"=\"&($B155&TEXT($R$7,\"aaa-yy\")),'AİDAT GİRİŞİ'!$D:$D)","v":0},{"$f":"SUMIF('AİDAT GİRİŞİ'!$F:$F,\"=\"&($B155&TEXT($S$7,\"aaa-yy\")),'AİDAT GİRİŞİ'!$D:$D)","v":0},{"$f":"SUMIF('AİDAT GİRİŞİ'!$F:$F,\"=\"&($B155&TEXT($T$7,\"aaa-yy\")),'AİDAT GİRİŞİ'!$D:$D)","v":0},{"$f":"SUMIF('AİDAT GİRİŞİ'!$F:$F,\"=\"&($B155&TEXT($U$7,\"aaa-yy\")),'AİDAT GİRİŞİ'!$D:$D)","v":0},{"$f":"SUMIF('AİDAT GİRİŞİ'!$F:$F,\"=\"&($B155&TEXT($V$7,\"aaa-yy\")),'AİDAT GİRİŞİ'!$D:$D)","v":0},{"$f":"SUMIF('AİDAT GİRİŞİ'!$F:$F,\"=\"&($B155&TEXT($W$7,\"aaa-yy\")),'AİDAT GİRİŞİ'!$D:$D)","v":0},{"$f":"SUMIF('AİDAT GİRİŞİ'!$F:$F,\"=\"&($B155&TEXT($X$7,\"aaa-yy\")),'AİDAT GİRİŞİ'!$D:$D)","v":0},{"$f":"SUMIF('AİDAT GİRİŞİ'!$F:$F,\"=\"&($B155&TEXT($Y$7,\"aaa-yy\")),'AİDAT GİRİŞİ'!$D:$D)","v":0},{"$f":"SUMIF('AİDAT GİRİŞİ'!$F:$F,\"=\"&($B155&TEXT($Z$7,\"aaa-yy\")),'AİDAT GİRİŞİ'!$D:$D)","v":0},{"$f":"SUMIF('AİDAT GİRİŞİ'!$F:$F,\"=\"&($B155&TEXT($AA$7,\"aaa-yy\")),'AİDAT GİRİŞİ'!$D:$D)","v":0},{"$f":"SUMIF('AİDAT GİRİŞİ'!$F:$F,\"=\"&($B155&TEXT($AB$7,\"aaa-yy\")),'AİDAT GİRİŞİ'!$D:$D)","v":0},0]
[150,{"$f":"IF(ISERROR(VLOOKUP(A156,'ÜYE KAYIT LİSTESİ'!A:B,2,0)=TRUE),\"\",VLOOKUP(A156,'ÜYE KAYIT LİSTESİ'!A:B,2,0))","v":""},{"$f":"SUMIF('AİDAT GİRİŞİ'!$F:$F,\"=\"&(B156&TEXT($Q$7,\"aaa-yy\")),'AİDAT GİRİŞİ'!$D:$D)","v":0},{"$f":"SUMIF('AİDAT GİRİŞİ'!$F:$F,\"=\"&($B156&TEXT($R$7,\"aaa-yy\")),'AİDAT GİRİŞİ'!$D:$D)","v":0},{"$f":"SUMIF('AİDAT GİRİŞİ'!$F:$F,\"=\"&($B156&TEXT($S$7,\"aaa-yy\")),'AİDAT GİRİŞİ'!$D:$D)","v":0},{"$f":"SUMIF('AİDAT GİRİŞİ'!$F:$F,\"=\"&($B156&TEXT($T$7,\"aaa-yy\")),'AİDAT GİRİŞİ'!$D:$D)","v":0},{"$f":"SUMIF('AİDAT GİRİŞİ'!$F:$F,\"=\"&($B156&TEXT($U$7,\"aaa-yy\")),'AİDAT GİRİŞİ'!$D:$D)","v":0},{"$f":"SUMIF('AİDAT GİRİŞİ'!$F:$F,\"=\"&($B156&TEXT($V$7,\"aaa-yy\")),'AİDAT GİRİŞİ'!$D:$D)","v":0},{"$f":"SUMIF('AİDAT GİRİŞİ'!$F:$F,\"=\"&($B156&TEXT($W$7,\"aaa-yy\")),'AİDAT GİRİŞİ'!$D:$D)","v":0},{"$f":"SUMIF('AİDAT GİRİŞİ'!$F:$F,\"=\"&($B156&TEXT($X$7,\"aaa-yy\")),'AİDAT GİRİŞİ'!$D:$D)","v":0},{"$f":"SUMIF('AİDAT GİRİŞİ'!$F:$F,\"=\"&($B156&TEXT($Y$7,\"aaa-yy\")),'AİDAT GİRİŞİ'!$D:$D)","v":0},{"$f":"SUMIF('AİDAT GİRİŞİ'!$F:$F,\"=\"&($B156&TEXT($Z$7,\"aaa-yy\")),'AİDAT GİRİŞİ'!$D:$D)","v":0},{"$f":"SUMIF('AİDAT GİRİŞİ'!$F:$F,\"=\"&($B156&TEXT($AA$7,\"aaa-yy\")),'AİDAT GİRİŞİ'!$D:$D)","v":0},{"$f":"SUMIF('AİDAT GİRİŞİ'!$F:$F,\"=\"&($B156&TEXT($AB$7,\"aaa-yy\")),'AİDAT GİRİŞİ'!$D:$D)","v":0},0]
[151,{"$f":"IF(ISERROR(VLOOKUP(A157,'ÜYE KAYIT LİSTESİ'!A:B,2,0)=TRUE),\"\",VLOOKUP(A157,'ÜYE KAYIT LİSTESİ'!A:B,2,0))","v":""},{"$f":"SUMIF('AİDAT GİRİŞİ'!$F:$F,\"=\"&(B157&TEXT($Q$7,\"aaa-yy\")),'AİDAT GİRİŞİ'!$D:$D)","v":0},{"$f":"SUMIF('AİDAT GİRİŞİ'!$F:$F,\"=\"&($B157&TEXT($R$7,\"aaa-yy\")),'AİDAT GİRİŞİ'!$D:$D)","v":0},{"$f":"SUMIF('AİDAT GİRİŞİ'!$F:$F,\"=\"&($B157&TEXT($S$7,\"aaa-yy\")),'AİDAT GİRİŞİ'!$D:$D)","v":0},{"$f":"SUMIF('AİDAT GİRİŞİ'!$F:$F,\"=\"&($B157&TEXT($T$7,\"aaa-yy\")),'AİDAT GİRİŞİ'!$D:$D)","v":0},{"$f":"SUMIF('AİDAT GİRİŞİ'!$F:$F,\"=\"&($B157&TEXT($U$7,\"aaa-yy\")),'AİDAT GİRİŞİ'!$D:$D)","v":0},{"$f":"SUMIF('AİDAT GİRİŞİ'!$F:$F,\"=\"&($B157&TEXT($V$7,\"aaa-yy\")),'AİDAT GİRİŞİ'!$D:$D)","v":0},{"$f":"SUMIF('AİDAT GİRİŞİ'!$F:$F,\"=\"&($B157&TEXT($W$7,\"aaa-yy\")),'AİDAT GİRİŞİ'!$D:$D)","v":0},{"$f":"SUMIF('AİDAT GİRİŞİ'!$F:$F,\"=\"&($B157&TEXT($X$7,\"aaa-yy\")),'AİDAT GİRİŞİ'!$D:$D)","v":0},{"$f":"SUMIF('AİDAT GİRİŞİ'!$F:$F,\"=\"&($B157&TEXT($Y$7,\"aaa-yy\")),'AİDAT GİRİŞİ'!$D:$D)","v":0},{"$f":"SUMIF('AİDAT GİRİŞİ'!$F:$F,\"=\"&($B157&TEXT($Z$7,\"aaa-yy\")),'AİDAT GİRİŞİ'!$D:$D)","v":0},{"$f":"SUMIF('AİDAT GİRİŞİ'!$F:$F,\"=\"&($B157&TEXT($AA$7,\"aaa-yy\")),'AİDAT GİRİŞİ'!$D:$D)","v":0},{"$f":"SUMIF('AİDAT GİRİŞİ'!$F:$F,\"=\"&($B157&TEXT($AB$7,\"aaa-yy\")),'AİDAT GİRİŞİ'!$D:$D)","v":0},0]
[152,{"$f":"IF(ISERROR(VLOOKUP(A158,'ÜYE KAYIT LİSTESİ'!A:B,2,0)=TRUE),\"\",VLOOKUP(A158,'ÜYE KAYIT LİSTESİ'!A:B,2,0))","v":""},{"$f":"SUMIF('AİDAT GİRİŞİ'!$F:$F,\"=\"&(B158&TEXT($Q$7,\"aaa-yy\")),'AİDAT GİRİŞİ'!$D:$D)","v":0},{"$f":"SUMIF('AİDAT GİRİŞİ'!$F:$F,\"=\"&($B158&TEXT($R$7,\"aaa-yy\")),'AİDAT GİRİŞİ'!$D:$D)","v":0},{"$f":"SUMIF('AİDAT GİRİŞİ'!$F:$F,\"=\"&($B158&TEXT($S$7,\"aaa-yy\")),'AİDAT GİRİŞİ'!$D:$D)","v":0},{"$f":"SUMIF('AİDAT GİRİŞİ'!$F:$F,\"=\"&($B158&TEXT($T$7,\"aaa-yy\")),'AİDAT GİRİŞİ'!$D:$D)","v":0},{"$f":"SUMIF('AİDAT GİRİŞİ'!$F:$F,\"=\"&($B158&TEXT($U$7,\"aaa-yy\")),'AİDAT GİRİŞİ'!$D:$D)","v":0},{"$f":"SUMIF('AİDAT GİRİŞİ'!$F:$F,\"=\"&($B158&TEXT($V$7,\"aaa-yy\")),'AİDAT GİRİŞİ'!$D:$D)","v":0},{"$f":"SUMIF('AİDAT GİRİŞİ'!$F:$F,\"=\"&($B158&TEXT($W$7,\"aaa-yy\")),'AİDAT GİRİŞİ'!$D:$D)","v":0},{"$f":"SUMIF('AİDAT GİRİŞİ'!$F:$F,\"=\"&($B158&TEXT($X$7,\"aaa-yy\")),'AİDAT GİRİŞİ'!$D:$D)","v":0},{"$f":"SUMIF('AİDAT GİRİŞİ'!$F:$F,\"=\"&($B158&TEXT($Y$7,\"aaa-yy\")),'AİDAT GİRİŞİ'!$D:$D)","v":0},{"$f":"SUMIF('AİDAT GİRİŞİ'!$F:$F,\"=\"&($B158&TEXT($Z$7,\"aaa-yy\")),'AİDAT GİRİŞİ'!$D:$D)","v":0},{"$f":"SUMIF('AİDAT GİRİŞİ'!$F:$F,\"=\"&($B158&TEXT($AA$7,\"aaa-yy\")),'AİDAT GİRİŞİ'!$D:$D)","v":0},{"$f":"SUMIF('AİDAT GİRİŞİ'!$F:$F,\"=\"&($B158&TEXT($AB$7,\"aaa-yy\")),'AİDAT GİRİŞİ'!$D:$D)","v":0},0]
[153,{"$f":"IF(ISERROR(VLOOKUP(A159,'ÜYE KAYIT LİSTESİ'!A:B,2,0)=TRUE),\"\",VLOOKUP(A159,'ÜYE KAYIT LİSTESİ'!A:B,2,0))","v":""},{"$f":"SUMIF('AİDAT GİRİŞİ'!$F:$F,\"=\"&(B159&TEXT($Q$7,\"aaa-yy\")),'AİDAT GİRİŞİ'!$D:$D)","v":0},{"$f":"SUMIF('AİDAT GİRİŞİ'!$F:$F,\"=\"&($B159&TEXT($R$7,\"aaa-yy\")),'AİDAT GİRİŞİ'!$D:$D)","v":0},{"$f":"SUMIF('AİDAT GİRİŞİ'!$F:$F,\"=\"&($B159&TEXT($S$7,\"aaa-yy\")),'AİDAT GİRİŞİ'!$D:$D)","v":0},{"$f":"SUMIF('AİDAT GİRİŞİ'!$F:$F,\"=\"&($B159&TEXT($T$7,\"aaa-yy\")),'AİDAT GİRİŞİ'!$D:$D)","v":0},{"$f":"SUMIF('AİDAT GİRİŞİ'!$F:$F,\"=\"&($B159&TEXT($U$7,\"aaa-yy\")),'AİDAT GİRİŞİ'!$D:$D)","v":0},{"$f":"SUMIF('AİDAT GİRİŞİ'!$F:$F,\"=\"&($B159&TEXT($V$7,\"aaa-yy\")),'AİDAT GİRİŞİ'!$D:$D)","v":0},{"$f":"SUMIF('AİDAT GİRİŞİ'!$F:$F,\"=\"&($B159&TEXT($W$7,\"aaa-yy\")),'AİDAT GİRİŞİ'!$D:$D)","v":0},{"$f":"SUMIF('AİDAT GİRİŞİ'!$F:$F,\"=\"&($B159&TEXT($X$7,\"aaa-yy\")),'AİDAT GİRİŞİ'!$D:$D)","v":0},{"$f":"SUMIF('AİDAT GİRİŞİ'!$F:$F,\"=\"&($B159&TEXT($Y$7,\"aaa-yy\")),'AİDAT GİRİŞİ'!$D:$D)","v":0},{"$f":"SUMIF('AİDAT GİRİŞİ'!$F:$F,\"=\"&($B159&TEXT($Z$7,\"aaa-yy\")),'AİDAT GİRİŞİ'!$D:$D)","v":0},{"$f":"SUMIF('AİDAT GİRİŞİ'!$F:$F,\"=\"&($B159&TEXT($AA$7,\"aaa-yy\")),'AİDAT GİRİŞİ'!$D:$D)","v":0},{"$f":"SUMIF('AİDAT GİRİŞİ'!$F:$F,\"=\"&($B159&TEXT($AB$7,\"aaa-yy\")),'AİDAT GİRİŞİ'!$D:$D)","v":0},0]
[154,{"$f":"IF(ISERROR(VLOOKUP(A160,'ÜYE KAYIT LİSTESİ'!A:B,2,0)=TRUE),\"\",VLOOKUP(A160,'ÜYE KAYIT LİSTESİ'!A:B,2,0))","v":""},{"$f":"SUMIF('AİDAT GİRİŞİ'!$F:$F,\"=\"&(B160&TEXT($Q$7,\"aaa-yy\")),'AİDAT GİRİŞİ'!$D:$D)","v":0},{"$f":"SUMIF('AİDAT GİRİŞİ'!$F:$F,\"=\"&($B160&TEXT($R$7,\"aaa-yy\")),'AİDAT GİRİŞİ'!$D:$D)","v":0},{"$f":"SUMIF('AİDAT GİRİŞİ'!$F:$F,\"=\"&($B160&TEXT($S$7,\"aaa-yy\")),'AİDAT GİRİŞİ'!$D:$D)","v":0},{"$f":"SUMIF('AİDAT GİRİŞİ'!$F:$F,\"=\"&($B160&TEXT($T$7,\"aaa-yy\")),'AİDAT GİRİŞİ'!$D:$D)","v":0},{"$f":"SUMIF('AİDAT GİRİŞİ'!$F:$F,\"=\"&($B160&TEXT($U$7,\"aaa-yy\")),'AİDAT GİRİŞİ'!$D:$D)","v":0},{"$f":"SUMIF('AİDAT GİRİŞİ'!$F:$F,\"=\"&($B160&TEXT($V$7,\"aaa-yy\")),'AİDAT GİRİŞİ'!$D:$D)","v":0},{"$f":"SUMIF('AİDAT GİRİŞİ'!$F:$F,\"=\"&($B160&TEXT($W$7,\"aaa-yy\")),'AİDAT GİRİŞİ'!$D:$D)","v":0},{"$f":"SUMIF('AİDAT GİRİŞİ'!$F:$F,\"=\"&($B160&TEXT($X$7,\"aaa-yy\")),'AİDAT GİRİŞİ'!$D:$D)","v":0},{"$f":"SUMIF('AİDAT GİRİŞİ'!$F:$F,\"=\"&($B160&TEXT($Y$7,\"aaa-yy\")),'AİDAT GİRİŞİ'!$D:$D)","v":0},{"$f":"SUMIF('AİDAT GİRİŞİ'!$F:$F,\"=\"&($B160&TEXT($Z$7,\"aaa-yy\")),'AİDAT GİRİŞİ'!$D:$D)","v":0},{"$f":"SUMIF('AİDAT GİRİŞİ'!$F:$F,\"=\"&($B160&TEXT($AA$7,\"aaa-yy\")),'AİDAT GİRİŞİ'!$D:$D)","v":0},{"$f":"SUMIF('AİDAT GİRİŞİ'!$F:$F,\"=\"&($B160&TEXT($AB$7,\"aaa-yy\")),'AİDAT GİRİŞİ'!$D:$D)","v":0},0]
[155,{"$f":"IF(ISERROR(VLOOKUP(A161,'ÜYE KAYIT LİSTESİ'!A:B,2,0)=TRUE),\"\",VLOOKUP(A161,'ÜYE KAYIT LİSTESİ'!A:B,2,0))","v":""},{"$f":"SUMIF('AİDAT GİRİŞİ'!$F:$F,\"=\"&(B161&TEXT($Q$7,\"aaa-yy\")),'AİDAT GİRİŞİ'!$D:$D)","v":0},{"$f":"SUMIF('AİDAT GİRİŞİ'!$F:$F,\"=\"&($B161&TEXT($R$7,\"aaa-yy\")),'AİDAT GİRİŞİ'!$D:$D)","v":0},{"$f":"SUMIF('AİDAT GİRİŞİ'!$F:$F,\"=\"&($B161&TEXT($S$7,\"aaa-yy\")),'AİDAT GİRİŞİ'!$D:$D)","v":0},{"$f":"SUMIF('AİDAT GİRİŞİ'!$F:$F,\"=\"&($B161&TEXT($T$7,\"aaa-yy\")),'AİDAT GİRİŞİ'!$D:$D)","v":0},{"$f":"SUMIF('AİDAT GİRİŞİ'!$F:$F,\"=\"&($B161&TEXT($U$7,\"aaa-yy\")),'AİDAT GİRİŞİ'!$D:$D)","v":0},{"$f":"SUMIF('AİDAT GİRİŞİ'!$F:$F,\"=\"&($B161&TEXT($V$7,\"aaa-yy\")),'AİDAT GİRİŞİ'!$D:$D)","v":0},{"$f":"SUMIF('AİDAT GİRİŞİ'!$F:$F,\"=\"&($B161&TEXT($W$7,\"aaa-yy\")),'AİDAT GİRİŞİ'!$D:$D)","v":0},{"$f":"SUMIF('AİDAT GİRİŞİ'!$F:$F,\"=\"&($B161&TEXT($X$7,\"aaa-yy\")),'AİDAT GİRİŞİ'!$D:$D)","v":0},{"$f":"SUMIF('AİDAT GİRİŞİ'!$F:$F,\"=\"&($B161&TEXT($Y$7,\"aaa-yy\")),'AİDAT GİRİŞİ'!$D:$D)","v":0},{"$f":"SUMIF('AİDAT GİRİŞİ'!$F:$F,\"=\"&($B161&TEXT($Z$7,\"aaa-yy\")),'AİDAT GİRİŞİ'!$D:$D)","v":0},{"$f":"SUMIF('AİDAT GİRİŞİ'!$F:$F,\"=\"&($B161&TEXT($AA$7,\"aaa-yy\")),'AİDAT GİRİŞİ'!$D:$D)","v":0},{"$f":"SUMIF('AİDAT GİRİŞİ'!$F:$F,\"=\"&($B161&TEXT($AB$7,\"aaa-yy\")),'AİDAT GİRİŞİ'!$D:$D)","v":0},0]
[156,{"$f":"IF(ISERROR(VLOOKUP(A162,'ÜYE KAYIT LİSTESİ'!A:B,2,0)=TRUE),\"\",VLOOKUP(A162,'ÜYE KAYIT LİSTESİ'!A:B,2,0))","v":""},{"$f":"SUMIF('AİDAT GİRİŞİ'!$F:$F,\"=\"&(B162&TEXT($Q$7,\"aaa-yy\")),'AİDAT GİRİŞİ'!$D:$D)","v":0},{"$f":"SUMIF('AİDAT GİRİŞİ'!$F:$F,\"=\"&($B162&TEXT($R$7,\"aaa-yy\")),'AİDAT GİRİŞİ'!$D:$D)","v":0},{"$f":"SUMIF('AİDAT GİRİŞİ'!$F:$F,\"=\"&($B162&TEXT($S$7,\"aaa-yy\")),'AİDAT GİRİŞİ'!$D:$D)","v":0},{"$f":"SUMIF('AİDAT GİRİŞİ'!$F:$F,\"=\"&($B162&TEXT($T$7,\"aaa-yy\")),'AİDAT GİRİŞİ'!$D:$D)","v":0},{"$f":"SUMIF('AİDAT GİRİŞİ'!$F:$F,\"=\"&($B162&TEXT($U$7,\"aaa-yy\")),'AİDAT GİRİŞİ'!$D:$D)","v":0},{"$f":"SUMIF('AİDAT GİRİŞİ'!$F:$F,\"=\"&($B162&TEXT($V$7,\"aaa-yy\")),'AİDAT GİRİŞİ'!$D:$D)","v":0},{"$f":"SUMIF('AİDAT GİRİŞİ'!$F:$F,\"=\"&($B162&TEXT($W$7,\"aaa-yy\")),'AİDAT GİRİŞİ'!$D:$D)","v":0},{"$f":"SUMIF('AİDAT GİRİŞİ'!$F:$F,\"=\"&($B162&TEXT($X$7,\"aaa-yy\")),'AİDAT GİRİŞİ'!$D:$D)","v":0},{"$f":"SUMIF('AİDAT GİRİŞİ'!$F:$F,\"=\"&($B162&TEXT($Y$7,\"aaa-yy\")),'AİDAT GİRİŞİ'!$D:$D)","v":0},{"$f":"SUMIF('AİDAT GİRİŞİ'!$F:$F,\"=\"&($B162&TEXT($Z$7,\"aaa-yy\")),'AİDAT GİRİŞİ'!$D:$D)","v":0},{"$f":"SUMIF('AİDAT GİRİŞİ'!$F:$F,\"=\"&($B162&TEXT($AA$7,\"aaa-yy\")),'AİDAT GİRİŞİ'!$D:$D)","v":0},{"$f":"SUMIF('AİDAT GİRİŞİ'!$F:$F,\"=\"&($B162&TEXT($AB$7,\"aaa-yy\")),'AİDAT GİRİŞİ'!$D:$D)","v":0},0]
[157,{"$f":"IF(ISERROR(VLOOKUP(A163,'ÜYE KAYIT LİSTESİ'!A:B,2,0)=TRUE),\"\",VLOOKUP(A163,'ÜYE KAYIT LİSTESİ'!A:B,2,0))","v":""},{"$f":"SUMIF('AİDAT GİRİŞİ'!$F:$F,\"=\"&(B163&TEXT($Q$7,\"aaa-yy\")),'AİDAT GİRİŞİ'!$D:$D)","v":0},{"$f":"SUMIF('AİDAT GİRİŞİ'!$F:$F,\"=\"&($B163&TEXT($R$7,\"aaa-yy\")),'AİDAT GİRİŞİ'!$D:$D)","v":0},{"$f":"SUMIF('AİDAT GİRİŞİ'!$F:$F,\"=\"&($B163&TEXT($S$7,\"aaa-yy\")),'AİDAT GİRİŞİ'!$D:$D)","v":0},{"$f":"SUMIF('AİDAT GİRİŞİ'!$F:$F,\"=\"&($B163&TEXT($T$7,\"aaa-yy\")),'AİDAT GİRİŞİ'!$D:$D)","v":0},{"$f":"SUMIF('AİDAT GİRİŞİ'!$F:$F,\"=\"&($B163&TEXT($U$7,\"aaa-yy\")),'AİDAT GİRİŞİ'!$D:$D)","v":0},{"$f":"SUMIF('AİDAT GİRİŞİ'!$F:$F,\"=\"&($B163&TEXT($V$7,\"aaa-yy\")),'AİDAT GİRİŞİ'!$D:$D)","v":0},{"$f":"SUMIF('AİDAT GİRİŞİ'!$F:$F,\"=\"&($B163&TEXT($W$7,\"aaa-yy\")),'AİDAT GİRİŞİ'!$D:$D)","v":0},{"$f":"SUMIF('AİDAT GİRİŞİ'!$F:$F,\"=\"&($B163&TEXT($X$7,\"aaa-yy\")),'AİDAT GİRİŞİ'!$D:$D)","v":0},{"$f":"SUMIF('AİDAT GİRİŞİ'!$F:$F,\"=\"&($B163&TEXT($Y$7,\"aaa-yy\")),'AİDAT GİRİŞİ'!$D:$D)","v":0},{"$f":"SUMIF('AİDAT GİRİŞİ'!$F:$F,\"=\"&($B163&TEXT($Z$7,\"aaa-yy\")),'AİDAT GİRİŞİ'!$D:$D)","v":0},{"$f":"SUMIF('AİDAT GİRİŞİ'!$F:$F,\"=\"&($B163&TEXT($AA$7,\"aaa-yy\")),'AİDAT GİRİŞİ'!$D:$D)","v":0},{"$f":"SUMIF('AİDAT GİRİŞİ'!$F:$F,\"=\"&($B163&TEXT($AB$7,\"aaa-yy\")),'AİDAT GİRİŞİ'!$D:$D)","v":0},0]
[158,{"$f":"IF(ISERROR(VLOOKUP(A164,'ÜYE KAYIT LİSTESİ'!A:B,2,0)=TRUE),\"\",VLOOKUP(A164,'ÜYE KAYIT LİSTESİ'!A:B,2,0))","v":""},{"$f":"SUMIF('AİDAT GİRİŞİ'!$F:$F,\"=\"&(B164&TEXT($Q$7,\"aaa-yy\")),'AİDAT GİRİŞİ'!$D:$D)","v":0},{"$f":"SUMIF('AİDAT GİRİŞİ'!$F:$F,\"=\"&($B164&TEXT($R$7,\"aaa-yy\")),'AİDAT GİRİŞİ'!$D:$D)","v":0},{"$f":"SUMIF('AİDAT GİRİŞİ'!$F:$F,\"=\"&($B164&TEXT($S$7,\"aaa-yy\")),'AİDAT GİRİŞİ'!$D:$D)","v":0},{"$f":"SUMIF('AİDAT GİRİŞİ'!$F:$F,\"=\"&($B164&TEXT($T$7,\"aaa-yy\")),'AİDAT GİRİŞİ'!$D:$D)","v":0},{"$f":"SUMIF('AİDAT GİRİŞİ'!$F:$F,\"=\"&($B164&TEXT($U$7,\"aaa-yy\")),'AİDAT GİRİŞİ'!$D:$D)","v":0},{"$f":"SUMIF('AİDAT GİRİŞİ'!$F:$F,\"=\"&($B164&TEXT($V$7,\"aaa-yy\")),'AİDAT GİRİŞİ'!$D:$D)","v":0},{"$f":"SUMIF('AİDAT GİRİŞİ'!$F:$F,\"=\"&($B164&TEXT($W$7,\"aaa-yy\")),'AİDAT GİRİŞİ'!$D:$D)","v":0},{"$f":"SUMIF('AİDAT GİRİŞİ'!$F:$F,\"=\"&($B164&TEXT($X$7,\"aaa-yy\")),'AİDAT GİRİŞİ'!$D:$D)","v":0},{"$f":"SUMIF('AİDAT GİRİŞİ'!$F:$F,\"=\"&($B164&TEXT($Y$7,\"aaa-yy\")),'AİDAT GİRİŞİ'!$D:$D)","v":0},{"$f":"SUMIF('AİDAT GİRİŞİ'!$F:$F,\"=\"&($B164&TEXT($Z$7,\"aaa-yy\")),'AİDAT GİRİŞİ'!$D:$D)","v":0},{"$f":"SUMIF('AİDAT GİRİŞİ'!$F:$F,\"=\"&($B164&TEXT($AA$7,\"aaa-yy\")),'AİDAT GİRİŞİ'!$D:$D)","v":0},{"$f":"SUMIF('AİDAT GİRİŞİ'!$F:$F,\"=\"&($B164&TEXT($AB$7,\"aaa-yy\")),'AİDAT GİRİŞİ'!$D:$D)","v":0},0]
[159,{"$f":"IF(ISERROR(VLOOKUP(A165,'ÜYE KAYIT LİSTESİ'!A:B,2,0)=TRUE),\"\",VLOOKUP(A165,'ÜYE KAYIT LİSTESİ'!A:B,2,0))","v":""},{"$f":"SUMIF('AİDAT GİRİŞİ'!$F:$F,\"=\"&(B165&TEXT($Q$7,\"aaa-yy\")),'AİDAT GİRİŞİ'!$D:$D)","v":0},{"$f":"SUMIF('AİDAT GİRİŞİ'!$F:$F,\"=\"&($B165&TEXT($R$7,\"aaa-yy\")),'AİDAT GİRİŞİ'!$D:$D)","v":0},{"$f":"SUMIF('AİDAT GİRİŞİ'!$F:$F,\"=\"&($B165&TEXT($S$7,\"aaa-yy\")),'AİDAT GİRİŞİ'!$D:$D)","v":0},{"$f":"SUMIF('AİDAT GİRİŞİ'!$F:$F,\"=\"&($B165&TEXT($T$7,\"aaa-yy\")),'AİDAT GİRİŞİ'!$D:$D)","v":0},{"$f":"SUMIF('AİDAT GİRİŞİ'!$F:$F,\"=\"&($B165&TEXT($U$7,\"aaa-yy\")),'AİDAT GİRİŞİ'!$D:$D)","v":0},{"$f":"SUMIF('AİDAT GİRİŞİ'!$F:$F,\"=\"&($B165&TEXT($V$7,\"aaa-yy\")),'AİDAT GİRİŞİ'!$D:$D)","v":0},{"$f":"SUMIF('AİDAT GİRİŞİ'!$F:$F,\"=\"&($B165&TEXT($W$7,\"aaa-yy\")),'AİDAT GİRİŞİ'!$D:$D)","v":0},{"$f":"SUMIF('AİDAT GİRİŞİ'!$F:$F,\"=\"&($B165&TEXT($X$7,\"aaa-yy\")),'AİDAT GİRİŞİ'!$D:$D)","v":0},{"$f":"SUMIF('AİDAT GİRİŞİ'!$F:$F,\"=\"&($B165&TEXT($Y$7,\"aaa-yy\")),'AİDAT GİRİŞİ'!$D:$D)","v":0},{"$f":"SUMIF('AİDAT GİRİŞİ'!$F:$F,\"=\"&($B165&TEXT($Z$7,\"aaa-yy\")),'AİDAT GİRİŞİ'!$D:$D)","v":0},{"$f":"SUMIF('AİDAT GİRİŞİ'!$F:$F,\"=\"&($B165&TEXT($AA$7,\"aaa-yy\")),'AİDAT GİRİŞİ'!$D:$D)","v":0},{"$f":"SUMIF('AİDAT GİRİŞİ'!$F:$F,\"=\"&($B165&TEXT($AB$7,\"aaa-yy\")),'AİDAT GİRİŞİ'!$D:$D)","v":0},0]
[160,{"$f":"IF(ISERROR(VLOOKUP(A166,'ÜYE KAYIT LİSTESİ'!A:B,2,0)=TRUE),\"\",VLOOKUP(A166,'ÜYE KAYIT LİSTESİ'!A:B,2,0))","v":""},{"$f":"SUMIF('AİDAT GİRİŞİ'!$F:$F,\"=\"&(B166&TEXT($Q$7,\"aaa-yy\")),'AİDAT GİRİŞİ'!$D:$D)","v":0},{"$f":"SUMIF('AİDAT GİRİŞİ'!$F:$F,\"=\"&($B166&TEXT($R$7,\"aaa-yy\")),'AİDAT GİRİŞİ'!$D:$D)","v":0},{"$f":"SUMIF('AİDAT GİRİŞİ'!$F:$F,\"=\"&($B166&TEXT($S$7,\"aaa-yy\")),'AİDAT GİRİŞİ'!$D:$D)","v":0},{"$f":"SUMIF('AİDAT GİRİŞİ'!$F:$F,\"=\"&($B166&TEXT($T$7,\"aaa-yy\")),'AİDAT GİRİŞİ'!$D:$D)","v":0},{"$f":"SUMIF('AİDAT GİRİŞİ'!$F:$F,\"=\"&($B166&TEXT($U$7,\"aaa-yy\")),'AİDAT GİRİŞİ'!$D:$D)","v":0},{"$f":"SUMIF('AİDAT GİRİŞİ'!$F:$F,\"=\"&($B166&TEXT($V$7,\"aaa-yy\")),'AİDAT GİRİŞİ'!$D:$D)","v":0},{"$f":"SUMIF('AİDAT GİRİŞİ'!$F:$F,\"=\"&($B166&TEXT($W$7,\"aaa-yy\")),'AİDAT GİRİŞİ'!$D:$D)","v":0},{"$f":"SUMIF('AİDAT GİRİŞİ'!$F:$F,\"=\"&($B166&TEXT($X$7,\"aaa-yy\")),'AİDAT GİRİŞİ'!$D:$D)","v":0},{"$f":"SUMIF('AİDAT GİRİŞİ'!$F:$F,\"=\"&($B166&TEXT($Y$7,\"aaa-yy\")),'AİDAT GİRİŞİ'!$D:$D)","v":0},{"$f":"SUMIF('AİDAT GİRİŞİ'!$F:$F,\"=\"&($B166&TEXT($Z$7,\"aaa-yy\")),'AİDAT GİRİŞİ'!$D:$D)","v":0},{"$f":"SUMIF('AİDAT GİRİŞİ'!$F:$F,\"=\"&($B166&TEXT($AA$7,\"aaa-yy\")),'AİDAT GİRİŞİ'!$D:$D)","v":0},{"$f":"SUMIF('AİDAT GİRİŞİ'!$F:$F,\"=\"&($B166&TEXT($AB$7,\"aaa-yy\")),'AİDAT GİRİŞİ'!$D:$D)","v":0},0]
[161,{"$f":"IF(ISERROR(VLOOKUP(A167,'ÜYE KAYIT LİSTESİ'!A:B,2,0)=TRUE),\"\",VLOOKUP(A167,'ÜYE KAYIT LİSTESİ'!A:B,2,0))","v":""},{"$f":"SUMIF('AİDAT GİRİŞİ'!$F:$F,\"=\"&(B167&TEXT($Q$7,\"aaa-yy\")),'AİDAT GİRİŞİ'!$D:$D)","v":0},{"$f":"SUMIF('AİDAT GİRİŞİ'!$F:$F,\"=\"&($B167&TEXT($R$7,\"aaa-yy\")),'AİDAT GİRİŞİ'!$D:$D)","v":0},{"$f":"SUMIF('AİDAT GİRİŞİ'!$F:$F,\"=\"&($B167&TEXT($S$7,\"aaa-yy\")),'AİDAT GİRİŞİ'!$D:$D)","v":0},{"$f":"SUMIF('AİDAT GİRİŞİ'!$F:$F,\"=\"&($B167&TEXT($T$7,\"aaa-yy\")),'AİDAT GİRİŞİ'!$D:$D)","v":0},{"$f":"SUMIF('AİDAT GİRİŞİ'!$F:$F,\"=\"&($B167&TEXT($U$7,\"aaa-yy\")),'AİDAT GİRİŞİ'!$D:$D)","v":0},{"$f":"SUMIF('AİDAT GİRİŞİ'!$F:$F,\"=\"&($B167&TEXT($V$7,\"aaa-yy\")),'AİDAT GİRİŞİ'!$D:$D)","v":0},{"$f":"SUMIF('AİDAT GİRİŞİ'!$F:$F,\"=\"&($B167&TEXT($W$7,\"aaa-yy\")),'AİDAT GİRİŞİ'!$D:$D)","v":0},{"$f":"SUMIF('AİDAT GİRİŞİ'!$F:$F,\"=\"&($B167&TEXT($X$7,\"aaa-yy\")),'AİDAT GİRİŞİ'!$D:$D)","v":0},{"$f":"SUMIF('AİDAT GİRİŞİ'!$F:$F,\"=\"&($B167&TEXT($Y$7,\"aaa-yy\")),'AİDAT GİRİŞİ'!$D:$D)","v":0},{"$f":"SUMIF('AİDAT GİRİŞİ'!$F:$F,\"=\"&($B167&TEXT($Z$7,\"aaa-yy\")),'AİDAT GİRİŞİ'!$D:$D)","v":0},{"$f":"SUMIF('AİDAT GİRİŞİ'!$F:$F,\"=\"&($B167&TEXT($AA$7,\"aaa-yy\")),'AİDAT GİRİŞİ'!$D:$D)","v":0},{"$f":"SUMIF('AİDAT GİRİŞİ'!$F:$F,\"=\"&($B167&TEXT($AB$7,\"aaa-yy\")),'AİDAT GİRİŞİ'!$D:$D)","v":0},0]
[162,{"$f":"IF(ISERROR(VLOOKUP(A168,'ÜYE KAYIT LİSTESİ'!A:B,2,0)=TRUE),\"\",VLOOKUP(A168,'ÜYE KAYIT LİSTESİ'!A:B,2,0))","v":""},{"$f":"SUMIF('AİDAT GİRİŞİ'!$F:$F,\"=\"&(B168&TEXT($Q$7,\"aaa-yy\")),'AİDAT GİRİŞİ'!$D:$D)","v":0},{"$f":"SUMIF('AİDAT GİRİŞİ'!$F:$F,\"=\"&($B168&TEXT($R$7,\"aaa-yy\")),'AİDAT GİRİŞİ'!$D:$D)","v":0},{"$f":"SUMIF('AİDAT GİRİŞİ'!$F:$F,\"=\"&($B168&TEXT($S$7,\"aaa-yy\")),'AİDAT GİRİŞİ'!$D:$D)","v":0},{"$f":"SUMIF('AİDAT GİRİŞİ'!$F:$F,\"=\"&($B168&TEXT($T$7,\"aaa-yy\")),'AİDAT GİRİŞİ'!$D:$D)","v":0},{"$f":"SUMIF('AİDAT GİRİŞİ'!$F:$F,\"=\"&($B168&TEXT($U$7,\"aaa-yy\")),'AİDAT GİRİŞİ'!$D:$D)","v":0},{"$f":"SUMIF('AİDAT GİRİŞİ'!$F:$F,\"=\"&($B168&TEXT($V$7,\"aaa-yy\")),'AİDAT GİRİŞİ'!$D:$D)","v":0},{"$f":"SUMIF('AİDAT GİRİŞİ'!$F:$F,\"=\"&($B168&TEXT($W$7,\"aaa-yy\")),'AİDAT GİRİŞİ'!$D:$D)","v":0},{"$f":"SUMIF('AİDAT GİRİŞİ'!$F:$F,\"=\"&($B168&TEXT($X$7,\"aaa-yy\")),'AİDAT GİRİŞİ'!$D:$D)","v":0},{"$f":"SUMIF('AİDAT GİRİŞİ'!$F:$F,\"=\"&($B168&TEXT($Y$7,\"aaa-yy\")),'AİDAT GİRİŞİ'!$D:$D)","v":0},{"$f":"SUMIF('AİDAT GİRİŞİ'!$F:$F,\"=\"&($B168&TEXT($Z$7,\"aaa-yy\")),'AİDAT GİRİŞİ'!$D:$D)","v":0},{"$f":"SUMIF('AİDAT GİRİŞİ'!$F:$F,\"=\"&($B168&TEXT($AA$7,\"aaa-yy\")),'AİDAT GİRİŞİ'!$D:$D)","v":0},{"$f":"SUMIF('AİDAT GİRİŞİ'!$F:$F,\"=\"&($B168&TEXT($AB$7,\"aaa-yy\")),'AİDAT GİRİŞİ'!$D:$D)","v":0},0]
[163,{"$f":"IF(ISERROR(VLOOKUP(A169,'ÜYE KAYIT LİSTESİ'!A:B,2,0)=TRUE),\"\",VLOOKUP(A169,'ÜYE KAYIT LİSTESİ'!A:B,2,0))","v":""},{"$f":"SUMIF('AİDAT GİRİŞİ'!$F:$F,\"=\"&(B169&TEXT($Q$7,\"aaa-yy\")),'AİDAT GİRİŞİ'!$D:$D)","v":0},{"$f":"SUMIF('AİDAT GİRİŞİ'!$F:$F,\"=\"&($B169&TEXT($R$7,\"aaa-yy\")),'AİDAT GİRİŞİ'!$D:$D)","v":0},{"$f":"SUMIF('AİDAT GİRİŞİ'!$F:$F,\"=\"&($B169&TEXT($S$7,\"aaa-yy\")),'AİDAT GİRİŞİ'!$D:$D)","v":0},{"$f":"SUMIF('AİDAT GİRİŞİ'!$F:$F,\"=\"&($B169&TEXT($T$7,\"aaa-yy\")),'AİDAT GİRİŞİ'!$D:$D)","v":0},{"$f":"SUMIF('AİDAT GİRİŞİ'!$F:$F,\"=\"&($B169&TEXT($U$7,\"aaa-yy\")),'AİDAT GİRİŞİ'!$D:$D)","v":0},{"$f":"SUMIF('AİDAT GİRİŞİ'!$F:$F,\"=\"&($B169&TEXT($V$7,\"aaa-yy\")),'AİDAT GİRİŞİ'!$D:$D)","v":0},{"$f":"SUMIF('AİDAT GİRİŞİ'!$F:$F,\"=\"&($B169&TEXT($W$7,\"aaa-yy\")),'AİDAT GİRİŞİ'!$D:$D)","v":0},{"$f":"SUMIF('AİDAT GİRİŞİ'!$F:$F,\"=\"&($B169&TEXT($X$7,\"aaa-yy\")),'AİDAT GİRİŞİ'!$D:$D)","v":0},{"$f":"SUMIF('AİDAT GİRİŞİ'!$F:$F,\"=\"&($B169&TEXT($Y$7,\"aaa-yy\")),'AİDAT GİRİŞİ'!$D:$D)","v":0},{"$f":"SUMIF('AİDAT GİRİŞİ'!$F:$F,\"=\"&($B169&TEXT($Z$7,\"aaa-yy\")),'AİDAT GİRİŞİ'!$D:$D)","v":0},{"$f":"SUMIF('AİDAT GİRİŞİ'!$F:$F,\"=\"&($B169&TEXT($AA$7,\"aaa-yy\")),'AİDAT GİRİŞİ'!$D:$D)","v":0},{"$f":"SUMIF('AİDAT GİRİŞİ'!$F:$F,\"=\"&($B169&TEXT($AB$7,\"aaa-yy\")),'AİDAT GİRİŞİ'!$D:$D)","v":0},0]
[164,{"$f":"IF(ISERROR(VLOOKUP(A170,'ÜYE KAYIT LİSTESİ'!A:B,2,0)=TRUE),\"\",VLOOKUP(A170,'ÜYE KAYIT LİSTESİ'!A:B,2,0))","v":""},{"$f":"SUMIF('AİDAT GİRİŞİ'!$F:$F,\"=\"&(B170&TEXT($Q$7,\"aaa-yy\")),'AİDAT GİRİŞİ'!$D:$D)","v":0},{"$f":"SUMIF('AİDAT GİRİŞİ'!$F:$F,\"=\"&($B170&TEXT($R$7,\"aaa-yy\")),'AİDAT GİRİŞİ'!$D:$D)","v":0},{"$f":"SUMIF('AİDAT GİRİŞİ'!$F:$F,\"=\"&($B170&TEXT($S$7,\"aaa-yy\")),'AİDAT GİRİŞİ'!$D:$D)","v":0},{"$f":"SUMIF('AİDAT GİRİŞİ'!$F:$F,\"=\"&($B170&TEXT($T$7,\"aaa-yy\")),'AİDAT GİRİŞİ'!$D:$D)","v":0},{"$f":"SUMIF('AİDAT GİRİŞİ'!$F:$F,\"=\"&($B170&TEXT($U$7,\"aaa-yy\")),'AİDAT GİRİŞİ'!$D:$D)","v":0},{"$f":"SUMIF('AİDAT GİRİŞİ'!$F:$F,\"=\"&($B170&TEXT($V$7,\"aaa-yy\")),'AİDAT GİRİŞİ'!$D:$D)","v":0},{"$f":"SUMIF('AİDAT GİRİŞİ'!$F:$F,\"=\"&($B170&TEXT($W$7,\"aaa-yy\")),'AİDAT GİRİŞİ'!$D:$D)","v":0},{"$f":"SUMIF('AİDAT GİRİŞİ'!$F:$F,\"=\"&($B170&TEXT($X$7,\"aaa-yy\")),'AİDAT GİRİŞİ'!$D:$D)","v":0},{"$f":"SUMIF('AİDAT GİRİŞİ'!$F:$F,\"=\"&($B170&TEXT($Y$7,\"aaa-yy\")),'AİDAT GİRİŞİ'!$D:$D)","v":0},{"$f":"SUMIF('AİDAT GİRİŞİ'!$F:$F,\"=\"&($B170&TEXT($Z$7,\"aaa-yy\")),'AİDAT GİRİŞİ'!$D:$D)","v":0},{"$f":"SUMIF('AİDAT GİRİŞİ'!$F:$F,\"=\"&($B170&TEXT($AA$7,\"aaa-yy\")),'AİDAT GİRİŞİ'!$D:$D)","v":0},{"$f":"SUMIF('AİDAT GİRİŞİ'!$F:$F,\"=\"&($B170&TEXT($AB$7,\"aaa-yy\")),'AİDAT GİRİŞİ'!$D:$D)","v":0},0]
[165,{"$f":"IF(ISERROR(VLOOKUP(A171,'ÜYE KAYIT LİSTESİ'!A:B,2,0)=TRUE),\"\",VLOOKUP(A171,'ÜYE KAYIT LİSTESİ'!A:B,2,0))","v":""},{"$f":"SUMIF('AİDAT GİRİŞİ'!$F:$F,\"=\"&(B171&TEXT($Q$7,\"aaa-yy\")),'AİDAT GİRİŞİ'!$D:$D)","v":0},{"$f":"SUMIF('AİDAT GİRİŞİ'!$F:$F,\"=\"&($B171&TEXT($R$7,\"aaa-yy\")),'AİDAT GİRİŞİ'!$D:$D)","v":0},{"$f":"SUMIF('AİDAT GİRİŞİ'!$F:$F,\"=\"&($B171&TEXT($S$7,\"aaa-yy\")),'AİDAT GİRİŞİ'!$D:$D)","v":0},{"$f":"SUMIF('AİDAT GİRİŞİ'!$F:$F,\"=\"&($B171&TEXT($T$7,\"aaa-yy\")),'AİDAT GİRİŞİ'!$D:$D)","v":0},{"$f":"SUMIF('AİDAT GİRİŞİ'!$F:$F,\"=\"&($B171&TEXT($U$7,\"aaa-yy\")),'AİDAT GİRİŞİ'!$D:$D)","v":0},{"$f":"SUMIF('AİDAT GİRİŞİ'!$F:$F,\"=\"&($B171&TEXT($V$7,\"aaa-yy\")),'AİDAT GİRİŞİ'!$D:$D)","v":0},{"$f":"SUMIF('AİDAT GİRİŞİ'!$F:$F,\"=\"&($B171&TEXT($W$7,\"aaa-yy\")),'AİDAT GİRİŞİ'!$D:$D)","v":0},{"$f":"SUMIF('AİDAT GİRİŞİ'!$F:$F,\"=\"&($B171&TEXT($X$7,\"aaa-yy\")),'AİDAT GİRİŞİ'!$D:$D)","v":0},{"$f":"SUMIF('AİDAT GİRİŞİ'!$F:$F,\"=\"&($B171&TEXT($Y$7,\"aaa-yy\")),'AİDAT GİRİŞİ'!$D:$D)","v":0},{"$f":"SUMIF('AİDAT GİRİŞİ'!$F:$F,\"=\"&($B171&TEXT($Z$7,\"aaa-yy\")),'AİDAT GİRİŞİ'!$D:$D)","v":0},{"$f":"SUMIF('AİDAT GİRİŞİ'!$F:$F,\"=\"&($B171&TEXT($AA$7,\"aaa-yy\")),'AİDAT GİRİŞİ'!$D:$D)","v":0},{"$f":"SUMIF('AİDAT GİRİŞİ'!$F:$F,\"=\"&($B171&TEXT($AB$7,\"aaa-yy\")),'AİDAT GİRİŞİ'!$D:$D)","v":0},0]
[166,{"$f":"IF(ISERROR(VLOOKUP(A172,'ÜYE KAYIT LİSTESİ'!A:B,2,0)=TRUE),\"\",VLOOKUP(A172,'ÜYE KAYIT LİSTESİ'!A:B,2,0))","v":""},{"$f":"SUMIF('AİDAT GİRİŞİ'!$F:$F,\"=\"&(B172&TEXT($Q$7,\"aaa-yy\")),'AİDAT GİRİŞİ'!$D:$D)","v":0},{"$f":"SUMIF('AİDAT GİRİŞİ'!$F:$F,\"=\"&($B172&TEXT($R$7,\"aaa-yy\")),'AİDAT GİRİŞİ'!$D:$D)","v":0},{"$f":"SUMIF('AİDAT GİRİŞİ'!$F:$F,\"=\"&($B172&TEXT($S$7,\"aaa-yy\")),'AİDAT GİRİŞİ'!$D:$D)","v":0},{"$f":"SUMIF('AİDAT GİRİŞİ'!$F:$F,\"=\"&($B172&TEXT($T$7,\"aaa-yy\")),'AİDAT GİRİŞİ'!$D:$D)","v":0},{"$f":"SUMIF('AİDAT GİRİŞİ'!$F:$F,\"=\"&($B172&TEXT($U$7,\"aaa-yy\")),'AİDAT GİRİŞİ'!$D:$D)","v":0},{"$f":"SUMIF('AİDAT GİRİŞİ'!$F:$F,\"=\"&($B172&TEXT($V$7,\"aaa-yy\")),'AİDAT GİRİŞİ'!$D:$D)","v":0},{"$f":"SUMIF('AİDAT GİRİŞİ'!$F:$F,\"=\"&($B172&TEXT($W$7,\"aaa-yy\")),'AİDAT GİRİŞİ'!$D:$D)","v":0},{"$f":"SUMIF('AİDAT GİRİŞİ'!$F:$F,\"=\"&($B172&TEXT($X$7,\"aaa-yy\")),'AİDAT GİRİŞİ'!$D:$D)","v":0},{"$f":"SUMIF('AİDAT GİRİŞİ'!$F:$F,\"=\"&($B172&TEXT($Y$7,\"aaa-yy\")),'AİDAT GİRİŞİ'!$D:$D)","v":0},{"$f":"SUMIF('AİDAT GİRİŞİ'!$F:$F,\"=\"&($B172&TEXT($Z$7,\"aaa-yy\")),'AİDAT GİRİŞİ'!$D:$D)","v":0},{"$f":"SUMIF('AİDAT GİRİŞİ'!$F:$F,\"=\"&($B172&TEXT($AA$7,\"aaa-yy\")),'AİDAT GİRİŞİ'!$D:$D)","v":0},{"$f":"SUMIF('AİDAT GİRİŞİ'!$F:$F,\"=\"&($B172&TEXT($AB$7,\"aaa-yy\")),'AİDAT GİRİŞİ'!$D:$D)","v":0},0]
[167,{"$f":"IF(ISERROR(VLOOKUP(A173,'ÜYE KAYIT LİSTESİ'!A:B,2,0)=TRUE),\"\",VLOOKUP(A173,'ÜYE KAYIT LİSTESİ'!A:B,2,0))","v":""},{"$f":"SUMIF('AİDAT GİRİŞİ'!$F:$F,\"=\"&(B173&TEXT($Q$7,\"aaa-yy\")),'AİDAT GİRİŞİ'!$D:$D)","v":0},{"$f":"SUMIF('AİDAT GİRİŞİ'!$F:$F,\"=\"&($B173&TEXT($R$7,\"aaa-yy\")),'AİDAT GİRİŞİ'!$D:$D)","v":0},{"$f":"SUMIF('AİDAT GİRİŞİ'!$F:$F,\"=\"&($B173&TEXT($S$7,\"aaa-yy\")),'AİDAT GİRİŞİ'!$D:$D)","v":0},{"$f":"SUMIF('AİDAT GİRİŞİ'!$F:$F,\"=\"&($B173&TEXT($T$7,\"aaa-yy\")),'AİDAT GİRİŞİ'!$D:$D)","v":0},{"$f":"SUMIF('AİDAT GİRİŞİ'!$F:$F,\"=\"&($B173&TEXT($U$7,\"aaa-yy\")),'AİDAT GİRİŞİ'!$D:$D)","v":0},{"$f":"SUMIF('AİDAT GİRİŞİ'!$F:$F,\"=\"&($B173&TEXT($V$7,\"aaa-yy\")),'AİDAT GİRİŞİ'!$D:$D)","v":0},{"$f":"SUMIF('AİDAT GİRİŞİ'!$F:$F,\"=\"&($B173&TEXT($W$7,\"aaa-yy\")),'AİDAT GİRİŞİ'!$D:$D)","v":0},{"$f":"SUMIF('AİDAT GİRİŞİ'!$F:$F,\"=\"&($B173&TEXT($X$7,\"aaa-yy\")),'AİDAT GİRİŞİ'!$D:$D)","v":0},{"$f":"SUMIF('AİDAT GİRİŞİ'!$F:$F,\"=\"&($B173&TEXT($Y$7,\"aaa-yy\")),'AİDAT GİRİŞİ'!$D:$D)","v":0},{"$f":"SUMIF('AİDAT GİRİŞİ'!$F:$F,\"=\"&($B173&TEXT($Z$7,\"aaa-yy\")),'AİDAT GİRİŞİ'!$D:$D)","v":0},{"$f":"SUMIF('AİDAT GİRİŞİ'!$F:$F,\"=\"&($B173&TEXT($AA$7,\"aaa-yy\")),'AİDAT GİRİŞİ'!$D:$D)","v":0},{"$f":"SUMIF('AİDAT GİRİŞİ'!$F:$F,\"=\"&($B173&TEXT($AB$7,\"aaa-yy\")),'AİDAT GİRİŞİ'!$D:$D)","v":0},0]
[168,{"$f":"IF(ISERROR(VLOOKUP(A174,'ÜYE KAYIT LİSTESİ'!A:B,2,0)=TRUE),\"\",VLOOKUP(A174,'ÜYE KAYIT LİSTESİ'!A:B,2,0))","v":""},{"$f":"SUMIF('AİDAT GİRİŞİ'!$F:$F,\"=\"&(B174&TEXT($Q$7,\"aaa-yy\")),'AİDAT GİRİŞİ'!$D:$D)","v":0},{"$f":"SUMIF('AİDAT GİRİŞİ'!$F:$F,\"=\"&($B174&TEXT($R$7,\"aaa-yy\")),'AİDAT GİRİŞİ'!$D:$D)","v":0},{"$f":"SUMIF('AİDAT GİRİŞİ'!$F:$F,\"=\"&($B174&TEXT($S$7,\"aaa-yy\")),'AİDAT GİRİŞİ'!$D:$D)","v":0},{"$f":"SUMIF('AİDAT GİRİŞİ'!$F:$F,\"=\"&($B174&TEXT($T$7,\"aaa-yy\")),'AİDAT GİRİŞİ'!$D:$D)","v":0},{"$f":"SUMIF('AİDAT GİRİŞİ'!$F:$F,\"=\"&($B174&TEXT($U$7,\"aaa-yy\")),'AİDAT GİRİŞİ'!$D:$D)","v":0},{"$f":"SUMIF('AİDAT GİRİŞİ'!$F:$F,\"=\"&($B174&TEXT($V$7,\"aaa-yy\")),'AİDAT GİRİŞİ'!$D:$D)","v":0},{"$f":"SUMIF('AİDAT GİRİŞİ'!$F:$F,\"=\"&($B174&TEXT($W$7,\"aaa-yy\")),'AİDAT GİRİŞİ'!$D:$D)","v":0},{"$f":"SUMIF('AİDAT GİRİŞİ'!$F:$F,\"=\"&($B174&TEXT($X$7,\"aaa-yy\")),'AİDAT GİRİŞİ'!$D:$D)","v":0},{"$f":"SUMIF('AİDAT GİRİŞİ'!$F:$F,\"=\"&($B174&TEXT($Y$7,\"aaa-yy\")),'AİDAT GİRİŞİ'!$D:$D)","v":0},{"$f":"SUMIF('AİDAT GİRİŞİ'!$F:$F,\"=\"&($B174&TEXT($Z$7,\"aaa-yy\")),'AİDAT GİRİŞİ'!$D:$D)","v":0},{"$f":"SUMIF('AİDAT GİRİŞİ'!$F:$F,\"=\"&($B174&TEXT($AA$7,\"aaa-yy\")),'AİDAT GİRİŞİ'!$D:$D)","v":0},{"$f":"SUMIF('AİDAT GİRİŞİ'!$F:$F,\"=\"&($B174&TEXT($AB$7,\"aaa-yy\")),'AİDAT GİRİŞİ'!$D:$D)","v":0},0]
[169,{"$f":"IF(ISERROR(VLOOKUP(A175,'ÜYE KAYIT LİSTESİ'!A:B,2,0)=TRUE),\"\",VLOOKUP(A175,'ÜYE KAYIT LİSTESİ'!A:B,2,0))","v":""},{"$f":"SUMIF('AİDAT GİRİŞİ'!$F:$F,\"=\"&(B175&TEXT($Q$7,\"aaa-yy\")),'AİDAT GİRİŞİ'!$D:$D)","v":0},{"$f":"SUMIF('AİDAT GİRİŞİ'!$F:$F,\"=\"&($B175&TEXT($R$7,\"aaa-yy\")),'AİDAT GİRİŞİ'!$D:$D)","v":0},{"$f":"SUMIF('AİDAT GİRİŞİ'!$F:$F,\"=\"&($B175&TEXT($S$7,\"aaa-yy\")),'AİDAT GİRİŞİ'!$D:$D)","v":0},{"$f":"SUMIF('AİDAT GİRİŞİ'!$F:$F,\"=\"&($B175&TEXT($T$7,\"aaa-yy\")),'AİDAT GİRİŞİ'!$D:$D)","v":0},{"$f":"SUMIF('AİDAT GİRİŞİ'!$F:$F,\"=\"&($B175&TEXT($U$7,\"aaa-yy\")),'AİDAT GİRİŞİ'!$D:$D)","v":0},{"$f":"SUMIF('AİDAT GİRİŞİ'!$F:$F,\"=\"&($B175&TEXT($V$7,\"aaa-yy\")),'AİDAT GİRİŞİ'!$D:$D)","v":0},{"$f":"SUMIF('AİDAT GİRİŞİ'!$F:$F,\"=\"&($B175&TEXT($W$7,\"aaa-yy\")),'AİDAT GİRİŞİ'!$D:$D)","v":0},{"$f":"SUMIF('AİDAT GİRİŞİ'!$F:$F,\"=\"&($B175&TEXT($X$7,\"aaa-yy\")),'AİDAT GİRİŞİ'!$D:$D)","v":0},{"$f":"SUMIF('AİDAT GİRİŞİ'!$F:$F,\"=\"&($B175&TEXT($Y$7,\"aaa-yy\")),'AİDAT GİRİŞİ'!$D:$D)","v":0},{"$f":"SUMIF('AİDAT GİRİŞİ'!$F:$F,\"=\"&($B175&TEXT($Z$7,\"aaa-yy\")),'AİDAT GİRİŞİ'!$D:$D)","v":0},{"$f":"SUMIF('AİDAT GİRİŞİ'!$F:$F,\"=\"&($B175&TEXT($AA$7,\"aaa-yy\")),'AİDAT GİRİŞİ'!$D:$D)","v":0},{"$f":"SUMIF('AİDAT GİRİŞİ'!$F:$F,\"=\"&($B175&TEXT($AB$7,\"aaa-yy\")),'AİDAT GİRİŞİ'!$D:$D)","v":0},0]
[170,{"$f":"IF(ISERROR(VLOOKUP(A176,'ÜYE KAYIT LİSTESİ'!A:B,2,0)=TRUE),\"\",VLOOKUP(A176,'ÜYE KAYIT LİSTESİ'!A:B,2,0))","v":""},{"$f":"SUMIF('AİDAT GİRİŞİ'!$F:$F,\"=\"&(B176&TEXT($Q$7,\"aaa-yy\")),'AİDAT GİRİŞİ'!$D:$D)","v":0},{"$f":"SUMIF('AİDAT GİRİŞİ'!$F:$F,\"=\"&($B176&TEXT($R$7,\"aaa-yy\")),'AİDAT GİRİŞİ'!$D:$D)","v":0},{"$f":"SUMIF('AİDAT GİRİŞİ'!$F:$F,\"=\"&($B176&TEXT($S$7,\"aaa-yy\")),'AİDAT GİRİŞİ'!$D:$D)","v":0},{"$f":"SUMIF('AİDAT GİRİŞİ'!$F:$F,\"=\"&($B176&TEXT($T$7,\"aaa-yy\")),'AİDAT GİRİŞİ'!$D:$D)","v":0},{"$f":"SUMIF('AİDAT GİRİŞİ'!$F:$F,\"=\"&($B176&TEXT($U$7,\"aaa-yy\")),'AİDAT GİRİŞİ'!$D:$D)","v":0},{"$f":"SUMIF('AİDAT GİRİŞİ'!$F:$F,\"=\"&($B176&TEXT($V$7,\"aaa-yy\")),'AİDAT GİRİŞİ'!$D:$D)","v":0},{"$f":"SUMIF('AİDAT GİRİŞİ'!$F:$F,\"=\"&($B176&TEXT($W$7,\"aaa-yy\")),'AİDAT GİRİŞİ'!$D:$D)","v":0},{"$f":"SUMIF('AİDAT GİRİŞİ'!$F:$F,\"=\"&($B176&TEXT($X$7,\"aaa-yy\")),'AİDAT GİRİŞİ'!$D:$D)","v":0},{"$f":"SUMIF('AİDAT GİRİŞİ'!$F:$F,\"=\"&($B176&TEXT($Y$7,\"aaa-yy\")),'AİDAT GİRİŞİ'!$D:$D)","v":0},{"$f":"SUMIF('AİDAT GİRİŞİ'!$F:$F,\"=\"&($B176&TEXT($Z$7,\"aaa-yy\")),'AİDAT GİRİŞİ'!$D:$D)","v":0},{"$f":"SUMIF('AİDAT GİRİŞİ'!$F:$F,\"=\"&($B176&TEXT($AA$7,\"aaa-yy\")),'AİDAT GİRİŞİ'!$D:$D)","v":0},{"$f":"SUMIF('AİDAT GİRİŞİ'!$F:$F,\"=\"&($B176&TEXT($AB$7,\"aaa-yy\")),'AİDAT GİRİŞİ'!$D:$D)","v":0},0]
[171,{"$f":"IF(ISERROR(VLOOKUP(A177,'ÜYE KAYIT LİSTESİ'!A:B,2,0)=TRUE),\"\",VLOOKUP(A177,'ÜYE KAYIT LİSTESİ'!A:B,2,0))","v":""},{"$f":"SUMIF('AİDAT GİRİŞİ'!$F:$F,\"=\"&(B177&TEXT($Q$7,\"aaa-yy\")),'AİDAT GİRİŞİ'!$D:$D)","v":0},{"$f":"SUMIF('AİDAT GİRİŞİ'!$F:$F,\"=\"&($B177&TEXT($R$7,\"aaa-yy\")),'AİDAT GİRİŞİ'!$D:$D)","v":0},{"$f":"SUMIF('AİDAT GİRİŞİ'!$F:$F,\"=\"&($B177&TEXT($S$7,\"aaa-yy\")),'AİDAT GİRİŞİ'!$D:$D)","v":0},{"$f":"SUMIF('AİDAT GİRİŞİ'!$F:$F,\"=\"&($B177&TEXT($T$7,\"aaa-yy\")),'AİDAT GİRİŞİ'!$D:$D)","v":0},{"$f":"SUMIF('AİDAT GİRİŞİ'!$F:$F,\"=\"&($B177&TEXT($U$7,\"aaa-yy\")),'AİDAT GİRİŞİ'!$D:$D)","v":0},{"$f":"SUMIF('AİDAT GİRİŞİ'!$F:$F,\"=\"&($B177&TEXT($V$7,\"aaa-yy\")),'AİDAT GİRİŞİ'!$D:$D)","v":0},{"$f":"SUMIF('AİDAT GİRİŞİ'!$F:$F,\"=\"&($B177&TEXT($W$7,\"aaa-yy\")),'AİDAT GİRİŞİ'!$D:$D)","v":0},{"$f":"SUMIF('AİDAT GİRİŞİ'!$F:$F,\"=\"&($B177&TEXT($X$7,\"aaa-yy\")),'AİDAT GİRİŞİ'!$D:$D)","v":0},{"$f":"SUMIF('AİDAT GİRİŞİ'!$F:$F,\"=\"&($B177&TEXT($Y$7,\"aaa-yy\")),'AİDAT GİRİŞİ'!$D:$D)","v":0},{"$f":"SUMIF('AİDAT GİRİŞİ'!$F:$F,\"=\"&($B177&TEXT($Z$7,\"aaa-yy\")),'AİDAT GİRİŞİ'!$D:$D)","v":0},{"$f":"SUMIF('AİDAT GİRİŞİ'!$F:$F,\"=\"&($B177&TEXT($AA$7,\"aaa-yy\")),'AİDAT GİRİŞİ'!$D:$D)","v":0},{"$f":"SUMIF('AİDAT GİRİŞİ'!$F:$F,\"=\"&($B177&TEXT($AB$7,\"aaa-yy\")),'AİDAT GİRİŞİ'!$D:$D)","v":0},0]
[172,{"$f":"IF(ISERROR(VLOOKUP(A178,'ÜYE KAYIT LİSTESİ'!A:B,2,0)=TRUE),\"\",VLOOKUP(A178,'ÜYE KAYIT LİSTESİ'!A:B,2,0))","v":""},{"$f":"SUMIF('AİDAT GİRİŞİ'!$F:$F,\"=\"&(B178&TEXT($Q$7,\"aaa-yy\")),'AİDAT GİRİŞİ'!$D:$D)","v":0},{"$f":"SUMIF('AİDAT GİRİŞİ'!$F:$F,\"=\"&($B178&TEXT($R$7,\"aaa-yy\")),'AİDAT GİRİŞİ'!$D:$D)","v":0},{"$f":"SUMIF('AİDAT GİRİŞİ'!$F:$F,\"=\"&($B178&TEXT($S$7,\"aaa-yy\")),'AİDAT GİRİŞİ'!$D:$D)","v":0},{"$f":"SUMIF('AİDAT GİRİŞİ'!$F:$F,\"=\"&($B178&TEXT($T$7,\"aaa-yy\")),'AİDAT GİRİŞİ'!$D:$D)","v":0},{"$f":"SUMIF('AİDAT GİRİŞİ'!$F:$F,\"=\"&($B178&TEXT($U$7,\"aaa-yy\")),'AİDAT GİRİŞİ'!$D:$D)","v":0},{"$f":"SUMIF('AİDAT GİRİŞİ'!$F:$F,\"=\"&($B178&TEXT($V$7,\"aaa-yy\")),'AİDAT GİRİŞİ'!$D:$D)","v":0},{"$f":"SUMIF('AİDAT GİRİŞİ'!$F:$F,\"=\"&($B178&TEXT($W$7,\"aaa-yy\")),'AİDAT GİRİŞİ'!$D:$D)","v":0},{"$f":"SUMIF('AİDAT GİRİŞİ'!$F:$F,\"=\"&($B178&TEXT($X$7,\"aaa-yy\")),'AİDAT GİRİŞİ'!$D:$D)","v":0},{"$f":"SUMIF('AİDAT GİRİŞİ'!$F:$F,\"=\"&($B178&TEXT($Y$7,\"aaa-yy\")),'AİDAT GİRİŞİ'!$D:$D)","v":0},{"$f":"SUMIF('AİDAT GİRİŞİ'!$F:$F,\"=\"&($B178&TEXT($Z$7,\"aaa-yy\")),'AİDAT GİRİŞİ'!$D:$D)","v":0},{"$f":"SUMIF('AİDAT GİRİŞİ'!$F:$F,\"=\"&($B178&TEXT($AA$7,\"aaa-yy\")),'AİDAT GİRİŞİ'!$D:$D)","v":0},{"$f":"SUMIF('AİDAT GİRİŞİ'!$F:$F,\"=\"&($B178&TEXT($AB$7,\"aaa-yy\")),'AİDAT GİRİŞİ'!$D:$D)","v":0},0]
[173,{"$f":"IF(ISERROR(VLOOKUP(A179,'ÜYE KAYIT LİSTESİ'!A:B,2,0)=TRUE),\"\",VLOOKUP(A179,'ÜYE KAYIT LİSTESİ'!A:B,2,0))","v":""},{"$f":"SUMIF('AİDAT GİRİŞİ'!$F:$F,\"=\"&(B179&TEXT($Q$7,\"aaa-yy\")),'AİDAT GİRİŞİ'!$D:$D)","v":0},{"$f":"SUMIF('AİDAT GİRİŞİ'!$F:$F,\"=\"&($B179&TEXT($R$7,\"aaa-yy\")),'AİDAT GİRİŞİ'!$D:$D)","v":0},{"$f":"SUMIF('AİDAT GİRİŞİ'!$F:$F,\"=\"&($B179&TEXT($S$7,\"aaa-yy\")),'AİDAT GİRİŞİ'!$D:$D)","v":0},{"$f":"SUMIF('AİDAT GİRİŞİ'!$F:$F,\"=\"&($B179&TEXT($T$7,\"aaa-yy\")),'AİDAT GİRİŞİ'!$D:$D)","v":0},{"$f":"SUMIF('AİDAT GİRİŞİ'!$F:$F,\"=\"&($B179&TEXT($U$7,\"aaa-yy\")),'AİDAT GİRİŞİ'!$D:$D)","v":0},{"$f":"SUMIF('AİDAT GİRİŞİ'!$F:$F,\"=\"&($B179&TEXT($V$7,\"aaa-yy\")),'AİDAT GİRİŞİ'!$D:$D)","v":0},{"$f":"SUMIF('AİDAT GİRİŞİ'!$F:$F,\"=\"&($B179&TEXT($W$7,\"aaa-yy\")),'AİDAT GİRİŞİ'!$D:$D)","v":0},{"$f":"SUMIF('AİDAT GİRİŞİ'!$F:$F,\"=\"&($B179&TEXT($X$7,\"aaa-yy\")),'AİDAT GİRİŞİ'!$D:$D)","v":0},{"$f":"SUMIF('AİDAT GİRİŞİ'!$F:$F,\"=\"&($B179&TEXT($Y$7,\"aaa-yy\")),'AİDAT GİRİŞİ'!$D:$D)","v":0},{"$f":"SUMIF('AİDAT GİRİŞİ'!$F:$F,\"=\"&($B179&TEXT($Z$7,\"aaa-yy\")),'AİDAT GİRİŞİ'!$D:$D)","v":0},{"$f":"SUMIF('AİDAT GİRİŞİ'!$F:$F,\"=\"&($B179&TEXT($AA$7,\"aaa-yy\")),'AİDAT GİRİŞİ'!$D:$D)","v":0},{"$f":"SUMIF('AİDAT GİRİŞİ'!$F:$F,\"=\"&($B179&TEXT($AB$7,\"aaa-yy\")),'AİDAT GİRİŞİ'!$D:$D)","v":0},0]
[174,{"$f":"IF(ISERROR(VLOOKUP(A180,'ÜYE KAYIT LİSTESİ'!A:B,2,0)=TRUE),\"\",VLOOKUP(A180,'ÜYE KAYIT LİSTESİ'!A:B,2,0))","v":""},{"$f":"SUMIF('AİDAT GİRİŞİ'!$F:$F,\"=\"&(B180&TEXT($Q$7,\"aaa-yy\")),'AİDAT GİRİŞİ'!$D:$D)","v":0},{"$f":"SUMIF('AİDAT GİRİŞİ'!$F:$F,\"=\"&($B180&TEXT($R$7,\"aaa-yy\")),'AİDAT GİRİŞİ'!$D:$D)","v":0},{"$f":"SUMIF('AİDAT GİRİŞİ'!$F:$F,\"=\"&($B180&TEXT($S$7,\"aaa-yy\")),'AİDAT GİRİŞİ'!$D:$D)","v":0},{"$f":"SUMIF('AİDAT GİRİŞİ'!$F:$F,\"=\"&($B180&TEXT($T$7,\"aaa-yy\")),'AİDAT GİRİŞİ'!$D:$D)","v":0},{"$f":"SUMIF('AİDAT GİRİŞİ'!$F:$F,\"=\"&($B180&TEXT($U$7,\"aaa-yy\")),'AİDAT GİRİŞİ'!$D:$D)","v":0},{"$f":"SUMIF('AİDAT GİRİŞİ'!$F:$F,\"=\"&($B180&TEXT($V$7,\"aaa-yy\")),'AİDAT GİRİŞİ'!$D:$D)","v":0},{"$f":"SUMIF('AİDAT GİRİŞİ'!$F:$F,\"=\"&($B180&TEXT($W$7,\"aaa-yy\")),'AİDAT GİRİŞİ'!$D:$D)","v":0},{"$f":"SUMIF('AİDAT GİRİŞİ'!$F:$F,\"=\"&($B180&TEXT($X$7,\"aaa-yy\")),'AİDAT GİRİŞİ'!$D:$D)","v":0},{"$f":"SUMIF('AİDAT GİRİŞİ'!$F:$F,\"=\"&($B180&TEXT($Y$7,\"aaa-yy\")),'AİDAT GİRİŞİ'!$D:$D)","v":0},{"$f":"SUMIF('AİDAT GİRİŞİ'!$F:$F,\"=\"&($B180&TEXT($Z$7,\"aaa-yy\")),'AİDAT GİRİŞİ'!$D:$D)","v":0},{"$f":"SUMIF('AİDAT GİRİŞİ'!$F:$F,\"=\"&($B180&TEXT($AA$7,\"aaa-yy\")),'AİDAT GİRİŞİ'!$D:$D)","v":0},{"$f":"SUMIF('AİDAT GİRİŞİ'!$F:$F,\"=\"&($B180&TEXT($AB$7,\"aaa-yy\")),'AİDAT GİRİŞİ'!$D:$D)","v":0},0]
[175,{"$f":"IF(ISERROR(VLOOKUP(A181,'ÜYE KAYIT LİSTESİ'!A:B,2,0)=TRUE),\"\",VLOOKUP(A181,'ÜYE KAYIT LİSTESİ'!A:B,2,0))","v":""},{"$f":"SUMIF('AİDAT GİRİŞİ'!$F:$F,\"=\"&(B181&TEXT($Q$7,\"aaa-yy\")),'AİDAT GİRİŞİ'!$D:$D)","v":0},{"$f":"SUMIF('AİDAT GİRİŞİ'!$F:$F,\"=\"&($B181&TEXT($R$7,\"aaa-yy\")),'AİDAT GİRİŞİ'!$D:$D)","v":0},{"$f":"SUMIF('AİDAT GİRİŞİ'!$F:$F,\"=\"&($B181&TEXT($S$7,\"aaa-yy\")),'AİDAT GİRİŞİ'!$D:$D)","v":0},{"$f":"SUMIF('AİDAT GİRİŞİ'!$F:$F,\"=\"&($B181&TEXT($T$7,\"aaa-yy\")),'AİDAT GİRİŞİ'!$D:$D)","v":0},{"$f":"SUMIF('AİDAT GİRİŞİ'!$F:$F,\"=\"&($B181&TEXT($U$7,\"aaa-yy\")),'AİDAT GİRİŞİ'!$D:$D)","v":0},{"$f":"SUMIF('AİDAT GİRİŞİ'!$F:$F,\"=\"&($B181&TEXT($V$7,\"aaa-yy\")),'AİDAT GİRİŞİ'!$D:$D)","v":0},{"$f":"SUMIF('AİDAT GİRİŞİ'!$F:$F,\"=\"&($B181&TEXT($W$7,\"aaa-yy\")),'AİDAT GİRİŞİ'!$D:$D)","v":0},{"$f":"SUMIF('AİDAT GİRİŞİ'!$F:$F,\"=\"&($B181&TEXT($X$7,\"aaa-yy\")),'AİDAT GİRİŞİ'!$D:$D)","v":0},{"$f":"SUMIF('AİDAT GİRİŞİ'!$F:$F,\"=\"&($B181&TEXT($Y$7,\"aaa-yy\")),'AİDAT GİRİŞİ'!$D:$D)","v":0},{"$f":"SUMIF('AİDAT GİRİŞİ'!$F:$F,\"=\"&($B181&TEXT($Z$7,\"aaa-yy\")),'AİDAT GİRİŞİ'!$D:$D)","v":0},{"$f":"SUMIF('AİDAT GİRİŞİ'!$F:$F,\"=\"&($B181&TEXT($AA$7,\"aaa-yy\")),'AİDAT GİRİŞİ'!$D:$D)","v":0},{"$f":"SUMIF('AİDAT GİRİŞİ'!$F:$F,\"=\"&($B181&TEXT($AB$7,\"aaa-yy\")),'AİDAT GİRİŞİ'!$D:$D)","v":0},0]
[176,{"$f":"IF(ISERROR(VLOOKUP(A182,'ÜYE KAYIT LİSTESİ'!A:B,2,0)=TRUE),\"\",VLOOKUP(A182,'ÜYE KAYIT LİSTESİ'!A:B,2,0))","v":""},{"$f":"SUMIF('AİDAT GİRİŞİ'!$F:$F,\"=\"&(B182&TEXT($Q$7,\"aaa-yy\")),'AİDAT GİRİŞİ'!$D:$D)","v":0},{"$f":"SUMIF('AİDAT GİRİŞİ'!$F:$F,\"=\"&($B182&TEXT($R$7,\"aaa-yy\")),'AİDAT GİRİŞİ'!$D:$D)","v":0},{"$f":"SUMIF('AİDAT GİRİŞİ'!$F:$F,\"=\"&($B182&TEXT($S$7,\"aaa-yy\")),'AİDAT GİRİŞİ'!$D:$D)","v":0},{"$f":"SUMIF('AİDAT GİRİŞİ'!$F:$F,\"=\"&($B182&TEXT($T$7,\"aaa-yy\")),'AİDAT GİRİŞİ'!$D:$D)","v":0},{"$f":"SUMIF('AİDAT GİRİŞİ'!$F:$F,\"=\"&($B182&TEXT($U$7,\"aaa-yy\")),'AİDAT GİRİŞİ'!$D:$D)","v":0},{"$f":"SUMIF('AİDAT GİRİŞİ'!$F:$F,\"=\"&($B182&TEXT($V$7,\"aaa-yy\")),'AİDAT GİRİŞİ'!$D:$D)","v":0},{"$f":"SUMIF('AİDAT GİRİŞİ'!$F:$F,\"=\"&($B182&TEXT($W$7,\"aaa-yy\")),'AİDAT GİRİŞİ'!$D:$D)","v":0},{"$f":"SUMIF('AİDAT GİRİŞİ'!$F:$F,\"=\"&($B182&TEXT($X$7,\"aaa-yy\")),'AİDAT GİRİŞİ'!$D:$D)","v":0},{"$f":"SUMIF('AİDAT GİRİŞİ'!$F:$F,\"=\"&($B182&TEXT($Y$7,\"aaa-yy\")),'AİDAT GİRİŞİ'!$D:$D)","v":0},{"$f":"SUMIF('AİDAT GİRİŞİ'!$F:$F,\"=\"&($B182&TEXT($Z$7,\"aaa-yy\")),'AİDAT GİRİŞİ'!$D:$D)","v":0},{"$f":"SUMIF('AİDAT GİRİŞİ'!$F:$F,\"=\"&($B182&TEXT($AA$7,\"aaa-yy\")),'AİDAT GİRİŞİ'!$D:$D)","v":0},{"$f":"SUMIF('AİDAT GİRİŞİ'!$F:$F,\"=\"&($B182&TEXT($AB$7,\"aaa-yy\")),'AİDAT GİRİŞİ'!$D:$D)","v":0},0]
[177,{"$f":"IF(ISERROR(VLOOKUP(A183,'ÜYE KAYIT LİSTESİ'!A:B,2,0)=TRUE),\"\",VLOOKUP(A183,'ÜYE KAYIT LİSTESİ'!A:B,2,0))","v":""},{"$f":"SUMIF('AİDAT GİRİŞİ'!$F:$F,\"=\"&(B183&TEXT($Q$7,\"aaa-yy\")),'AİDAT GİRİŞİ'!$D:$D)","v":0},{"$f":"SUMIF('AİDAT GİRİŞİ'!$F:$F,\"=\"&($B183&TEXT($R$7,\"aaa-yy\")),'AİDAT GİRİŞİ'!$D:$D)","v":0},{"$f":"SUMIF('AİDAT GİRİŞİ'!$F:$F,\"=\"&($B183&TEXT($S$7,\"aaa-yy\")),'AİDAT GİRİŞİ'!$D:$D)","v":0},{"$f":"SUMIF('AİDAT GİRİŞİ'!$F:$F,\"=\"&($B183&TEXT($T$7,\"aaa-yy\")),'AİDAT GİRİŞİ'!$D:$D)","v":0},{"$f":"SUMIF('AİDAT GİRİŞİ'!$F:$F,\"=\"&($B183&TEXT($U$7,\"aaa-yy\")),'AİDAT GİRİŞİ'!$D:$D)","v":0},{"$f":"SUMIF('AİDAT GİRİŞİ'!$F:$F,\"=\"&($B183&TEXT($V$7,\"aaa-yy\")),'AİDAT GİRİŞİ'!$D:$D)","v":0},{"$f":"SUMIF('AİDAT GİRİŞİ'!$F:$F,\"=\"&($B183&TEXT($W$7,\"aaa-yy\")),'AİDAT GİRİŞİ'!$D:$D)","v":0},{"$f":"SUMIF('AİDAT GİRİŞİ'!$F:$F,\"=\"&($B183&TEXT($X$7,\"aaa-yy\")),'AİDAT GİRİŞİ'!$D:$D)","v":0},{"$f":"SUMIF('AİDAT GİRİŞİ'!$F:$F,\"=\"&($B183&TEXT($Y$7,\"aaa-yy\")),'AİDAT GİRİŞİ'!$D:$D)","v":0},{"$f":"SUMIF('AİDAT GİRİŞİ'!$F:$F,\"=\"&($B183&TEXT($Z$7,\"aaa-yy\")),'AİDAT GİRİŞİ'!$D:$D)","v":0},{"$f":"SUMIF('AİDAT GİRİŞİ'!$F:$F,\"=\"&($B183&TEXT($AA$7,\"aaa-yy\")),'AİDAT GİRİŞİ'!$D:$D)","v":0},{"$f":"SUMIF('AİDAT GİRİŞİ'!$F:$F,\"=\"&($B183&TEXT($AB$7,\"aaa-yy\")),'AİDAT GİRİŞİ'!$D:$D)","v":0},0]
[178,{"$f":"IF(ISERROR(VLOOKUP(A184,'ÜYE KAYIT LİSTESİ'!A:B,2,0)=TRUE),\"\",VLOOKUP(A184,'ÜYE KAYIT LİSTESİ'!A:B,2,0))","v":""},{"$f":"SUMIF('AİDAT GİRİŞİ'!$F:$F,\"=\"&(B184&TEXT($Q$7,\"aaa-yy\")),'AİDAT GİRİŞİ'!$D:$D)","v":0},{"$f":"SUMIF('AİDAT GİRİŞİ'!$F:$F,\"=\"&($B184&TEXT($R$7,\"aaa-yy\")),'AİDAT GİRİŞİ'!$D:$D)","v":0},{"$f":"SUMIF('AİDAT GİRİŞİ'!$F:$F,\"=\"&($B184&TEXT($S$7,\"aaa-yy\")),'AİDAT GİRİŞİ'!$D:$D)","v":0},{"$f":"SUMIF('AİDAT GİRİŞİ'!$F:$F,\"=\"&($B184&TEXT($T$7,\"aaa-yy\")),'AİDAT GİRİŞİ'!$D:$D)","v":0},{"$f":"SUMIF('AİDAT GİRİŞİ'!$F:$F,\"=\"&($B184&TEXT($U$7,\"aaa-yy\")),'AİDAT GİRİŞİ'!$D:$D)","v":0},{"$f":"SUMIF('AİDAT GİRİŞİ'!$F:$F,\"=\"&($B184&TEXT($V$7,\"aaa-yy\")),'AİDAT GİRİŞİ'!$D:$D)","v":0},{"$f":"SUMIF('AİDAT GİRİŞİ'!$F:$F,\"=\"&($B184&TEXT($W$7,\"aaa-yy\")),'AİDAT GİRİŞİ'!$D:$D)","v":0},{"$f":"SUMIF('AİDAT GİRİŞİ'!$F:$F,\"=\"&($B184&TEXT($X$7,\"aaa-yy\")),'AİDAT GİRİŞİ'!$D:$D)","v":0},{"$f":"SUMIF('AİDAT GİRİŞİ'!$F:$F,\"=\"&($B184&TEXT($Y$7,\"aaa-yy\")),'AİDAT GİRİŞİ'!$D:$D)","v":0},{"$f":"SUMIF('AİDAT GİRİŞİ'!$F:$F,\"=\"&($B184&TEXT($Z$7,\"aaa-yy\")),'AİDAT GİRİŞİ'!$D:$D)","v":0},{"$f":"SUMIF('AİDAT GİRİŞİ'!$F:$F,\"=\"&($B184&TEXT($AA$7,\"aaa-yy\")),'AİDAT GİRİŞİ'!$D:$D)","v":0},{"$f":"SUMIF('AİDAT GİRİŞİ'!$F:$F,\"=\"&($B184&TEXT($AB$7,\"aaa-yy\")),'AİDAT GİRİŞİ'!$D:$D)","v":0},0]
[179,{"$f":"IF(ISERROR(VLOOKUP(A185,'ÜYE KAYIT LİSTESİ'!A:B,2,0)=TRUE),\"\",VLOOKUP(A185,'ÜYE KAYIT LİSTESİ'!A:B,2,0))","v":""},{"$f":"SUMIF('AİDAT GİRİŞİ'!$F:$F,\"=\"&(B185&TEXT($Q$7,\"aaa-yy\")),'AİDAT GİRİŞİ'!$D:$D)","v":0},{"$f":"SUMIF('AİDAT GİRİŞİ'!$F:$F,\"=\"&($B185&TEXT($R$7,\"aaa-yy\")),'AİDAT GİRİŞİ'!$D:$D)","v":0},{"$f":"SUMIF('AİDAT GİRİŞİ'!$F:$F,\"=\"&($B185&TEXT($S$7,\"aaa-yy\")),'AİDAT GİRİŞİ'!$D:$D)","v":0},{"$f":"SUMIF('AİDAT GİRİŞİ'!$F:$F,\"=\"&($B185&TEXT($T$7,\"aaa-yy\")),'AİDAT GİRİŞİ'!$D:$D)","v":0},{"$f":"SUMIF('AİDAT GİRİŞİ'!$F:$F,\"=\"&($B185&TEXT($U$7,\"aaa-yy\")),'AİDAT GİRİŞİ'!$D:$D)","v":0},{"$f":"SUMIF('AİDAT GİRİŞİ'!$F:$F,\"=\"&($B185&TEXT($V$7,\"aaa-yy\")),'AİDAT GİRİŞİ'!$D:$D)","v":0},{"$f":"SUMIF('AİDAT GİRİŞİ'!$F:$F,\"=\"&($B185&TEXT($W$7,\"aaa-yy\")),'AİDAT GİRİŞİ'!$D:$D)","v":0},{"$f":"SUMIF('AİDAT GİRİŞİ'!$F:$F,\"=\"&($B185&TEXT($X$7,\"aaa-yy\")),'AİDAT GİRİŞİ'!$D:$D)","v":0},{"$f":"SUMIF('AİDAT GİRİŞİ'!$F:$F,\"=\"&($B185&TEXT($Y$7,\"aaa-yy\")),'AİDAT GİRİŞİ'!$D:$D)","v":0},{"$f":"SUMIF('AİDAT GİRİŞİ'!$F:$F,\"=\"&($B185&TEXT($Z$7,\"aaa-yy\")),'AİDAT GİRİŞİ'!$D:$D)","v":0},{"$f":"SUMIF('AİDAT GİRİŞİ'!$F:$F,\"=\"&($B185&TEXT($AA$7,\"aaa-yy\")),'AİDAT GİRİŞİ'!$D:$D)","v":0},{"$f":"SUMIF('AİDAT GİRİŞİ'!$F:$F,\"=\"&($B185&TEXT($AB$7,\"aaa-yy\")),'AİDAT GİRİŞİ'!$D:$D)","v":0},0]
[180,{"$f":"IF(ISERROR(VLOOKUP(A186,'ÜYE KAYIT LİSTESİ'!A:B,2,0)=TRUE),\"\",VLOOKUP(A186,'ÜYE KAYIT LİSTESİ'!A:B,2,0))","v":""},{"$f":"SUMIF('AİDAT GİRİŞİ'!$F:$F,\"=\"&(B186&TEXT($Q$7,\"aaa-yy\")),'AİDAT GİRİŞİ'!$D:$D)","v":0},{"$f":"SUMIF('AİDAT GİRİŞİ'!$F:$F,\"=\"&($B186&TEXT($R$7,\"aaa-yy\")),'AİDAT GİRİŞİ'!$D:$D)","v":0},{"$f":"SUMIF('AİDAT GİRİŞİ'!$F:$F,\"=\"&($B186&TEXT($S$7,\"aaa-yy\")),'AİDAT GİRİŞİ'!$D:$D)","v":0},{"$f":"SUMIF('AİDAT GİRİŞİ'!$F:$F,\"=\"&($B186&TEXT($T$7,\"aaa-yy\")),'AİDAT GİRİŞİ'!$D:$D)","v":0},{"$f":"SUMIF('AİDAT GİRİŞİ'!$F:$F,\"=\"&($B186&TEXT($U$7,\"aaa-yy\")),'AİDAT GİRİŞİ'!$D:$D)","v":0},{"$f":"SUMIF('AİDAT GİRİŞİ'!$F:$F,\"=\"&($B186&TEXT($V$7,\"aaa-yy\")),'AİDAT GİRİŞİ'!$D:$D)","v":0},{"$f":"SUMIF('AİDAT GİRİŞİ'!$F:$F,\"=\"&($B186&TEXT($W$7,\"aaa-yy\")),'AİDAT GİRİŞİ'!$D:$D)","v":0},{"$f":"SUMIF('AİDAT GİRİŞİ'!$F:$F,\"=\"&($B186&TEXT($X$7,\"aaa-yy\")),'AİDAT GİRİŞİ'!$D:$D)","v":0},{"$f":"SUMIF('AİDAT GİRİŞİ'!$F:$F,\"=\"&($B186&TEXT($Y$7,\"aaa-yy\")),'AİDAT GİRİŞİ'!$D:$D)","v":0},{"$f":"SUMIF('AİDAT GİRİŞİ'!$F:$F,\"=\"&($B186&TEXT($Z$7,\"aaa-yy\")),'AİDAT GİRİŞİ'!$D:$D)","v":0},{"$f":"SUMIF('AİDAT GİRİŞİ'!$F:$F,\"=\"&($B186&TEXT($AA$7,\"aaa-yy\")),'AİDAT GİRİŞİ'!$D:$D)","v":0},{"$f":"SUMIF('AİDAT GİRİŞİ'!$F:$F,\"=\"&($B186&TEXT($AB$7,\"aaa-yy\")),'AİDAT GİRİŞİ'!$D:$D)","v":0},0]
[181,{"$f":"IF(ISERROR(VLOOKUP(A187,'ÜYE KAYIT LİSTESİ'!A:B,2,0)=TRUE),\"\",VLOOKUP(A187,'ÜYE KAYIT LİSTESİ'!A:B,2,0))","v":""},{"$f":"SUMIF('AİDAT GİRİŞİ'!$F:$F,\"=\"&(B187&TEXT($Q$7,\"aaa-yy\")),'AİDAT GİRİŞİ'!$D:$D)","v":0},{"$f":"SUMIF('AİDAT GİRİŞİ'!$F:$F,\"=\"&($B187&TEXT($R$7,\"aaa-yy\")),'AİDAT GİRİŞİ'!$D:$D)","v":0},{"$f":"SUMIF('AİDAT GİRİŞİ'!$F:$F,\"=\"&($B187&TEXT($S$7,\"aaa-yy\")),'AİDAT GİRİŞİ'!$D:$D)","v":0},{"$f":"SUMIF('AİDAT GİRİŞİ'!$F:$F,\"=\"&($B187&TEXT($T$7,\"aaa-yy\")),'AİDAT GİRİŞİ'!$D:$D)","v":0},{"$f":"SUMIF('AİDAT GİRİŞİ'!$F:$F,\"=\"&($B187&TEXT($U$7,\"aaa-yy\")),'AİDAT GİRİŞİ'!$D:$D)","v":0},{"$f":"SUMIF('AİDAT GİRİŞİ'!$F:$F,\"=\"&($B187&TEXT($V$7,\"aaa-yy\")),'AİDAT GİRİŞİ'!$D:$D)","v":0},{"$f":"SUMIF('AİDAT GİRİŞİ'!$F:$F,\"=\"&($B187&TEXT($W$7,\"aaa-yy\")),'AİDAT GİRİŞİ'!$D:$D)","v":0},{"$f":"SUMIF('AİDAT GİRİŞİ'!$F:$F,\"=\"&($B187&TEXT($X$7,\"aaa-yy\")),'AİDAT GİRİŞİ'!$D:$D)","v":0},{"$f":"SUMIF('AİDAT GİRİŞİ'!$F:$F,\"=\"&($B187&TEXT($Y$7,\"aaa-yy\")),'AİDAT GİRİŞİ'!$D:$D)","v":0},{"$f":"SUMIF('AİDAT GİRİŞİ'!$F:$F,\"=\"&($B187&TEXT($Z$7,\"aaa-yy\")),'AİDAT GİRİŞİ'!$D:$D)","v":0},{"$f":"SUMIF('AİDAT GİRİŞİ'!$F:$F,\"=\"&($B187&TEXT($AA$7,\"aaa-yy\")),'AİDAT GİRİŞİ'!$D:$D)","v":0},{"$f":"SUMIF('AİDAT GİRİŞİ'!$F:$F,\"=\"&($B187&TEXT($AB$7,\"aaa-yy\")),'AİDAT GİRİŞİ'!$D:$D)","v":0},0]
[182,{"$f":"IF(ISERROR(VLOOKUP(A188,'ÜYE KAYIT LİSTESİ'!A:B,2,0)=TRUE),\"\",VLOOKUP(A188,'ÜYE KAYIT LİSTESİ'!A:B,2,0))","v":""},{"$f":"SUMIF('AİDAT GİRİŞİ'!$F:$F,\"=\"&(B188&TEXT($Q$7,\"aaa-yy\")),'AİDAT GİRİŞİ'!$D:$D)","v":0},{"$f":"SUMIF('AİDAT GİRİŞİ'!$F:$F,\"=\"&($B188&TEXT($R$7,\"aaa-yy\")),'AİDAT GİRİŞİ'!$D:$D)","v":0},{"$f":"SUMIF('AİDAT GİRİŞİ'!$F:$F,\"=\"&($B188&TEXT($S$7,\"aaa-yy\")),'AİDAT GİRİŞİ'!$D:$D)","v":0},{"$f":"SUMIF('AİDAT GİRİŞİ'!$F:$F,\"=\"&($B188&TEXT($T$7,\"aaa-yy\")),'AİDAT GİRİŞİ'!$D:$D)","v":0},{"$f":"SUMIF('AİDAT GİRİŞİ'!$F:$F,\"=\"&($B188&TEXT($U$7,\"aaa-yy\")),'AİDAT GİRİŞİ'!$D:$D)","v":0},{"$f":"SUMIF('AİDAT GİRİŞİ'!$F:$F,\"=\"&($B188&TEXT($V$7,\"aaa-yy\")),'AİDAT GİRİŞİ'!$D:$D)","v":0},{"$f":"SUMIF('AİDAT GİRİŞİ'!$F:$F,\"=\"&($B188&TEXT($W$7,\"aaa-yy\")),'AİDAT GİRİŞİ'!$D:$D)","v":0},{"$f":"SUMIF('AİDAT GİRİŞİ'!$F:$F,\"=\"&($B188&TEXT($X$7,\"aaa-yy\")),'AİDAT GİRİŞİ'!$D:$D)","v":0},{"$f":"SUMIF('AİDAT GİRİŞİ'!$F:$F,\"=\"&($B188&TEXT($Y$7,\"aaa-yy\")),'AİDAT GİRİŞİ'!$D:$D)","v":0},{"$f":"SUMIF('AİDAT GİRİŞİ'!$F:$F,\"=\"&($B188&TEXT($Z$7,\"aaa-yy\")),'AİDAT GİRİŞİ'!$D:$D)","v":0},{"$f":"SUMIF('AİDAT GİRİŞİ'!$F:$F,\"=\"&($B188&TEXT($AA$7,\"aaa-yy\")),'AİDAT GİRİŞİ'!$D:$D)","v":0},{"$f":"SUMIF('AİDAT GİRİŞİ'!$F:$F,\"=\"&($B188&TEXT($AB$7,\"aaa-yy\")),'AİDAT GİRİŞİ'!$D:$D)","v":0},0]
[183,{"$f":"IF(ISERROR(VLOOKUP(A189,'ÜYE KAYIT LİSTESİ'!A:B,2,0)=TRUE),\"\",VLOOKUP(A189,'ÜYE KAYIT LİSTESİ'!A:B,2,0))","v":""},{"$f":"SUMIF('AİDAT GİRİŞİ'!$F:$F,\"=\"&(B189&TEXT($Q$7,\"aaa-yy\")),'AİDAT GİRİŞİ'!$D:$D)","v":0},{"$f":"SUMIF('AİDAT GİRİŞİ'!$F:$F,\"=\"&($B189&TEXT($R$7,\"aaa-yy\")),'AİDAT GİRİŞİ'!$D:$D)","v":0},{"$f":"SUMIF('AİDAT GİRİŞİ'!$F:$F,\"=\"&($B189&TEXT($S$7,\"aaa-yy\")),'AİDAT GİRİŞİ'!$D:$D)","v":0},{"$f":"SUMIF('AİDAT GİRİŞİ'!$F:$F,\"=\"&($B189&TEXT($T$7,\"aaa-yy\")),'AİDAT GİRİŞİ'!$D:$D)","v":0},{"$f":"SUMIF('AİDAT GİRİŞİ'!$F:$F,\"=\"&($B189&TEXT($U$7,\"aaa-yy\")),'AİDAT GİRİŞİ'!$D:$D)","v":0},{"$f":"SUMIF('AİDAT GİRİŞİ'!$F:$F,\"=\"&($B189&TEXT($V$7,\"aaa-yy\")),'AİDAT GİRİŞİ'!$D:$D)","v":0},{"$f":"SUMIF('AİDAT GİRİŞİ'!$F:$F,\"=\"&($B189&TEXT($W$7,\"aaa-yy\")),'AİDAT GİRİŞİ'!$D:$D)","v":0},{"$f":"SUMIF('AİDAT GİRİŞİ'!$F:$F,\"=\"&($B189&TEXT($X$7,\"aaa-yy\")),'AİDAT GİRİŞİ'!$D:$D)","v":0},{"$f":"SUMIF('AİDAT GİRİŞİ'!$F:$F,\"=\"&($B189&TEXT($Y$7,\"aaa-yy\")),'AİDAT GİRİŞİ'!$D:$D)","v":0},{"$f":"SUMIF('AİDAT GİRİŞİ'!$F:$F,\"=\"&($B189&TEXT($Z$7,\"aaa-yy\")),'AİDAT GİRİŞİ'!$D:$D)","v":0},{"$f":"SUMIF('AİDAT GİRİŞİ'!$F:$F,\"=\"&($B189&TEXT($AA$7,\"aaa-yy\")),'AİDAT GİRİŞİ'!$D:$D)","v":0},{"$f":"SUMIF('AİDAT GİRİŞİ'!$F:$F,\"=\"&($B189&TEXT($AB$7,\"aaa-yy\")),'AİDAT GİRİŞİ'!$D:$D)","v":0},0]
[184,{"$f":"IF(ISERROR(VLOOKUP(A190,'ÜYE KAYIT LİSTESİ'!A:B,2,0)=TRUE),\"\",VLOOKUP(A190,'ÜYE KAYIT LİSTESİ'!A:B,2,0))","v":""},{"$f":"SUMIF('AİDAT GİRİŞİ'!$F:$F,\"=\"&(B190&TEXT($Q$7,\"aaa-yy\")),'AİDAT GİRİŞİ'!$D:$D)","v":0},{"$f":"SUMIF('AİDAT GİRİŞİ'!$F:$F,\"=\"&($B190&TEXT($R$7,\"aaa-yy\")),'AİDAT GİRİŞİ'!$D:$D)","v":0},{"$f":"SUMIF('AİDAT GİRİŞİ'!$F:$F,\"=\"&($B190&TEXT($S$7,\"aaa-yy\")),'AİDAT GİRİŞİ'!$D:$D)","v":0},{"$f":"SUMIF('AİDAT GİRİŞİ'!$F:$F,\"=\"&($B190&TEXT($T$7,\"aaa-yy\")),'AİDAT GİRİŞİ'!$D:$D)","v":0},{"$f":"SUMIF('AİDAT GİRİŞİ'!$F:$F,\"=\"&($B190&TEXT($U$7,\"aaa-yy\")),'AİDAT GİRİŞİ'!$D:$D)","v":0},{"$f":"SUMIF('AİDAT GİRİŞİ'!$F:$F,\"=\"&($B190&TEXT($V$7,\"aaa-yy\")),'AİDAT GİRİŞİ'!$D:$D)","v":0},{"$f":"SUMIF('AİDAT GİRİŞİ'!$F:$F,\"=\"&($B190&TEXT($W$7,\"aaa-yy\")),'AİDAT GİRİŞİ'!$D:$D)","v":0},{"$f":"SUMIF('AİDAT GİRİŞİ'!$F:$F,\"=\"&($B190&TEXT($X$7,\"aaa-yy\")),'AİDAT GİRİŞİ'!$D:$D)","v":0},{"$f":"SUMIF('AİDAT GİRİŞİ'!$F:$F,\"=\"&($B190&TEXT($Y$7,\"aaa-yy\")),'AİDAT GİRİŞİ'!$D:$D)","v":0},{"$f":"SUMIF('AİDAT GİRİŞİ'!$F:$F,\"=\"&($B190&TEXT($Z$7,\"aaa-yy\")),'AİDAT GİRİŞİ'!$D:$D)","v":0},{"$f":"SUMIF('AİDAT GİRİŞİ'!$F:$F,\"=\"&($B190&TEXT($AA$7,\"aaa-yy\")),'AİDAT GİRİŞİ'!$D:$D)","v":0},{"$f":"SUMIF('AİDAT GİRİŞİ'!$F:$F,\"=\"&($B190&TEXT($AB$7,\"aaa-yy\")),'AİDAT GİRİŞİ'!$D:$D)","v":0},0]
[185,{"$f":"IF(ISERROR(VLOOKUP(A191,'ÜYE KAYIT LİSTESİ'!A:B,2,0)=TRUE),\"\",VLOOKUP(A191,'ÜYE KAYIT LİSTESİ'!A:B,2,0))","v":""},{"$f":"SUMIF('AİDAT GİRİŞİ'!$F:$F,\"=\"&(B191&TEXT($Q$7,\"aaa-yy\")),'AİDAT GİRİŞİ'!$D:$D)","v":0},{"$f":"SUMIF('AİDAT GİRİŞİ'!$F:$F,\"=\"&($B191&TEXT($R$7,\"aaa-yy\")),'AİDAT GİRİŞİ'!$D:$D)","v":0},{"$f":"SUMIF('AİDAT GİRİŞİ'!$F:$F,\"=\"&($B191&TEXT($S$7,\"aaa-yy\")),'AİDAT GİRİŞİ'!$D:$D)","v":0},{"$f":"SUMIF('AİDAT GİRİŞİ'!$F:$F,\"=\"&($B191&TEXT($T$7,\"aaa-yy\")),'AİDAT GİRİŞİ'!$D:$D)","v":0},{"$f":"SUMIF('AİDAT GİRİŞİ'!$F:$F,\"=\"&($B191&TEXT($U$7,\"aaa-yy\")),'AİDAT GİRİŞİ'!$D:$D)","v":0},{"$f":"SUMIF('AİDAT GİRİŞİ'!$F:$F,\"=\"&($B191&TEXT($V$7,\"aaa-yy\")),'AİDAT GİRİŞİ'!$D:$D)","v":0},{"$f":"SUMIF('AİDAT GİRİŞİ'!$F:$F,\"=\"&($B191&TEXT($W$7,\"aaa-yy\")),'AİDAT GİRİŞİ'!$D:$D)","v":0},{"$f":"SUMIF('AİDAT GİRİŞİ'!$F:$F,\"=\"&($B191&TEXT($X$7,\"aaa-yy\")),'AİDAT GİRİŞİ'!$D:$D)","v":0},{"$f":"SUMIF('AİDAT GİRİŞİ'!$F:$F,\"=\"&($B191&TEXT($Y$7,\"aaa-yy\")),'AİDAT GİRİŞİ'!$D:$D)","v":0},{"$f":"SUMIF('AİDAT GİRİŞİ'!$F:$F,\"=\"&($B191&TEXT($Z$7,\"aaa-yy\")),'AİDAT GİRİŞİ'!$D:$D)","v":0},{"$f":"SUMIF('AİDAT GİRİŞİ'!$F:$F,\"=\"&($B191&TEXT($AA$7,\"aaa-yy\")),'AİDAT GİRİŞİ'!$D:$D)","v":0},{"$f":"SUMIF('AİDAT GİRİŞİ'!$F:$F,\"=\"&($B191&TEXT($AB$7,\"aaa-yy\")),'AİDAT GİRİŞİ'!$D:$D)","v":0},0]
[186,{"$f":"IF(ISERROR(VLOOKUP(A192,'ÜYE KAYIT LİSTESİ'!A:B,2,0)=TRUE),\"\",VLOOKUP(A192,'ÜYE KAYIT LİSTESİ'!A:B,2,0))","v":""},{"$f":"SUMIF('AİDAT GİRİŞİ'!$F:$F,\"=\"&(B192&TEXT($Q$7,\"aaa-yy\")),'AİDAT GİRİŞİ'!$D:$D)","v":0},{"$f":"SUMIF('AİDAT GİRİŞİ'!$F:$F,\"=\"&($B192&TEXT($R$7,\"aaa-yy\")),'AİDAT GİRİŞİ'!$D:$D)","v":0},{"$f":"SUMIF('AİDAT GİRİŞİ'!$F:$F,\"=\"&($B192&TEXT($S$7,\"aaa-yy\")),'AİDAT GİRİŞİ'!$D:$D)","v":0},{"$f":"SUMIF('AİDAT GİRİŞİ'!$F:$F,\"=\"&($B192&TEXT($T$7,\"aaa-yy\")),'AİDAT GİRİŞİ'!$D:$D)","v":0},{"$f":"SUMIF('AİDAT GİRİŞİ'!$F:$F,\"=\"&($B192&TEXT($U$7,\"aaa-yy\")),'AİDAT GİRİŞİ'!$D:$D)","v":0},{"$f":"SUMIF('AİDAT GİRİŞİ'!$F:$F,\"=\"&($B192&TEXT($V$7,\"aaa-yy\")),'AİDAT GİRİŞİ'!$D:$D)","v":0},{"$f":"SUMIF('AİDAT GİRİŞİ'!$F:$F,\"=\"&($B192&TEXT($W$7,\"aaa-yy\")),'AİDAT GİRİŞİ'!$D:$D)","v":0},{"$f":"SUMIF('AİDAT GİRİŞİ'!$F:$F,\"=\"&($B192&TEXT($X$7,\"aaa-yy\")),'AİDAT GİRİŞİ'!$D:$D)","v":0},{"$f":"SUMIF('AİDAT GİRİŞİ'!$F:$F,\"=\"&($B192&TEXT($Y$7,\"aaa-yy\")),'AİDAT GİRİŞİ'!$D:$D)","v":0},{"$f":"SUMIF('AİDAT GİRİŞİ'!$F:$F,\"=\"&($B192&TEXT($Z$7,\"aaa-yy\")),'AİDAT GİRİŞİ'!$D:$D)","v":0},{"$f":"SUMIF('AİDAT GİRİŞİ'!$F:$F,\"=\"&($B192&TEXT($AA$7,\"aaa-yy\")),'AİDAT GİRİŞİ'!$D:$D)","v":0},{"$f":"SUMIF('AİDAT GİRİŞİ'!$F:$F,\"=\"&($B192&TEXT($AB$7,\"aaa-yy\")),'AİDAT GİRİŞİ'!$D:$D)","v":0},0]
[187,{"$f":"IF(ISERROR(VLOOKUP(A193,'ÜYE KAYIT LİSTESİ'!A:B,2,0)=TRUE),\"\",VLOOKUP(A193,'ÜYE KAYIT LİSTESİ'!A:B,2,0))","v":""},{"$f":"SUMIF('AİDAT GİRİŞİ'!$F:$F,\"=\"&(B193&TEXT($Q$7,\"aaa-yy\")),'AİDAT GİRİŞİ'!$D:$D)","v":0},{"$f":"SUMIF('AİDAT GİRİŞİ'!$F:$F,\"=\"&($B193&TEXT($R$7,\"aaa-yy\")),'AİDAT GİRİŞİ'!$D:$D)","v":0},{"$f":"SUMIF('AİDAT GİRİŞİ'!$F:$F,\"=\"&($B193&TEXT($S$7,\"aaa-yy\")),'AİDAT GİRİŞİ'!$D:$D)","v":0},{"$f":"SUMIF('AİDAT GİRİŞİ'!$F:$F,\"=\"&($B193&TEXT($T$7,\"aaa-yy\")),'AİDAT GİRİŞİ'!$D:$D)","v":0},{"$f":"SUMIF('AİDAT GİRİŞİ'!$F:$F,\"=\"&($B193&TEXT($U$7,\"aaa-yy\")),'AİDAT GİRİŞİ'!$D:$D)","v":0},{"$f":"SUMIF('AİDAT GİRİŞİ'!$F:$F,\"=\"&($B193&TEXT($V$7,\"aaa-yy\")),'AİDAT GİRİŞİ'!$D:$D)","v":0},{"$f":"SUMIF('AİDAT GİRİŞİ'!$F:$F,\"=\"&($B193&TEXT($W$7,\"aaa-yy\")),'AİDAT GİRİŞİ'!$D:$D)","v":0},{"$f":"SUMIF('AİDAT GİRİŞİ'!$F:$F,\"=\"&($B193&TEXT($X$7,\"aaa-yy\")),'AİDAT GİRİŞİ'!$D:$D)","v":0},{"$f":"SUMIF('AİDAT GİRİŞİ'!$F:$F,\"=\"&($B193&TEXT($Y$7,\"aaa-yy\")),'AİDAT GİRİŞİ'!$D:$D)","v":0},{"$f":"SUMIF('AİDAT GİRİŞİ'!$F:$F,\"=\"&($B193&TEXT($Z$7,\"aaa-yy\")),'AİDAT GİRİŞİ'!$D:$D)","v":0},{"$f":"SUMIF('AİDAT GİRİŞİ'!$F:$F,\"=\"&($B193&TEXT($AA$7,\"aaa-yy\")),'AİDAT GİRİŞİ'!$D:$D)","v":0},{"$f":"SUMIF('AİDAT GİRİŞİ'!$F:$F,\"=\"&($B193&TEXT($AB$7,\"aaa-yy\")),'AİDAT GİRİŞİ'!$D:$D)","v":0},0]
[188,{"$f":"IF(ISERROR(VLOOKUP(A194,'ÜYE KAYIT LİSTESİ'!A:B,2,0)=TRUE),\"\",VLOOKUP(A194,'ÜYE KAYIT LİSTESİ'!A:B,2,0))","v":""},{"$f":"SUMIF('AİDAT GİRİŞİ'!$F:$F,\"=\"&(B194&TEXT($Q$7,\"aaa-yy\")),'AİDAT GİRİŞİ'!$D:$D)","v":0},{"$f":"SUMIF('AİDAT GİRİŞİ'!$F:$F,\"=\"&($B194&TEXT($R$7,\"aaa-yy\")),'AİDAT GİRİŞİ'!$D:$D)","v":0},{"$f":"SUMIF('AİDAT GİRİŞİ'!$F:$F,\"=\"&($B194&TEXT($S$7,\"aaa-yy\")),'AİDAT GİRİŞİ'!$D:$D)","v":0},{"$f":"SUMIF('AİDAT GİRİŞİ'!$F:$F,\"=\"&($B194&TEXT($T$7,\"aaa-yy\")),'AİDAT GİRİŞİ'!$D:$D)","v":0},{"$f":"SUMIF('AİDAT GİRİŞİ'!$F:$F,\"=\"&($B194&TEXT($U$7,\"aaa-yy\")),'AİDAT GİRİŞİ'!$D:$D)","v":0},{"$f":"SUMIF('AİDAT GİRİŞİ'!$F:$F,\"=\"&($B194&TEXT($V$7,\"aaa-yy\")),'AİDAT GİRİŞİ'!$D:$D)","v":0},{"$f":"SUMIF('AİDAT GİRİŞİ'!$F:$F,\"=\"&($B194&TEXT($W$7,\"aaa-yy\")),'AİDAT GİRİŞİ'!$D:$D)","v":0},{"$f":"SUMIF('AİDAT GİRİŞİ'!$F:$F,\"=\"&($B194&TEXT($X$7,\"aaa-yy\")),'AİDAT GİRİŞİ'!$D:$D)","v":0},{"$f":"SUMIF('AİDAT GİRİŞİ'!$F:$F,\"=\"&($B194&TEXT($Y$7,\"aaa-yy\")),'AİDAT GİRİŞİ'!$D:$D)","v":0},{"$f":"SUMIF('AİDAT GİRİŞİ'!$F:$F,\"=\"&($B194&TEXT($Z$7,\"aaa-yy\")),'AİDAT GİRİŞİ'!$D:$D)","v":0},{"$f":"SUMIF('AİDAT GİRİŞİ'!$F:$F,\"=\"&($B194&TEXT($AA$7,\"aaa-yy\")),'AİDAT GİRİŞİ'!$D:$D)","v":0},{"$f":"SUMIF('AİDAT GİRİŞİ'!$F:$F,\"=\"&($B194&TEXT($AB$7,\"aaa-yy\")),'AİDAT GİRİŞİ'!$D:$D)","v":0},0]
[189,{"$f":"IF(ISERROR(VLOOKUP(A195,'ÜYE KAYIT LİSTESİ'!A:B,2,0)=TRUE),\"\",VLOOKUP(A195,'ÜYE KAYIT LİSTESİ'!A:B,2,0))","v":""},{"$f":"SUMIF('AİDAT GİRİŞİ'!$F:$F,\"=\"&(B195&TEXT($Q$7,\"aaa-yy\")),'AİDAT GİRİŞİ'!$D:$D)","v":0},{"$f":"SUMIF('AİDAT GİRİŞİ'!$F:$F,\"=\"&($B195&TEXT($R$7,\"aaa-yy\")),'AİDAT GİRİŞİ'!$D:$D)","v":0},{"$f":"SUMIF('AİDAT GİRİŞİ'!$F:$F,\"=\"&($B195&TEXT($S$7,\"aaa-yy\")),'AİDAT GİRİŞİ'!$D:$D)","v":0},{"$f":"SUMIF('AİDAT GİRİŞİ'!$F:$F,\"=\"&($B195&TEXT($T$7,\"aaa-yy\")),'AİDAT GİRİŞİ'!$D:$D)","v":0},{"$f":"SUMIF('AİDAT GİRİŞİ'!$F:$F,\"=\"&($B195&TEXT($U$7,\"aaa-yy\")),'AİDAT GİRİŞİ'!$D:$D)","v":0},{"$f":"SUMIF('AİDAT GİRİŞİ'!$F:$F,\"=\"&($B195&TEXT($V$7,\"aaa-yy\")),'AİDAT GİRİŞİ'!$D:$D)","v":0},{"$f":"SUMIF('AİDAT GİRİŞİ'!$F:$F,\"=\"&($B195&TEXT($W$7,\"aaa-yy\")),'AİDAT GİRİŞİ'!$D:$D)","v":0},{"$f":"SUMIF('AİDAT GİRİŞİ'!$F:$F,\"=\"&($B195&TEXT($X$7,\"aaa-yy\")),'AİDAT GİRİŞİ'!$D:$D)","v":0},{"$f":"SUMIF('AİDAT GİRİŞİ'!$F:$F,\"=\"&($B195&TEXT($Y$7,\"aaa-yy\")),'AİDAT GİRİŞİ'!$D:$D)","v":0},{"$f":"SUMIF('AİDAT GİRİŞİ'!$F:$F,\"=\"&($B195&TEXT($Z$7,\"aaa-yy\")),'AİDAT GİRİŞİ'!$D:$D)","v":0},{"$f":"SUMIF('AİDAT GİRİŞİ'!$F:$F,\"=\"&($B195&TEXT($AA$7,\"aaa-yy\")),'AİDAT GİRİŞİ'!$D:$D)","v":0},{"$f":"SUMIF('AİDAT GİRİŞİ'!$F:$F,\"=\"&($B195&TEXT($AB$7,\"aaa-yy\")),'AİDAT GİRİŞİ'!$D:$D)","v":0},0]
[190,{"$f":"IF(ISERROR(VLOOKUP(A196,'ÜYE KAYIT LİSTESİ'!A:B,2,0)=TRUE),\"\",VLOOKUP(A196,'ÜYE KAYIT LİSTESİ'!A:B,2,0))","v":""},{"$f":"SUMIF('AİDAT GİRİŞİ'!$F:$F,\"=\"&(B196&TEXT($Q$7,\"aaa-yy\")),'AİDAT GİRİŞİ'!$D:$D)","v":0},{"$f":"SUMIF('AİDAT GİRİŞİ'!$F:$F,\"=\"&($B196&TEXT($R$7,\"aaa-yy\")),'AİDAT GİRİŞİ'!$D:$D)","v":0},{"$f":"SUMIF('AİDAT GİRİŞİ'!$F:$F,\"=\"&($B196&TEXT($S$7,\"aaa-yy\")),'AİDAT GİRİŞİ'!$D:$D)","v":0},{"$f":"SUMIF('AİDAT GİRİŞİ'!$F:$F,\"=\"&($B196&TEXT($T$7,\"aaa-yy\")),'AİDAT GİRİŞİ'!$D:$D)","v":0},{"$f":"SUMIF('AİDAT GİRİŞİ'!$F:$F,\"=\"&($B196&TEXT($U$7,\"aaa-yy\")),'AİDAT GİRİŞİ'!$D:$D)","v":0},{"$f":"SUMIF('AİDAT GİRİŞİ'!$F:$F,\"=\"&($B196&TEXT($V$7,\"aaa-yy\")),'AİDAT GİRİŞİ'!$D:$D)","v":0},{"$f":"SUMIF('AİDAT GİRİŞİ'!$F:$F,\"=\"&($B196&TEXT($W$7,\"aaa-yy\")),'AİDAT GİRİŞİ'!$D:$D)","v":0},{"$f":"SUMIF('AİDAT GİRİŞİ'!$F:$F,\"=\"&($B196&TEXT($X$7,\"aaa-yy\")),'AİDAT GİRİŞİ'!$D:$D)","v":0},{"$f":"SUMIF('AİDAT GİRİŞİ'!$F:$F,\"=\"&($B196&TEXT($Y$7,\"aaa-yy\")),'AİDAT GİRİŞİ'!$D:$D)","v":0},{"$f":"SUMIF('AİDAT GİRİŞİ'!$F:$F,\"=\"&($B196&TEXT($Z$7,\"aaa-yy\")),'AİDAT GİRİŞİ'!$D:$D)","v":0},{"$f":"SUMIF('AİDAT GİRİŞİ'!$F:$F,\"=\"&($B196&TEXT($AA$7,\"aaa-yy\")),'AİDAT GİRİŞİ'!$D:$D)","v":0},{"$f":"SUMIF('AİDAT GİRİŞİ'!$F:$F,\"=\"&($B196&TEXT($AB$7,\"aaa-yy\")),'AİDAT GİRİŞİ'!$D:$D)","v":0},0]
[191,{"$f":"IF(ISERROR(VLOOKUP(A197,'ÜYE KAYIT LİSTESİ'!A:B,2,0)=TRUE),\"\",VLOOKUP(A197,'ÜYE KAYIT LİSTESİ'!A:B,2,0))","v":""},{"$f":"SUMIF('AİDAT GİRİŞİ'!$F:$F,\"=\"&(B197&TEXT($Q$7,\"aaa-yy\")),'AİDAT GİRİŞİ'!$D:$D)","v":0},{"$f":"SUMIF('AİDAT GİRİŞİ'!$F:$F,\"=\"&($B197&TEXT($R$7,\"aaa-yy\")),'AİDAT GİRİŞİ'!$D:$D)","v":0},{"$f":"SUMIF('AİDAT GİRİŞİ'!$F:$F,\"=\"&($B197&TEXT($S$7,\"aaa-yy\")),'AİDAT GİRİŞİ'!$D:$D)","v":0},{"$f":"SUMIF('AİDAT GİRİŞİ'!$F:$F,\"=\"&($B197&TEXT($T$7,\"aaa-yy\")),'AİDAT GİRİŞİ'!$D:$D)","v":0},{"$f":"SUMIF('AİDAT GİRİŞİ'!$F:$F,\"=\"&($B197&TEXT($U$7,\"aaa-yy\")),'AİDAT GİRİŞİ'!$D:$D)","v":0},{"$f":"SUMIF('AİDAT GİRİŞİ'!$F:$F,\"=\"&($B197&TEXT($V$7,\"aaa-yy\")),'AİDAT GİRİŞİ'!$D:$D)","v":0},{"$f":"SUMIF('AİDAT GİRİŞİ'!$F:$F,\"=\"&($B197&TEXT($W$7,\"aaa-yy\")),'AİDAT GİRİŞİ'!$D:$D)","v":0},{"$f":"SUMIF('AİDAT GİRİŞİ'!$F:$F,\"=\"&($B197&TEXT($X$7,\"aaa-yy\")),'AİDAT GİRİŞİ'!$D:$D)","v":0},{"$f":"SUMIF('AİDAT GİRİŞİ'!$F:$F,\"=\"&($B197&TEXT($Y$7,\"aaa-yy\")),'AİDAT GİRİŞİ'!$D:$D)","v":0},{"$f":"SUMIF('AİDAT GİRİŞİ'!$F:$F,\"=\"&($B197&TEXT($Z$7,\"aaa-yy\")),'AİDAT GİRİŞİ'!$D:$D)","v":0},{"$f":"SUMIF('AİDAT GİRİŞİ'!$F:$F,\"=\"&($B197&TEXT($AA$7,\"aaa-yy\")),'AİDAT GİRİŞİ'!$D:$D)","v":0},{"$f":"SUMIF('AİDAT GİRİŞİ'!$F:$F,\"=\"&($B197&TEXT($AB$7,\"aaa-yy\")),'AİDAT GİRİŞİ'!$D:$D)","v":0},0]
[192,{"$f":"IF(ISERROR(VLOOKUP(A198,'ÜYE KAYIT LİSTESİ'!A:B,2,0)=TRUE),\"\",VLOOKUP(A198,'ÜYE KAYIT LİSTESİ'!A:B,2,0))","v":""},{"$f":"SUMIF('AİDAT GİRİŞİ'!$F:$F,\"=\"&(B198&TEXT($Q$7,\"aaa-yy\")),'AİDAT GİRİŞİ'!$D:$D)","v":0},{"$f":"SUMIF('AİDAT GİRİŞİ'!$F:$F,\"=\"&($B198&TEXT($R$7,\"aaa-yy\")),'AİDAT GİRİŞİ'!$D:$D)","v":0},{"$f":"SUMIF('AİDAT GİRİŞİ'!$F:$F,\"=\"&($B198&TEXT($S$7,\"aaa-yy\")),'AİDAT GİRİŞİ'!$D:$D)","v":0},{"$f":"SUMIF('AİDAT GİRİŞİ'!$F:$F,\"=\"&($B198&TEXT($T$7,\"aaa-yy\")),'AİDAT GİRİŞİ'!$D:$D)","v":0},{"$f":"SUMIF('AİDAT GİRİŞİ'!$F:$F,\"=\"&($B198&TEXT($U$7,\"aaa-yy\")),'AİDAT GİRİŞİ'!$D:$D)","v":0},{"$f":"SUMIF('AİDAT GİRİŞİ'!$F:$F,\"=\"&($B198&TEXT($V$7,\"aaa-yy\")),'AİDAT GİRİŞİ'!$D:$D)","v":0},{"$f":"SUMIF('AİDAT GİRİŞİ'!$F:$F,\"=\"&($B198&TEXT($W$7,\"aaa-yy\")),'AİDAT GİRİŞİ'!$D:$D)","v":0},{"$f":"SUMIF('AİDAT GİRİŞİ'!$F:$F,\"=\"&($B198&TEXT($X$7,\"aaa-yy\")),'AİDAT GİRİŞİ'!$D:$D)","v":0},{"$f":"SUMIF('AİDAT GİRİŞİ'!$F:$F,\"=\"&($B198&TEXT($Y$7,\"aaa-yy\")),'AİDAT GİRİŞİ'!$D:$D)","v":0},{"$f":"SUMIF('AİDAT GİRİŞİ'!$F:$F,\"=\"&($B198&TEXT($Z$7,\"aaa-yy\")),'AİDAT GİRİŞİ'!$D:$D)","v":0},{"$f":"SUMIF('AİDAT GİRİŞİ'!$F:$F,\"=\"&($B198&TEXT($AA$7,\"aaa-yy\")),'AİDAT GİRİŞİ'!$D:$D)","v":0},{"$f":"SUMIF('AİDAT GİRİŞİ'!$F:$F,\"=\"&($B198&TEXT($AB$7,\"aaa-yy\")),'AİDAT GİRİŞİ'!$D:$D)","v":0},0]
[193,{"$f":"IF(ISERROR(VLOOKUP(A199,'ÜYE KAYIT LİSTESİ'!A:B,2,0)=TRUE),\"\",VLOOKUP(A199,'ÜYE KAYIT LİSTESİ'!A:B,2,0))","v":""},{"$f":"SUMIF('AİDAT GİRİŞİ'!$F:$F,\"=\"&(B199&TEXT($Q$7,\"aaa-yy\")),'AİDAT GİRİŞİ'!$D:$D)","v":0},{"$f":"SUMIF('AİDAT GİRİŞİ'!$F:$F,\"=\"&($B199&TEXT($R$7,\"aaa-yy\")),'AİDAT GİRİŞİ'!$D:$D)","v":0},{"$f":"SUMIF('AİDAT GİRİŞİ'!$F:$F,\"=\"&($B199&TEXT($S$7,\"aaa-yy\")),'AİDAT GİRİŞİ'!$D:$D)","v":0},{"$f":"SUMIF('AİDAT GİRİŞİ'!$F:$F,\"=\"&($B199&TEXT($T$7,\"aaa-yy\")),'AİDAT GİRİŞİ'!$D:$D)","v":0},{"$f":"SUMIF('AİDAT GİRİŞİ'!$F:$F,\"=\"&($B199&TEXT($U$7,\"aaa-yy\")),'AİDAT GİRİŞİ'!$D:$D)","v":0},{"$f":"SUMIF('AİDAT GİRİŞİ'!$F:$F,\"=\"&($B199&TEXT($V$7,\"aaa-yy\")),'AİDAT GİRİŞİ'!$D:$D)","v":0},{"$f":"SUMIF('AİDAT GİRİŞİ'!$F:$F,\"=\"&($B199&TEXT($W$7,\"aaa-yy\")),'AİDAT GİRİŞİ'!$D:$D)","v":0},{"$f":"SUMIF('AİDAT GİRİŞİ'!$F:$F,\"=\"&($B199&TEXT($X$7,\"aaa-yy\")),'AİDAT GİRİŞİ'!$D:$D)","v":0},{"$f":"SUMIF('AİDAT GİRİŞİ'!$F:$F,\"=\"&($B199&TEXT($Y$7,\"aaa-yy\")),'AİDAT GİRİŞİ'!$D:$D)","v":0},{"$f":"SUMIF('AİDAT GİRİŞİ'!$F:$F,\"=\"&($B199&TEXT($Z$7,\"aaa-yy\")),'AİDAT GİRİŞİ'!$D:$D)","v":0},{"$f":"SUMIF('AİDAT GİRİŞİ'!$F:$F,\"=\"&($B199&TEXT($AA$7,\"aaa-yy\")),'AİDAT GİRİŞİ'!$D:$D)","v":0},{"$f":"SUMIF('AİDAT GİRİŞİ'!$F:$F,\"=\"&($B199&TEXT($AB$7,\"aaa-yy\")),'AİDAT GİRİŞİ'!$D:$D)","v":0},{"$f":"SUM(C199:N199)","v":0}]
[194,{"$f":"IF(ISERROR(VLOOKUP(A200,'ÜYE KAYIT LİSTESİ'!A:B,2,0)=TRUE),\"\",VLOOKUP(A200,'ÜYE KAYIT LİSTESİ'!A:B,2,0))","v":""},{"$f":"SUMIF('AİDAT GİRİŞİ'!$F:$F,\"=\"&(B200&TEXT($Q$7,\"aaa-yy\")),'AİDAT GİRİŞİ'!$D:$D)","v":0},{"$f":"SUMIF('AİDAT GİRİŞİ'!$F:$F,\"=\"&($B200&TEXT($R$7,\"aaa-yy\")),'AİDAT GİRİŞİ'!$D:$D)","v":0},{"$f":"SUMIF('AİDAT GİRİŞİ'!$F:$F,\"=\"&($B200&TEXT($S$7,\"aaa-yy\")),'AİDAT GİRİŞİ'!$D:$D)","v":0},{"$f":"SUMIF('AİDAT GİRİŞİ'!$F:$F,\"=\"&($B200&TEXT($T$7,\"aaa-yy\")),'AİDAT GİRİŞİ'!$D:$D)","v":0},{"$f":"SUMIF('AİDAT GİRİŞİ'!$F:$F,\"=\"&($B200&TEXT($U$7,\"aaa-yy\")),'AİDAT GİRİŞİ'!$D:$D)","v":0},{"$f":"SUMIF('AİDAT GİRİŞİ'!$F:$F,\"=\"&($B200&TEXT($V$7,\"aaa-yy\")),'AİDAT GİRİŞİ'!$D:$D)","v":0},{"$f":"SUMIF('AİDAT GİRİŞİ'!$F:$F,\"=\"&($B200&TEXT($W$7,\"aaa-yy\")),'AİDAT GİRİŞİ'!$D:$D)","v":0},{"$f":"SUMIF('AİDAT GİRİŞİ'!$F:$F,\"=\"&($B200&TEXT($X$7,\"aaa-yy\")),'AİDAT GİRİŞİ'!$D:$D)","v":0},{"$f":"SUMIF('AİDAT GİRİŞİ'!$F:$F,\"=\"&($B200&TEXT($Y$7,\"aaa-yy\")),'AİDAT GİRİŞİ'!$D:$D)","v":0},{"$f":"SUMIF('AİDAT GİRİŞİ'!$F:$F,\"=\"&($B200&TEXT($Z$7,\"aaa-yy\")),'AİDAT GİRİŞİ'!$D:$D)","v":0},{"$f":"SUMIF('AİDAT GİRİŞİ'!$F:$F,\"=\"&($B200&TEXT($AA$7,\"aaa-yy\")),'AİDAT GİRİŞİ'!$D:$D)","v":0},{"$f":"SUMIF('AİDAT GİRİŞİ'!$F:$F,\"=\"&($B200&TEXT($AB$7,\"aaa-yy\")),'AİDAT GİRİŞİ'!$D:$D)","v":0},0]
[195,{"$f":"IF(ISERROR(VLOOKUP(A201,'ÜYE KAYIT LİSTESİ'!A:B,2,0)=TRUE),\"\",VLOOKUP(A201,'ÜYE KAYIT LİSTESİ'!A:B,2,0))","v":""},{"$f":"SUMIF('AİDAT GİRİŞİ'!$F:$F,\"=\"&(B201&TEXT($Q$7,\"aaa-yy\")),'AİDAT GİRİŞİ'!$D:$D)","v":0},{"$f":"SUMIF('AİDAT GİRİŞİ'!$F:$F,\"=\"&($B201&TEXT($R$7,\"aaa-yy\")),'AİDAT GİRİŞİ'!$D:$D)","v":0},{"$f":"SUMIF('AİDAT GİRİŞİ'!$F:$F,\"=\"&($B201&TEXT($S$7,\"aaa-yy\")),'AİDAT GİRİŞİ'!$D:$D)","v":0},{"$f":"SUMIF('AİDAT GİRİŞİ'!$F:$F,\"=\"&($B201&TEXT($T$7,\"aaa-yy\")),'AİDAT GİRİŞİ'!$D:$D)","v":0},{"$f":"SUMIF('AİDAT GİRİŞİ'!$F:$F,\"=\"&($B201&TEXT($U$7,\"aaa-yy\")),'AİDAT GİRİŞİ'!$D:$D)","v":0},{"$f":"SUMIF('AİDAT GİRİŞİ'!$F:$F,\"=\"&($B201&TEXT($V$7,\"aaa-yy\")),'AİDAT GİRİŞİ'!$D:$D)","v":0},{"$f":"SUMIF('AİDAT GİRİŞİ'!$F:$F,\"=\"&($B201&TEXT($W$7,\"aaa-yy\")),'AİDAT GİRİŞİ'!$D:$D)","v":0},{"$f":"SUMIF('AİDAT GİRİŞİ'!$F:$F,\"=\"&($B201&TEXT($X$7,\"aaa-yy\")),'AİDAT GİRİŞİ'!$D:$D)","v":0},{"$f":"SUMIF('AİDAT GİRİŞİ'!$F:$F,\"=\"&($B201&TEXT($Y$7,\"aaa-yy\")),'AİDAT GİRİŞİ'!$D:$D)","v":0},{"$f":"SUMIF('AİDAT GİRİŞİ'!$F:$F,\"=\"&($B201&TEXT($Z$7,\"aaa-yy\")),'AİDAT GİRİŞİ'!$D:$D)","v":0},{"$f":"SUMIF('AİDAT GİRİŞİ'!$F:$F,\"=\"&($B201&TEXT($AA$7,\"aaa-yy\")),'AİDAT GİRİŞİ'!$D:$D)","v":0},{"$f":"SUMIF('AİDAT GİRİŞİ'!$F:$F,\"=\"&($B201&TEXT($AB$7,\"aaa-yy\")),'AİDAT GİRİŞİ'!$D:$D)","v":0},0]
[196,{"$f":"IF(ISERROR(VLOOKUP(A202,'ÜYE KAYIT LİSTESİ'!A:B,2,0)=TRUE),\"\",VLOOKUP(A202,'ÜYE KAYIT LİSTESİ'!A:B,2,0))","v":""},{"$f":"SUMIF('AİDAT GİRİŞİ'!$F:$F,\"=\"&(B202&TEXT($Q$7,\"aaa-yy\")),'AİDAT GİRİŞİ'!$D:$D)","v":0},{"$f":"SUMIF('AİDAT GİRİŞİ'!$F:$F,\"=\"&($B202&TEXT($R$7,\"aaa-yy\")),'AİDAT GİRİŞİ'!$D:$D)","v":0},{"$f":"SUMIF('AİDAT GİRİŞİ'!$F:$F,\"=\"&($B202&TEXT($S$7,\"aaa-yy\")),'AİDAT GİRİŞİ'!$D:$D)","v":0},{"$f":"SUMIF('AİDAT GİRİŞİ'!$F:$F,\"=\"&($B202&TEXT($T$7,\"aaa-yy\")),'AİDAT GİRİŞİ'!$D:$D)","v":0},{"$f":"SUMIF('AİDAT GİRİŞİ'!$F:$F,\"=\"&($B202&TEXT($U$7,\"aaa-yy\")),'AİDAT GİRİŞİ'!$D:$D)","v":0},{"$f":"SUMIF('AİDAT GİRİŞİ'!$F:$F,\"=\"&($B202&TEXT($V$7,\"aaa-yy\")),'AİDAT GİRİŞİ'!$D:$D)","v":0},{"$f":"SUMIF('AİDAT GİRİŞİ'!$F:$F,\"=\"&($B202&TEXT($W$7,\"aaa-yy\")),'AİDAT GİRİŞİ'!$D:$D)","v":0},{"$f":"SUMIF('AİDAT GİRİŞİ'!$F:$F,\"=\"&($B202&TEXT($X$7,\"aaa-yy\")),'AİDAT GİRİŞİ'!$D:$D)","v":0},{"$f":"SUMIF('AİDAT GİRİŞİ'!$F:$F,\"=\"&($B202&TEXT($Y$7,\"aaa-yy\")),'AİDAT GİRİŞİ'!$D:$D)","v":0},{"$f":"SUMIF('AİDAT GİRİŞİ'!$F:$F,\"=\"&($B202&TEXT($Z$7,\"aaa-yy\")),'AİDAT GİRİŞİ'!$D:$D)","v":0},{"$f":"SUMIF('AİDAT GİRİŞİ'!$F:$F,\"=\"&($B202&TEXT($AA$7,\"aaa-yy\")),'AİDAT GİRİŞİ'!$D:$D)","v":0},{"$f":"SUMIF('AİDAT GİRİŞİ'!$F:$F,\"=\"&($B202&TEXT($AB$7,\"aaa-yy\")),'AİDAT GİRİŞİ'!$D:$D)","v":0},0]
[197,{"$f":"IF(ISERROR(VLOOKUP(A203,'ÜYE KAYIT LİSTESİ'!A:B,2,0)=TRUE),\"\",VLOOKUP(A203,'ÜYE KAYIT LİSTESİ'!A:B,2,0))","v":""},{"$f":"SUMIF('AİDAT GİRİŞİ'!$F:$F,\"=\"&(B203&TEXT($Q$7,\"aaa-yy\")),'AİDAT GİRİŞİ'!$D:$D)","v":0},{"$f":"SUMIF('AİDAT GİRİŞİ'!$F:$F,\"=\"&($B203&TEXT($R$7,\"aaa-yy\")),'AİDAT GİRİŞİ'!$D:$D)","v":0},{"$f":"SUMIF('AİDAT GİRİŞİ'!$F:$F,\"=\"&($B203&TEXT($S$7,\"aaa-yy\")),'AİDAT GİRİŞİ'!$D:$D)","v":0},{"$f":"SUMIF('AİDAT GİRİŞİ'!$F:$F,\"=\"&($B203&TEXT($T$7,\"aaa-yy\")),'AİDAT GİRİŞİ'!$D:$D)","v":0},{"$f":"SUMIF('AİDAT GİRİŞİ'!$F:$F,\"=\"&($B203&TEXT($U$7,\"aaa-yy\")),'AİDAT GİRİŞİ'!$D:$D)","v":0},{"$f":"SUMIF('AİDAT GİRİŞİ'!$F:$F,\"=\"&($B203&TEXT($V$7,\"aaa-yy\")),'AİDAT GİRİŞİ'!$D:$D)","v":0},{"$f":"SUMIF('AİDAT GİRİŞİ'!$F:$F,\"=\"&($B203&TEXT($W$7,\"aaa-yy\")),'AİDAT GİRİŞİ'!$D:$D)","v":0},{"$f":"SUMIF('AİDAT GİRİŞİ'!$F:$F,\"=\"&($B203&TEXT($X$7,\"aaa-yy\")),'AİDAT GİRİŞİ'!$D:$D)","v":0},{"$f":"SUMIF('AİDAT GİRİŞİ'!$F:$F,\"=\"&($B203&TEXT($Y$7,\"aaa-yy\")),'AİDAT GİRİŞİ'!$D:$D)","v":0},{"$f":"SUMIF('AİDAT GİRİŞİ'!$F:$F,\"=\"&($B203&TEXT($Z$7,\"aaa-yy\")),'AİDAT GİRİŞİ'!$D:$D)","v":0},{"$f":"SUMIF('AİDAT GİRİŞİ'!$F:$F,\"=\"&($B203&TEXT($AA$7,\"aaa-yy\")),'AİDAT GİRİŞİ'!$D:$D)","v":0},{"$f":"SUMIF('AİDAT GİRİŞİ'!$F:$F,\"=\"&($B203&TEXT($AB$7,\"aaa-yy\")),'AİDAT GİRİŞİ'!$D:$D)","v":0},0]
[198,{"$f":"IF(ISERROR(VLOOKUP(A204,'ÜYE KAYIT LİSTESİ'!A:B,2,0)=TRUE),\"\",VLOOKUP(A204,'ÜYE KAYIT LİSTESİ'!A:B,2,0))","v":""},{"$f":"SUMIF('AİDAT GİRİŞİ'!$F:$F,\"=\"&(B204&TEXT($Q$7,\"aaa-yy\")),'AİDAT GİRİŞİ'!$D:$D)","v":0},{"$f":"SUMIF('AİDAT GİRİŞİ'!$F:$F,\"=\"&($B204&TEXT($R$7,\"aaa-yy\")),'AİDAT GİRİŞİ'!$D:$D)","v":0},{"$f":"SUMIF('AİDAT GİRİŞİ'!$F:$F,\"=\"&($B204&TEXT($S$7,\"aaa-yy\")),'AİDAT GİRİŞİ'!$D:$D)","v":0},{"$f":"SUMIF('AİDAT GİRİŞİ'!$F:$F,\"=\"&($B204&TEXT($T$7,\"aaa-yy\")),'AİDAT GİRİŞİ'!$D:$D)","v":0},{"$f":"SUMIF('AİDAT GİRİŞİ'!$F:$F,\"=\"&($B204&TEXT($U$7,\"aaa-yy\")),'AİDAT GİRİŞİ'!$D:$D)","v":0},{"$f":"SUMIF('AİDAT GİRİŞİ'!$F:$F,\"=\"&($B204&TEXT($V$7,\"aaa-yy\")),'AİDAT GİRİŞİ'!$D:$D)","v":0},{"$f":"SUMIF('AİDAT GİRİŞİ'!$F:$F,\"=\"&($B204&TEXT($W$7,\"aaa-yy\")),'AİDAT GİRİŞİ'!$D:$D)","v":0},{"$f":"SUMIF('AİDAT GİRİŞİ'!$F:$F,\"=\"&($B204&TEXT($X$7,\"aaa-yy\")),'AİDAT GİRİŞİ'!$D:$D)","v":0},{"$f":"SUMIF('AİDAT GİRİŞİ'!$F:$F,\"=\"&($B204&TEXT($Y$7,\"aaa-yy\")),'AİDAT GİRİŞİ'!$D:$D)","v":0},{"$f":"SUMIF('AİDAT GİRİŞİ'!$F:$F,\"=\"&($B204&TEXT($Z$7,\"aaa-yy\")),'AİDAT GİRİŞİ'!$D:$D)","v":0},{"$f":"SUMIF('AİDAT GİRİŞİ'!$F:$F,\"=\"&($B204&TEXT($AA$7,\"aaa-yy\")),'AİDAT GİRİŞİ'!$D:$D)","v":0},{"$f":"SUMIF('AİDAT GİRİŞİ'!$F:$F,\"=\"&($B204&TEXT($AB$7,\"aaa-yy\")),'AİDAT GİRİŞİ'!$D:$D)","v":0},0]
[199,{"$f":"IF(ISERROR(VLOOKUP(A205,'ÜYE KAYIT LİSTESİ'!A:B,2,0)=TRUE),\"\",VLOOKUP(A205,'ÜYE KAYIT LİSTESİ'!A:B,2,0))","v":""},{"$f":"SUMIF('AİDAT GİRİŞİ'!$F:$F,\"=\"&(B205&TEXT($Q$7,\"aaa-yy\")),'AİDAT GİRİŞİ'!$D:$D)","v":0},{"$f":"SUMIF('AİDAT GİRİŞİ'!$F:$F,\"=\"&($B205&TEXT($R$7,\"aaa-yy\")),'AİDAT GİRİŞİ'!$D:$D)","v":0},{"$f":"SUMIF('AİDAT GİRİŞİ'!$F:$F,\"=\"&($B205&TEXT($S$7,\"aaa-yy\")),'AİDAT GİRİŞİ'!$D:$D)","v":0},{"$f":"SUMIF('AİDAT GİRİŞİ'!$F:$F,\"=\"&($B205&TEXT($T$7,\"aaa-yy\")),'AİDAT GİRİŞİ'!$D:$D)","v":0},{"$f":"SUMIF('AİDAT GİRİŞİ'!$F:$F,\"=\"&($B205&TEXT($U$7,\"aaa-yy\")),'AİDAT GİRİŞİ'!$D:$D)","v":0},{"$f":"SUMIF('AİDAT GİRİŞİ'!$F:$F,\"=\"&($B205&TEXT($V$7,\"aaa-yy\")),'AİDAT GİRİŞİ'!$D:$D)","v":0},{"$f":"SUMIF('AİDAT GİRİŞİ'!$F:$F,\"=\"&($B205&TEXT($W$7,\"aaa-yy\")),'AİDAT GİRİŞİ'!$D:$D)","v":0},{"$f":"SUMIF('AİDAT GİRİŞİ'!$F:$F,\"=\"&($B205&TEXT($X$7,\"aaa-yy\")),'AİDAT GİRİŞİ'!$D:$D)","v":0},{"$f":"SUMIF('AİDAT GİRİŞİ'!$F:$F,\"=\"&($B205&TEXT($Y$7,\"aaa-yy\")),'AİDAT GİRİŞİ'!$D:$D)","v":0},{"$f":"SUMIF('AİDAT GİRİŞİ'!$F:$F,\"=\"&($B205&TEXT($Z$7,\"aaa-yy\")),'AİDAT GİRİŞİ'!$D:$D)","v":0},{"$f":"SUMIF('AİDAT GİRİŞİ'!$F:$F,\"=\"&($B205&TEXT($AA$7,\"aaa-yy\")),'AİDAT GİRİŞİ'!$D:$D)","v":0},{"$f":"SUMIF('AİDAT GİRİŞİ'!$F:$F,\"=\"&($B205&TEXT($AB$7,\"aaa-yy\")),'AİDAT GİRİŞİ'!$D:$D)","v":0},0]
[200,{"$f":"IF(ISERROR(VLOOKUP(A206,'ÜYE KAYIT LİSTESİ'!A:B,2,0)=TRUE),\"\",VLOOKUP(A206,'ÜYE KAYIT LİSTESİ'!A:B,2,0))","v":""},{"$f":"SUMIF('AİDAT GİRİŞİ'!$F:$F,\"=\"&(B206&TEXT($Q$7,\"aaa-yy\")),'AİDAT GİRİŞİ'!$D:$D)","v":0},{"$f":"SUMIF('AİDAT GİRİŞİ'!$F:$F,\"=\"&($B206&TEXT($R$7,\"aaa-yy\")),'AİDAT GİRİŞİ'!$D:$D)","v":0},{"$f":"SUMIF('AİDAT GİRİŞİ'!$F:$F,\"=\"&($B206&TEXT($S$7,\"aaa-yy\")),'AİDAT GİRİŞİ'!$D:$D)","v":0},{"$f":"SUMIF('AİDAT GİRİŞİ'!$F:$F,\"=\"&($B206&TEXT($T$7,\"aaa-yy\")),'AİDAT GİRİŞİ'!$D:$D)","v":0},{"$f":"SUMIF('AİDAT GİRİŞİ'!$F:$F,\"=\"&($B206&TEXT($U$7,\"aaa-yy\")),'AİDAT GİRİŞİ'!$D:$D)","v":0},{"$f":"SUMIF('AİDAT GİRİŞİ'!$F:$F,\"=\"&($B206&TEXT($V$7,\"aaa-yy\")),'AİDAT GİRİŞİ'!$D:$D)","v":0},{"$f":"SUMIF('AİDAT GİRİŞİ'!$F:$F,\"=\"&($B206&TEXT($W$7,\"aaa-yy\")),'AİDAT GİRİŞİ'!$D:$D)","v":0},{"$f":"SUMIF('AİDAT GİRİŞİ'!$F:$F,\"=\"&($B206&TEXT($X$7,\"aaa-yy\")),'AİDAT GİRİŞİ'!$D:$D)","v":0},{"$f":"SUMIF('AİDAT GİRİŞİ'!$F:$F,\"=\"&($B206&TEXT($Y$7,\"aaa-yy\")),'AİDAT GİRİŞİ'!$D:$D)","v":0},{"$f":"SUMIF('AİDAT GİRİŞİ'!$F:$F,\"=\"&($B206&TEXT($Z$7,\"aaa-yy\")),'AİDAT GİRİŞİ'!$D:$D)","v":0},{"$f":"SUMIF('AİDAT GİRİŞİ'!$F:$F,\"=\"&($B206&TEXT($AA$7,\"aaa-yy\")),'AİDAT GİRİŞİ'!$D:$D)","v":0},{"$f":"SUMIF('AİDAT GİRİŞİ'!$F:$F,\"=\"&($B206&TEXT($AB$7,\"aaa-yy\")),'AİDAT GİRİŞİ'!$D:$D)","v":0},0]
[201,{"$f":"IF(ISERROR(VLOOKUP(A207,'ÜYE KAYIT LİSTESİ'!A:B,2,0)=TRUE),\"\",VLOOKUP(A207,'ÜYE KAYIT LİSTESİ'!A:B,2,0))","v":""},{"$f":"SUMIF('AİDAT GİRİŞİ'!$F:$F,\"=\"&(B207&TEXT($Q$7,\"aaa-yy\")),'AİDAT GİRİŞİ'!$D:$D)","v":0},{"$f":"SUMIF('AİDAT GİRİŞİ'!$F:$F,\"=\"&($B207&TEXT($R$7,\"aaa-yy\")),'AİDAT GİRİŞİ'!$D:$D)","v":0},{"$f":"SUMIF('AİDAT GİRİŞİ'!$F:$F,\"=\"&($B207&TEXT($S$7,\"aaa-yy\")),'AİDAT GİRİŞİ'!$D:$D)","v":0},{"$f":"SUMIF('AİDAT GİRİŞİ'!$F:$F,\"=\"&($B207&TEXT($T$7,\"aaa-yy\")),'AİDAT GİRİŞİ'!$D:$D)","v":0},{"$f":"SUMIF('AİDAT GİRİŞİ'!$F:$F,\"=\"&($B207&TEXT($U$7,\"aaa-yy\")),'AİDAT GİRİŞİ'!$D:$D)","v":0},{"$f":"SUMIF('AİDAT GİRİŞİ'!$F:$F,\"=\"&($B207&TEXT($V$7,\"aaa-yy\")),'AİDAT GİRİŞİ'!$D:$D)","v":0},{"$f":"SUMIF('AİDAT GİRİŞİ'!$F:$F,\"=\"&($B207&TEXT($W$7,\"aaa-yy\")),'AİDAT GİRİŞİ'!$D:$D)","v":0},{"$f":"SUMIF('AİDAT GİRİŞİ'!$F:$F,\"=\"&($B207&TEXT($X$7,\"aaa-yy\")),'AİDAT GİRİŞİ'!$D:$D)","v":0},{"$f":"SUMIF('AİDAT GİRİŞİ'!$F:$F,\"=\"&($B207&TEXT($Y$7,\"aaa-yy\")),'AİDAT GİRİŞİ'!$D:$D)","v":0},{"$f":"SUMIF('AİDAT GİRİŞİ'!$F:$F,\"=\"&($B207&TEXT($Z$7,\"aaa-yy\")),'AİDAT GİRİŞİ'!$D:$D)","v":0},{"$f":"SUMIF('AİDAT GİRİŞİ'!$F:$F,\"=\"&($B207&TEXT($AA$7,\"aaa-yy\")),'AİDAT GİRİŞİ'!$D:$D)","v":0},{"$f":"SUMIF('AİDAT GİRİŞİ'!$F:$F,\"=\"&($B207&TEXT($AB$7,\"aaa-yy\")),'AİDAT GİRİŞİ'!$D:$D)","v":0},0]
[202,{"$f":"IF(ISERROR(VLOOKUP(A208,'ÜYE KAYIT LİSTESİ'!A:B,2,0)=TRUE),\"\",VLOOKUP(A208,'ÜYE KAYIT LİSTESİ'!A:B,2,0))","v":""},{"$f":"SUMIF('AİDAT GİRİŞİ'!$F:$F,\"=\"&(B208&TEXT($Q$7,\"aaa-yy\")),'AİDAT GİRİŞİ'!$D:$D)","v":0},{"$f":"SUMIF('AİDAT GİRİŞİ'!$F:$F,\"=\"&($B208&TEXT($R$7,\"aaa-yy\")),'AİDAT GİRİŞİ'!$D:$D)","v":0},{"$f":"SUMIF('AİDAT GİRİŞİ'!$F:$F,\"=\"&($B208&TEXT($S$7,\"aaa-yy\")),'AİDAT GİRİŞİ'!$D:$D)","v":0},{"$f":"SUMIF('AİDAT GİRİŞİ'!$F:$F,\"=\"&($B208&TEXT($T$7,\"aaa-yy\")),'AİDAT GİRİŞİ'!$D:$D)","v":0},{"$f":"SUMIF('AİDAT GİRİŞİ'!$F:$F,\"=\"&($B208&TEXT($U$7,\"aaa-yy\")),'AİDAT GİRİŞİ'!$D:$D)","v":0},{"$f":"SUMIF('AİDAT GİRİŞİ'!$F:$F,\"=\"&($B208&TEXT($V$7,\"aaa-yy\")),'AİDAT GİRİŞİ'!$D:$D)","v":0},{"$f":"SUMIF('AİDAT GİRİŞİ'!$F:$F,\"=\"&($B208&TEXT($W$7,\"aaa-yy\")),'AİDAT GİRİŞİ'!$D:$D)","v":0},{"$f":"SUMIF('AİDAT GİRİŞİ'!$F:$F,\"=\"&($B208&TEXT($X$7,\"aaa-yy\")),'AİDAT GİRİŞİ'!$D:$D)","v":0},{"$f":"SUMIF('AİDAT GİRİŞİ'!$F:$F,\"=\"&($B208&TEXT($Y$7,\"aaa-yy\")),'AİDAT GİRİŞİ'!$D:$D)","v":0},{"$f":"SUMIF('AİDAT GİRİŞİ'!$F:$F,\"=\"&($B208&TEXT($Z$7,\"aaa-yy\")),'AİDAT GİRİŞİ'!$D:$D)","v":0},{"$f":"SUMIF('AİDAT GİRİŞİ'!$F:$F,\"=\"&($B208&TEXT($AA$7,\"aaa-yy\")),'AİDAT GİRİŞİ'!$D:$D)","v":0},{"$f":"SUMIF('AİDAT GİRİŞİ'!$F:$F,\"=\"&($B208&TEXT($AB$7,\"aaa-yy\")),'AİDAT GİRİŞİ'!$D:$D)","v":0},0]
[203,{"$f":"IF(ISERROR(VLOOKUP(A209,'ÜYE KAYIT LİSTESİ'!A:B,2,0)=TRUE),\"\",VLOOKUP(A209,'ÜYE KAYIT LİSTESİ'!A:B,2,0))","v":""},{"$f":"SUMIF('AİDAT GİRİŞİ'!$F:$F,\"=\"&(B209&TEXT($Q$7,\"aaa-yy\")),'AİDAT GİRİŞİ'!$D:$D)","v":0},{"$f":"SUMIF('AİDAT GİRİŞİ'!$F:$F,\"=\"&($B209&TEXT($R$7,\"aaa-yy\")),'AİDAT GİRİŞİ'!$D:$D)","v":0},{"$f":"SUMIF('AİDAT GİRİŞİ'!$F:$F,\"=\"&($B209&TEXT($S$7,\"aaa-yy\")),'AİDAT GİRİŞİ'!$D:$D)","v":0},{"$f":"SUMIF('AİDAT GİRİŞİ'!$F:$F,\"=\"&($B209&TEXT($T$7,\"aaa-yy\")),'AİDAT GİRİŞİ'!$D:$D)","v":0},{"$f":"SUMIF('AİDAT GİRİŞİ'!$F:$F,\"=\"&($B209&TEXT($U$7,\"aaa-yy\")),'AİDAT GİRİŞİ'!$D:$D)","v":0},{"$f":"SUMIF('AİDAT GİRİŞİ'!$F:$F,\"=\"&($B209&TEXT($V$7,\"aaa-yy\")),'AİDAT GİRİŞİ'!$D:$D)","v":0},{"$f":"SUMIF('AİDAT GİRİŞİ'!$F:$F,\"=\"&($B209&TEXT($W$7,\"aaa-yy\")),'AİDAT GİRİŞİ'!$D:$D)","v":0},{"$f":"SUMIF('AİDAT GİRİŞİ'!$F:$F,\"=\"&($B209&TEXT($X$7,\"aaa-yy\")),'AİDAT GİRİŞİ'!$D:$D)","v":0},{"$f":"SUMIF('AİDAT GİRİŞİ'!$F:$F,\"=\"&($B209&TEXT($Y$7,\"aaa-yy\")),'AİDAT GİRİŞİ'!$D:$D)","v":0},{"$f":"SUMIF('AİDAT GİRİŞİ'!$F:$F,\"=\"&($B209&TEXT($Z$7,\"aaa-yy\")),'AİDAT GİRİŞİ'!$D:$D)","v":0},{"$f":"SUMIF('AİDAT GİRİŞİ'!$F:$F,\"=\"&($B209&TEXT($AA$7,\"aaa-yy\")),'AİDAT GİRİŞİ'!$D:$D)","v":0},{"$f":"SUMIF('AİDAT GİRİŞİ'!$F:$F,\"=\"&($B209&TEXT($AB$7,\"aaa-yy\")),'AİDAT GİRİŞİ'!$D:$D)","v":0},0]
[204,{"$f":"IF(ISERROR(VLOOKUP(A210,'ÜYE KAYIT LİSTESİ'!A:B,2,0)=TRUE),\"\",VLOOKUP(A210,'ÜYE KAYIT LİSTESİ'!A:B,2,0))","v":""},{"$f":"SUMIF('AİDAT GİRİŞİ'!$F:$F,\"=\"&(B210&TEXT($Q$7,\"aaa-yy\")),'AİDAT GİRİŞİ'!$D:$D)","v":0},{"$f":"SUMIF('AİDAT GİRİŞİ'!$F:$F,\"=\"&($B210&TEXT($R$7,\"aaa-yy\")),'AİDAT GİRİŞİ'!$D:$D)","v":0},{"$f":"SUMIF('AİDAT GİRİŞİ'!$F:$F,\"=\"&($B210&TEXT($S$7,\"aaa-yy\")),'AİDAT GİRİŞİ'!$D:$D)","v":0},{"$f":"SUMIF('AİDAT GİRİŞİ'!$F:$F,\"=\"&($B210&TEXT($T$7,\"aaa-yy\")),'AİDAT GİRİŞİ'!$D:$D)","v":0},{"$f":"SUMIF('AİDAT GİRİŞİ'!$F:$F,\"=\"&($B210&TEXT($U$7,\"aaa-yy\")),'AİDAT GİRİŞİ'!$D:$D)","v":0},{"$f":"SUMIF('AİDAT GİRİŞİ'!$F:$F,\"=\"&($B210&TEXT($V$7,\"aaa-yy\")),'AİDAT GİRİŞİ'!$D:$D)","v":0},{"$f":"SUMIF('AİDAT GİRİŞİ'!$F:$F,\"=\"&($B210&TEXT($W$7,\"aaa-yy\")),'AİDAT GİRİŞİ'!$D:$D)","v":0},{"$f":"SUMIF('AİDAT GİRİŞİ'!$F:$F,\"=\"&($B210&TEXT($X$7,\"aaa-yy\")),'AİDAT GİRİŞİ'!$D:$D)","v":0},{"$f":"SUMIF('AİDAT GİRİŞİ'!$F:$F,\"=\"&($B210&TEXT($Y$7,\"aaa-yy\")),'AİDAT GİRİŞİ'!$D:$D)","v":0},{"$f":"SUMIF('AİDAT GİRİŞİ'!$F:$F,\"=\"&($B210&TEXT($Z$7,\"aaa-yy\")),'AİDAT GİRİŞİ'!$D:$D)","v":0},{"$f":"SUMIF('AİDAT GİRİŞİ'!$F:$F,\"=\"&($B210&TEXT($AA$7,\"aaa-yy\")),'AİDAT GİRİŞİ'!$D:$D)","v":0},{"$f":"SUMIF('AİDAT GİRİŞİ'!$F:$F,\"=\"&($B210&TEXT($AB$7,\"aaa-yy\")),'AİDAT GİRİŞİ'!$D:$D)","v":0},0]
[205,{"$f":"IF(ISERROR(VLOOKUP(A211,'ÜYE KAYIT LİSTESİ'!A:B,2,0)=TRUE),\"\",VLOOKUP(A211,'ÜYE KAYIT LİSTESİ'!A:B,2,0))","v":""},{"$f":"SUMIF('AİDAT GİRİŞİ'!$F:$F,\"=\"&(B211&TEXT($Q$7,\"aaa-yy\")),'AİDAT GİRİŞİ'!$D:$D)","v":0},{"$f":"SUMIF('AİDAT GİRİŞİ'!$F:$F,\"=\"&($B211&TEXT($R$7,\"aaa-yy\")),'AİDAT GİRİŞİ'!$D:$D)","v":0},{"$f":"SUMIF('AİDAT GİRİŞİ'!$F:$F,\"=\"&($B211&TEXT($S$7,\"aaa-yy\")),'AİDAT GİRİŞİ'!$D:$D)","v":0},{"$f":"SUMIF('AİDAT GİRİŞİ'!$F:$F,\"=\"&($B211&TEXT($T$7,\"aaa-yy\")),'AİDAT GİRİŞİ'!$D:$D)","v":0},{"$f":"SUMIF('AİDAT GİRİŞİ'!$F:$F,\"=\"&($B211&TEXT($U$7,\"aaa-yy\")),'AİDAT GİRİŞİ'!$D:$D)","v":0},{"$f":"SUMIF('AİDAT GİRİŞİ'!$F:$F,\"=\"&($B211&TEXT($V$7,\"aaa-yy\")),'AİDAT GİRİŞİ'!$D:$D)","v":0},{"$f":"SUMIF('AİDAT GİRİŞİ'!$F:$F,\"=\"&($B211&TEXT($W$7,\"aaa-yy\")),'AİDAT GİRİŞİ'!$D:$D)","v":0},{"$f":"SUMIF('AİDAT GİRİŞİ'!$F:$F,\"=\"&($B211&TEXT($X$7,\"aaa-yy\")),'AİDAT GİRİŞİ'!$D:$D)","v":0},{"$f":"SUMIF('AİDAT GİRİŞİ'!$F:$F,\"=\"&($B211&TEXT($Y$7,\"aaa-yy\")),'AİDAT GİRİŞİ'!$D:$D)","v":0},{"$f":"SUMIF('AİDAT GİRİŞİ'!$F:$F,\"=\"&($B211&TEXT($Z$7,\"aaa-yy\")),'AİDAT GİRİŞİ'!$D:$D)","v":0},{"$f":"SUMIF('AİDAT GİRİŞİ'!$F:$F,\"=\"&($B211&TEXT($AA$7,\"aaa-yy\")),'AİDAT GİRİŞİ'!$D:$D)","v":0},{"$f":"SUMIF('AİDAT GİRİŞİ'!$F:$F,\"=\"&($B211&TEXT($AB$7,\"aaa-yy\")),'AİDAT GİRİŞİ'!$D:$D)","v":0},0]
[206,{"$f":"IF(ISERROR(VLOOKUP(A212,'ÜYE KAYIT LİSTESİ'!A:B,2,0)=TRUE),\"\",VLOOKUP(A212,'ÜYE KAYIT LİSTESİ'!A:B,2,0))","v":""},{"$f":"SUMIF('AİDAT GİRİŞİ'!$F:$F,\"=\"&(B212&TEXT($Q$7,\"aaa-yy\")),'AİDAT GİRİŞİ'!$D:$D)","v":0},{"$f":"SUMIF('AİDAT GİRİŞİ'!$F:$F,\"=\"&($B212&TEXT($R$7,\"aaa-yy\")),'AİDAT GİRİŞİ'!$D:$D)","v":0},{"$f":"SUMIF('AİDAT GİRİŞİ'!$F:$F,\"=\"&($B212&TEXT($S$7,\"aaa-yy\")),'AİDAT GİRİŞİ'!$D:$D)","v":0},{"$f":"SUMIF('AİDAT GİRİŞİ'!$F:$F,\"=\"&($B212&TEXT($T$7,\"aaa-yy\")),'AİDAT GİRİŞİ'!$D:$D)","v":0},{"$f":"SUMIF('AİDAT GİRİŞİ'!$F:$F,\"=\"&($B212&TEXT($U$7,\"aaa-yy\")),'AİDAT GİRİŞİ'!$D:$D)","v":0},{"$f":"SUMIF('AİDAT GİRİŞİ'!$F:$F,\"=\"&($B212&TEXT($V$7,\"aaa-yy\")),'AİDAT GİRİŞİ'!$D:$D)","v":0},{"$f":"SUMIF('AİDAT GİRİŞİ'!$F:$F,\"=\"&($B212&TEXT($W$7,\"aaa-yy\")),'AİDAT GİRİŞİ'!$D:$D)","v":0},{"$f":"SUMIF('AİDAT GİRİŞİ'!$F:$F,\"=\"&($B212&TEXT($X$7,\"aaa-yy\")),'AİDAT GİRİŞİ'!$D:$D)","v":0},{"$f":"SUMIF('AİDAT GİRİŞİ'!$F:$F,\"=\"&($B212&TEXT($Y$7,\"aaa-yy\")),'AİDAT GİRİŞİ'!$D:$D)","v":0},{"$f":"SUMIF('AİDAT GİRİŞİ'!$F:$F,\"=\"&($B212&TEXT($Z$7,\"aaa-yy\")),'AİDAT GİRİŞİ'!$D:$D)","v":0},{"$f":"SUMIF('AİDAT GİRİŞİ'!$F:$F,\"=\"&($B212&TEXT($AA$7,\"aaa-yy\")),'AİDAT GİRİŞİ'!$D:$D)","v":0},{"$f":"SUMIF('AİDAT GİRİŞİ'!$F:$F,\"=\"&($B212&TEXT($AB$7,\"aaa-yy\")),'AİDAT GİRİŞİ'!$D:$D)","v":0},0]
[207,{"$f":"IF(ISERROR(VLOOKUP(A213,'ÜYE KAYIT LİSTESİ'!A:B,2,0)=TRUE),\"\",VLOOKUP(A213,'ÜYE KAYIT LİSTESİ'!A:B,2,0))","v":""},{"$f":"SUMIF('AİDAT GİRİŞİ'!$F:$F,\"=\"&(B213&TEXT($Q$7,\"aaa-yy\")),'AİDAT GİRİŞİ'!$D:$D)","v":0},{"$f":"SUMIF('AİDAT GİRİŞİ'!$F:$F,\"=\"&($B213&TEXT($R$7,\"aaa-yy\")),'AİDAT GİRİŞİ'!$D:$D)","v":0},{"$f":"SUMIF('AİDAT GİRİŞİ'!$F:$F,\"=\"&($B213&TEXT($S$7,\"aaa-yy\")),'AİDAT GİRİŞİ'!$D:$D)","v":0},{"$f":"SUMIF('AİDAT GİRİŞİ'!$F:$F,\"=\"&($B213&TEXT($T$7,\"aaa-yy\")),'AİDAT GİRİŞİ'!$D:$D)","v":0},{"$f":"SUMIF('AİDAT GİRİŞİ'!$F:$F,\"=\"&($B213&TEXT($U$7,\"aaa-yy\")),'AİDAT GİRİŞİ'!$D:$D)","v":0},{"$f":"SUMIF('AİDAT GİRİŞİ'!$F:$F,\"=\"&($B213&TEXT($V$7,\"aaa-yy\")),'AİDAT GİRİŞİ'!$D:$D)","v":0},{"$f":"SUMIF('AİDAT GİRİŞİ'!$F:$F,\"=\"&($B213&TEXT($W$7,\"aaa-yy\")),'AİDAT GİRİŞİ'!$D:$D)","v":0},{"$f":"SUMIF('AİDAT GİRİŞİ'!$F:$F,\"=\"&($B213&TEXT($X$7,\"aaa-yy\")),'AİDAT GİRİŞİ'!$D:$D)","v":0},{"$f":"SUMIF('AİDAT GİRİŞİ'!$F:$F,\"=\"&($B213&TEXT($Y$7,\"aaa-yy\")),'AİDAT GİRİŞİ'!$D:$D)","v":0},{"$f":"SUMIF('AİDAT GİRİŞİ'!$F:$F,\"=\"&($B213&TEXT($Z$7,\"aaa-yy\")),'AİDAT GİRİŞİ'!$D:$D)","v":0},{"$f":"SUMIF('AİDAT GİRİŞİ'!$F:$F,\"=\"&($B213&TEXT($AA$7,\"aaa-yy\")),'AİDAT GİRİŞİ'!$D:$D)","v":0},{"$f":"SUMIF('AİDAT GİRİŞİ'!$F:$F,\"=\"&($B213&TEXT($AB$7,\"aaa-yy\")),'AİDAT GİRİŞİ'!$D:$D)","v":0},0]
[208,{"$f":"IF(ISERROR(VLOOKUP(A214,'ÜYE KAYIT LİSTESİ'!A:B,2,0)=TRUE),\"\",VLOOKUP(A214,'ÜYE KAYIT LİSTESİ'!A:B,2,0))","v":""},{"$f":"SUMIF('AİDAT GİRİŞİ'!$F:$F,\"=\"&(B214&TEXT($Q$7,\"aaa-yy\")),'AİDAT GİRİŞİ'!$D:$D)","v":0},{"$f":"SUMIF('AİDAT GİRİŞİ'!$F:$F,\"=\"&($B214&TEXT($R$7,\"aaa-yy\")),'AİDAT GİRİŞİ'!$D:$D)","v":0},{"$f":"SUMIF('AİDAT GİRİŞİ'!$F:$F,\"=\"&($B214&TEXT($S$7,\"aaa-yy\")),'AİDAT GİRİŞİ'!$D:$D)","v":0},{"$f":"SUMIF('AİDAT GİRİŞİ'!$F:$F,\"=\"&($B214&TEXT($T$7,\"aaa-yy\")),'AİDAT GİRİŞİ'!$D:$D)","v":0},{"$f":"SUMIF('AİDAT GİRİŞİ'!$F:$F,\"=\"&($B214&TEXT($U$7,\"aaa-yy\")),'AİDAT GİRİŞİ'!$D:$D)","v":0},{"$f":"SUMIF('AİDAT GİRİŞİ'!$F:$F,\"=\"&($B214&TEXT($V$7,\"aaa-yy\")),'AİDAT GİRİŞİ'!$D:$D)","v":0},{"$f":"SUMIF('AİDAT GİRİŞİ'!$F:$F,\"=\"&($B214&TEXT($W$7,\"aaa-yy\")),'AİDAT GİRİŞİ'!$D:$D)","v":0},{"$f":"SUMIF('AİDAT GİRİŞİ'!$F:$F,\"=\"&($B214&TEXT($X$7,\"aaa-yy\")),'AİDAT GİRİŞİ'!$D:$D)","v":0},{"$f":"SUMIF('AİDAT GİRİŞİ'!$F:$F,\"=\"&($B214&TEXT($Y$7,\"aaa-yy\")),'AİDAT GİRİŞİ'!$D:$D)","v":0},{"$f":"SUMIF('AİDAT GİRİŞİ'!$F:$F,\"=\"&($B214&TEXT($Z$7,\"aaa-yy\")),'AİDAT GİRİŞİ'!$D:$D)","v":0},{"$f":"SUMIF('AİDAT GİRİŞİ'!$F:$F,\"=\"&($B214&TEXT($AA$7,\"aaa-yy\")),'AİDAT GİRİŞİ'!$D:$D)","v":0},{"$f":"SUMIF('AİDAT GİRİŞİ'!$F:$F,\"=\"&($B214&TEXT($AB$7,\"aaa-yy\")),'AİDAT GİRİŞİ'!$D:$D)","v":0},0]
[209,{"$f":"IF(ISERROR(VLOOKUP(A215,'ÜYE KAYIT LİSTESİ'!A:B,2,0)=TRUE),\"\",VLOOKUP(A215,'ÜYE KAYIT LİSTESİ'!A:B,2,0))","v":""},{"$f":"SUMIF('AİDAT GİRİŞİ'!$F:$F,\"=\"&(B215&TEXT($Q$7,\"aaa-yy\")),'AİDAT GİRİŞİ'!$D:$D)","v":0},{"$f":"SUMIF('AİDAT GİRİŞİ'!$F:$F,\"=\"&($B215&TEXT($R$7,\"aaa-yy\")),'AİDAT GİRİŞİ'!$D:$D)","v":0},{"$f":"SUMIF('AİDAT GİRİŞİ'!$F:$F,\"=\"&($B215&TEXT($S$7,\"aaa-yy\")),'AİDAT GİRİŞİ'!$D:$D)","v":0},{"$f":"SUMIF('AİDAT GİRİŞİ'!$F:$F,\"=\"&($B215&TEXT($T$7,\"aaa-yy\")),'AİDAT GİRİŞİ'!$D:$D)","v":0},{"$f":"SUMIF('AİDAT GİRİŞİ'!$F:$F,\"=\"&($B215&TEXT($U$7,\"aaa-yy\")),'AİDAT GİRİŞİ'!$D:$D)","v":0},{"$f":"SUMIF('AİDAT GİRİŞİ'!$F:$F,\"=\"&($B215&TEXT($V$7,\"aaa-yy\")),'AİDAT GİRİŞİ'!$D:$D)","v":0},{"$f":"SUMIF('AİDAT GİRİŞİ'!$F:$F,\"=\"&($B215&TEXT($W$7,\"aaa-yy\")),'AİDAT GİRİŞİ'!$D:$D)","v":0},{"$f":"SUMIF('AİDAT GİRİŞİ'!$F:$F,\"=\"&($B215&TEXT($X$7,\"aaa-yy\")),'AİDAT GİRİŞİ'!$D:$D)","v":0},{"$f":"SUMIF('AİDAT GİRİŞİ'!$F:$F,\"=\"&($B215&TEXT($Y$7,\"aaa-yy\")),'AİDAT GİRİŞİ'!$D:$D)","v":0},{"$f":"SUMIF('AİDAT GİRİŞİ'!$F:$F,\"=\"&($B215&TEXT($Z$7,\"aaa-yy\")),'AİDAT GİRİŞİ'!$D:$D)","v":0},{"$f":"SUMIF('AİDAT GİRİŞİ'!$F:$F,\"=\"&($B215&TEXT($AA$7,\"aaa-yy\")),'AİDAT GİRİŞİ'!$D:$D)","v":0},{"$f":"SUMIF('AİDAT GİRİŞİ'!$F:$F,\"=\"&($B215&TEXT($AB$7,\"aaa-yy\")),'AİDAT GİRİŞİ'!$D:$D)","v":0},0]
[210,{"$f":"IF(ISERROR(VLOOKUP(A216,'ÜYE KAYIT LİSTESİ'!A:B,2,0)=TRUE),\"\",VLOOKUP(A216,'ÜYE KAYIT LİSTESİ'!A:B,2,0))","v":""},{"$f":"SUMIF('AİDAT GİRİŞİ'!$F:$F,\"=\"&(B216&TEXT($Q$7,\"aaa-yy\")),'AİDAT GİRİŞİ'!$D:$D)","v":0},{"$f":"SUMIF('AİDAT GİRİŞİ'!$F:$F,\"=\"&($B216&TEXT($R$7,\"aaa-yy\")),'AİDAT GİRİŞİ'!$D:$D)","v":0},{"$f":"SUMIF('AİDAT GİRİŞİ'!$F:$F,\"=\"&($B216&TEXT($S$7,\"aaa-yy\")),'AİDAT GİRİŞİ'!$D:$D)","v":0},{"$f":"SUMIF('AİDAT GİRİŞİ'!$F:$F,\"=\"&($B216&TEXT($T$7,\"aaa-yy\")),'AİDAT GİRİŞİ'!$D:$D)","v":0},{"$f":"SUMIF('AİDAT GİRİŞİ'!$F:$F,\"=\"&($B216&TEXT($U$7,\"aaa-yy\")),'AİDAT GİRİŞİ'!$D:$D)","v":0},{"$f":"SUMIF('AİDAT GİRİŞİ'!$F:$F,\"=\"&($B216&TEXT($V$7,\"aaa-yy\")),'AİDAT GİRİŞİ'!$D:$D)","v":0},{"$f":"SUMIF('AİDAT GİRİŞİ'!$F:$F,\"=\"&($B216&TEXT($W$7,\"aaa-yy\")),'AİDAT GİRİŞİ'!$D:$D)","v":0},{"$f":"SUMIF('AİDAT GİRİŞİ'!$F:$F,\"=\"&($B216&TEXT($X$7,\"aaa-yy\")),'AİDAT GİRİŞİ'!$D:$D)","v":0},{"$f":"SUMIF('AİDAT GİRİŞİ'!$F:$F,\"=\"&($B216&TEXT($Y$7,\"aaa-yy\")),'AİDAT GİRİŞİ'!$D:$D)","v":0},{"$f":"SUMIF('AİDAT GİRİŞİ'!$F:$F,\"=\"&($B216&TEXT($Z$7,\"aaa-yy\")),'AİDAT GİRİŞİ'!$D:$D)","v":0},{"$f":"SUMIF('AİDAT GİRİŞİ'!$F:$F,\"=\"&($B216&TEXT($AA$7,\"aaa-yy\")),'AİDAT GİRİŞİ'!$D:$D)","v":0},{"$f":"SUMIF('AİDAT GİRİŞİ'!$F:$F,\"=\"&($B216&TEXT($AB$7,\"aaa-yy\")),'AİDAT GİRİŞİ'!$D:$D)","v":0},0]
[211,{"$f":"IF(ISERROR(VLOOKUP(A217,'ÜYE KAYIT LİSTESİ'!A:B,2,0)=TRUE),\"\",VLOOKUP(A217,'ÜYE KAYIT LİSTESİ'!A:B,2,0))","v":""},{"$f":"SUMIF('AİDAT GİRİŞİ'!$F:$F,\"=\"&(B217&TEXT($Q$7,\"aaa-yy\")),'AİDAT GİRİŞİ'!$D:$D)","v":0},{"$f":"SUMIF('AİDAT GİRİŞİ'!$F:$F,\"=\"&($B217&TEXT($R$7,\"aaa-yy\")),'AİDAT GİRİŞİ'!$D:$D)","v":0},{"$f":"SUMIF('AİDAT GİRİŞİ'!$F:$F,\"=\"&($B217&TEXT($S$7,\"aaa-yy\")),'AİDAT GİRİŞİ'!$D:$D)","v":0},{"$f":"SUMIF('AİDAT GİRİŞİ'!$F:$F,\"=\"&($B217&TEXT($T$7,\"aaa-yy\")),'AİDAT GİRİŞİ'!$D:$D)","v":0},{"$f":"SUMIF('AİDAT GİRİŞİ'!$F:$F,\"=\"&($B217&TEXT($U$7,\"aaa-yy\")),'AİDAT GİRİŞİ'!$D:$D)","v":0},{"$f":"SUMIF('AİDAT GİRİŞİ'!$F:$F,\"=\"&($B217&TEXT($V$7,\"aaa-yy\")),'AİDAT GİRİŞİ'!$D:$D)","v":0},{"$f":"SUMIF('AİDAT GİRİŞİ'!$F:$F,\"=\"&($B217&TEXT($W$7,\"aaa-yy\")),'AİDAT GİRİŞİ'!$D:$D)","v":0},{"$f":"SUMIF('AİDAT GİRİŞİ'!$F:$F,\"=\"&($B217&TEXT($X$7,\"aaa-yy\")),'AİDAT GİRİŞİ'!$D:$D)","v":0},{"$f":"SUMIF('AİDAT GİRİŞİ'!$F:$F,\"=\"&($B217&TEXT($Y$7,\"aaa-yy\")),'AİDAT GİRİŞİ'!$D:$D)","v":0},{"$f":"SUMIF('AİDAT GİRİŞİ'!$F:$F,\"=\"&($B217&TEXT($Z$7,\"aaa-yy\")),'AİDAT GİRİŞİ'!$D:$D)","v":0},{"$f":"SUMIF('AİDAT GİRİŞİ'!$F:$F,\"=\"&($B217&TEXT($AA$7,\"aaa-yy\")),'AİDAT GİRİŞİ'!$D:$D)","v":0},{"$f":"SUMIF('AİDAT GİRİŞİ'!$F:$F,\"=\"&($B217&TEXT($AB$7,\"aaa-yy\")),'AİDAT GİRİŞİ'!$D:$D)","v":0},0]
[212,{"$f":"IF(ISERROR(VLOOKUP(A218,'ÜYE KAYIT LİSTESİ'!A:B,2,0)=TRUE),\"\",VLOOKUP(A218,'ÜYE KAYIT LİSTESİ'!A:B,2,0))","v":""},{"$f":"SUMIF('AİDAT GİRİŞİ'!$F:$F,\"=\"&(B218&TEXT($Q$7,\"aaa-yy\")),'AİDAT GİRİŞİ'!$D:$D)","v":0},{"$f":"SUMIF('AİDAT GİRİŞİ'!$F:$F,\"=\"&($B218&TEXT($R$7,\"aaa-yy\")),'AİDAT GİRİŞİ'!$D:$D)","v":0},{"$f":"SUMIF('AİDAT GİRİŞİ'!$F:$F,\"=\"&($B218&TEXT($S$7,\"aaa-yy\")),'AİDAT GİRİŞİ'!$D:$D)","v":0},{"$f":"SUMIF('AİDAT GİRİŞİ'!$F:$F,\"=\"&($B218&TEXT($T$7,\"aaa-yy\")),'AİDAT GİRİŞİ'!$D:$D)","v":0},{"$f":"SUMIF('AİDAT GİRİŞİ'!$F:$F,\"=\"&($B218&TEXT($U$7,\"aaa-yy\")),'AİDAT GİRİŞİ'!$D:$D)","v":0},{"$f":"SUMIF('AİDAT GİRİŞİ'!$F:$F,\"=\"&($B218&TEXT($V$7,\"aaa-yy\")),'AİDAT GİRİŞİ'!$D:$D)","v":0},{"$f":"SUMIF('AİDAT GİRİŞİ'!$F:$F,\"=\"&($B218&TEXT($W$7,\"aaa-yy\")),'AİDAT GİRİŞİ'!$D:$D)","v":0},{"$f":"SUMIF('AİDAT GİRİŞİ'!$F:$F,\"=\"&($B218&TEXT($X$7,\"aaa-yy\")),'AİDAT GİRİŞİ'!$D:$D)","v":0},{"$f":"SUMIF('AİDAT GİRİŞİ'!$F:$F,\"=\"&($B218&TEXT($Y$7,\"aaa-yy\")),'AİDAT GİRİŞİ'!$D:$D)","v":0},{"$f":"SUMIF('AİDAT GİRİŞİ'!$F:$F,\"=\"&($B218&TEXT($Z$7,\"aaa-yy\")),'AİDAT GİRİŞİ'!$D:$D)","v":0},{"$f":"SUMIF('AİDAT GİRİŞİ'!$F:$F,\"=\"&($B218&TEXT($AA$7,\"aaa-yy\")),'AİDAT GİRİŞİ'!$D:$D)","v":0},{"$f":"SUMIF('AİDAT GİRİŞİ'!$F:$F,\"=\"&($B218&TEXT($AB$7,\"aaa-yy\")),'AİDAT GİRİŞİ'!$D:$D)","v":0},0]
[213,{"$f":"IF(ISERROR(VLOOKUP(A219,'ÜYE KAYIT LİSTESİ'!A:B,2,0)=TRUE),\"\",VLOOKUP(A219,'ÜYE KAYIT LİSTESİ'!A:B,2,0))","v":""},{"$f":"SUMIF('AİDAT GİRİŞİ'!$F:$F,\"=\"&(B219&TEXT($Q$7,\"aaa-yy\")),'AİDAT GİRİŞİ'!$D:$D)","v":0},{"$f":"SUMIF('AİDAT GİRİŞİ'!$F:$F,\"=\"&($B219&TEXT($R$7,\"aaa-yy\")),'AİDAT GİRİŞİ'!$D:$D)","v":0},{"$f":"SUMIF('AİDAT GİRİŞİ'!$F:$F,\"=\"&($B219&TEXT($S$7,\"aaa-yy\")),'AİDAT GİRİŞİ'!$D:$D)","v":0},{"$f":"SUMIF('AİDAT GİRİŞİ'!$F:$F,\"=\"&($B219&TEXT($T$7,\"aaa-yy\")),'AİDAT GİRİŞİ'!$D:$D)","v":0},{"$f":"SUMIF('AİDAT GİRİŞİ'!$F:$F,\"=\"&($B219&TEXT($U$7,\"aaa-yy\")),'AİDAT GİRİŞİ'!$D:$D)","v":0},{"$f":"SUMIF('AİDAT GİRİŞİ'!$F:$F,\"=\"&($B219&TEXT($V$7,\"aaa-yy\")),'AİDAT GİRİŞİ'!$D:$D)","v":0},{"$f":"SUMIF('AİDAT GİRİŞİ'!$F:$F,\"=\"&($B219&TEXT($W$7,\"aaa-yy\")),'AİDAT GİRİŞİ'!$D:$D)","v":0},{"$f":"SUMIF('AİDAT GİRİŞİ'!$F:$F,\"=\"&($B219&TEXT($X$7,\"aaa-yy\")),'AİDAT GİRİŞİ'!$D:$D)","v":0},{"$f":"SUMIF('AİDAT GİRİŞİ'!$F:$F,\"=\"&($B219&TEXT($Y$7,\"aaa-yy\")),'AİDAT GİRİŞİ'!$D:$D)","v":0},{"$f":"SUMIF('AİDAT GİRİŞİ'!$F:$F,\"=\"&($B219&TEXT($Z$7,\"aaa-yy\")),'AİDAT GİRİŞİ'!$D:$D)","v":0},{"$f":"SUMIF('AİDAT GİRİŞİ'!$F:$F,\"=\"&($B219&TEXT($AA$7,\"aaa-yy\")),'AİDAT GİRİŞİ'!$D:$D)","v":0},{"$f":"SUMIF('AİDAT GİRİŞİ'!$F:$F,\"=\"&($B219&TEXT($AB$7,\"aaa-yy\")),'AİDAT GİRİŞİ'!$D:$D)","v":0},0]
[214,{"$f":"IF(ISERROR(VLOOKUP(A220,'ÜYE KAYIT LİSTESİ'!A:B,2,0)=TRUE),\"\",VLOOKUP(A220,'ÜYE KAYIT LİSTESİ'!A:B,2,0))","v":""},{"$f":"SUMIF('AİDAT GİRİŞİ'!$F:$F,\"=\"&(B220&TEXT($Q$7,\"aaa-yy\")),'AİDAT GİRİŞİ'!$D:$D)","v":0},{"$f":"SUMIF('AİDAT GİRİŞİ'!$F:$F,\"=\"&($B220&TEXT($R$7,\"aaa-yy\")),'AİDAT GİRİŞİ'!$D:$D)","v":0},{"$f":"SUMIF('AİDAT GİRİŞİ'!$F:$F,\"=\"&($B220&TEXT($S$7,\"aaa-yy\")),'AİDAT GİRİŞİ'!$D:$D)","v":0},{"$f":"SUMIF('AİDAT GİRİŞİ'!$F:$F,\"=\"&($B220&TEXT($T$7,\"aaa-yy\")),'AİDAT GİRİŞİ'!$D:$D)","v":0},{"$f":"SUMIF('AİDAT GİRİŞİ'!$F:$F,\"=\"&($B220&TEXT($U$7,\"aaa-yy\")),'AİDAT GİRİŞİ'!$D:$D)","v":0},{"$f":"SUMIF('AİDAT GİRİŞİ'!$F:$F,\"=\"&($B220&TEXT($V$7,\"aaa-yy\")),'AİDAT GİRİŞİ'!$D:$D)","v":0},{"$f":"SUMIF('AİDAT GİRİŞİ'!$F:$F,\"=\"&($B220&TEXT($W$7,\"aaa-yy\")),'AİDAT GİRİŞİ'!$D:$D)","v":0},{"$f":"SUMIF('AİDAT GİRİŞİ'!$F:$F,\"=\"&($B220&TEXT($X$7,\"aaa-yy\")),'AİDAT GİRİŞİ'!$D:$D)","v":0},{"$f":"SUMIF('AİDAT GİRİŞİ'!$F:$F,\"=\"&($B220&TEXT($Y$7,\"aaa-yy\")),'AİDAT GİRİŞİ'!$D:$D)","v":0},{"$f":"SUMIF('AİDAT GİRİŞİ'!$F:$F,\"=\"&($B220&TEXT($Z$7,\"aaa-yy\")),'AİDAT GİRİŞİ'!$D:$D)","v":0},{"$f":"SUMIF('AİDAT GİRİŞİ'!$F:$F,\"=\"&($B220&TEXT($AA$7,\"aaa-yy\")),'AİDAT GİRİŞİ'!$D:$D)","v":0},{"$f":"SUMIF('AİDAT GİRİŞİ'!$F:$F,\"=\"&($B220&TEXT($AB$7,\"aaa-yy\")),'AİDAT GİRİŞİ'!$D:$D)","v":0},0]
[215,{"$f":"IF(ISERROR(VLOOKUP(A221,'ÜYE KAYIT LİSTESİ'!A:B,2,0)=TRUE),\"\",VLOOKUP(A221,'ÜYE KAYIT LİSTESİ'!A:B,2,0))","v":""},{"$f":"SUMIF('AİDAT GİRİŞİ'!$F:$F,\"=\"&(B221&TEXT($Q$7,\"aaa-yy\")),'AİDAT GİRİŞİ'!$D:$D)","v":0},{"$f":"SUMIF('AİDAT GİRİŞİ'!$F:$F,\"=\"&($B221&TEXT($R$7,\"aaa-yy\")),'AİDAT GİRİŞİ'!$D:$D)","v":0},{"$f":"SUMIF('AİDAT GİRİŞİ'!$F:$F,\"=\"&($B221&TEXT($S$7,\"aaa-yy\")),'AİDAT GİRİŞİ'!$D:$D)","v":0},{"$f":"SUMIF('AİDAT GİRİŞİ'!$F:$F,\"=\"&($B221&TEXT($T$7,\"aaa-yy\")),'AİDAT GİRİŞİ'!$D:$D)","v":0},{"$f":"SUMIF('AİDAT GİRİŞİ'!$F:$F,\"=\"&($B221&TEXT($U$7,\"aaa-yy\")),'AİDAT GİRİŞİ'!$D:$D)","v":0},{"$f":"SUMIF('AİDAT GİRİŞİ'!$F:$F,\"=\"&($B221&TEXT($V$7,\"aaa-yy\")),'AİDAT GİRİŞİ'!$D:$D)","v":0},{"$f":"SUMIF('AİDAT GİRİŞİ'!$F:$F,\"=\"&($B221&TEXT($W$7,\"aaa-yy\")),'AİDAT GİRİŞİ'!$D:$D)","v":0},{"$f":"SUMIF('AİDAT GİRİŞİ'!$F:$F,\"=\"&($B221&TEXT($X$7,\"aaa-yy\")),'AİDAT GİRİŞİ'!$D:$D)","v":0},{"$f":"SUMIF('AİDAT GİRİŞİ'!$F:$F,\"=\"&($B221&TEXT($Y$7,\"aaa-yy\")),'AİDAT GİRİŞİ'!$D:$D)","v":0},{"$f":"SUMIF('AİDAT GİRİŞİ'!$F:$F,\"=\"&($B221&TEXT($Z$7,\"aaa-yy\")),'AİDAT GİRİŞİ'!$D:$D)","v":0},{"$f":"SUMIF('AİDAT GİRİŞİ'!$F:$F,\"=\"&($B221&TEXT($AA$7,\"aaa-yy\")),'AİDAT GİRİŞİ'!$D:$D)","v":0},{"$f":"SUMIF('AİDAT GİRİŞİ'!$F:$F,\"=\"&($B221&TEXT($AB$7,\"aaa-yy\")),'AİDAT GİRİŞİ'!$D:$D)","v":0},0]
[216,{"$f":"IF(ISERROR(VLOOKUP(A222,'ÜYE KAYIT LİSTESİ'!A:B,2,0)=TRUE),\"\",VLOOKUP(A222,'ÜYE KAYIT LİSTESİ'!A:B,2,0))","v":""},{"$f":"SUMIF('AİDAT GİRİŞİ'!$F:$F,\"=\"&(B222&TEXT($Q$7,\"aaa-yy\")),'AİDAT GİRİŞİ'!$D:$D)","v":0},{"$f":"SUMIF('AİDAT GİRİŞİ'!$F:$F,\"=\"&($B222&TEXT($R$7,\"aaa-yy\")),'AİDAT GİRİŞİ'!$D:$D)","v":0},{"$f":"SUMIF('AİDAT GİRİŞİ'!$F:$F,\"=\"&($B222&TEXT($S$7,\"aaa-yy\")),'AİDAT GİRİŞİ'!$D:$D)","v":0},{"$f":"SUMIF('AİDAT GİRİŞİ'!$F:$F,\"=\"&($B222&TEXT($T$7,\"aaa-yy\")),'AİDAT GİRİŞİ'!$D:$D)","v":0},{"$f":"SUMIF('AİDAT GİRİŞİ'!$F:$F,\"=\"&($B222&TEXT($U$7,\"aaa-yy\")),'AİDAT GİRİŞİ'!$D:$D)","v":0},{"$f":"SUMIF('AİDAT GİRİŞİ'!$F:$F,\"=\"&($B222&TEXT($V$7,\"aaa-yy\")),'AİDAT GİRİŞİ'!$D:$D)","v":0},{"$f":"SUMIF('AİDAT GİRİŞİ'!$F:$F,\"=\"&($B222&TEXT($W$7,\"aaa-yy\")),'AİDAT GİRİŞİ'!$D:$D)","v":0},{"$f":"SUMIF('AİDAT GİRİŞİ'!$F:$F,\"=\"&($B222&TEXT($X$7,\"aaa-yy\")),'AİDAT GİRİŞİ'!$D:$D)","v":0},{"$f":"SUMIF('AİDAT GİRİŞİ'!$F:$F,\"=\"&($B222&TEXT($Y$7,\"aaa-yy\")),'AİDAT GİRİŞİ'!$D:$D)","v":0},{"$f":"SUMIF('AİDAT GİRİŞİ'!$F:$F,\"=\"&($B222&TEXT($Z$7,\"aaa-yy\")),'AİDAT GİRİŞİ'!$D:$D)","v":0},{"$f":"SUMIF('AİDAT GİRİŞİ'!$F:$F,\"=\"&($B222&TEXT($AA$7,\"aaa-yy\")),'AİDAT GİRİŞİ'!$D:$D)","v":0},{"$f":"SUMIF('AİDAT GİRİŞİ'!$F:$F,\"=\"&($B222&TEXT($AB$7,\"aaa-yy\")),'AİDAT GİRİŞİ'!$D:$D)","v":0},0]
[217,{"$f":"IF(ISERROR(VLOOKUP(A223,'ÜYE KAYIT LİSTESİ'!A:B,2,0)=TRUE),\"\",VLOOKUP(A223,'ÜYE KAYIT LİSTESİ'!A:B,2,0))","v":""},{"$f":"SUMIF('AİDAT GİRİŞİ'!$F:$F,\"=\"&(B223&TEXT($Q$7,\"aaa-yy\")),'AİDAT GİRİŞİ'!$D:$D)","v":0},{"$f":"SUMIF('AİDAT GİRİŞİ'!$F:$F,\"=\"&($B223&TEXT($R$7,\"aaa-yy\")),'AİDAT GİRİŞİ'!$D:$D)","v":0},{"$f":"SUMIF('AİDAT GİRİŞİ'!$F:$F,\"=\"&($B223&TEXT($S$7,\"aaa-yy\")),'AİDAT GİRİŞİ'!$D:$D)","v":0},{"$f":"SUMIF('AİDAT GİRİŞİ'!$F:$F,\"=\"&($B223&TEXT($T$7,\"aaa-yy\")),'AİDAT GİRİŞİ'!$D:$D)","v":0},{"$f":"SUMIF('AİDAT GİRİŞİ'!$F:$F,\"=\"&($B223&TEXT($U$7,\"aaa-yy\")),'AİDAT GİRİŞİ'!$D:$D)","v":0},{"$f":"SUMIF('AİDAT GİRİŞİ'!$F:$F,\"=\"&($B223&TEXT($V$7,\"aaa-yy\")),'AİDAT GİRİŞİ'!$D:$D)","v":0},{"$f":"SUMIF('AİDAT GİRİŞİ'!$F:$F,\"=\"&($B223&TEXT($W$7,\"aaa-yy\")),'AİDAT GİRİŞİ'!$D:$D)","v":0},{"$f":"SUMIF('AİDAT GİRİŞİ'!$F:$F,\"=\"&($B223&TEXT($X$7,\"aaa-yy\")),'AİDAT GİRİŞİ'!$D:$D)","v":0},{"$f":"SUMIF('AİDAT GİRİŞİ'!$F:$F,\"=\"&($B223&TEXT($Y$7,\"aaa-yy\")),'AİDAT GİRİŞİ'!$D:$D)","v":0},{"$f":"SUMIF('AİDAT GİRİŞİ'!$F:$F,\"=\"&($B223&TEXT($Z$7,\"aaa-yy\")),'AİDAT GİRİŞİ'!$D:$D)","v":0},{"$f":"SUMIF('AİDAT GİRİŞİ'!$F:$F,\"=\"&($B223&TEXT($AA$7,\"aaa-yy\")),'AİDAT GİRİŞİ'!$D:$D)","v":0},{"$f":"SUMIF('AİDAT GİRİŞİ'!$F:$F,\"=\"&($B223&TEXT($AB$7,\"aaa-yy\")),'AİDAT GİRİŞİ'!$D:$D)","v":0},0]
[218,{"$f":"IF(ISERROR(VLOOKUP(A224,'ÜYE KAYIT LİSTESİ'!A:B,2,0)=TRUE),\"\",VLOOKUP(A224,'ÜYE KAYIT LİSTESİ'!A:B,2,0))","v":""},{"$f":"SUMIF('AİDAT GİRİŞİ'!$F:$F,\"=\"&(B224&TEXT($Q$7,\"aaa-yy\")),'AİDAT GİRİŞİ'!$D:$D)","v":0},{"$f":"SUMIF('AİDAT GİRİŞİ'!$F:$F,\"=\"&($B224&TEXT($R$7,\"aaa-yy\")),'AİDAT GİRİŞİ'!$D:$D)","v":0},{"$f":"SUMIF('AİDAT GİRİŞİ'!$F:$F,\"=\"&($B224&TEXT($S$7,\"aaa-yy\")),'AİDAT GİRİŞİ'!$D:$D)","v":0},{"$f":"SUMIF('AİDAT GİRİŞİ'!$F:$F,\"=\"&($B224&TEXT($T$7,\"aaa-yy\")),'AİDAT GİRİŞİ'!$D:$D)","v":0},{"$f":"SUMIF('AİDAT GİRİŞİ'!$F:$F,\"=\"&($B224&TEXT($U$7,\"aaa-yy\")),'AİDAT GİRİŞİ'!$D:$D)","v":0},{"$f":"SUMIF('AİDAT GİRİŞİ'!$F:$F,\"=\"&($B224&TEXT($V$7,\"aaa-yy\")),'AİDAT GİRİŞİ'!$D:$D)","v":0},{"$f":"SUMIF('AİDAT GİRİŞİ'!$F:$F,\"=\"&($B224&TEXT($W$7,\"aaa-yy\")),'AİDAT GİRİŞİ'!$D:$D)","v":0},{"$f":"SUMIF('AİDAT GİRİŞİ'!$F:$F,\"=\"&($B224&TEXT($X$7,\"aaa-yy\")),'AİDAT GİRİŞİ'!$D:$D)","v":0},{"$f":"SUMIF('AİDAT GİRİŞİ'!$F:$F,\"=\"&($B224&TEXT($Y$7,\"aaa-yy\")),'AİDAT GİRİŞİ'!$D:$D)","v":0},{"$f":"SUMIF('AİDAT GİRİŞİ'!$F:$F,\"=\"&($B224&TEXT($Z$7,\"aaa-yy\")),'AİDAT GİRİŞİ'!$D:$D)","v":0},{"$f":"SUMIF('AİDAT GİRİŞİ'!$F:$F,\"=\"&($B224&TEXT($AA$7,\"aaa-yy\")),'AİDAT GİRİŞİ'!$D:$D)","v":0},{"$f":"SUMIF('AİDAT GİRİŞİ'!$F:$F,\"=\"&($B224&TEXT($AB$7,\"aaa-yy\")),'AİDAT GİRİŞİ'!$D:$D)","v":0},0]
[219,{"$f":"IF(ISERROR(VLOOKUP(A225,'ÜYE KAYIT LİSTESİ'!A:B,2,0)=TRUE),\"\",VLOOKUP(A225,'ÜYE KAYIT LİSTESİ'!A:B,2,0))","v":""},{"$f":"SUMIF('AİDAT GİRİŞİ'!$F:$F,\"=\"&(B225&TEXT($Q$7,\"aaa-yy\")),'AİDAT GİRİŞİ'!$D:$D)","v":0},{"$f":"SUMIF('AİDAT GİRİŞİ'!$F:$F,\"=\"&($B225&TEXT($R$7,\"aaa-yy\")),'AİDAT GİRİŞİ'!$D:$D)","v":0},{"$f":"SUMIF('AİDAT GİRİŞİ'!$F:$F,\"=\"&($B225&TEXT($S$7,\"aaa-yy\")),'AİDAT GİRİŞİ'!$D:$D)","v":0},{"$f":"SUMIF('AİDAT GİRİŞİ'!$F:$F,\"=\"&($B225&TEXT($T$7,\"aaa-yy\")),'AİDAT GİRİŞİ'!$D:$D)","v":0},{"$f":"SUMIF('AİDAT GİRİŞİ'!$F:$F,\"=\"&($B225&TEXT($U$7,\"aaa-yy\")),'AİDAT GİRİŞİ'!$D:$D)","v":0},{"$f":"SUMIF('AİDAT GİRİŞİ'!$F:$F,\"=\"&($B225&TEXT($V$7,\"aaa-yy\")),'AİDAT GİRİŞİ'!$D:$D)","v":0},{"$f":"SUMIF('AİDAT GİRİŞİ'!$F:$F,\"=\"&($B225&TEXT($W$7,\"aaa-yy\")),'AİDAT GİRİŞİ'!$D:$D)","v":0},{"$f":"SUMIF('AİDAT GİRİŞİ'!$F:$F,\"=\"&($B225&TEXT($X$7,\"aaa-yy\")),'AİDAT GİRİŞİ'!$D:$D)","v":0},{"$f":"SUMIF('AİDAT GİRİŞİ'!$F:$F,\"=\"&($B225&TEXT($Y$7,\"aaa-yy\")),'AİDAT GİRİŞİ'!$D:$D)","v":0},{"$f":"SUMIF('AİDAT GİRİŞİ'!$F:$F,\"=\"&($B225&TEXT($Z$7,\"aaa-yy\")),'AİDAT GİRİŞİ'!$D:$D)","v":0},{"$f":"SUMIF('AİDAT GİRİŞİ'!$F:$F,\"=\"&($B225&TEXT($AA$7,\"aaa-yy\")),'AİDAT GİRİŞİ'!$D:$D)","v":0},{"$f":"SUMIF('AİDAT GİRİŞİ'!$F:$F,\"=\"&($B225&TEXT($AB$7,\"aaa-yy\")),'AİDAT GİRİŞİ'!$D:$D)","v":0},0]
[220,{"$f":"IF(ISERROR(VLOOKUP(A226,'ÜYE KAYIT LİSTESİ'!A:B,2,0)=TRUE),\"\",VLOOKUP(A226,'ÜYE KAYIT LİSTESİ'!A:B,2,0))","v":""},{"$f":"SUMIF('AİDAT GİRİŞİ'!$F:$F,\"=\"&(B226&TEXT($Q$7,\"aaa-yy\")),'AİDAT GİRİŞİ'!$D:$D)","v":0},{"$f":"SUMIF('AİDAT GİRİŞİ'!$F:$F,\"=\"&($B226&TEXT($R$7,\"aaa-yy\")),'AİDAT GİRİŞİ'!$D:$D)","v":0},{"$f":"SUMIF('AİDAT GİRİŞİ'!$F:$F,\"=\"&($B226&TEXT($S$7,\"aaa-yy\")),'AİDAT GİRİŞİ'!$D:$D)","v":0},{"$f":"SUMIF('AİDAT GİRİŞİ'!$F:$F,\"=\"&($B226&TEXT($T$7,\"aaa-yy\")),'AİDAT GİRİŞİ'!$D:$D)","v":0},{"$f":"SUMIF('AİDAT GİRİŞİ'!$F:$F,\"=\"&($B226&TEXT($U$7,\"aaa-yy\")),'AİDAT GİRİŞİ'!$D:$D)","v":0},{"$f":"SUMIF('AİDAT GİRİŞİ'!$F:$F,\"=\"&($B226&TEXT($V$7,\"aaa-yy\")),'AİDAT GİRİŞİ'!$D:$D)","v":0},{"$f":"SUMIF('AİDAT GİRİŞİ'!$F:$F,\"=\"&($B226&TEXT($W$7,\"aaa-yy\")),'AİDAT GİRİŞİ'!$D:$D)","v":0},{"$f":"SUMIF('AİDAT GİRİŞİ'!$F:$F,\"=\"&($B226&TEXT($X$7,\"aaa-yy\")),'AİDAT GİRİŞİ'!$D:$D)","v":0},{"$f":"SUMIF('AİDAT GİRİŞİ'!$F:$F,\"=\"&($B226&TEXT($Y$7,\"aaa-yy\")),'AİDAT GİRİŞİ'!$D:$D)","v":0},{"$f":"SUMIF('AİDAT GİRİŞİ'!$F:$F,\"=\"&($B226&TEXT($Z$7,\"aaa-yy\")),'AİDAT GİRİŞİ'!$D:$D)","v":0},{"$f":"SUMIF('AİDAT GİRİŞİ'!$F:$F,\"=\"&($B226&TEXT($AA$7,\"aaa-yy\")),'AİDAT GİRİŞİ'!$D:$D)","v":0},{"$f":"SUMIF('AİDAT GİRİŞİ'!$F:$F,\"=\"&($B226&TEXT($AB$7,\"aaa-yy\")),'AİDAT GİRİŞİ'!$D:$D)","v":0},0]
[221,{"$f":"IF(ISERROR(VLOOKUP(A227,'ÜYE KAYIT LİSTESİ'!A:B,2,0)=TRUE),\"\",VLOOKUP(A227,'ÜYE KAYIT LİSTESİ'!A:B,2,0))","v":""},{"$f":"SUMIF('AİDAT GİRİŞİ'!$F:$F,\"=\"&(B227&TEXT($Q$7,\"aaa-yy\")),'AİDAT GİRİŞİ'!$D:$D)","v":0},{"$f":"SUMIF('AİDAT GİRİŞİ'!$F:$F,\"=\"&($B227&TEXT($R$7,\"aaa-yy\")),'AİDAT GİRİŞİ'!$D:$D)","v":0},{"$f":"SUMIF('AİDAT GİRİŞİ'!$F:$F,\"=\"&($B227&TEXT($S$7,\"aaa-yy\")),'AİDAT GİRİŞİ'!$D:$D)","v":0},{"$f":"SUMIF('AİDAT GİRİŞİ'!$F:$F,\"=\"&($B227&TEXT($T$7,\"aaa-yy\")),'AİDAT GİRİŞİ'!$D:$D)","v":0},{"$f":"SUMIF('AİDAT GİRİŞİ'!$F:$F,\"=\"&($B227&TEXT($U$7,\"aaa-yy\")),'AİDAT GİRİŞİ'!$D:$D)","v":0},{"$f":"SUMIF('AİDAT GİRİŞİ'!$F:$F,\"=\"&($B227&TEXT($V$7,\"aaa-yy\")),'AİDAT GİRİŞİ'!$D:$D)","v":0},{"$f":"SUMIF('AİDAT GİRİŞİ'!$F:$F,\"=\"&($B227&TEXT($W$7,\"aaa-yy\")),'AİDAT GİRİŞİ'!$D:$D)","v":0},{"$f":"SUMIF('AİDAT GİRİŞİ'!$F:$F,\"=\"&($B227&TEXT($X$7,\"aaa-yy\")),'AİDAT GİRİŞİ'!$D:$D)","v":0},{"$f":"SUMIF('AİDAT GİRİŞİ'!$F:$F,\"=\"&($B227&TEXT($Y$7,\"aaa-yy\")),'AİDAT GİRİŞİ'!$D:$D)","v":0},{"$f":"SUMIF('AİDAT GİRİŞİ'!$F:$F,\"=\"&($B227&TEXT($Z$7,\"aaa-yy\")),'AİDAT GİRİŞİ'!$D:$D)","v":0},{"$f":"SUMIF('AİDAT GİRİŞİ'!$F:$F,\"=\"&($B227&TEXT($AA$7,\"aaa-yy\")),'AİDAT GİRİŞİ'!$D:$D)","v":0},{"$f":"SUMIF('AİDAT GİRİŞİ'!$F:$F,\"=\"&($B227&TEXT($AB$7,\"aaa-yy\")),'AİDAT GİRİŞİ'!$D:$D)","v":0},0]
[222,{"$f":"IF(ISERROR(VLOOKUP(A228,'ÜYE KAYIT LİSTESİ'!A:B,2,0)=TRUE),\"\",VLOOKUP(A228,'ÜYE KAYIT LİSTESİ'!A:B,2,0))","v":""},{"$f":"SUMIF('AİDAT GİRİŞİ'!$F:$F,\"=\"&(B228&TEXT($Q$7,\"aaa-yy\")),'AİDAT GİRİŞİ'!$D:$D)","v":0},{"$f":"SUMIF('AİDAT GİRİŞİ'!$F:$F,\"=\"&($B228&TEXT($R$7,\"aaa-yy\")),'AİDAT GİRİŞİ'!$D:$D)","v":0},{"$f":"SUMIF('AİDAT GİRİŞİ'!$F:$F,\"=\"&($B228&TEXT($S$7,\"aaa-yy\")),'AİDAT GİRİŞİ'!$D:$D)","v":0},{"$f":"SUMIF('AİDAT GİRİŞİ'!$F:$F,\"=\"&($B228&TEXT($T$7,\"aaa-yy\")),'AİDAT GİRİŞİ'!$D:$D)","v":0},{"$f":"SUMIF('AİDAT GİRİŞİ'!$F:$F,\"=\"&($B228&TEXT($U$7,\"aaa-yy\")),'AİDAT GİRİŞİ'!$D:$D)","v":0},{"$f":"SUMIF('AİDAT GİRİŞİ'!$F:$F,\"=\"&($B228&TEXT($V$7,\"aaa-yy\")),'AİDAT GİRİŞİ'!$D:$D)","v":0},{"$f":"SUMIF('AİDAT GİRİŞİ'!$F:$F,\"=\"&($B228&TEXT($W$7,\"aaa-yy\")),'AİDAT GİRİŞİ'!$D:$D)","v":0},{"$f":"SUMIF('AİDAT GİRİŞİ'!$F:$F,\"=\"&($B228&TEXT($X$7,\"aaa-yy\")),'AİDAT GİRİŞİ'!$D:$D)","v":0},{"$f":"SUMIF('AİDAT GİRİŞİ'!$F:$F,\"=\"&($B228&TEXT($Y$7,\"aaa-yy\")),'AİDAT GİRİŞİ'!$D:$D)","v":0},{"$f":"SUMIF('AİDAT GİRİŞİ'!$F:$F,\"=\"&($B228&TEXT($Z$7,\"aaa-yy\")),'AİDAT GİRİŞİ'!$D:$D)","v":0},{"$f":"SUMIF('AİDAT GİRİŞİ'!$F:$F,\"=\"&($B228&TEXT($AA$7,\"aaa-yy\")),'AİDAT GİRİŞİ'!$D:$D)","v":0},{"$f":"SUMIF('AİDAT GİRİŞİ'!$F:$F,\"=\"&($B228&TEXT($AB$7,\"aaa-yy\")),'AİDAT GİRİŞİ'!$D:$D)","v":0},0]
[223,{"$f":"IF(ISERROR(VLOOKUP(A229,'ÜYE KAYIT LİSTESİ'!A:B,2,0)=TRUE),\"\",VLOOKUP(A229,'ÜYE KAYIT LİSTESİ'!A:B,2,0))","v":""},{"$f":"SUMIF('AİDAT GİRİŞİ'!$F:$F,\"=\"&(B229&TEXT($Q$7,\"aaa-yy\")),'AİDAT GİRİŞİ'!$D:$D)","v":0},{"$f":"SUMIF('AİDAT GİRİŞİ'!$F:$F,\"=\"&($B229&TEXT($R$7,\"aaa-yy\")),'AİDAT GİRİŞİ'!$D:$D)","v":0},{"$f":"SUMIF('AİDAT GİRİŞİ'!$F:$F,\"=\"&($B229&TEXT($S$7,\"aaa-yy\")),'AİDAT GİRİŞİ'!$D:$D)","v":0},{"$f":"SUMIF('AİDAT GİRİŞİ'!$F:$F,\"=\"&($B229&TEXT($T$7,\"aaa-yy\")),'AİDAT GİRİŞİ'!$D:$D)","v":0},{"$f":"SUMIF('AİDAT GİRİŞİ'!$F:$F,\"=\"&($B229&TEXT($U$7,\"aaa-yy\")),'AİDAT GİRİŞİ'!$D:$D)","v":0},{"$f":"SUMIF('AİDAT GİRİŞİ'!$F:$F,\"=\"&($B229&TEXT($V$7,\"aaa-yy\")),'AİDAT GİRİŞİ'!$D:$D)","v":0},{"$f":"SUMIF('AİDAT GİRİŞİ'!$F:$F,\"=\"&($B229&TEXT($W$7,\"aaa-yy\")),'AİDAT GİRİŞİ'!$D:$D)","v":0},{"$f":"SUMIF('AİDAT GİRİŞİ'!$F:$F,\"=\"&($B229&TEXT($X$7,\"aaa-yy\")),'AİDAT GİRİŞİ'!$D:$D)","v":0},{"$f":"SUMIF('AİDAT GİRİŞİ'!$F:$F,\"=\"&($B229&TEXT($Y$7,\"aaa-yy\")),'AİDAT GİRİŞİ'!$D:$D)","v":0},{"$f":"SUMIF('AİDAT GİRİŞİ'!$F:$F,\"=\"&($B229&TEXT($Z$7,\"aaa-yy\")),'AİDAT GİRİŞİ'!$D:$D)","v":0},{"$f":"SUMIF('AİDAT GİRİŞİ'!$F:$F,\"=\"&($B229&TEXT($AA$7,\"aaa-yy\")),'AİDAT GİRİŞİ'!$D:$D)","v":0},{"$f":"SUMIF('AİDAT GİRİŞİ'!$F:$F,\"=\"&($B229&TEXT($AB$7,\"aaa-yy\")),'AİDAT GİRİŞİ'!$D:$D)","v":0},0]
[224,{"$f":"IF(ISERROR(VLOOKUP(A230,'ÜYE KAYIT LİSTESİ'!A:B,2,0)=TRUE),\"\",VLOOKUP(A230,'ÜYE KAYIT LİSTESİ'!A:B,2,0))","v":""},{"$f":"SUMIF('AİDAT GİRİŞİ'!$F:$F,\"=\"&(B230&TEXT($Q$7,\"aaa-yy\")),'AİDAT GİRİŞİ'!$D:$D)","v":0},{"$f":"SUMIF('AİDAT GİRİŞİ'!$F:$F,\"=\"&($B230&TEXT($R$7,\"aaa-yy\")),'AİDAT GİRİŞİ'!$D:$D)","v":0},{"$f":"SUMIF('AİDAT GİRİŞİ'!$F:$F,\"=\"&($B230&TEXT($S$7,\"aaa-yy\")),'AİDAT GİRİŞİ'!$D:$D)","v":0},{"$f":"SUMIF('AİDAT GİRİŞİ'!$F:$F,\"=\"&($B230&TEXT($T$7,\"aaa-yy\")),'AİDAT GİRİŞİ'!$D:$D)","v":0},{"$f":"SUMIF('AİDAT GİRİŞİ'!$F:$F,\"=\"&($B230&TEXT($U$7,\"aaa-yy\")),'AİDAT GİRİŞİ'!$D:$D)","v":0},{"$f":"SUMIF('AİDAT GİRİŞİ'!$F:$F,\"=\"&($B230&TEXT($V$7,\"aaa-yy\")),'AİDAT GİRİŞİ'!$D:$D)","v":0},{"$f":"SUMIF('AİDAT GİRİŞİ'!$F:$F,\"=\"&($B230&TEXT($W$7,\"aaa-yy\")),'AİDAT GİRİŞİ'!$D:$D)","v":0},{"$f":"SUMIF('AİDAT GİRİŞİ'!$F:$F,\"=\"&($B230&TEXT($X$7,\"aaa-yy\")),'AİDAT GİRİŞİ'!$D:$D)","v":0},{"$f":"SUMIF('AİDAT GİRİŞİ'!$F:$F,\"=\"&($B230&TEXT($Y$7,\"aaa-yy\")),'AİDAT GİRİŞİ'!$D:$D)","v":0},{"$f":"SUMIF('AİDAT GİRİŞİ'!$F:$F,\"=\"&($B230&TEXT($Z$7,\"aaa-yy\")),'AİDAT GİRİŞİ'!$D:$D)","v":0},{"$f":"SUMIF('AİDAT GİRİŞİ'!$F:$F,\"=\"&($B230&TEXT($AA$7,\"aaa-yy\")),'AİDAT GİRİŞİ'!$D:$D)","v":0},{"$f":"SUMIF('AİDAT GİRİŞİ'!$F:$F,\"=\"&($B230&TEXT($AB$7,\"aaa-yy\")),'AİDAT GİRİŞİ'!$D:$D)","v":0},0]
[225,{"$f":"IF(ISERROR(VLOOKUP(A231,'ÜYE KAYIT LİSTESİ'!A:B,2,0)=TRUE),\"\",VLOOKUP(A231,'ÜYE KAYIT LİSTESİ'!A:B,2,0))","v":""},{"$f":"SUMIF('AİDAT GİRİŞİ'!$F:$F,\"=\"&(B231&TEXT($Q$7,\"aaa-yy\")),'AİDAT GİRİŞİ'!$D:$D)","v":0},{"$f":"SUMIF('AİDAT GİRİŞİ'!$F:$F,\"=\"&($B231&TEXT($R$7,\"aaa-yy\")),'AİDAT GİRİŞİ'!$D:$D)","v":0},{"$f":"SUMIF('AİDAT GİRİŞİ'!$F:$F,\"=\"&($B231&TEXT($S$7,\"aaa-yy\")),'AİDAT GİRİŞİ'!$D:$D)","v":0},{"$f":"SUMIF('AİDAT GİRİŞİ'!$F:$F,\"=\"&($B231&TEXT($T$7,\"aaa-yy\")),'AİDAT GİRİŞİ'!$D:$D)","v":0},{"$f":"SUMIF('AİDAT GİRİŞİ'!$F:$F,\"=\"&($B231&TEXT($U$7,\"aaa-yy\")),'AİDAT GİRİŞİ'!$D:$D)","v":0},{"$f":"SUMIF('AİDAT GİRİŞİ'!$F:$F,\"=\"&($B231&TEXT($V$7,\"aaa-yy\")),'AİDAT GİRİŞİ'!$D:$D)","v":0},{"$f":"SUMIF('AİDAT GİRİŞİ'!$F:$F,\"=\"&($B231&TEXT($W$7,\"aaa-yy\")),'AİDAT GİRİŞİ'!$D:$D)","v":0},{"$f":"SUMIF('AİDAT GİRİŞİ'!$F:$F,\"=\"&($B231&TEXT($X$7,\"aaa-yy\")),'AİDAT GİRİŞİ'!$D:$D)","v":0},{"$f":"SUMIF('AİDAT GİRİŞİ'!$F:$F,\"=\"&($B231&TEXT($Y$7,\"aaa-yy\")),'AİDAT GİRİŞİ'!$D:$D)","v":0},{"$f":"SUMIF('AİDAT GİRİŞİ'!$F:$F,\"=\"&($B231&TEXT($Z$7,\"aaa-yy\")),'AİDAT GİRİŞİ'!$D:$D)","v":0},{"$f":"SUMIF('AİDAT GİRİŞİ'!$F:$F,\"=\"&($B231&TEXT($AA$7,\"aaa-yy\")),'AİDAT GİRİŞİ'!$D:$D)","v":0},{"$f":"SUMIF('AİDAT GİRİŞİ'!$F:$F,\"=\"&($B231&TEXT($AB$7,\"aaa-yy\")),'AİDAT GİRİŞİ'!$D:$D)","v":0},0]
[226,{"$f":"IF(ISERROR(VLOOKUP(A232,'ÜYE KAYIT LİSTESİ'!A:B,2,0)=TRUE),\"\",VLOOKUP(A232,'ÜYE KAYIT LİSTESİ'!A:B,2,0))","v":""},{"$f":"SUMIF('AİDAT GİRİŞİ'!$F:$F,\"=\"&(B232&TEXT($Q$7,\"aaa-yy\")),'AİDAT GİRİŞİ'!$D:$D)","v":0},{"$f":"SUMIF('AİDAT GİRİŞİ'!$F:$F,\"=\"&($B232&TEXT($R$7,\"aaa-yy\")),'AİDAT GİRİŞİ'!$D:$D)","v":0},{"$f":"SUMIF('AİDAT GİRİŞİ'!$F:$F,\"=\"&($B232&TEXT($S$7,\"aaa-yy\")),'AİDAT GİRİŞİ'!$D:$D)","v":0},{"$f":"SUMIF('AİDAT GİRİŞİ'!$F:$F,\"=\"&($B232&TEXT($T$7,\"aaa-yy\")),'AİDAT GİRİŞİ'!$D:$D)","v":0},{"$f":"SUMIF('AİDAT GİRİŞİ'!$F:$F,\"=\"&($B232&TEXT($U$7,\"aaa-yy\")),'AİDAT GİRİŞİ'!$D:$D)","v":0},{"$f":"SUMIF('AİDAT GİRİŞİ'!$F:$F,\"=\"&($B232&TEXT($V$7,\"aaa-yy\")),'AİDAT GİRİŞİ'!$D:$D)","v":0},{"$f":"SUMIF('AİDAT GİRİŞİ'!$F:$F,\"=\"&($B232&TEXT($W$7,\"aaa-yy\")),'AİDAT GİRİŞİ'!$D:$D)","v":0},{"$f":"SUMIF('AİDAT GİRİŞİ'!$F:$F,\"=\"&($B232&TEXT($X$7,\"aaa-yy\")),'AİDAT GİRİŞİ'!$D:$D)","v":0},{"$f":"SUMIF('AİDAT GİRİŞİ'!$F:$F,\"=\"&($B232&TEXT($Y$7,\"aaa-yy\")),'AİDAT GİRİŞİ'!$D:$D)","v":0},{"$f":"SUMIF('AİDAT GİRİŞİ'!$F:$F,\"=\"&($B232&TEXT($Z$7,\"aaa-yy\")),'AİDAT GİRİŞİ'!$D:$D)","v":0},{"$f":"SUMIF('AİDAT GİRİŞİ'!$F:$F,\"=\"&($B232&TEXT($AA$7,\"aaa-yy\")),'AİDAT GİRİŞİ'!$D:$D)","v":0},{"$f":"SUMIF('AİDAT GİRİŞİ'!$F:$F,\"=\"&($B232&TEXT($AB$7,\"aaa-yy\")),'AİDAT GİRİŞİ'!$D:$D)","v":0},0]
[227,{"$f":"IF(ISERROR(VLOOKUP(A233,'ÜYE KAYIT LİSTESİ'!A:B,2,0)=TRUE),\"\",VLOOKUP(A233,'ÜYE KAYIT LİSTESİ'!A:B,2,0))","v":""},{"$f":"SUMIF('AİDAT GİRİŞİ'!$F:$F,\"=\"&(B233&TEXT($Q$7,\"aaa-yy\")),'AİDAT GİRİŞİ'!$D:$D)","v":0},{"$f":"SUMIF('AİDAT GİRİŞİ'!$F:$F,\"=\"&($B233&TEXT($R$7,\"aaa-yy\")),'AİDAT GİRİŞİ'!$D:$D)","v":0},{"$f":"SUMIF('AİDAT GİRİŞİ'!$F:$F,\"=\"&($B233&TEXT($S$7,\"aaa-yy\")),'AİDAT GİRİŞİ'!$D:$D)","v":0},{"$f":"SUMIF('AİDAT GİRİŞİ'!$F:$F,\"=\"&($B233&TEXT($T$7,\"aaa-yy\")),'AİDAT GİRİŞİ'!$D:$D)","v":0},{"$f":"SUMIF('AİDAT GİRİŞİ'!$F:$F,\"=\"&($B233&TEXT($U$7,\"aaa-yy\")),'AİDAT GİRİŞİ'!$D:$D)","v":0},{"$f":"SUMIF('AİDAT GİRİŞİ'!$F:$F,\"=\"&($B233&TEXT($V$7,\"aaa-yy\")),'AİDAT GİRİŞİ'!$D:$D)","v":0},{"$f":"SUMIF('AİDAT GİRİŞİ'!$F:$F,\"=\"&($B233&TEXT($W$7,\"aaa-yy\")),'AİDAT GİRİŞİ'!$D:$D)","v":0},{"$f":"SUMIF('AİDAT GİRİŞİ'!$F:$F,\"=\"&($B233&TEXT($X$7,\"aaa-yy\")),'AİDAT GİRİŞİ'!$D:$D)","v":0},{"$f":"SUMIF('AİDAT GİRİŞİ'!$F:$F,\"=\"&($B233&TEXT($Y$7,\"aaa-yy\")),'AİDAT GİRİŞİ'!$D:$D)","v":0},{"$f":"SUMIF('AİDAT GİRİŞİ'!$F:$F,\"=\"&($B233&TEXT($Z$7,\"aaa-yy\")),'AİDAT GİRİŞİ'!$D:$D)","v":0},{"$f":"SUMIF('AİDAT GİRİŞİ'!$F:$F,\"=\"&($B233&TEXT($AA$7,\"aaa-yy\")),'AİDAT GİRİŞİ'!$D:$D)","v":0},{"$f":"SUMIF('AİDAT GİRİŞİ'!$F:$F,\"=\"&($B233&TEXT($AB$7,\"aaa-yy\")),'AİDAT GİRİŞİ'!$D:$D)","v":0},0]
[228,{"$f":"IF(ISERROR(VLOOKUP(A234,'ÜYE KAYIT LİSTESİ'!A:B,2,0)=TRUE),\"\",VLOOKUP(A234,'ÜYE KAYIT LİSTESİ'!A:B,2,0))","v":""},{"$f":"SUMIF('AİDAT GİRİŞİ'!$F:$F,\"=\"&(B234&TEXT($Q$7,\"aaa-yy\")),'AİDAT GİRİŞİ'!$D:$D)","v":0},{"$f":"SUMIF('AİDAT GİRİŞİ'!$F:$F,\"=\"&($B234&TEXT($R$7,\"aaa-yy\")),'AİDAT GİRİŞİ'!$D:$D)","v":0},{"$f":"SUMIF('AİDAT GİRİŞİ'!$F:$F,\"=\"&($B234&TEXT($S$7,\"aaa-yy\")),'AİDAT GİRİŞİ'!$D:$D)","v":0},{"$f":"SUMIF('AİDAT GİRİŞİ'!$F:$F,\"=\"&($B234&TEXT($T$7,\"aaa-yy\")),'AİDAT GİRİŞİ'!$D:$D)","v":0},{"$f":"SUMIF('AİDAT GİRİŞİ'!$F:$F,\"=\"&($B234&TEXT($U$7,\"aaa-yy\")),'AİDAT GİRİŞİ'!$D:$D)","v":0},{"$f":"SUMIF('AİDAT GİRİŞİ'!$F:$F,\"=\"&($B234&TEXT($V$7,\"aaa-yy\")),'AİDAT GİRİŞİ'!$D:$D)","v":0},{"$f":"SUMIF('AİDAT GİRİŞİ'!$F:$F,\"=\"&($B234&TEXT($W$7,\"aaa-yy\")),'AİDAT GİRİŞİ'!$D:$D)","v":0},{"$f":"SUMIF('AİDAT GİRİŞİ'!$F:$F,\"=\"&($B234&TEXT($X$7,\"aaa-yy\")),'AİDAT GİRİŞİ'!$D:$D)","v":0},{"$f":"SUMIF('AİDAT GİRİŞİ'!$F:$F,\"=\"&($B234&TEXT($Y$7,\"aaa-yy\")),'AİDAT GİRİŞİ'!$D:$D)","v":0},{"$f":"SUMIF('AİDAT GİRİŞİ'!$F:$F,\"=\"&($B234&TEXT($Z$7,\"aaa-yy\")),'AİDAT GİRİŞİ'!$D:$D)","v":0},{"$f":"SUMIF('AİDAT GİRİŞİ'!$F:$F,\"=\"&($B234&TEXT($AA$7,\"aaa-yy\")),'AİDAT GİRİŞİ'!$D:$D)","v":0},{"$f":"SUMIF('AİDAT GİRİŞİ'!$F:$F,\"=\"&($B234&TEXT($AB$7,\"aaa-yy\")),'AİDAT GİRİŞİ'!$D:$D)","v":0},0]
[229,{"$f":"IF(ISERROR(VLOOKUP(A235,'ÜYE KAYIT LİSTESİ'!A:B,2,0)=TRUE),\"\",VLOOKUP(A235,'ÜYE KAYIT LİSTESİ'!A:B,2,0))","v":""},{"$f":"SUMIF('AİDAT GİRİŞİ'!$F:$F,\"=\"&(B235&TEXT($Q$7,\"aaa-yy\")),'AİDAT GİRİŞİ'!$D:$D)","v":0},{"$f":"SUMIF('AİDAT GİRİŞİ'!$F:$F,\"=\"&($B235&TEXT($R$7,\"aaa-yy\")),'AİDAT GİRİŞİ'!$D:$D)","v":0},{"$f":"SUMIF('AİDAT GİRİŞİ'!$F:$F,\"=\"&($B235&TEXT($S$7,\"aaa-yy\")),'AİDAT GİRİŞİ'!$D:$D)","v":0},{"$f":"SUMIF('AİDAT GİRİŞİ'!$F:$F,\"=\"&($B235&TEXT($T$7,\"aaa-yy\")),'AİDAT GİRİŞİ'!$D:$D)","v":0},{"$f":"SUMIF('AİDAT GİRİŞİ'!$F:$F,\"=\"&($B235&TEXT($U$7,\"aaa-yy\")),'AİDAT GİRİŞİ'!$D:$D)","v":0},{"$f":"SUMIF('AİDAT GİRİŞİ'!$F:$F,\"=\"&($B235&TEXT($V$7,\"aaa-yy\")),'AİDAT GİRİŞİ'!$D:$D)","v":0},{"$f":"SUMIF('AİDAT GİRİŞİ'!$F:$F,\"=\"&($B235&TEXT($W$7,\"aaa-yy\")),'AİDAT GİRİŞİ'!$D:$D)","v":0},{"$f":"SUMIF('AİDAT GİRİŞİ'!$F:$F,\"=\"&($B235&TEXT($X$7,\"aaa-yy\")),'AİDAT GİRİŞİ'!$D:$D)","v":0},{"$f":"SUMIF('AİDAT GİRİŞİ'!$F:$F,\"=\"&($B235&TEXT($Y$7,\"aaa-yy\")),'AİDAT GİRİŞİ'!$D:$D)","v":0},{"$f":"SUMIF('AİDAT GİRİŞİ'!$F:$F,\"=\"&($B235&TEXT($Z$7,\"aaa-yy\")),'AİDAT GİRİŞİ'!$D:$D)","v":0},{"$f":"SUMIF('AİDAT GİRİŞİ'!$F:$F,\"=\"&($B235&TEXT($AA$7,\"aaa-yy\")),'AİDAT GİRİŞİ'!$D:$D)","v":0},{"$f":"SUMIF('AİDAT GİRİŞİ'!$F:$F,\"=\"&($B235&TEXT($AB$7,\"aaa-yy\")),'AİDAT GİRİŞİ'!$D:$D)","v":0},0]
[230,{"$f":"IF(ISERROR(VLOOKUP(A236,'ÜYE KAYIT LİSTESİ'!A:B,2,0)=TRUE),\"\",VLOOKUP(A236,'ÜYE KAYIT LİSTESİ'!A:B,2,0))","v":""},{"$f":"SUMIF('AİDAT GİRİŞİ'!$F:$F,\"=\"&(B236&TEXT($Q$7,\"aaa-yy\")),'AİDAT GİRİŞİ'!$D:$D)","v":0},{"$f":"SUMIF('AİDAT GİRİŞİ'!$F:$F,\"=\"&($B236&TEXT($R$7,\"aaa-yy\")),'AİDAT GİRİŞİ'!$D:$D)","v":0},{"$f":"SUMIF('AİDAT GİRİŞİ'!$F:$F,\"=\"&($B236&TEXT($S$7,\"aaa-yy\")),'AİDAT GİRİŞİ'!$D:$D)","v":0},{"$f":"SUMIF('AİDAT GİRİŞİ'!$F:$F,\"=\"&($B236&TEXT($T$7,\"aaa-yy\")),'AİDAT GİRİŞİ'!$D:$D)","v":0},{"$f":"SUMIF('AİDAT GİRİŞİ'!$F:$F,\"=\"&($B236&TEXT($U$7,\"aaa-yy\")),'AİDAT GİRİŞİ'!$D:$D)","v":0},{"$f":"SUMIF('AİDAT GİRİŞİ'!$F:$F,\"=\"&($B236&TEXT($V$7,\"aaa-yy\")),'AİDAT GİRİŞİ'!$D:$D)","v":0},{"$f":"SUMIF('AİDAT GİRİŞİ'!$F:$F,\"=\"&($B236&TEXT($W$7,\"aaa-yy\")),'AİDAT GİRİŞİ'!$D:$D)","v":0},{"$f":"SUMIF('AİDAT GİRİŞİ'!$F:$F,\"=\"&($B236&TEXT($X$7,\"aaa-yy\")),'AİDAT GİRİŞİ'!$D:$D)","v":0},{"$f":"SUMIF('AİDAT GİRİŞİ'!$F:$F,\"=\"&($B236&TEXT($Y$7,\"aaa-yy\")),'AİDAT GİRİŞİ'!$D:$D)","v":0},{"$f":"SUMIF('AİDAT GİRİŞİ'!$F:$F,\"=\"&($B236&TEXT($Z$7,\"aaa-yy\")),'AİDAT GİRİŞİ'!$D:$D)","v":0},{"$f":"SUMIF('AİDAT GİRİŞİ'!$F:$F,\"=\"&($B236&TEXT($AA$7,\"aaa-yy\")),'AİDAT GİRİŞİ'!$D:$D)","v":0},{"$f":"SUMIF('AİDAT GİRİŞİ'!$F:$F,\"=\"&($B236&TEXT($AB$7,\"aaa-yy\")),'AİDAT GİRİŞİ'!$D:$D)","v":0},0]
[231,{"$f":"IF(ISERROR(VLOOKUP(A237,'ÜYE KAYIT LİSTESİ'!A:B,2,0)=TRUE),\"\",VLOOKUP(A237,'ÜYE KAYIT LİSTESİ'!A:B,2,0))","v":""},{"$f":"SUMIF('AİDAT GİRİŞİ'!$F:$F,\"=\"&(B237&TEXT($Q$7,\"aaa-yy\")),'AİDAT GİRİŞİ'!$D:$D)","v":0},{"$f":"SUMIF('AİDAT GİRİŞİ'!$F:$F,\"=\"&($B237&TEXT($R$7,\"aaa-yy\")),'AİDAT GİRİŞİ'!$D:$D)","v":0},{"$f":"SUMIF('AİDAT GİRİŞİ'!$F:$F,\"=\"&($B237&TEXT($S$7,\"aaa-yy\")),'AİDAT GİRİŞİ'!$D:$D)","v":0},{"$f":"SUMIF('AİDAT GİRİŞİ'!$F:$F,\"=\"&($B237&TEXT($T$7,\"aaa-yy\")),'AİDAT GİRİŞİ'!$D:$D)","v":0},{"$f":"SUMIF('AİDAT GİRİŞİ'!$F:$F,\"=\"&($B237&TEXT($U$7,\"aaa-yy\")),'AİDAT GİRİŞİ'!$D:$D)","v":0},{"$f":"SUMIF('AİDAT GİRİŞİ'!$F:$F,\"=\"&($B237&TEXT($V$7,\"aaa-yy\")),'AİDAT GİRİŞİ'!$D:$D)","v":0},{"$f":"SUMIF('AİDAT GİRİŞİ'!$F:$F,\"=\"&($B237&TEXT($W$7,\"aaa-yy\")),'AİDAT GİRİŞİ'!$D:$D)","v":0},{"$f":"SUMIF('AİDAT GİRİŞİ'!$F:$F,\"=\"&($B237&TEXT($X$7,\"aaa-yy\")),'AİDAT GİRİŞİ'!$D:$D)","v":0},{"$f":"SUMIF('AİDAT GİRİŞİ'!$F:$F,\"=\"&($B237&TEXT($Y$7,\"aaa-yy\")),'AİDAT GİRİŞİ'!$D:$D)","v":0},{"$f":"SUMIF('AİDAT GİRİŞİ'!$F:$F,\"=\"&($B237&TEXT($Z$7,\"aaa-yy\")),'AİDAT GİRİŞİ'!$D:$D)","v":0},{"$f":"SUMIF('AİDAT GİRİŞİ'!$F:$F,\"=\"&($B237&TEXT($AA$7,\"aaa-yy\")),'AİDAT GİRİŞİ'!$D:$D)","v":0},{"$f":"SUMIF('AİDAT GİRİŞİ'!$F:$F,\"=\"&($B237&TEXT($AB$7,\"aaa-yy\")),'AİDAT GİRİŞİ'!$D:$D)","v":0},0]
[232,{"$f":"IF(ISERROR(VLOOKUP(A238,'ÜYE KAYIT LİSTESİ'!A:B,2,0)=TRUE),\"\",VLOOKUP(A238,'ÜYE KAYIT LİSTESİ'!A:B,2,0))","v":""},{"$f":"SUMIF('AİDAT GİRİŞİ'!$F:$F,\"=\"&(B238&TEXT($Q$7,\"aaa-yy\")),'AİDAT GİRİŞİ'!$D:$D)","v":0},{"$f":"SUMIF('AİDAT GİRİŞİ'!$F:$F,\"=\"&($B238&TEXT($R$7,\"aaa-yy\")),'AİDAT GİRİŞİ'!$D:$D)","v":0},{"$f":"SUMIF('AİDAT GİRİŞİ'!$F:$F,\"=\"&($B238&TEXT($S$7,\"aaa-yy\")),'AİDAT GİRİŞİ'!$D:$D)","v":0},{"$f":"SUMIF('AİDAT GİRİŞİ'!$F:$F,\"=\"&($B238&TEXT($T$7,\"aaa-yy\")),'AİDAT GİRİŞİ'!$D:$D)","v":0},{"$f":"SUMIF('AİDAT GİRİŞİ'!$F:$F,\"=\"&($B238&TEXT($U$7,\"aaa-yy\")),'AİDAT GİRİŞİ'!$D:$D)","v":0},{"$f":"SUMIF('AİDAT GİRİŞİ'!$F:$F,\"=\"&($B238&TEXT($V$7,\"aaa-yy\")),'AİDAT GİRİŞİ'!$D:$D)","v":0},{"$f":"SUMIF('AİDAT GİRİŞİ'!$F:$F,\"=\"&($B238&TEXT($W$7,\"aaa-yy\")),'AİDAT GİRİŞİ'!$D:$D)","v":0},{"$f":"SUMIF('AİDAT GİRİŞİ'!$F:$F,\"=\"&($B238&TEXT($X$7,\"aaa-yy\")),'AİDAT GİRİŞİ'!$D:$D)","v":0},{"$f":"SUMIF('AİDAT GİRİŞİ'!$F:$F,\"=\"&($B238&TEXT($Y$7,\"aaa-yy\")),'AİDAT GİRİŞİ'!$D:$D)","v":0},{"$f":"SUMIF('AİDAT GİRİŞİ'!$F:$F,\"=\"&($B238&TEXT($Z$7,\"aaa-yy\")),'AİDAT GİRİŞİ'!$D:$D)","v":0},{"$f":"SUMIF('AİDAT GİRİŞİ'!$F:$F,\"=\"&($B238&TEXT($AA$7,\"aaa-yy\")),'AİDAT GİRİŞİ'!$D:$D)","v":0},{"$f":"SUMIF('AİDAT GİRİŞİ'!$F:$F,\"=\"&($B238&TEXT($AB$7,\"aaa-yy\")),'AİDAT GİRİŞİ'!$D:$D)","v":0},0]
[233,{"$f":"IF(ISERROR(VLOOKUP(A239,'ÜYE KAYIT LİSTESİ'!A:B,2,0)=TRUE),\"\",VLOOKUP(A239,'ÜYE KAYIT LİSTESİ'!A:B,2,0))","v":""},{"$f":"SUMIF('AİDAT GİRİŞİ'!$F:$F,\"=\"&(B239&TEXT($Q$7,\"aaa-yy\")),'AİDAT GİRİŞİ'!$D:$D)","v":0},{"$f":"SUMIF('AİDAT GİRİŞİ'!$F:$F,\"=\"&($B239&TEXT($R$7,\"aaa-yy\")),'AİDAT GİRİŞİ'!$D:$D)","v":0},{"$f":"SUMIF('AİDAT GİRİŞİ'!$F:$F,\"=\"&($B239&TEXT($S$7,\"aaa-yy\")),'AİDAT GİRİŞİ'!$D:$D)","v":0},{"$f":"SUMIF('AİDAT GİRİŞİ'!$F:$F,\"=\"&($B239&TEXT($T$7,\"aaa-yy\")),'AİDAT GİRİŞİ'!$D:$D)","v":0},{"$f":"SUMIF('AİDAT GİRİŞİ'!$F:$F,\"=\"&($B239&TEXT($U$7,\"aaa-yy\")),'AİDAT GİRİŞİ'!$D:$D)","v":0},{"$f":"SUMIF('AİDAT GİRİŞİ'!$F:$F,\"=\"&($B239&TEXT($V$7,\"aaa-yy\")),'AİDAT GİRİŞİ'!$D:$D)","v":0},{"$f":"SUMIF('AİDAT GİRİŞİ'!$F:$F,\"=\"&($B239&TEXT($W$7,\"aaa-yy\")),'AİDAT GİRİŞİ'!$D:$D)","v":0},{"$f":"SUMIF('AİDAT GİRİŞİ'!$F:$F,\"=\"&($B239&TEXT($X$7,\"aaa-yy\")),'AİDAT GİRİŞİ'!$D:$D)","v":0},{"$f":"SUMIF('AİDAT GİRİŞİ'!$F:$F,\"=\"&($B239&TEXT($Y$7,\"aaa-yy\")),'AİDAT GİRİŞİ'!$D:$D)","v":0},{"$f":"SUMIF('AİDAT GİRİŞİ'!$F:$F,\"=\"&($B239&TEXT($Z$7,\"aaa-yy\")),'AİDAT GİRİŞİ'!$D:$D)","v":0},{"$f":"SUMIF('AİDAT GİRİŞİ'!$F:$F,\"=\"&($B239&TEXT($AA$7,\"aaa-yy\")),'AİDAT GİRİŞİ'!$D:$D)","v":0},{"$f":"SUMIF('AİDAT GİRİŞİ'!$F:$F,\"=\"&($B239&TEXT($AB$7,\"aaa-yy\")),'AİDAT GİRİŞİ'!$D:$D)","v":0},0]
[234,{"$f":"IF(ISERROR(VLOOKUP(A240,'ÜYE KAYIT LİSTESİ'!A:B,2,0)=TRUE),\"\",VLOOKUP(A240,'ÜYE KAYIT LİSTESİ'!A:B,2,0))","v":""},{"$f":"SUMIF('AİDAT GİRİŞİ'!$F:$F,\"=\"&(B240&TEXT($Q$7,\"aaa-yy\")),'AİDAT GİRİŞİ'!$D:$D)","v":0},{"$f":"SUMIF('AİDAT GİRİŞİ'!$F:$F,\"=\"&($B240&TEXT($R$7,\"aaa-yy\")),'AİDAT GİRİŞİ'!$D:$D)","v":0},{"$f":"SUMIF('AİDAT GİRİŞİ'!$F:$F,\"=\"&($B240&TEXT($S$7,\"aaa-yy\")),'AİDAT GİRİŞİ'!$D:$D)","v":0},{"$f":"SUMIF('AİDAT GİRİŞİ'!$F:$F,\"=\"&($B240&TEXT($T$7,\"aaa-yy\")),'AİDAT GİRİŞİ'!$D:$D)","v":0},{"$f":"SUMIF('AİDAT GİRİŞİ'!$F:$F,\"=\"&($B240&TEXT($U$7,\"aaa-yy\")),'AİDAT GİRİŞİ'!$D:$D)","v":0},{"$f":"SUMIF('AİDAT GİRİŞİ'!$F:$F,\"=\"&($B240&TEXT($V$7,\"aaa-yy\")),'AİDAT GİRİŞİ'!$D:$D)","v":0},{"$f":"SUMIF('AİDAT GİRİŞİ'!$F:$F,\"=\"&($B240&TEXT($W$7,\"aaa-yy\")),'AİDAT GİRİŞİ'!$D:$D)","v":0},{"$f":"SUMIF('AİDAT GİRİŞİ'!$F:$F,\"=\"&($B240&TEXT($X$7,\"aaa-yy\")),'AİDAT GİRİŞİ'!$D:$D)","v":0},{"$f":"SUMIF('AİDAT GİRİŞİ'!$F:$F,\"=\"&($B240&TEXT($Y$7,\"aaa-yy\")),'AİDAT GİRİŞİ'!$D:$D)","v":0},{"$f":"SUMIF('AİDAT GİRİŞİ'!$F:$F,\"=\"&($B240&TEXT($Z$7,\"aaa-yy\")),'AİDAT GİRİŞİ'!$D:$D)","v":0},{"$f":"SUMIF('AİDAT GİRİŞİ'!$F:$F,\"=\"&($B240&TEXT($AA$7,\"aaa-yy\")),'AİDAT GİRİŞİ'!$D:$D)","v":0},{"$f":"SUMIF('AİDAT GİRİŞİ'!$F:$F,\"=\"&($B240&TEXT($AB$7,\"aaa-yy\")),'AİDAT GİRİŞİ'!$D:$D)","v":0},0]
[235,{"$f":"IF(ISERROR(VLOOKUP(A241,'ÜYE KAYIT LİSTESİ'!A:B,2,0)=TRUE),\"\",VLOOKUP(A241,'ÜYE KAYIT LİSTESİ'!A:B,2,0))","v":""},{"$f":"SUMIF('AİDAT GİRİŞİ'!$F:$F,\"=\"&(B241&TEXT($Q$7,\"aaa-yy\")),'AİDAT GİRİŞİ'!$D:$D)","v":0},{"$f":"SUMIF('AİDAT GİRİŞİ'!$F:$F,\"=\"&($B241&TEXT($R$7,\"aaa-yy\")),'AİDAT GİRİŞİ'!$D:$D)","v":0},{"$f":"SUMIF('AİDAT GİRİŞİ'!$F:$F,\"=\"&($B241&TEXT($S$7,\"aaa-yy\")),'AİDAT GİRİŞİ'!$D:$D)","v":0},{"$f":"SUMIF('AİDAT GİRİŞİ'!$F:$F,\"=\"&($B241&TEXT($T$7,\"aaa-yy\")),'AİDAT GİRİŞİ'!$D:$D)","v":0},{"$f":"SUMIF('AİDAT GİRİŞİ'!$F:$F,\"=\"&($B241&TEXT($U$7,\"aaa-yy\")),'AİDAT GİRİŞİ'!$D:$D)","v":0},{"$f":"SUMIF('AİDAT GİRİŞİ'!$F:$F,\"=\"&($B241&TEXT($V$7,\"aaa-yy\")),'AİDAT GİRİŞİ'!$D:$D)","v":0},{"$f":"SUMIF('AİDAT GİRİŞİ'!$F:$F,\"=\"&($B241&TEXT($W$7,\"aaa-yy\")),'AİDAT GİRİŞİ'!$D:$D)","v":0},{"$f":"SUMIF('AİDAT GİRİŞİ'!$F:$F,\"=\"&($B241&TEXT($X$7,\"aaa-yy\")),'AİDAT GİRİŞİ'!$D:$D)","v":0},{"$f":"SUMIF('AİDAT GİRİŞİ'!$F:$F,\"=\"&($B241&TEXT($Y$7,\"aaa-yy\")),'AİDAT GİRİŞİ'!$D:$D)","v":0},{"$f":"SUMIF('AİDAT GİRİŞİ'!$F:$F,\"=\"&($B241&TEXT($Z$7,\"aaa-yy\")),'AİDAT GİRİŞİ'!$D:$D)","v":0},{"$f":"SUMIF('AİDAT GİRİŞİ'!$F:$F,\"=\"&($B241&TEXT($AA$7,\"aaa-yy\")),'AİDAT GİRİŞİ'!$D:$D)","v":0},{"$f":"SUMIF('AİDAT GİRİŞİ'!$F:$F,\"=\"&($B241&TEXT($AB$7,\"aaa-yy\")),'AİDAT GİRİŞİ'!$D:$D)","v":0},0]
[236,{"$f":"IF(ISERROR(VLOOKUP(A242,'ÜYE KAYIT LİSTESİ'!A:B,2,0)=TRUE),\"\",VLOOKUP(A242,'ÜYE KAYIT LİSTESİ'!A:B,2,0))","v":""},{"$f":"SUMIF('AİDAT GİRİŞİ'!$F:$F,\"=\"&(B242&TEXT($Q$7,\"aaa-yy\")),'AİDAT GİRİŞİ'!$D:$D)","v":0},{"$f":"SUMIF('AİDAT GİRİŞİ'!$F:$F,\"=\"&($B242&TEXT($R$7,\"aaa-yy\")),'AİDAT GİRİŞİ'!$D:$D)","v":0},{"$f":"SUMIF('AİDAT GİRİŞİ'!$F:$F,\"=\"&($B242&TEXT($S$7,\"aaa-yy\")),'AİDAT GİRİŞİ'!$D:$D)","v":0},{"$f":"SUMIF('AİDAT GİRİŞİ'!$F:$F,\"=\"&($B242&TEXT($T$7,\"aaa-yy\")),'AİDAT GİRİŞİ'!$D:$D)","v":0},{"$f":"SUMIF('AİDAT GİRİŞİ'!$F:$F,\"=\"&($B242&TEXT($U$7,\"aaa-yy\")),'AİDAT GİRİŞİ'!$D:$D)","v":0},{"$f":"SUMIF('AİDAT GİRİŞİ'!$F:$F,\"=\"&($B242&TEXT($V$7,\"aaa-yy\")),'AİDAT GİRİŞİ'!$D:$D)","v":0},{"$f":"SUMIF('AİDAT GİRİŞİ'!$F:$F,\"=\"&($B242&TEXT($W$7,\"aaa-yy\")),'AİDAT GİRİŞİ'!$D:$D)","v":0},{"$f":"SUMIF('AİDAT GİRİŞİ'!$F:$F,\"=\"&($B242&TEXT($X$7,\"aaa-yy\")),'AİDAT GİRİŞİ'!$D:$D)","v":0},{"$f":"SUMIF('AİDAT GİRİŞİ'!$F:$F,\"=\"&($B242&TEXT($Y$7,\"aaa-yy\")),'AİDAT GİRİŞİ'!$D:$D)","v":0},{"$f":"SUMIF('AİDAT GİRİŞİ'!$F:$F,\"=\"&($B242&TEXT($Z$7,\"aaa-yy\")),'AİDAT GİRİŞİ'!$D:$D)","v":0},{"$f":"SUMIF('AİDAT GİRİŞİ'!$F:$F,\"=\"&($B242&TEXT($AA$7,\"aaa-yy\")),'AİDAT GİRİŞİ'!$D:$D)","v":0},{"$f":"SUMIF('AİDAT GİRİŞİ'!$F:$F,\"=\"&($B242&TEXT($AB$7,\"aaa-yy\")),'AİDAT GİRİŞİ'!$D:$D)","v":0},0]
[237,{"$f":"IF(ISERROR(VLOOKUP(A243,'ÜYE KAYIT LİSTESİ'!A:B,2,0)=TRUE),\"\",VLOOKUP(A243,'ÜYE KAYIT LİSTESİ'!A:B,2,0))","v":""},{"$f":"SUMIF('AİDAT GİRİŞİ'!$F:$F,\"=\"&(B243&TEXT($Q$7,\"aaa-yy\")),'AİDAT GİRİŞİ'!$D:$D)","v":0},{"$f":"SUMIF('AİDAT GİRİŞİ'!$F:$F,\"=\"&($B243&TEXT($R$7,\"aaa-yy\")),'AİDAT GİRİŞİ'!$D:$D)","v":0},{"$f":"SUMIF('AİDAT GİRİŞİ'!$F:$F,\"=\"&($B243&TEXT($S$7,\"aaa-yy\")),'AİDAT GİRİŞİ'!$D:$D)","v":0},{"$f":"SUMIF('AİDAT GİRİŞİ'!$F:$F,\"=\"&($B243&TEXT($T$7,\"aaa-yy\")),'AİDAT GİRİŞİ'!$D:$D)","v":0},{"$f":"SUMIF('AİDAT GİRİŞİ'!$F:$F,\"=\"&($B243&TEXT($U$7,\"aaa-yy\")),'AİDAT GİRİŞİ'!$D:$D)","v":0},{"$f":"SUMIF('AİDAT GİRİŞİ'!$F:$F,\"=\"&($B243&TEXT($V$7,\"aaa-yy\")),'AİDAT GİRİŞİ'!$D:$D)","v":0},{"$f":"SUMIF('AİDAT GİRİŞİ'!$F:$F,\"=\"&($B243&TEXT($W$7,\"aaa-yy\")),'AİDAT GİRİŞİ'!$D:$D)","v":0},{"$f":"SUMIF('AİDAT GİRİŞİ'!$F:$F,\"=\"&($B243&TEXT($X$7,\"aaa-yy\")),'AİDAT GİRİŞİ'!$D:$D)","v":0},{"$f":"SUMIF('AİDAT GİRİŞİ'!$F:$F,\"=\"&($B243&TEXT($Y$7,\"aaa-yy\")),'AİDAT GİRİŞİ'!$D:$D)","v":0},{"$f":"SUMIF('AİDAT GİRİŞİ'!$F:$F,\"=\"&($B243&TEXT($Z$7,\"aaa-yy\")),'AİDAT GİRİŞİ'!$D:$D)","v":0},{"$f":"SUMIF('AİDAT GİRİŞİ'!$F:$F,\"=\"&($B243&TEXT($AA$7,\"aaa-yy\")),'AİDAT GİRİŞİ'!$D:$D)","v":0},{"$f":"SUMIF('AİDAT GİRİŞİ'!$F:$F,\"=\"&($B243&TEXT($AB$7,\"aaa-yy\")),'AİDAT GİRİŞİ'!$D:$D)","v":0},0]
[238,{"$f":"IF(ISERROR(VLOOKUP(A244,'ÜYE KAYIT LİSTESİ'!A:B,2,0)=TRUE),\"\",VLOOKUP(A244,'ÜYE KAYIT LİSTESİ'!A:B,2,0))","v":""},{"$f":"SUMIF('AİDAT GİRİŞİ'!$F:$F,\"=\"&(B244&TEXT($Q$7,\"aaa-yy\")),'AİDAT GİRİŞİ'!$D:$D)","v":0},{"$f":"SUMIF('AİDAT GİRİŞİ'!$F:$F,\"=\"&($B244&TEXT($R$7,\"aaa-yy\")),'AİDAT GİRİŞİ'!$D:$D)","v":0},{"$f":"SUMIF('AİDAT GİRİŞİ'!$F:$F,\"=\"&($B244&TEXT($S$7,\"aaa-yy\")),'AİDAT GİRİŞİ'!$D:$D)","v":0},{"$f":"SUMIF('AİDAT GİRİŞİ'!$F:$F,\"=\"&($B244&TEXT($T$7,\"aaa-yy\")),'AİDAT GİRİŞİ'!$D:$D)","v":0},{"$f":"SUMIF('AİDAT GİRİŞİ'!$F:$F,\"=\"&($B244&TEXT($U$7,\"aaa-yy\")),'AİDAT GİRİŞİ'!$D:$D)","v":0},{"$f":"SUMIF('AİDAT GİRİŞİ'!$F:$F,\"=\"&($B244&TEXT($V$7,\"aaa-yy\")),'AİDAT GİRİŞİ'!$D:$D)","v":0},{"$f":"SUMIF('AİDAT GİRİŞİ'!$F:$F,\"=\"&($B244&TEXT($W$7,\"aaa-yy\")),'AİDAT GİRİŞİ'!$D:$D)","v":0},{"$f":"SUMIF('AİDAT GİRİŞİ'!$F:$F,\"=\"&($B244&TEXT($X$7,\"aaa-yy\")),'AİDAT GİRİŞİ'!$D:$D)","v":0},{"$f":"SUMIF('AİDAT GİRİŞİ'!$F:$F,\"=\"&($B244&TEXT($Y$7,\"aaa-yy\")),'AİDAT GİRİŞİ'!$D:$D)","v":0},{"$f":"SUMIF('AİDAT GİRİŞİ'!$F:$F,\"=\"&($B244&TEXT($Z$7,\"aaa-yy\")),'AİDAT GİRİŞİ'!$D:$D)","v":0},{"$f":"SUMIF('AİDAT GİRİŞİ'!$F:$F,\"=\"&($B244&TEXT($AA$7,\"aaa-yy\")),'AİDAT GİRİŞİ'!$D:$D)","v":0},{"$f":"SUMIF('AİDAT GİRİŞİ'!$F:$F,\"=\"&($B244&TEXT($AB$7,\"aaa-yy\")),'AİDAT GİRİŞİ'!$D:$D)","v":0},0]
[239,{"$f":"IF(ISERROR(VLOOKUP(A245,'ÜYE KAYIT LİSTESİ'!A:B,2,0)=TRUE),\"\",VLOOKUP(A245,'ÜYE KAYIT LİSTESİ'!A:B,2,0))","v":""},{"$f":"SUMIF('AİDAT GİRİŞİ'!$F:$F,\"=\"&(B245&TEXT($Q$7,\"aaa-yy\")),'AİDAT GİRİŞİ'!$D:$D)","v":0},{"$f":"SUMIF('AİDAT GİRİŞİ'!$F:$F,\"=\"&($B245&TEXT($R$7,\"aaa-yy\")),'AİDAT GİRİŞİ'!$D:$D)","v":0},{"$f":"SUMIF('AİDAT GİRİŞİ'!$F:$F,\"=\"&($B245&TEXT($S$7,\"aaa-yy\")),'AİDAT GİRİŞİ'!$D:$D)","v":0},{"$f":"SUMIF('AİDAT GİRİŞİ'!$F:$F,\"=\"&($B245&TEXT($T$7,\"aaa-yy\")),'AİDAT GİRİŞİ'!$D:$D)","v":0},{"$f":"SUMIF('AİDAT GİRİŞİ'!$F:$F,\"=\"&($B245&TEXT($U$7,\"aaa-yy\")),'AİDAT GİRİŞİ'!$D:$D)","v":0},{"$f":"SUMIF('AİDAT GİRİŞİ'!$F:$F,\"=\"&($B245&TEXT($V$7,\"aaa-yy\")),'AİDAT GİRİŞİ'!$D:$D)","v":0},{"$f":"SUMIF('AİDAT GİRİŞİ'!$F:$F,\"=\"&($B245&TEXT($W$7,\"aaa-yy\")),'AİDAT GİRİŞİ'!$D:$D)","v":0},{"$f":"SUMIF('AİDAT GİRİŞİ'!$F:$F,\"=\"&($B245&TEXT($X$7,\"aaa-yy\")),'AİDAT GİRİŞİ'!$D:$D)","v":0},{"$f":"SUMIF('AİDAT GİRİŞİ'!$F:$F,\"=\"&($B245&TEXT($Y$7,\"aaa-yy\")),'AİDAT GİRİŞİ'!$D:$D)","v":0},{"$f":"SUMIF('AİDAT GİRİŞİ'!$F:$F,\"=\"&($B245&TEXT($Z$7,\"aaa-yy\")),'AİDAT GİRİŞİ'!$D:$D)","v":0},{"$f":"SUMIF('AİDAT GİRİŞİ'!$F:$F,\"=\"&($B245&TEXT($AA$7,\"aaa-yy\")),'AİDAT GİRİŞİ'!$D:$D)","v":0},{"$f":"SUMIF('AİDAT GİRİŞİ'!$F:$F,\"=\"&($B245&TEXT($AB$7,\"aaa-yy\")),'AİDAT GİRİŞİ'!$D:$D)","v":0},0]
[240,{"$f":"IF(ISERROR(VLOOKUP(A246,'ÜYE KAYIT LİSTESİ'!A:B,2,0)=TRUE),\"\",VLOOKUP(A246,'ÜYE KAYIT LİSTESİ'!A:B,2,0))","v":""},{"$f":"SUMIF('AİDAT GİRİŞİ'!$F:$F,\"=\"&(B246&TEXT($Q$7,\"aaa-yy\")),'AİDAT GİRİŞİ'!$D:$D)","v":0},{"$f":"SUMIF('AİDAT GİRİŞİ'!$F:$F,\"=\"&($B246&TEXT($R$7,\"aaa-yy\")),'AİDAT GİRİŞİ'!$D:$D)","v":0},{"$f":"SUMIF('AİDAT GİRİŞİ'!$F:$F,\"=\"&($B246&TEXT($S$7,\"aaa-yy\")),'AİDAT GİRİŞİ'!$D:$D)","v":0},{"$f":"SUMIF('AİDAT GİRİŞİ'!$F:$F,\"=\"&($B246&TEXT($T$7,\"aaa-yy\")),'AİDAT GİRİŞİ'!$D:$D)","v":0},{"$f":"SUMIF('AİDAT GİRİŞİ'!$F:$F,\"=\"&($B246&TEXT($U$7,\"aaa-yy\")),'AİDAT GİRİŞİ'!$D:$D)","v":0},{"$f":"SUMIF('AİDAT GİRİŞİ'!$F:$F,\"=\"&($B246&TEXT($V$7,\"aaa-yy\")),'AİDAT GİRİŞİ'!$D:$D)","v":0},{"$f":"SUMIF('AİDAT GİRİŞİ'!$F:$F,\"=\"&($B246&TEXT($W$7,\"aaa-yy\")),'AİDAT GİRİŞİ'!$D:$D)","v":0},{"$f":"SUMIF('AİDAT GİRİŞİ'!$F:$F,\"=\"&($B246&TEXT($X$7,\"aaa-yy\")),'AİDAT GİRİŞİ'!$D:$D)","v":0},{"$f":"SUMIF('AİDAT GİRİŞİ'!$F:$F,\"=\"&($B246&TEXT($Y$7,\"aaa-yy\")),'AİDAT GİRİŞİ'!$D:$D)","v":0},{"$f":"SUMIF('AİDAT GİRİŞİ'!$F:$F,\"=\"&($B246&TEXT($Z$7,\"aaa-yy\")),'AİDAT GİRİŞİ'!$D:$D)","v":0},{"$f":"SUMIF('AİDAT GİRİŞİ'!$F:$F,\"=\"&($B246&TEXT($AA$7,\"aaa-yy\")),'AİDAT GİRİŞİ'!$D:$D)","v":0},{"$f":"SUMIF('AİDAT GİRİŞİ'!$F:$F,\"=\"&($B246&TEXT($AB$7,\"aaa-yy\")),'AİDAT GİRİŞİ'!$D:$D)","v":0},0]
[241,{"$f":"IF(ISERROR(VLOOKUP(A247,'ÜYE KAYIT LİSTESİ'!A:B,2,0)=TRUE),\"\",VLOOKUP(A247,'ÜYE KAYIT LİSTESİ'!A:B,2,0))","v":""},{"$f":"SUMIF('AİDAT GİRİŞİ'!$F:$F,\"=\"&(B247&TEXT($Q$7,\"aaa-yy\")),'AİDAT GİRİŞİ'!$D:$D)","v":0},{"$f":"SUMIF('AİDAT GİRİŞİ'!$F:$F,\"=\"&($B247&TEXT($R$7,\"aaa-yy\")),'AİDAT GİRİŞİ'!$D:$D)","v":0},{"$f":"SUMIF('AİDAT GİRİŞİ'!$F:$F,\"=\"&($B247&TEXT($S$7,\"aaa-yy\")),'AİDAT GİRİŞİ'!$D:$D)","v":0},{"$f":"SUMIF('AİDAT GİRİŞİ'!$F:$F,\"=\"&($B247&TEXT($T$7,\"aaa-yy\")),'AİDAT GİRİŞİ'!$D:$D)","v":0},{"$f":"SUMIF('AİDAT GİRİŞİ'!$F:$F,\"=\"&($B247&TEXT($U$7,\"aaa-yy\")),'AİDAT GİRİŞİ'!$D:$D)","v":0},{"$f":"SUMIF('AİDAT GİRİŞİ'!$F:$F,\"=\"&($B247&TEXT($V$7,\"aaa-yy\")),'AİDAT GİRİŞİ'!$D:$D)","v":0},{"$f":"SUMIF('AİDAT GİRİŞİ'!$F:$F,\"=\"&($B247&TEXT($W$7,\"aaa-yy\")),'AİDAT GİRİŞİ'!$D:$D)","v":0},{"$f":"SUMIF('AİDAT GİRİŞİ'!$F:$F,\"=\"&($B247&TEXT($X$7,\"aaa-yy\")),'AİDAT GİRİŞİ'!$D:$D)","v":0},{"$f":"SUMIF('AİDAT GİRİŞİ'!$F:$F,\"=\"&($B247&TEXT($Y$7,\"aaa-yy\")),'AİDAT GİRİŞİ'!$D:$D)","v":0},{"$f":"SUMIF('AİDAT GİRİŞİ'!$F:$F,\"=\"&($B247&TEXT($Z$7,\"aaa-yy\")),'AİDAT GİRİŞİ'!$D:$D)","v":0},{"$f":"SUMIF('AİDAT GİRİŞİ'!$F:$F,\"=\"&($B247&TEXT($AA$7,\"aaa-yy\")),'AİDAT GİRİŞİ'!$D:$D)","v":0},{"$f":"SUMIF('AİDAT GİRİŞİ'!$F:$F,\"=\"&($B247&TEXT($AB$7,\"aaa-yy\")),'AİDAT GİRİŞİ'!$D:$D)","v":0},0]
[242,{"$f":"IF(ISERROR(VLOOKUP(A248,'ÜYE KAYIT LİSTESİ'!A:B,2,0)=TRUE),\"\",VLOOKUP(A248,'ÜYE KAYIT LİSTESİ'!A:B,2,0))","v":""},{"$f":"SUMIF('AİDAT GİRİŞİ'!$F:$F,\"=\"&(B248&TEXT($Q$7,\"aaa-yy\")),'AİDAT GİRİŞİ'!$D:$D)","v":0},{"$f":"SUMIF('AİDAT GİRİŞİ'!$F:$F,\"=\"&($B248&TEXT($R$7,\"aaa-yy\")),'AİDAT GİRİŞİ'!$D:$D)","v":0},{"$f":"SUMIF('AİDAT GİRİŞİ'!$F:$F,\"=\"&($B248&TEXT($S$7,\"aaa-yy\")),'AİDAT GİRİŞİ'!$D:$D)","v":0},{"$f":"SUMIF('AİDAT GİRİŞİ'!$F:$F,\"=\"&($B248&TEXT($T$7,\"aaa-yy\")),'AİDAT GİRİŞİ'!$D:$D)","v":0},{"$f":"SUMIF('AİDAT GİRİŞİ'!$F:$F,\"=\"&($B248&TEXT($U$7,\"aaa-yy\")),'AİDAT GİRİŞİ'!$D:$D)","v":0},{"$f":"SUMIF('AİDAT GİRİŞİ'!$F:$F,\"=\"&($B248&TEXT($V$7,\"aaa-yy\")),'AİDAT GİRİŞİ'!$D:$D)","v":0},{"$f":"SUMIF('AİDAT GİRİŞİ'!$F:$F,\"=\"&($B248&TEXT($W$7,\"aaa-yy\")),'AİDAT GİRİŞİ'!$D:$D)","v":0},{"$f":"SUMIF('AİDAT GİRİŞİ'!$F:$F,\"=\"&($B248&TEXT($X$7,\"aaa-yy\")),'AİDAT GİRİŞİ'!$D:$D)","v":0},{"$f":"SUMIF('AİDAT GİRİŞİ'!$F:$F,\"=\"&($B248&TEXT($Y$7,\"aaa-yy\")),'AİDAT GİRİŞİ'!$D:$D)","v":0},{"$f":"SUMIF('AİDAT GİRİŞİ'!$F:$F,\"=\"&($B248&TEXT($Z$7,\"aaa-yy\")),'AİDAT GİRİŞİ'!$D:$D)","v":0},{"$f":"SUMIF('AİDAT GİRİŞİ'!$F:$F,\"=\"&($B248&TEXT($AA$7,\"aaa-yy\")),'AİDAT GİRİŞİ'!$D:$D)","v":0},{"$f":"SUMIF('AİDAT GİRİŞİ'!$F:$F,\"=\"&($B248&TEXT($AB$7,\"aaa-yy\")),'AİDAT GİRİŞİ'!$D:$D)","v":0},0]
[243,{"$f":"IF(ISERROR(VLOOKUP(A249,'ÜYE KAYIT LİSTESİ'!A:B,2,0)=TRUE),\"\",VLOOKUP(A249,'ÜYE KAYIT LİSTESİ'!A:B,2,0))","v":""},{"$f":"SUMIF('AİDAT GİRİŞİ'!$F:$F,\"=\"&(B249&TEXT($Q$7,\"aaa-yy\")),'AİDAT GİRİŞİ'!$D:$D)","v":0},{"$f":"SUMIF('AİDAT GİRİŞİ'!$F:$F,\"=\"&($B249&TEXT($R$7,\"aaa-yy\")),'AİDAT GİRİŞİ'!$D:$D)","v":0},{"$f":"SUMIF('AİDAT GİRİŞİ'!$F:$F,\"=\"&($B249&TEXT($S$7,\"aaa-yy\")),'AİDAT GİRİŞİ'!$D:$D)","v":0},{"$f":"SUMIF('AİDAT GİRİŞİ'!$F:$F,\"=\"&($B249&TEXT($T$7,\"aaa-yy\")),'AİDAT GİRİŞİ'!$D:$D)","v":0},{"$f":"SUMIF('AİDAT GİRİŞİ'!$F:$F,\"=\"&($B249&TEXT($U$7,\"aaa-yy\")),'AİDAT GİRİŞİ'!$D:$D)","v":0},{"$f":"SUMIF('AİDAT GİRİŞİ'!$F:$F,\"=\"&($B249&TEXT($V$7,\"aaa-yy\")),'AİDAT GİRİŞİ'!$D:$D)","v":0},{"$f":"SUMIF('AİDAT GİRİŞİ'!$F:$F,\"=\"&($B249&TEXT($W$7,\"aaa-yy\")),'AİDAT GİRİŞİ'!$D:$D)","v":0},{"$f":"SUMIF('AİDAT GİRİŞİ'!$F:$F,\"=\"&($B249&TEXT($X$7,\"aaa-yy\")),'AİDAT GİRİŞİ'!$D:$D)","v":0},{"$f":"SUMIF('AİDAT GİRİŞİ'!$F:$F,\"=\"&($B249&TEXT($Y$7,\"aaa-yy\")),'AİDAT GİRİŞİ'!$D:$D)","v":0},{"$f":"SUMIF('AİDAT GİRİŞİ'!$F:$F,\"=\"&($B249&TEXT($Z$7,\"aaa-yy\")),'AİDAT GİRİŞİ'!$D:$D)","v":0},{"$f":"SUMIF('AİDAT GİRİŞİ'!$F:$F,\"=\"&($B249&TEXT($AA$7,\"aaa-yy\")),'AİDAT GİRİŞİ'!$D:$D)","v":0},{"$f":"SUMIF('AİDAT GİRİŞİ'!$F:$F,\"=\"&($B249&TEXT($AB$7,\"aaa-yy\")),'AİDAT GİRİŞİ'!$D:$D)","v":0},0]
[244,{"$f":"IF(ISERROR(VLOOKUP(A250,'ÜYE KAYIT LİSTESİ'!A:B,2,0)=TRUE),\"\",VLOOKUP(A250,'ÜYE KAYIT LİSTESİ'!A:B,2,0))","v":""},{"$f":"SUMIF('AİDAT GİRİŞİ'!$F:$F,\"=\"&(B250&TEXT($Q$7,\"aaa-yy\")),'AİDAT GİRİŞİ'!$D:$D)","v":0},{"$f":"SUMIF('AİDAT GİRİŞİ'!$F:$F,\"=\"&($B250&TEXT($R$7,\"aaa-yy\")),'AİDAT GİRİŞİ'!$D:$D)","v":0},{"$f":"SUMIF('AİDAT GİRİŞİ'!$F:$F,\"=\"&($B250&TEXT($S$7,\"aaa-yy\")),'AİDAT GİRİŞİ'!$D:$D)","v":0},{"$f":"SUMIF('AİDAT GİRİŞİ'!$F:$F,\"=\"&($B250&TEXT($T$7,\"aaa-yy\")),'AİDAT GİRİŞİ'!$D:$D)","v":0},{"$f":"SUMIF('AİDAT GİRİŞİ'!$F:$F,\"=\"&($B250&TEXT($U$7,\"aaa-yy\")),'AİDAT GİRİŞİ'!$D:$D)","v":0},{"$f":"SUMIF('AİDAT GİRİŞİ'!$F:$F,\"=\"&($B250&TEXT($V$7,\"aaa-yy\")),'AİDAT GİRİŞİ'!$D:$D)","v":0},{"$f":"SUMIF('AİDAT GİRİŞİ'!$F:$F,\"=\"&($B250&TEXT($W$7,\"aaa-yy\")),'AİDAT GİRİŞİ'!$D:$D)","v":0},{"$f":"SUMIF('AİDAT GİRİŞİ'!$F:$F,\"=\"&($B250&TEXT($X$7,\"aaa-yy\")),'AİDAT GİRİŞİ'!$D:$D)","v":0},{"$f":"SUMIF('AİDAT GİRİŞİ'!$F:$F,\"=\"&($B250&TEXT($Y$7,\"aaa-yy\")),'AİDAT GİRİŞİ'!$D:$D)","v":0},{"$f":"SUMIF('AİDAT GİRİŞİ'!$F:$F,\"=\"&($B250&TEXT($Z$7,\"aaa-yy\")),'AİDAT GİRİŞİ'!$D:$D)","v":0},{"$f":"SUMIF('AİDAT GİRİŞİ'!$F:$F,\"=\"&($B250&TEXT($AA$7,\"aaa-yy\")),'AİDAT GİRİŞİ'!$D:$D)","v":0},{"$f":"SUMIF('AİDAT GİRİŞİ'!$F:$F,\"=\"&($B250&TEXT($AB$7,\"aaa-yy\")),'AİDAT GİRİŞİ'!$D:$D)","v":0},0]
[245,{"$f":"IF(ISERROR(VLOOKUP(A251,'ÜYE KAYIT LİSTESİ'!A:B,2,0)=TRUE),\"\",VLOOKUP(A251,'ÜYE KAYIT LİSTESİ'!A:B,2,0))","v":""},{"$f":"SUMIF('AİDAT GİRİŞİ'!$F:$F,\"=\"&(B251&TEXT($Q$7,\"aaa-yy\")),'AİDAT GİRİŞİ'!$D:$D)","v":0},{"$f":"SUMIF('AİDAT GİRİŞİ'!$F:$F,\"=\"&($B251&TEXT($R$7,\"aaa-yy\")),'AİDAT GİRİŞİ'!$D:$D)","v":0},{"$f":"SUMIF('AİDAT GİRİŞİ'!$F:$F,\"=\"&($B251&TEXT($S$7,\"aaa-yy\")),'AİDAT GİRİŞİ'!$D:$D)","v":0},{"$f":"SUMIF('AİDAT GİRİŞİ'!$F:$F,\"=\"&($B251&TEXT($T$7,\"aaa-yy\")),'AİDAT GİRİŞİ'!$D:$D)","v":0},{"$f":"SUMIF('AİDAT GİRİŞİ'!$F:$F,\"=\"&($B251&TEXT($U$7,\"aaa-yy\")),'AİDAT GİRİŞİ'!$D:$D)","v":0},{"$f":"SUMIF('AİDAT GİRİŞİ'!$F:$F,\"=\"&($B251&TEXT($V$7,\"aaa-yy\")),'AİDAT GİRİŞİ'!$D:$D)","v":0},{"$f":"SUMIF('AİDAT GİRİŞİ'!$F:$F,\"=\"&($B251&TEXT($W$7,\"aaa-yy\")),'AİDAT GİRİŞİ'!$D:$D)","v":0},{"$f":"SUMIF('AİDAT GİRİŞİ'!$F:$F,\"=\"&($B251&TEXT($X$7,\"aaa-yy\")),'AİDAT GİRİŞİ'!$D:$D)","v":0},{"$f":"SUMIF('AİDAT GİRİŞİ'!$F:$F,\"=\"&($B251&TEXT($Y$7,\"aaa-yy\")),'AİDAT GİRİŞİ'!$D:$D)","v":0},{"$f":"SUMIF('AİDAT GİRİŞİ'!$F:$F,\"=\"&($B251&TEXT($Z$7,\"aaa-yy\")),'AİDAT GİRİŞİ'!$D:$D)","v":0},{"$f":"SUMIF('AİDAT GİRİŞİ'!$F:$F,\"=\"&($B251&TEXT($AA$7,\"aaa-yy\")),'AİDAT GİRİŞİ'!$D:$D)","v":0},{"$f":"SUMIF('AİDAT GİRİŞİ'!$F:$F,\"=\"&($B251&TEXT($AB$7,\"aaa-yy\")),'AİDAT GİRİŞİ'!$D:$D)","v":0},0]
[246,{"$f":"IF(ISERROR(VLOOKUP(A252,'ÜYE KAYIT LİSTESİ'!A:B,2,0)=TRUE),\"\",VLOOKUP(A252,'ÜYE KAYIT LİSTESİ'!A:B,2,0))","v":""},{"$f":"SUMIF('AİDAT GİRİŞİ'!$F:$F,\"=\"&(B252&TEXT($Q$7,\"aaa-yy\")),'AİDAT GİRİŞİ'!$D:$D)","v":0},{"$f":"SUMIF('AİDAT GİRİŞİ'!$F:$F,\"=\"&($B252&TEXT($R$7,\"aaa-yy\")),'AİDAT GİRİŞİ'!$D:$D)","v":0},{"$f":"SUMIF('AİDAT GİRİŞİ'!$F:$F,\"=\"&($B252&TEXT($S$7,\"aaa-yy\")),'AİDAT GİRİŞİ'!$D:$D)","v":0},{"$f":"SUMIF('AİDAT GİRİŞİ'!$F:$F,\"=\"&($B252&TEXT($T$7,\"aaa-yy\")),'AİDAT GİRİŞİ'!$D:$D)","v":0},{"$f":"SUMIF('AİDAT GİRİŞİ'!$F:$F,\"=\"&($B252&TEXT($U$7,\"aaa-yy\")),'AİDAT GİRİŞİ'!$D:$D)","v":0},{"$f":"SUMIF('AİDAT GİRİŞİ'!$F:$F,\"=\"&($B252&TEXT($V$7,\"aaa-yy\")),'AİDAT GİRİŞİ'!$D:$D)","v":0},{"$f":"SUMIF('AİDAT GİRİŞİ'!$F:$F,\"=\"&($B252&TEXT($W$7,\"aaa-yy\")),'AİDAT GİRİŞİ'!$D:$D)","v":0},{"$f":"SUMIF('AİDAT GİRİŞİ'!$F:$F,\"=\"&($B252&TEXT($X$7,\"aaa-yy\")),'AİDAT GİRİŞİ'!$D:$D)","v":0},{"$f":"SUMIF('AİDAT GİRİŞİ'!$F:$F,\"=\"&($B252&TEXT($Y$7,\"aaa-yy\")),'AİDAT GİRİŞİ'!$D:$D)","v":0},{"$f":"SUMIF('AİDAT GİRİŞİ'!$F:$F,\"=\"&($B252&TEXT($Z$7,\"aaa-yy\")),'AİDAT GİRİŞİ'!$D:$D)","v":0},{"$f":"SUMIF('AİDAT GİRİŞİ'!$F:$F,\"=\"&($B252&TEXT($AA$7,\"aaa-yy\")),'AİDAT GİRİŞİ'!$D:$D)","v":0},{"$f":"SUMIF('AİDAT GİRİŞİ'!$F:$F,\"=\"&($B252&TEXT($AB$7,\"aaa-yy\")),'AİDAT GİRİŞİ'!$D:$D)","v":0},0]
[247,{"$f":"IF(ISERROR(VLOOKUP(A253,'ÜYE KAYIT LİSTESİ'!A:B,2,0)=TRUE),\"\",VLOOKUP(A253,'ÜYE KAYIT LİSTESİ'!A:B,2,0))","v":""},{"$f":"SUMIF('AİDAT GİRİŞİ'!$F:$F,\"=\"&(B253&TEXT($Q$7,\"aaa-yy\")),'AİDAT GİRİŞİ'!$D:$D)","v":0},{"$f":"SUMIF('AİDAT GİRİŞİ'!$F:$F,\"=\"&($B253&TEXT($R$7,\"aaa-yy\")),'AİDAT GİRİŞİ'!$D:$D)","v":0},{"$f":"SUMIF('AİDAT GİRİŞİ'!$F:$F,\"=\"&($B253&TEXT($S$7,\"aaa-yy\")),'AİDAT GİRİŞİ'!$D:$D)","v":0},{"$f":"SUMIF('AİDAT GİRİŞİ'!$F:$F,\"=\"&($B253&TEXT($T$7,\"aaa-yy\")),'AİDAT GİRİŞİ'!$D:$D)","v":0},{"$f":"SUMIF('AİDAT GİRİŞİ'!$F:$F,\"=\"&($B253&TEXT($U$7,\"aaa-yy\")),'AİDAT GİRİŞİ'!$D:$D)","v":0},{"$f":"SUMIF('AİDAT GİRİŞİ'!$F:$F,\"=\"&($B253&TEXT($V$7,\"aaa-yy\")),'AİDAT GİRİŞİ'!$D:$D)","v":0},{"$f":"SUMIF('AİDAT GİRİŞİ'!$F:$F,\"=\"&($B253&TEXT($W$7,\"aaa-yy\")),'AİDAT GİRİŞİ'!$D:$D)","v":0},{"$f":"SUMIF('AİDAT GİRİŞİ'!$F:$F,\"=\"&($B253&TEXT($X$7,\"aaa-yy\")),'AİDAT GİRİŞİ'!$D:$D)","v":0},{"$f":"SUMIF('AİDAT GİRİŞİ'!$F:$F,\"=\"&($B253&TEXT($Y$7,\"aaa-yy\")),'AİDAT GİRİŞİ'!$D:$D)","v":0},{"$f":"SUMIF('AİDAT GİRİŞİ'!$F:$F,\"=\"&($B253&TEXT($Z$7,\"aaa-yy\")),'AİDAT GİRİŞİ'!$D:$D)","v":0},{"$f":"SUMIF('AİDAT GİRİŞİ'!$F:$F,\"=\"&($B253&TEXT($AA$7,\"aaa-yy\")),'AİDAT GİRİŞİ'!$D:$D)","v":0},{"$f":"SUMIF('AİDAT GİRİŞİ'!$F:$F,\"=\"&($B253&TEXT($AB$7,\"aaa-yy\")),'AİDAT GİRİŞİ'!$D:$D)","v":0},0]
[248,{"$f":"IF(ISERROR(VLOOKUP(A254,'ÜYE KAYIT LİSTESİ'!A:B,2,0)=TRUE),\"\",VLOOKUP(A254,'ÜYE KAYIT LİSTESİ'!A:B,2,0))","v":""},{"$f":"SUMIF('AİDAT GİRİŞİ'!$F:$F,\"=\"&(B254&TEXT($Q$7,\"aaa-yy\")),'AİDAT GİRİŞİ'!$D:$D)","v":0},{"$f":"SUMIF('AİDAT GİRİŞİ'!$F:$F,\"=\"&($B254&TEXT($R$7,\"aaa-yy\")),'AİDAT GİRİŞİ'!$D:$D)","v":0},{"$f":"SUMIF('AİDAT GİRİŞİ'!$F:$F,\"=\"&($B254&TEXT($S$7,\"aaa-yy\")),'AİDAT GİRİŞİ'!$D:$D)","v":0},{"$f":"SUMIF('AİDAT GİRİŞİ'!$F:$F,\"=\"&($B254&TEXT($T$7,\"aaa-yy\")),'AİDAT GİRİŞİ'!$D:$D)","v":0},{"$f":"SUMIF('AİDAT GİRİŞİ'!$F:$F,\"=\"&($B254&TEXT($U$7,\"aaa-yy\")),'AİDAT GİRİŞİ'!$D:$D)","v":0},{"$f":"SUMIF('AİDAT GİRİŞİ'!$F:$F,\"=\"&($B254&TEXT($V$7,\"aaa-yy\")),'AİDAT GİRİŞİ'!$D:$D)","v":0},{"$f":"SUMIF('AİDAT GİRİŞİ'!$F:$F,\"=\"&($B254&TEXT($W$7,\"aaa-yy\")),'AİDAT GİRİŞİ'!$D:$D)","v":0},{"$f":"SUMIF('AİDAT GİRİŞİ'!$F:$F,\"=\"&($B254&TEXT($X$7,\"aaa-yy\")),'AİDAT GİRİŞİ'!$D:$D)","v":0},{"$f":"SUMIF('AİDAT GİRİŞİ'!$F:$F,\"=\"&($B254&TEXT($Y$7,\"aaa-yy\")),'AİDAT GİRİŞİ'!$D:$D)","v":0},{"$f":"SUMIF('AİDAT GİRİŞİ'!$F:$F,\"=\"&($B254&TEXT($Z$7,\"aaa-yy\")),'AİDAT GİRİŞİ'!$D:$D)","v":0},{"$f":"SUMIF('AİDAT GİRİŞİ'!$F:$F,\"=\"&($B254&TEXT($AA$7,\"aaa-yy\")),'AİDAT GİRİŞİ'!$D:$D)","v":0},{"$f":"SUMIF('AİDAT GİRİŞİ'!$F:$F,\"=\"&($B254&TEXT($AB$7,\"aaa-yy\")),'AİDAT GİRİŞİ'!$D:$D)","v":0},0]
[249,{"$f":"IF(ISERROR(VLOOKUP(A255,'ÜYE KAYIT LİSTESİ'!A:B,2,0)=TRUE),\"\",VLOOKUP(A255,'ÜYE KAYIT LİSTESİ'!A:B,2,0))","v":""},{"$f":"SUMIF('AİDAT GİRİŞİ'!$F:$F,\"=\"&(B255&TEXT($Q$7,\"aaa-yy\")),'AİDAT GİRİŞİ'!$D:$D)","v":0},{"$f":"SUMIF('AİDAT GİRİŞİ'!$F:$F,\"=\"&($B255&TEXT($R$7,\"aaa-yy\")),'AİDAT GİRİŞİ'!$D:$D)","v":0},{"$f":"SUMIF('AİDAT GİRİŞİ'!$F:$F,\"=\"&($B255&TEXT($S$7,\"aaa-yy\")),'AİDAT GİRİŞİ'!$D:$D)","v":0},{"$f":"SUMIF('AİDAT GİRİŞİ'!$F:$F,\"=\"&($B255&TEXT($T$7,\"aaa-yy\")),'AİDAT GİRİŞİ'!$D:$D)","v":0},{"$f":"SUMIF('AİDAT GİRİŞİ'!$F:$F,\"=\"&($B255&TEXT($U$7,\"aaa-yy\")),'AİDAT GİRİŞİ'!$D:$D)","v":0},{"$f":"SUMIF('AİDAT GİRİŞİ'!$F:$F,\"=\"&($B255&TEXT($V$7,\"aaa-yy\")),'AİDAT GİRİŞİ'!$D:$D)","v":0},{"$f":"SUMIF('AİDAT GİRİŞİ'!$F:$F,\"=\"&($B255&TEXT($W$7,\"aaa-yy\")),'AİDAT GİRİŞİ'!$D:$D)","v":0},{"$f":"SUMIF('AİDAT GİRİŞİ'!$F:$F,\"=\"&($B255&TEXT($X$7,\"aaa-yy\")),'AİDAT GİRİŞİ'!$D:$D)","v":0},{"$f":"SUMIF('AİDAT GİRİŞİ'!$F:$F,\"=\"&($B255&TEXT($Y$7,\"aaa-yy\")),'AİDAT GİRİŞİ'!$D:$D)","v":0},{"$f":"SUMIF('AİDAT GİRİŞİ'!$F:$F,\"=\"&($B255&TEXT($Z$7,\"aaa-yy\")),'AİDAT GİRİŞİ'!$D:$D)","v":0},{"$f":"SUMIF('AİDAT GİRİŞİ'!$F:$F,\"=\"&($B255&TEXT($AA$7,\"aaa-yy\")),'AİDAT GİRİŞİ'!$D:$D)","v":0},{"$f":"SUMIF('AİDAT GİRİŞİ'!$F:$F,\"=\"&($B255&TEXT($AB$7,\"aaa-yy\")),'AİDAT GİRİŞİ'!$D:$D)","v":0},0]
[250,{"$f":"IF(ISERROR(VLOOKUP(A256,'ÜYE KAYIT LİSTESİ'!A:B,2,0)=TRUE),\"\",VLOOKUP(A256,'ÜYE KAYIT LİSTESİ'!A:B,2,0))","v":""},{"$f":"SUMIF('AİDAT GİRİŞİ'!$F:$F,\"=\"&(B256&TEXT($Q$7,\"aaa-yy\")),'AİDAT GİRİŞİ'!$D:$D)","v":0},{"$f":"SUMIF('AİDAT GİRİŞİ'!$F:$F,\"=\"&($B256&TEXT($R$7,\"aaa-yy\")),'AİDAT GİRİŞİ'!$D:$D)","v":0},{"$f":"SUMIF('AİDAT GİRİŞİ'!$F:$F,\"=\"&($B256&TEXT($S$7,\"aaa-yy\")),'AİDAT GİRİŞİ'!$D:$D)","v":0},{"$f":"SUMIF('AİDAT GİRİŞİ'!$F:$F,\"=\"&($B256&TEXT($T$7,\"aaa-yy\")),'AİDAT GİRİŞİ'!$D:$D)","v":0},{"$f":"SUMIF('AİDAT GİRİŞİ'!$F:$F,\"=\"&($B256&TEXT($U$7,\"aaa-yy\")),'AİDAT GİRİŞİ'!$D:$D)","v":0},{"$f":"SUMIF('AİDAT GİRİŞİ'!$F:$F,\"=\"&($B256&TEXT($V$7,\"aaa-yy\")),'AİDAT GİRİŞİ'!$D:$D)","v":0},{"$f":"SUMIF('AİDAT GİRİŞİ'!$F:$F,\"=\"&($B256&TEXT($W$7,\"aaa-yy\")),'AİDAT GİRİŞİ'!$D:$D)","v":0},{"$f":"SUMIF('AİDAT GİRİŞİ'!$F:$F,\"=\"&($B256&TEXT($X$7,\"aaa-yy\")),'AİDAT GİRİŞİ'!$D:$D)","v":0},{"$f":"SUMIF('AİDAT GİRİŞİ'!$F:$F,\"=\"&($B256&TEXT($Y$7,\"aaa-yy\")),'AİDAT GİRİŞİ'!$D:$D)","v":0},{"$f":"SUMIF('AİDAT GİRİŞİ'!$F:$F,\"=\"&($B256&TEXT($Z$7,\"aaa-yy\")),'AİDAT GİRİŞİ'!$D:$D)","v":0},{"$f":"SUMIF('AİDAT GİRİŞİ'!$F:$F,\"=\"&($B256&TEXT($AA$7,\"aaa-yy\")),'AİDAT GİRİŞİ'!$D:$D)","v":0},{"$f":"SUMIF('AİDAT GİRİŞİ'!$F:$F,\"=\"&($B256&TEXT($AB$7,\"aaa-yy\")),'AİDAT GİRİŞİ'!$D:$D)","v":0},0]

{"sheet":"ÜYE KAYIT LİSTESİ","index":2,"n_rows":2,"n_cols":5,"rows_kept":2,"cut":false,"hidden":false,"merged":[]}
["DAİRE NO","ADI SOYADI","HANE HALKI SAYISI","DURUMU","İRTİBAT TEL"]
[999,"BANKA HESABI"]

{"sheet":"AİDAT GİRİŞİ","index":3,"n_rows":5074,"n_cols":6,"rows_kept":5074,"cut":false,"hidden":false,"merged":[]}
["YIL","ADI SOYADI","TARİH","ALINAN AİDAT",null,"Anahtar Alanı"]
[{"$f":"IF(B2>\"\",YEAR(C2),\"\")","v":""},null,null,null,null,{"$f":"IF(B2>\"\",B2&TEXT(C2,\"aaa-yy\"),\"\")","v":""}]
[{"$f":"IF(B3>\"\",YEAR(C3),\"\")","v":""},null,null,null,null,{"$f":"IF(B3>\"\",B3&TEXT(C3,\"aaa-yy\"),\"\")","v":""}]
["",null,null,null,null,""]
["",null,null,null,null,""]
["",null,null,null,null,""]
["",null,null,null,null,""]
["",null,null,null,null,""]
["",null,null,null,null,""]
["",null,null,null,null,""]
["",null,null,null,null,""]
["",null,null,null,null,""]
["",null,null,null,null,""]
["",null,null,null,null,""]
["",null,null,null,null,""]
["",null,null,null,null,""]
["",null,null,null,null,""]
["",null,null,null,null,""]
["",null,null,null,null,""]
["",null,null,null,null,""]
["",null,null,null,null,""]
["",null,null,null,null,""]
["",null,null,null,null,""]
["",null,null,null,null,""]
["",null,null,null,null,""]
["",null,null,null,null,""]
["",null,null,null,null,""]
["",null,null,null,null,""]
["",null,null,null,null,""]
["",null,null,null,null,""]
["",null,null,null,null,""]
[{"$f":"IF(B32>\"\",YEAR(C32),\"\")","v":""},null,null,null,null,""]
["",null,null,null,null,""]
["",null,null,null,null,""]
["",null,null,null,null,""]
["",null,null,null,null,""]
["",null,null,null,null,""]
["",null,null,null,null,""]
["",null,null,null,null,""]
["",null,null,null,null,""]
["",null,null,null,null,""]
["",null,null,null,null,""]
["",null,null,null,null,""]
["",null,null,null,null,""]
["",null,null,null,null,""]
["",null,null,null,null,""]
["",null,null,null,null,""]
["",null,null,null,null,""]
["",null,null,null,null,""]
["",null,null,null,null,""]
["",null,null,null,null,""]
["",null,null,null,null,""]
["",null,null,null,null,""]
["",null,null,null,null,""]
["",null,null,null,null,""]
["",null,null,null,null,""]
["",null,null,null,null,""]
["",null,null,null,null,""]
["",null,null,null,null,""]
["",null,null,null,null,""]
["",null,null,null,null,""]
["",null,null,null,null,""]
["",null,null,null,null,""]
["",null,null,null,null,""]
["",null,null,null,null,""]
["",null,null,null,null,{"$f":"IF(B66>\"\",B66&TEXT(C66,\"aaa-yy\"),\"\")","v":""}]
[{"$f":"IF(B67>\"\",YEAR(C67),\"\")","v":""},null,null,null,null,""]
["",null,null,null,null,""]
["",null,null,null,null,""]
["",null,null,null,null,""]
["",null,null,null,null,""]
["",null,null,null,null,""]
["",null,null,null,null,""]
["",null,null,null,null,""]
["",null,null,null,null,""]
["",null,null,null,null,""]
["",null,null,null,null,""]
["",null,null,null,null,""]
["",null,null,null,null,""]
["",null,null,null,null,""]
["",null,null,null,null,""]
["",null,null,null,null,""]
["",null,null,null,null,""]
["",null,null,null,null,""]
["",null,null,null,null,""]
["",null,null,null,null,""]
["",null,null,null,null,""]
["",null,null,null,null,""]
["",null,null,null,null,""]
["",null,null,null,null,""]
["",null,null,null,null,""]
["",null,null,null,null,""]
["",null,null,null,null,""]
["",null,null,null,null,""]
["",null,null,null,null,""]
["",null,null,null,null,""]
["",null,null,null,null,""]
["",null,null,null,null,""]
["",null,null,null,null,""]
["",null,null,null,null,""]
["",null,null,null,null,""]
["",null,null,null,null,""]
["",null,null,null,null,""]
["",null,null,null,null,""]
["",null,null,null,null,""]
["",null,null,null,null,""]
["",null,null,null,null,""]
["",null,null,null,null,""]
["",null,null,null,null,""]
["",null,null,null,null,""]
["",null,null,null,null,""]
["",null,null,null,null,""]
["",null,null,null,null,""]
["",null,null,null,null,""]
["",null,null,null,null,""]
["",null,null,null,null,""]
["",null,null,null,null,""]
["",null,null,null,null,""]
["",null,null,null,null,""]
["",null,null,null,null,""]
["",null,null,null,null,""]
["",null,null,null,null,""]
["",null,null,null,null,""]
["",null,null,null,null,""]
["",null,null,null,null,""]
["",null,null,null,null,""]
["",null,null,null,null,""]
["",null,null,null,null,""]
["",null,null,null,null,""]
["",null,null,null,null,{"$f":"IF(B130>\"\",B130&TEXT(C130,\"aaa-yy\"),\"\")","v":""}]
[{"$f":"IF(B131>\"\",YEAR(C131),\"\")","v":""},null,null,null,null,""]
["",null,null,null,null,""]
["",null,null,null,null,""]
["",null,null,null,null,""]
["",null,null,null,null,""]
["",null,null,null,null,""]
["",null,null,null,null,""]
["",null,null,null,null,""]
["",null,null,null,null,""]
["",null,null,null,null,""]
["",null,null,null,null,""]
["",null,null,null,null,""]
["",null,null,null,null,""]
["",null,null,null,null,""]
["",null,null,null,null,""]
["",null,null,null,null,""]
["",null,null,null,null,""]
["",null,null,null,null,""]
["",null,null,null,null,""]
["",null,null,null,null,""]
["",null,null,null,null,""]
["",null,null,null,null,""]
["",null,null,null,null,""]
["",null,null,null,null,""]
["",null,null,null,null,""]
["",null,null,null,null,""]
["",null,null,null,null,""]
["",null,null,null,null,""]
["",null,null,null,null,""]
["",null,null,null,null,""]
["",null,null,null,null,""]
["",null,null,null,null,""]
["",null,null,null,null,""]
["",null,null,null,null,""]
["",null,null,null,null,""]
["",null,null,null,null,""]
["",null,null,null,null,""]
["",null,null,null,null,""]
["",null,null,null,null,""]
["",null,null,null,null,""]
["",null,null,null,null,""]
["",null,null,null,null,""]
["",null,null,null,null,""]
["",null,null,null,null,""]
["",null,null,null,null,""]
["",null,null,null,null,""]
["",null,null,null,null,""]
["",null,null,null,null,""]
["",null,null,null,null,""]
["",null,null,null,null,""]
["",null,null,null,null,""]
["",null,null,null,null,""]
["",null,null,null,null,""]
["",null,null,null,null,""]
["",null,null,null,null,""]
["",null,null,null,null,""]
["",null,null,null,null,""]
["",null,null,null,null,""]
["",null,null,null,null,""]
["",null,null,null,null,""]
["",null,null,null,null,""]
["",null,null,null,null,""]
["",null,null,null,null,""]
["",null,null,null,null,{"$f":"IF(B194>\"\",B194&TEXT(C194,\"aaa-yy\"),\"\")","v":""}]
[{"$f":"IF(B195>\"\",YEAR(C195),\"\")","v":""},null,null,null,null,""]
["",null,null,null,null,""]
["",null,null,null,null,""]
["",null,null,null,null,""]
["",null,null,null,null,""]
["",null,null,null,null,""]
["",null,null,null,null,""]
["",null,null,null,null,""]
["",null,null,null,null,""]
["",null,null,null,null,""]
["",null,null,null,null,""]
["",null,null,null,null,""]
["",null,null,null,null,""]
["",null,null,null,null,""]
["",null,null,null,null,""]
["",null,null,null,null,""]
["",null,null,null,null,""]
["",null,null,null,null,""]
["",null,null,null,null,""]
["",null,null,null,null,""]
["",null,null,null,null,""]
["",null,null,null,null,""]
["",null,null,null,null,""]
["",null,null,null,null,""]
["",null,null,null,null,""]
["",null,null,null,null,""]
["",null,null,null,null,""]
["",null,null,null,null,""]
["",null,null,null,null,""]
["",null,null,null,null,""]
["",null,null,null,null,""]
["",null,null,null,null,""]
["",null,null,null,null,""]
["",null,null,null,null,""]
["",null,null,null,null,""]
["",null,null,null,null,""]
["",null,null,null,null,""]
["",null,null,null,null,""]
["",null,null,null,null,""]
["",null,null,null,null,""]
["",null,null,null,null,""]
["",null,null,null,null,""]
["",null,null,null,null,""]
["",null,null,null,null,""]
["",null,null,null,null,""]
["",null,null,null,null,""]
["",null,null,null,null,""]
["",null,null,null,null,""]
["",null,null,null,null,""]
["",null,null,null,null,""]
["",null,null,null,null,""]
["",null,null,null,null,""]
["",null,null,null,null,""]
["",null,null,null,null,""]
["",null,null,null,null,""]
["",null,null,null,null,""]
["",null,null,null,null,""]
["",null,null,null,null,""]
["",null,null,null,null,""]
["",null,null,null,null,""]
["",null,null,null,null,""]
["",null,null,null,null,""]
["",null,null,null,null,""]
["",null,null,null,null,{"$f":"IF(B258>\"\",B258&TEXT(C258,\"aaa-yy\"),\"\")","v":""}]
[{"$f":"IF(B259>\"\",YEAR(C259),\"\")","v":""},null,null,null,null,""]
["",null,null,null,null,""]
["",null,null,null,null,""]
["",null,null,null,null,""]
["",null,null,null,null,""]
["",null,null,null,null,""]
["",null,null,null,null,""]
["",null,null,null,null,""]
["",null,null,null,null,""]
["",null,null,null,null,""]
["",null,null,null,null,""]
["",null,null,null,null,""]
["",null,null,null,null,""]
["",null,null,null,null,""]
["",null,null,null,null,""]
["",null,null,null,null,""]
["",null,null,null,null,""]
["",null,null,null,null,""]
["",null,null,null,null,""]
["",null,null,null,null,""]
["",null,null,null,null,""]
["",null,null,null,null,""]
["",null,null,null,null,""]
["",null,null,null,null,""]
["",null,null,null,null,""]
["",null,null,null,null,""]
["",null,null,null,null,""]
["",null,null,null,null,""]
["",null,null,null,null,""]
["",null,null,null,null,""]
["",null,null,null,null,""]
["",null,null,null,null,""]
["",null,null,null,null,""]
["",null,null,null,null,""]
["",null,null,null,null,""]
["",null,null,null,null,""]
["",null,null,null,null,""]
["",null,null,null,null,""]
["",null,null,null,null,""]
["",null,null,null,null,""]
["",null,null,null,null,""]
["",null,null,null,null,""]
["",null,null,null,null,""]
["",null,null,null,null,""]
["",null,null,null,null,""]
["",null,null,null,null,""]
["",null,null,null,null,""]
["",null,null,null,null,""]
["",null,null,null,null,""]
["",null,null,null,null,""]
["",null,null,null,null,""]
["",null,null,null,null,""]
["",null,null,null,null,""]
["",null,null,null,null,""]
["",null,null,null,null,""]
["",null,null,null,null,""]
["",null,null,null,null,""]
["",null,null,null,null,""]
["",null,null,null,null,""]
["",null,null,null,null,""]
["",null,null,null,null,""]
["",null,null,null,null,""]
["",null,null,null,null,""]
["",null,null,null,null,{"$f":"IF(B322>\"\",B322&TEXT(C322,\"aaa-yy\"),\"\")","v":""}]
[{"$f":"IF(B323>\"\",YEAR(C323),\"\")","v":""},null,null,null,null,""]
["",null,null,null,null,""]
["",null,null,null,null,""]
["",null,null,null,null,""]
["",null,null,null,null,""]
["",null,null,null,null,""]
["",null,null,null,null,""]
["",null,null,null,null,""]
["",null,null,null,null,""]
["",null,null,null,null,""]
["",null,null,null,null,""]
["",null,null,null,null,""]
["",null,null,null,null,""]
["",null,null,null,null,""]
["",null,null,null,null,""]
["",null,null,null,null,""]
["",null,null,null,null,""]
["",null,null,null,null,""]
["",null,null,null,null,""]
["",null,null,null,null,""]
["",null,null,null,null,""]
["",null,null,null,null,""]
["",null,null,null,null,""]
["",null,null,null,null,""]
["",null,null,null,null,""]
["",null,null,null,null,""]
["",null,null,null,null,""]
["",null,null,null,null,""]
["",null,null,null,null,""]
["",null,null,null,null,""]
["",null,null,null,null,""]
["",null,null,null,null,""]
["",null,null,null,null,""]
["",null,null,null,null,""]
["",null,null,null,null,""]
["",null,null,null,null,""]
["",null,null,null,null,""]
["",null,null,null,null,""]
["",null,null,null,null,""]
["",null,null,null,null,""]
["",null,null,null,null,""]
["",null,null,null,null,""]
["",null,null,null,null,""]
["",null,null,null,null,""]
["",null,null,null,null,""]
["",null,null,null,null,""]
["",null,null,null,null,""]
["",null,null,null,null,""]
["",null,null,null,null,""]
["",null,null,null,null,""]
["",null,null,null,null,""]
["",null,null,null,null,""]
["",null,null,null,null,""]
["",null,null,null,null,""]
["",null,null,null,null,""]
["",null,null,null,null,""]
["",null,null,null,null,""]
["",null,null,null,null,""]
["",null,null,null,null,""]
["",null,null,null,null,""]
["",null,null,null,null,""]
["",null,null,null,null,""]
["",null,null,null,null,""]
["",null,null,null,null,{"$f":"IF(B386>\"\",B386&TEXT(C386,\"aaa-yy\"),\"\")","v":""}]
[{"$f":"IF(B387>\"\",YEAR(C387),\"\")","v":""},null,null,null,null,""]
["",null,null,null,null,""]
["",null,null,null,null,""]
["",null,null,null,null,""]
["",null,null,null,null,""]
["",null,null,null,null,""]
["",null,null,null,null,""]
["",null,null,null,null,""]
["",null,null,null,null,""]
["",null,null,null,null,""]
["",null,null,null,null,""]
["",null,null,null,null,""]
["",null,null,null,null,""]
["",null,null,null,null,""]
["",null,null,null,null,""]
["",null,null,null,null,""]
["",null,null,null,null,""]
["",null,null,null,null,""]
["",null,null,null,null,""]
["",null,null,null,null,""]
["",null,null,null,null,""]
["",null,null,null,null,""]
["",null,null,null,null,""]
["",null,null,null,null,""]
["",null,null,null,null,""]
["",null,null,null,null,""]
["",null,null,null,null,""]
["",null,null,null,null,""]
["",null,null,null,null,""]
["",null,null,null,null,""]
["",null,null,null,null,""]
["",null,null,null,null,""]
["",null,null,null,null,""]
["",null,null,null,null,""]
["",null,null,null,null,""]
["",null,null,null,null,""]
["",null,null,null,null,""]
["",null,null,null,null,""]
["",null,null,null,null,""]
["",null,null,null,null,""]
["",null,null,null,null,""]
["",null,null,null,null,""]
["",null,null,null,null,""]
["",null,null,null,null,""]
["",null,null,null,null,""]
["",null,null,null,null,""]
["",null,null,null,null,""]
["",null,null,null,null,""]
["",null,null,null,null,""]
["",null,null,null,null,""]
["",null,null,null,null,""]
["",null,null,null,null,""]
["",null,null,null,null,""]
["",null,null,null,null,""]
["",null,null,null,null,""]
["",null,null,null,null,""]
["",null,null,null,null,""]
["",null,null,null,null,""]
["",null,null,null,null,""]
["",null,null,null,null,""]
["",null,null,null,null,""]
["",null,null,null,null,""]
["",null,null,null,null,""]
["",null,null,null,null,{"$f":"IF(B450>\"\",B450&TEXT(C450,\"aaa-yy\"),\"\")","v":""}]
[{"$f":"IF(B451>\"\",YEAR(C451),\"\")","v":""},null,null,null,null,""]
["",null,null,null,null,""]
["",null,null,null,null,""]
["",null,null,null,null,""]
["",null,null,null,null,""]
["",null,null,null,null,""]
["",null,null,null,null,""]
["",null,null,null,null,""]
["",null,null,null,null,""]
["",null,null,null,null,""]
["",null,null,null,null,""]
["",null,null,null,null,""]
["",null,null,null,null,""]
["",null,null,null,null,""]
["",null,null,null,null,""]
["",null,null,null,null,""]
["",null,null,null,null,""]
["",null,null,null,null,""]
["",null,null,null,null,""]
["",null,null,null,null,""]
["",null,null,null,null,""]
["",null,null,null,null,""]
["",null,null,null,null,""]
["",null,null,null,null,""]
["",null,null,null,null,""]
["",null,null,null,null,""]
["",null,null,null,null,""]
["",null,null,null,null,""]
["",null,null,null,null,""]
["",null,null,null,null,""]
["",null,null,null,null,""]
["",null,null,null,null,""]
["",null,null,null,null,""]
["",null,null,null,null,""]
["",null,null,null,null,""]
["",null,null,null,null,""]
["",null,null,null,null,""]
["",null,null,null,null,""]
["",null,null,null,null,""]
["",null,null,null,null,""]
["",null,null,null,null,""]
["",null,null,null,null,""]
["",null,null,null,null,""]
["",null,null,null,null,""]
["",null,null,null,null,""]
["",null,null,null,null,""]
["",null,null,null,null,""]
["",null,null,null,null,""]
["",null,null,null,null,""]
["",null,null,null,null,""]
["",null,null,null,null,""]
["",null,null,null,null,""]
["",null,null,null,null,""]
["",null,null,null,null,""]
["",null,null,null,null,""]
["",null,null,null,null,""]
["",null,null,null,null,""]
["",null,null,null,null,""]
["",null,null,null,null,""]
["",null,null,null,null,""]
["",null,null,null,null,""]
["",null,null,null,null,""]
["",null,null,null,null,""]
["",null,null,null,null,{"$f":"IF(B514>\"\",B514&TEXT(C514,\"aaa-yy\"),\"\")","v":""}]
[{"$f":"IF(B515>\"\",YEAR(C515),\"\")","v":""},null,null,null,null,""]
["",null,null,null,null,""]
["",null,null,null,null,""]
["",null,null,null,null,""]
["",null,null,null,null,""]
["",null,null,null,null,""]
["",null,null,null,null,""]
["",null,null,null,null,""]
["",null,null,null,null,""]
["",null,null,null,null,""]
["",null,null,null,null,""]
["",null,null,null,null,""]
["",null,null,null,null,""]
["",null,null,null,null,""]
["",null,null,null,null,""]
["",null,null,null,null,""]
["",null,null,null,null,""]
["",null,null,null,null,""]
["",null,null,null,null,""]
["",null,null,null,null,""]
["",null,null,null,null,""]
["",null,null,null,null,""]
["",null,null,null,null,""]
["",null,null,null,null,""]
["",null,null,null,null,""]
["",null,null,null,null,""]
["",null,null,null,null,""]
["",null,null,null,null,""]
["",null,null,null,null,""]
["",null,null,null,null,""]
["",null,null,null,null,""]
["",null,null,null,null,""]
["",null,null,null,null,""]
["",null,null,null,null,""]
["",null,null,null,null,""]
["",null,null,null,null,""]
["",null,null,null,null,""]
["",null,null,null,null,""]
["",null,null,null,null,""]
["",null,null,null,null,""]
["",null,null,null,null,""]
["",null,null,null,null,""]
["",null,null,null,null,""]
["",null,null,null,null,""]
["",null,null,null,null,""]
["",null,null,null,null,""]
["",null,null,null,null,""]
["",null,null,null,null,""]
["",null,null,null,null,""]
["",null,null,null,null,""]
["",null,null,null,null,""]
["",null,null,null,null,""]
["",null,null,null,null,""]
["",null,null,null,null,""]
["",null,null,null,null,""]
["",null,null,null,null,""]
["",null,null,null,null,""]
["",null,null,null,null,""]
["",null,null,null,null,""]
["",null,null,null,null,""]
["",null,null,null,null,""]
["",null,null,null,null,""]
["",null,null,null,null,""]
["",null,null,null,null,{"$f":"IF(B578>\"\",B578&TEXT(C578,\"aaa-yy\"),\"\")","v":""}]
[{"$f":"IF(B579>\"\",YEAR(C579),\"\")","v":""},null,null,null,null,""]
["",null,null,null,null,""]
["",null,null,null,null,""]
["",null,null,null,null,""]
["",null,null,null,null,""]
["",null,null,null,null,""]
["",null,null,null,null,""]
["",null,null,null,null,""]
["",null,null,null,null,""]
["",null,null,null,null,""]
["",null,null,null,null,""]
["",null,null,null,null,""]
["",null,null,null,null,""]
["",null,null,null,null,""]
["",null,null,null,null,""]
["",null,null,null,null,""]
["",null,null,null,null,""]
["",null,null,null,null,""]
["",null,null,null,null,""]
["",null,null,null,null,""]
["",null,null,null,null,""]
["",null,null,null,null,""]
["",null,null,null,null,""]
["",null,null,null,null,""]
["",null,null,null,null,""]
["",null,null,null,null,""]
["",null,null,null,null,""]
["",null,null,null,null,""]
["",null,null,null,null,""]
["",null,null,null,null,""]
["",null,null,null,null,""]
["",null,null,null,null,""]
["",null,null,null,null,""]
["",null,null,null,null,""]
["",null,null,null,null,""]
["",null,null,null,null,""]
["",null,null,null,null,""]
["",null,null,null,null,""]
["",null,null,null,null,""]
["",null,null,null,null,""]
["",null,null,null,null,""]
["",null,null,null,null,""]
["",null,null,null,null,""]
["",null,null,null,null,""]
["",null,null,null,null,""]
["",null,null,null,null,""]
["",null,null,null,null,""]
["",null,null,null,null,""]
["",null,null,null,null,""]
["",null,null,null,null,""]
["",null,null,null,null,""]
["",null,null,null,null,""]
["",null,null,null,null,""]
["",null,null,null,null,""]
["",null,null,null,null,""]
["",null,null,null,null,""]
["",null,null,null,null,""]
["",null,null,null,null,""]
["",null,null,null,null,""]
["",null,null,null,null,""]
["",null,null,null,null,""]
["",null,null,null,null,""]
["",null,null,null,null,""]
["",null,null,null,null,{"$f":"IF(B642>\"\",B642&TEXT(C642,\"aaa-yy\"),\"\")","v":""}]
[{"$f":"IF(B643>\"\",YEAR(C643),\"\")","v":""},null,null,null,null,""]
["",null,null,null,null,""]
["",null,null,null,null,""]
["",null,null,null,null,""]
["",null,null,null,null,""]
["",null,null,null,null,""]
["",null,null,null,null,""]
["",null,null,null,null,""]
["",null,null,null,null,""]
["",null,null,null,null,""]
["",null,null,null,null,""]
["",null,null,null,null,""]
["",null,null,null,null,""]
["",null,null,null,null,""]
["",null,null,null,null,""]
["",null,null,null,null,""]
["",null,null,null,null,""]
["",null,null,null,null,""]
["",null,null,null,null,""]
["",null,null,null,null,""]
["",null,null,null,null,""]
["",null,null,null,null,""]
["",null,null,null,null,""]
["",null,null,null,null,""]
["",null,null,null,null,""]
["",null,null,null,null,""]
["",null,null,null,null,""]
["",null,null,null,null,""]
["",null,null,null,null,""]
["",null,null,null,null,""]
["",null,null,null,null,""]
["",null,null,null,null,""]
["",null,null,null,null,""]
["",null,null,null,null,""]
["",null,null,null,null,""]
["",null,null,null,null,""]
["",null,null,null,null,""]
["",null,null,null,null,""]
["",null,null,null,null,""]
["",null,null,null,null,""]
["",null,null,null,null,""]
["",null,null,null,null,""]
["",null,null,null,null,""]
["",null,null,null,null,""]
["",null,null,null,null,""]
["",null,null,null,null,""]
["",null,null,null,null,""]
["",null,null,null,null,""]
["",null,null,null,null,""]
["",null,null,null,null,""]
["",null,null,null,null,""]
["",null,null,null,null,""]
["",null,null,null,null,""]
["",null,null,null,null,""]
["",null,null,null,null,""]
["",null,null,null,null,""]
["",null,null,null,null,""]
["",null,null,null,null,""]
["",null,null,null,null,""]
["",null,null,null,null,""]
["",null,null,null,null,""]
["",null,null,null,null,""]
["",null,null,null,null,""]
["",null,null,null,null,{"$f":"IF(B706>\"\",B706&TEXT(C706,\"aaa-yy\"),\"\")","v":""}]
[{"$f":"IF(B707>\"\",YEAR(C707),\"\")","v":""},null,null,null,null,""]
["",null,null,null,null,""]
["",null,null,null,null,""]
["",null,null,null,null,""]
["",null,null,null,null,""]
["",null,null,null,null,""]
["",null,null,null,null,""]
["",null,null,null,null,""]
["",null,null,null,null,""]
["",null,null,null,null,""]
["",null,null,null,null,""]
["",null,null,null,null,""]
["",null,null,null,null,""]
["",null,null,null,null,""]
["",null,null,null,null,""]
["",null,null,null,null,""]
["",null,null,null,null,""]
["",null,null,null,null,""]
["",null,null,null,null,""]
["",null,null,null,null,""]
["",null,null,null,null,""]
["",null,null,null,null,""]
["",null,null,null,null,""]
["",null,null,null,null,""]
["",null,null,null,null,""]
["",null,null,null,null,""]
["",null,null,null,null,""]
["",null,null,null,null,""]
["",null,null,null,null,""]
["",null,null,null,null,""]
["",null,null,null,null,""]
["",null,null,null,null,""]
["",null,null,null,null,""]
["",null,null,null,null,""]
["",null,null,null,null,""]
["",null,null,null,null,""]
["",null,null,null,null,""]
["",null,null,null,null,""]
["",null,null,null,null,""]
["",null,null,null,null,""]
["",null,null,null,null,""]
["",null,null,null,null,""]
["",null,null,null,null,""]
["",null,null,null,null,""]
["",null,null,null,null,""]
["",null,null,null,null,""]
["",null,null,null,null,""]
["",null,null,null,null,""]
["",null,null,null,null,""]
["",null,null,null,null,""]
["",null,null,null,null,""]
["",null,null,null,null,""]
["",null,null,null,null,""]
["",null,null,null,null,""]
["",null,null,null,null,""]
["",null,null,null,null,""]
["",null,null,null,null,""]
["",null,null,null,null,""]
["",null,null,null,null,""]
["",null,null,null,null,""]
["",null,null,null,null,""]
["",null,null,null,null,""]
["",null,null,null,null,""]
["",null,null,null,null,{"$f":"IF(B770>\"\",B770&TEXT(C770,\"aaa-yy\"),\"\")","v":""}]
[{"$f":"IF(B771>\"\",YEAR(C771),\"\")","v":""},null,null,null,null,""]
["",null,null,null,null,""]
["",null,null,null,null,""]
["",null,null,null,null,""]
["",null,null,null,null,""]
["",null,null,null,null,""]
["",null,null,null,null,""]
["",null,null,null,null,""]
["",null,null,null,null,""]
["",null,null,null,null,""]
["",null,null,null,null,""]
["",null,null,null,null,""]
["",null,null,null,null,""]
["",null,null,null,null,""]
["",null,null,null,null,""]
["",null,null,null,null,""]
["",null,null,null,null,""]
["",null,null,null,null,""]
["",null,null,null,null,""]
["",null,null,null,null,""]
["",null,null,null,null,""]
["",null,null,null,null,""]
["",null,null,null,null,""]
["",null,null,null,null,""]
["",null,null,null,null,""]
["",null,null,null,null,""]
["",null,null,null,null,""]
["",null,null,null,null,""]
["",null,null,null,null,""]
["",null,null,null,null,""]
["",null,null,null,null,""]
["",null,null,null,null,""]
["",null,null,null,null,""]
["",null,null,null,null,""]
["",null,null,null,null,""]
["",null,null,null,null,""]
["",null,null,null,null,""]
["",null,null,null,null,""]
["",null,null,null,null,""]
["",null,null,null,null,""]
["",null,null,null,null,""]
["",null,null,null,null,""]
["",null,null,null,null,""]
["",null,null,null,null,""]
["",null,null,null,null,""]
["",null,null,null,null,""]
["",null,null,null,null,""]
["",null,null,null,null,""]
["",null,null,null,null,""]
["",null,null,null,null,""]
["",null,null,null,null,""]
["",null,null,null,null,""]
["",null,null,null,null,""]
["",null,null,null,null,""]
["",null,null,null,null,""]
["",null,null,null,null,""]
["",null,null,null,null,""]
["",null,null,null,null,""]
["",null,null,null,null,""]
["",null,null,null,null,""]
["",null,null,null,null,""]
["",null,null,null,null,""]
["",null,null,null,null,""]
["",null,null,null,null,{"$f":"IF(B834>\"\",B834&TEXT(C834,\"aaa-yy\"),\"\")","v":""}]
[{"$f":"IF(B835>\"\",YEAR(C835),\"\")","v":""},null,null,null,null,""]
["",null,null,null,null,""]
["",null,null,null,null,""]
["",null,null,null,null,""]
["",null,null,null,null,""]
["",null,null,null,null,""]
["",null,null,null,null,""]
["",null,null,null,null,""]
["",null,null,null,null,""]
["",null,null,null,null,""]
["",null,null,null,null,""]
["",null,null,null,null,""]
["",null,null,null,null,""]
["",null,null,null,null,""]
["",null,null,null,null,""]
["",null,null,null,null,""]
["",null,null,null,null,""]
["",null,null,null,null,""]
["",null,null,null,null,""]
["",null,null,null,null,""]
["",null,null,null,null,""]
["",null,null,null,null,""]
["",null,null,null,null,""]
["",null,null,null,null,""]
["",null,null,null,null,""]
["",null,null,null,null,""]
["",null,null,null,null,""]
["",null,null,null,null,""]
["",null,null,null,null,""]
["",null,null,null,null,""]
["",null,null,null,null,""]
["",null,null,null,null,""]
["",null,null,null,null,""]
["",null,null,null,null,""]
["",null,null,null,null,""]
["",null,null,null,null,""]
["",null,null,null,null,""]
["",null,null,null,null,""]
["",null,null,null,null,""]
["",null,null,null,null,""]
["",null,null,null,null,""]
["",null,null,null,null,""]
["",null,null,null,null,""]
["",null,null,null,null,""]
["",null,null,null,null,""]
["",null,null,null,null,""]
["",null,null,null,null,""]
["",null,null,null,null,""]
["",null,null,null,null,""]
["",null,null,null,null,""]
["",null,null,null,null,""]
["",null,null,null,null,""]
["",null,null,null,null,""]
["",null,null,null,null,""]
["",null,null,null,null,""]
["",null,null,null,null,""]
["",null,null,null,null,""]
["",null,null,null,null,""]
["",null,null,null,null,""]
["",null,null,null,null,""]
["",null,null,null,null,""]
["",null,null,null,null,""]
["",null,null,null,null,""]
["",null,null,null,null,{"$f":"IF(B898>\"\",B898&TEXT(C898,\"aaa-yy\"),\"\")","v":""}]
[{"$f":"IF(B899>\"\",YEAR(C899),\"\")","v":""},null,null,null,null,""]
["",null,null,null,null,""]
["",null,null,null,null,""]
["",null,null,null,null,""]
["",null,null,null,null,""]
["",null,null,null,null,""]
["",null,null,null,null,""]
["",null,null,null,null,""]
["",null,null,null,null,""]
["",null,null,null,null,""]
["",null,null,null,null,""]
["",null,null,null,null,""]
["",null,null,null,null,""]
["",null,null,null,null,""]
["",null,null,null,null,""]
["",null,null,null,null,""]
["",null,null,null,null,""]
["",null,null,null,null,""]
["",null,null,null,null,""]
["",null,null,null,null,""]
["",null,null,null,null,""]
["",null,null,null,null,""]
["",null,null,null,null,""]
["",null,null,null,null,""]
["",null,null,null,null,""]
["",null,null,null,null,""]
["",null,null,null,null,""]
["",null,null,null,null,""]
["",null,null,null,null,""]
["",null,null,null,null,""]
["",null,null,null,null,""]
["",null,null,null,null,""]
["",null,null,null,null,""]
["",null,null,null,null,""]
["",null,null,null,null,""]
["",null,null,null,null,""]
["",null,null,null,null,""]
["",null,null,null,null,""]
["",null,null,null,null,""]
["",null,null,null,null,""]
["",null,null,null,null,""]
["",null,null,null,null,""]
["",null,null,null,null,""]
["",null,null,null,null,""]
["",null,null,null,null,""]
["",null,null,null,null,""]
["",null,null,null,null,""]
["",null,null,null,null,""]
["",null,null,null,null,""]
["",null,null,null,null,""]
["",null,null,null,null,""]
["",null,null,null,null,""]
["",null,null,null,null,""]
["",null,null,null,null,""]
["",null,null,null,null,""]
["",null,null,null,null,""]
["",null,null,null,null,""]
["",null,null,null,null,""]
["",null,null,null,null,""]
["",null,null,null,null,""]
["",null,null,null,null,""]
["",null,null,null,null,""]
["",null,null,null,null,""]
["",null,null,null,null,{"$f":"IF(B962>\"\",B962&TEXT(C962,\"aaa-yy\"),\"\")","v":""}]
[{"$f":"IF(B963>\"\",YEAR(C963),\"\")","v":""},null,null,null,null,""]
["",null,null,null,null,""]
["",null,null,null,null,""]
["",null,null,null,null,""]
["",null,null,null,null,""]
["",null,null,null,null,""]
["",null,null,null,null,""]
["",null,null,null,null,""]
["",null,null,null,null,""]
["",null,null,null,null,""]
["",null,null,null,null,""]
["",null,null,null,null,""]
["",null,null,null,null,""]
["",null,null,null,null,""]
["",null,null,null,null,""]
["",null,null,null,null,""]
["",null,null,null,null,""]
["",null,null,null,null,""]
["",null,null,null,null,""]
["",null,null,null,null,""]
["",null,null,null,null,""]
["",null,null,null,null,""]
["",null,null,null,null,""]
["",null,null,null,null,""]
["",null,null,null,null,""]
["",null,null,null,null,""]
["",null,null,null,null,""]
["",null,null,null,null,""]
["",null,null,null,null,""]
["",null,null,null,null,""]
["",null,null,null,null,""]
["",null,null,null,null,""]
["",null,null,null,null,""]
["",null,null,null,null,""]
["",null,null,null,null,""]
["",null,null,null,null,""]
["",null,null,null,null,""]
["",null,null,null,null,""]
["",null,null,null,null,""]
["",null,null,null,null,""]
["",null,null,null,null,""]
["",null,null,null,null,""]
["",null,null,null,null,""]
["",null,null,null,null,""]
["",null,null,null,null,""]
["",null,null,null,null,""]
["",null,null,null,null,""]
["",null,null,null,null,""]
["",null,null,null,null,""]
["",null,null,null,null,""]
["",null,null,null,null,""]
["",null,null,null,null,""]
["",null,null,null,null,""]
["",null,null,null,null,""]
["",null,null,null,null,""]
["",null,null,null,null,""]
["",null,null,null,null,""]
["",null,null,null,null,""]
["",null,null,null,null,""]
["",null,null,null,null,""]
["",null,null,null,null,""]
["",null,null,null,null,""]
["",null,null,null,null,""]
["",null,null,null,null,{"$f":"IF(B1026>\"\",B1026&TEXT(C1026,\"aaa-yy\"),\"\")","v":""}]
[{"$f":"IF(B1027>\"\",YEAR(C1027),\"\")","v":""},null,null,null,null,""]
["",null,null,null,null,""]
["",null,null,null,null,""]
["",null,null,null,null,""]
["",null,null,null,null,""]
["",null,null,null,null,""]
["",null,null,null,null,""]
["",null,null,null,null,""]
["",null,null,null,null,""]
["",null,null,null,null,""]
["",null,null,null,null,""]
["",null,null,null,null,""]
["",null,null,null,null,""]
["",null,null,null,null,""]
["",null,null,null,null,""]
["",null,null,null,null,""]
["",null,null,null,null,""]
["",null,null,null,null,""]
["",null,null,null,null,""]
["",null,null,null,null,""]
["",null,null,null,null,""]
["",null,null,null,null,""]
["",null,null,null,null,""]
["",null,null,null,null,""]
["",null,null,null,null,""]
["",null,null,null,null,""]
["",null,null,null,null,""]
["",null,null,null,null,""]
["",null,null,null,null,""]
["",null,null,null,null,""]
["",null,null,null,null,""]
["",null,null,null,null,""]
["",null,null,null,null,""]
["",null,null,null,null,""]
["",null,null,null,null,""]
["",null,null,null,null,""]
["",null,null,null,null,""]
["",null,null,null,null,""]
["",null,null,null,null,""]
["",null,null,null,null,""]
["",null,null,null,null,""]
["",null,null,null,null,""]
["",null,null,null,null,""]
["",null,null,null,null,""]
["",null,null,null,null,""]
["",null,null,null,null,""]
["",null,null,null,null,""]
["",null,null,null,null,""]
["",null,null,null,null,""]
["",null,null,null,null,""]
["",null,null,null,null,""]
["",null,null,null,null,""]
["",null,null,null,null,""]
["",null,null,null,null,""]
["",null,null,null,null,""]
["",null,null,null,null,""]
["",null,null,null,null,""]
["",null,null,null,null,""]
["",null,null,null,null,""]
["",null,null,null,null,""]
["",null,null,null,null,""]
["",null,null,null,null,""]
["",null,null,null,null,""]
["",null,null,null,null,{"$f":"IF(B1090>\"\",B1090&TEXT(C1090,\"aaa-yy\"),\"\")","v":""}]
[{"$f":"IF(B1091>\"\",YEAR(C1091),\"\")","v":""},null,null,null,null,""]
["",null,null,null,null,""]
["",null,null,null,null,""]
["",null,null,null,null,""]
["",null,null,null,null,""]
["",null,null,null,null,""]
["",null,null,null,null,""]
["",null,null,null,null,""]
["",null,null,null,null,""]
["",null,null,null,null,""]
["",null,null,null,null,""]
["",null,null,null,null,""]
["",null,null,null,null,""]
["",null,null,null,null,""]
["",null,null,null,null,""]
["",null,null,null,null,""]
["",null,null,null,null,""]
["",null,null,null,null,""]
["",null,null,null,null,""]
["",null,null,null,null,""]
["",null,null,null,null,""]
["",null,null,null,null,""]
["",null,null,null,null,""]
["",null,null,null,null,""]
["",null,null,null,null,""]
["",null,null,null,null,""]
["",null,null,null,null,""]
["",null,null,null,null,""]
["",null,null,null,null,""]
["",null,null,null,null,""]
["",null,null,null,null,""]
["",null,null,null,null,""]
["",null,null,null,null,""]
["",null,null,null,null,""]
["",null,null,null,null,""]
["",null,null,null,null,""]
["",null,null,null,null,""]
["",null,null,null,null,""]
["",null,null,null,null,""]
["",null,null,null,null,""]
["",null,null,null,null,""]
["",null,null,null,null,""]
["",null,null,null,null,""]
["",null,null,null,null,""]
["",null,null,null,null,""]
["",null,null,null,null,""]
["",null,null,null,null,""]
["",null,null,null,null,""]
["",null,null,null,null,""]
["",null,null,null,null,""]
["",null,null,null,null,""]
["",null,null,null,null,""]
["",null,null,null,null,""]
["",null,null,null,null,""]
["",null,null,null,null,""]
["",null,null,null,null,""]
["",null,null,null,null,""]
["",null,null,null,null,""]
["",null,null,null,null,""]
["",null,null,null,null,""]
["",null,null,null,null,""]
["",null,null,null,null,""]
["",null,null,null,null,""]
["",null,null,null,null,{"$f":"IF(B1154>\"\",B1154&TEXT(C1154,\"aaa-yy\"),\"\")","v":""}]
[{"$f":"IF(B1155>\"\",YEAR(C1155),\"\")","v":""},null,null,null,null,""]
["",null,null,null,null,""]
["",null,null,null,null,""]
["",null,null,null,null,""]
["",null,null,null,null,""]
["",null,null,null,null,""]
["",null,null,null,null,""]
["",null,null,null,null,""]
["",null,null,null,null,""]
["",null,null,null,null,""]
["",null,null,null,null,""]
["",null,null,null,null,""]
["",null,null,null,null,""]
["",null,null,null,null,""]
["",null,null,null,null,""]
["",null,null,null,null,""]
["",null,null,null,null,""]
["",null,null,null,null,""]
["",null,null,null,null,""]
["",null,null,null,null,""]
["",null,null,null,null,""]
["",null,null,null,null,""]
["",null,null,null,null,""]
["",null,null,null,null,""]
["",null,null,null,null,""]
["",null,null,null,null,""]
["",null,null,null,null,""]
["",null,null,null,null,""]
["",null,null,null,null,""]
["",null,null,null,null,""]
["",null,null,null,null,""]
["",null,null,null,null,""]
["",null,null,null,null,""]
["",null,null,null,null,""]
["",null,null,null,null,""]
["",null,null,null,null,""]
["",null,null,null,null,""]
["",null,null,null,null,""]
["",null,null,null,null,""]
["",null,null,null,null,""]
["",null,null,null,null,""]
["",null,null,null,null,""]
["",null,null,null,null,""]
["",null,null,null,null,""]
["",null,null,null,null,""]
["",null,null,null,null,""]
["",null,null,null,null,""]
["",null,null,null,null,""]
["",null,null,null,null,""]
["",null,null,null,null,""]
["",null,null,null,null,""]
["",null,null,null,null,""]
["",null,null,null,null,""]
["",null,null,null,null,""]
["",null,null,null,null,""]
["",null,null,null,null,""]
["",null,null,null,null,""]
["",null,null,null,null,""]
["",null,null,null,null,""]
["",null,null,null,null,""]
["",null,null,null,null,""]
["",null,null,null,null,""]
["",null,null,null,null,""]
["",null,null,null,null,{"$f":"IF(B1218>\"\",B1218&TEXT(C1218,\"aaa-yy\"),\"\")","v":""}]
[{"$f":"IF(B1219>\"\",YEAR(C1219),\"\")","v":""},null,null,null,null,""]
["",null,null,null,null,""]
["",null,null,null,null,""]
["",null,null,null,null,""]
["",null,null,null,null,""]
["",null,null,null,null,""]
["",null,null,null,null,""]
["",null,null,null,null,""]
["",null,null,null,null,""]
["",null,null,null,null,""]
["",null,null,null,null,""]
["",null,null,null,null,""]
["",null,null,null,null,""]
["",null,null,null,null,""]
["",null,null,null,null,""]
["",null,null,null,null,""]
["",null,null,null,null,""]
["",null,null,null,null,""]
["",null,null,null,null,""]
["",null,null,null,null,""]
["",null,null,null,null,""]
["",null,null,null,null,""]
["",null,null,null,null,""]
["",null,null,null,null,""]
["",null,null,null,null,""]
["",null,null,null,null,""]
["",null,null,null,null,""]
["",null,null,null,null,""]
["",null,null,null,null,""]
["",null,null,null,null,""]
["",null,null,null,null,""]
["",null,null,null,null,""]
["",null,null,null,null,""]
["",null,null,null,null,""]
["",null,null,null,null,""]
["",null,null,null,null,""]
["",null,null,null,null,""]
["",null,null,null,null,""]
["",null,null,null,null,""]
["",null,null,null,null,""]
["",null,null,null,null,""]
["",null,null,null,null,""]
["",null,null,null,null,""]
["",null,null,null,null,""]
["",null,null,null,null,""]
["",null,null,null,null,""]
["",null,null,null,null,""]
["",null,null,null,null,""]
["",null,null,null,null,""]
["",null,null,null,null,""]
["",null,null,null,null,""]
["",null,null,null,null,""]
["",null,null,null,null,""]
["",null,null,null,null,""]
["",null,null,null,null,""]
["",null,null,null,null,""]
["",null,null,null,null,""]
["",null,null,null,null,""]
["",null,null,null,null,""]
["",null,null,null,null,""]
["",null,null,null,null,""]
["",null,null,null,null,""]
["",null,null,null,null,""]
["",null,null,null,null,{"$f":"IF(B1282>\"\",B1282&TEXT(C1282,\"aaa-yy\"),\"\")","v":""}]
[{"$f":"IF(B1283>\"\",YEAR(C1283),\"\")","v":""},null,null,null,null,""]
["",null,null,null,null,""]
["",null,null,null,null,""]
["",null,null,null,null,""]
["",null,null,null,null,""]
["",null,null,null,null,""]
["",null,null,null,null,""]
["",null,null,null,null,""]
["",null,null,null,null,""]
["",null,null,null,null,""]
["",null,null,null,null,""]
["",null,null,null,null,""]
["",null,null,null,null,""]
["",null,null,null,null,""]
["",null,null,null,null,""]
["",null,null,null,null,""]
["",null,null,null,null,""]
["",null,null,null,null,""]
["",null,null,null,null,""]
["",null,null,null,null,""]
["",null,null,null,null,""]
["",null,null,null,null,""]
["",null,null,null,null,""]
["",null,null,null,null,""]
["",null,null,null,null,""]
["",null,null,null,null,""]
["",null,null,null,null,""]
["",null,null,null,null,""]
["",null,null,null,null,""]
["",null,null,null,null,""]
["",null,null,null,null,""]
["",null,null,null,null,""]
["",null,null,null,null,""]
["",null,null,null,null,""]
["",null,null,null,null,""]
["",null,null,null,null,""]
["",null,null,null,null,""]
["",null,null,null,null,""]
["",null,null,null,null,""]
["",null,null,null,null,""]
["",null,null,null,null,""]
["",null,null,null,null,""]
["",null,null,null,null,""]
["",null,null,null,null,""]
["",null,null,null,null,""]
["",null,null,null,null,""]
["",null,null,null,null,""]
["",null,null,null,null,""]
["",null,null,null,null,""]
["",null,null,null,null,""]
["",null,null,null,null,""]
["",null,null,null,null,""]
["",null,null,null,null,""]
["",null,null,null,null,""]
["",null,null,null,null,""]
["",null,null,null,null,""]
["",null,null,null,null,""]
["",null,null,null,null,""]
["",null,null,null,null,""]
["",null,null,null,null,""]
["",null,null,null,null,""]
["",null,null,null,null,""]
["",null,null,null,null,""]
["",null,null,null,null,{"$f":"IF(B1346>\"\",B1346&TEXT(C1346,\"aaa-yy\"),\"\")","v":""}]
[{"$f":"IF(B1347>\"\",YEAR(C1347),\"\")","v":""},null,null,null,null,""]
["",null,null,null,null,""]
["",null,null,null,null,""]
["",null,null,null,null,""]
["",null,null,null,null,""]
["",null,null,null,null,""]
["",null,null,null,null,""]
["",null,null,null,null,""]
["",null,null,null,null,""]
["",null,null,null,null,""]
["",null,null,null,null,""]
["",null,null,null,null,""]
["",null,null,null,null,""]
["",null,null,null,null,""]
["",null,null,null,null,""]
["",null,null,null,null,""]
["",null,null,null,null,""]
["",null,null,null,null,""]
["",null,null,null,null,""]
["",null,null,null,null,""]
["",null,null,null,null,""]
["",null,null,null,null,""]
["",null,null,null,null,""]
["",null,null,null,null,""]
["",null,null,null,null,""]
["",null,null,null,null,""]
["",null,null,null,null,""]
["",null,null,null,null,""]
["",null,null,null,null,""]
["",null,null,null,null,""]
["",null,null,null,null,""]
["",null,null,null,null,""]
["",null,null,null,null,""]
["",null,null,null,null,""]
["",null,null,null,null,""]
["",null,null,null,null,""]
["",null,null,null,null,""]
["",null,null,null,null,""]
["",null,null,null,null,""]
["",null,null,null,null,""]
["",null,null,null,null,""]
["",null,null,null,null,""]
["",null,null,null,null,""]
["",null,null,null,null,""]
["",null,null,null,null,""]
["",null,null,null,null,""]
["",null,null,null,null,""]
["",null,null,null,null,""]
["",null,null,null,null,""]
["",null,null,null,null,""]
["",null,null,null,null,""]
["",null,null,null,null,""]
["",null,null,null,null,""]
["",null,null,null,null,""]
["",null,null,null,null,""]
["",null,null,null,null,""]
["",null,null,null,null,""]
["",null,null,null,null,""]
["",null,null,null,null,""]
["",null,null,null,null,""]
["",null,null,null,null,""]
["",null,null,null,null,""]
["",null,null,null,null,""]
["",null,null,null,null,{"$f":"IF(B1410>\"\",B1410&TEXT(C1410,\"aaa-yy\"),\"\")","v":""}]
[{"$f":"IF(B1411>\"\",YEAR(C1411),\"\")","v":""},null,null,null,null,""]
["",null,null,null,null,""]
["",null,null,null,null,""]
["",null,null,null,null,""]
["",null,null,null,null,""]
["",null,null,null,null,""]
["",null,null,null,null,""]
["",null,null,null,null,""]
["",null,null,null,null,""]
["",null,null,null,null,""]
["",null,null,null,null,""]
["",null,null,null,null,""]
["",null,null,null,null,""]
["",null,null,null,null,""]
["",null,null,null,null,""]
["",null,null,null,null,""]
["",null,null,null,null,""]
["",null,null,null,null,""]
["",null,null,null,null,""]
["",null,null,null,null,""]
["",null,null,null,null,""]
["",null,null,null,null,""]
["",null,null,null,null,""]
["",null,null,null,null,""]
["",null,null,null,null,""]
["",null,null,null,null,""]
["",null,null,null,null,""]
["",null,null,null,null,""]
["",null,null,null,null,""]
["",null,null,null,null,""]
["",null,null,null,null,""]
["",null,null,null,null,""]
["",null,null,null,null,""]
["",null,null,null,null,""]
["",null,null,null,null,""]
["",null,null,null,null,""]
["",null,null,null,null,""]
["",null,null,null,null,""]
["",null,null,null,null,""]
["",null,null,null,null,""]
["",null,null,null,null,""]
["",null,null,null,null,""]
["",null,null,null,null,""]
["",null,null,null,null,""]
["",null,null,null,null,""]
["",null,null,null,null,""]
["",null,null,null,null,""]
["",null,null,null,null,""]
["",null,null,null,null,""]
["",null,null,null,null,""]
["",null,null,null,null,""]
["",null,null,null,null,""]
["",null,null,null,null,""]
["",null,null,null,null,""]
["",null,null,null,null,""]
["",null,null,null,null,""]
["",null,null,null,null,""]
["",null,null,null,null,""]
["",null,null,null,null,""]
["",null,null,null,null,""]
["",null,null,null,null,""]
["",null,null,null,null,""]
["",null,null,null,null,""]
["",null,null,null,null,{"$f":"IF(B1474>\"\",B1474&TEXT(C1474,\"aaa-yy\"),\"\")","v":""}]
[{"$f":"IF(B1475>\"\",YEAR(C1475),\"\")","v":""},null,null,null,null,""]
["",null,null,null,null,""]
["",null,null,null,null,""]
["",null,null,null,null,""]
["",null,null,null,null,""]
["",null,null,null,null,""]
["",null,null,null,null,""]
["",null,null,null,null,""]
["",null,null,null,null,""]
["",null,null,null,null,""]
["",null,null,null,null,""]
["",null,null,null,null,""]
["",null,null,null,null,""]
["",null,null,null,null,""]
["",null,null,null,null,""]
["",null,null,null,null,""]
["",null,null,null,null,""]
["",null,null,null,null,""]
["",null,null,null,null,""]
["",null,null,null,null,""]
["",null,null,null,null,""]
["",null,null,null,null,""]
["",null,null,null,null,""]
["",null,null,null,null,""]
["",null,null,null,null,""]
["",null,null,null,null,""]
["",null,null,null,null,""]
["",null,null,null,null,""]
["",null,null,null,null,""]
["",null,null,null,null,""]
["",null,null,null,null,""]
["",null,null,null,null,""]
["",null,null,null,null,""]
["",null,null,null,null,""]
["",null,null,null,null,""]
["",null,null,null,null,""]
["",null,null,null,null,""]
["",null,null,null,null,""]
["",null,null,null,null,""]
["",null,null,null,null,""]
["",null,null,null,null,""]
["",null,null,null,null,""]
["",null,null,null,null,""]
["",null,null,null,null,""]
["",null,null,null,null,""]
["",null,null,null,null,""]
["",null,null,null,null,""]
["",null,null,null,null,""]
["",null,null,null,null,""]
["",null,null,null,null,""]
["",null,null,null,null,""]
["",null,null,null,null,""]
["",null,null,null,null,""]
["",null,null,null,null,""]
["",null,null,null,null,""]
["",null,null,null,null,""]
["",null,null,null,null,""]
["",null,null,null,null,""]
["",null,null,null,null,""]
["",null,null,null,null,""]
["",null,null,null,null,""]
["",null,null,null,null,""]
["",null,null,null,null,""]
["",null,null,null,null,{"$f":"IF(B1538>\"\",B1538&TEXT(C1538,\"aaa-yy\"),\"\")","v":""}]
[{"$f":"IF(B1539>\"\",YEAR(C1539),\"\")","v":""},null,null,null,null,""]
["",null,null,null,null,""]
["",null,null,null,null,""]
["",null,null,null,null,""]
["",null,null,null,null,""]
["",null,null,null,null,""]
["",null,null,null,null,""]
["",null,null,null,null,""]
["",null,null,null,null,""]
["",null,null,null,null,""]
["",null,null,null,null,""]
["",null,null,null,null,""]
["",null,null,null,null,""]
["",null,null,null,null,""]
["",null,null,null,null,""]
["",null,null,null,null,""]
["",null,null,null,null,""]
["",null,null,null,null,""]
["",null,null,null,null,""]
["",null,null,null,null,""]
["",null,null,null,null,""]
["",null,null,null,null,""]
["",null,null,null,null,""]
["",null,null,null,null,""]
["",null,null,null,null,""]
["",null,null,null,null,""]
["",null,null,null,null,""]
["",null,null,null,null,""]
["",null,null,null,null,""]
["",null,null,null,null,""]
["",null,null,null,null,""]
["",null,null,null,null,""]
["",null,null,null,null,""]
["",null,null,null,null,""]
["",null,null,null,null,""]
["",null,null,null,null,""]
["",null,null,null,null,""]
["",null,null,null,null,""]
["",null,null,null,null,""]
["",null,null,null,null,""]
["",null,null,null,null,""]
["",null,null,null,null,""]
["",null,null,null,null,""]
["",null,null,null,null,""]
["",null,null,null,null,""]
["",null,null,null,null,""]
["",null,null,null,null,""]
["",null,null,null,null,""]
["",null,null,null,null,""]
["",null,null,null,null,""]
["",null,null,null,null,""]
["",null,null,null,null,""]
["",null,null,null,null,""]
["",null,null,null,null,""]
["",null,null,null,null,""]
["",null,null,null,null,""]
["",null,null,null,null,""]
["",null,null,null,null,""]
["",null,null,null,null,""]
["",null,null,null,null,""]
["",null,null,null,null,""]
["",null,null,null,null,""]
["",null,null,null,null,""]
["",null,null,null,null,{"$f":"IF(B1602>\"\",B1602&TEXT(C1602,\"aaa-yy\"),\"\")","v":""}]
[{"$f":"IF(B1603>\"\",YEAR(C1603),\"\")","v":""},null,null,null,null,""]
["",null,null,null,null,""]
["",null,null,null,null,""]
["",null,null,null,null,""]
["",null,null,null,null,""]
["",null,null,null,null,""]
["",null,null,null,null,""]
["",null,null,null,null,""]
["",null,null,null,null,""]
["",null,null,null,null,""]
["",null,null,null,null,""]
["",null,null,null,null,""]
["",null,null,null,null,""]
["",null,null,null,null,""]
["",null,null,null,null,""]
["",null,null,null,null,""]
["",null,null,null,null,""]
["",null,null,null,null,""]
["",null,null,null,null,""]
["",null,null,null,null,""]
["",null,null,null,null,""]
["",null,null,null,null,""]
["",null,null,null,null,""]
["",null,null,null,null,""]
["",null,null,null,null,""]
["",null,null,null,null,""]
["",null,null,null,null,""]
["",null,null,null,null,""]
["",null,null,null,null,""]
["",null,null,null,null,""]
["",null,null,null,null,""]
["",null,null,null,null,""]
["",null,null,null,null,""]
["",null,null,null,null,""]
["",null,null,null,null,""]
["",null,null,null,null,""]
["",null,null,null,null,""]
["",null,null,null,null,""]
["",null,null,null,null,""]
["",null,null,null,null,""]
["",null,null,null,null,""]
["",null,null,null,null,""]
["",null,null,null,null,""]
["",null,null,null,null,""]
["",null,null,null,null,""]
["",null,null,null,null,""]
["",null,null,null,null,""]
["",null,null,null,null,""]
["",null,null,null,null,""]
["",null,null,null,null,""]
["",null,null,null,null,""]
["",null,null,null,null,""]
["",null,null,null,null,""]
["",null,null,null,null,""]
["",null,null,null,null,""]
["",null,null,null,null,""]
["",null,null,null,null,""]
["",null,null,null,null,""]
["",null,null,null,null,""]
["",null,null,null,null,""]
["",null,null,null,null,""]
["",null,null,null,null,""]
["",null,null,null,null,""]
["",null,null,null,null,{"$f":"IF(B1666>\"\",B1666&TEXT(C1666,\"aaa-yy\"),\"\")","v":""}]
[{"$f":"IF(B1667>\"\",YEAR(C1667),\"\")","v":""},null,null,null,null,""]
["",null,null,null,null,""]
["",null,null,null,null,""]
["",null,null,null,null,""]
["",null,null,null,null,""]
["",null,null,null,null,""]
["",null,null,null,null,""]
["",null,null,null,null,""]
["",null,null,null,null,""]
["",null,null,null,null,""]
["",null,null,null,null,""]
["",null,null,null,null,""]
["",null,null,null,null,""]
["",null,null,null,null,""]
["",null,null,null,null,""]
["",null,null,null,null,""]
["",null,null,null,null,""]
["",null,null,null,null,""]
["",null,null,null,null,""]
["",null,null,null,null,""]
["",null,null,null,null,""]
["",null,null,null,null,""]
["",null,null,null,null,""]
["",null,null,null,null,""]
["",null,null,null,null,""]
["",null,null,null,null,""]
["",null,null,null,null,""]
["",null,null,null,null,""]
["",null,null,null,null,""]
["",null,null,null,null,""]
["",null,null,null,null,""]
["",null,null,null,null,""]
["",null,null,null,null,""]
["",null,null,null,null,""]
["",null,null,null,null,""]
["",null,null,null,null,""]
["",null,null,null,null,""]
["",null,null,null,null,""]
["",null,null,null,null,""]
["",null,null,null,null,""]
["",null,null,null,null,""]
["",null,null,null,null,""]
["",null,null,null,null,""]
["",null,null,null,null,""]
["",null,null,null,null,""]
["",null,null,null,null,""]
["",null,null,null,null,""]
["",null,null,null,null,""]
["",null,null,null,null,""]
["",null,null,null,null,""]
["",null,null,null,null,""]
["",null,null,null,null,""]
["",null,null,null,null,""]
["",null,null,null,null,""]
["",null,null,null,null,""]
["",null,null,null,null,""]
["",null,null,null,null,""]
["",null,null,null,null,""]
["",null,null,null,null,""]
["",null,null,null,null,""]
["",null,null,null,null,""]
["",null,null,null,null,""]
["",null,null,null,null,""]
["",null,null,null,null,{"$f":"IF(B1730>\"\",B1730&TEXT(C1730,\"aaa-yy\"),\"\")","v":""}]
[{"$f":"IF(B1731>\"\",YEAR(C1731),\"\")","v":""},null,null,null,null,""]
["",null,null,null,null,""]
["",null,null,null,null,""]
["",null,null,null,null,""]
["",null,null,null,null,""]
["",null,null,null,null,""]
["",null,null,null,null,""]
["",null,null,null,null,""]
["",null,null,null,null,""]
["",null,null,null,null,""]
["",null,null,null,null,""]
["",null,null,null,null,""]
["",null,null,null,null,""]
["",null,null,null,null,""]
["",null,null,null,null,""]
["",null,null,null,null,""]
["",null,null,null,null,""]
["",null,null,null,null,""]
["",null,null,null,null,""]
["",null,null,null,null,""]
["",null,null,null,null,""]
["",null,null,null,null,""]
["",null,null,null,null,""]
["",null,null,null,null,""]
["",null,null,null,null,""]
["",null,null,null,null,""]
["",null,null,null,null,""]
["",null,null,null,null,""]
["",null,null,null,null,""]
["",null,null,null,null,""]
["",null,null,null,null,""]
["",null,null,null,null,""]
["",null,null,null,null,""]
["",null,null,null,null,""]
["",null,null,null,null,""]
["",null,null,null,null,""]
["",null,null,null,null,""]
["",null,null,null,null,""]
["",null,null,null,null,""]
["",null,null,null,null,""]
["",null,null,null,null,""]
["",null,null,null,null,""]
["",null,null,null,null,""]
["",null,null,null,null,""]
["",null,null,null,null,""]
["",null,null,null,null,""]
["",null,null,null,null,""]
["",null,null,null,null,""]
["",null,null,null,null,""]
["",null,null,null,null,""]
["",null,null,null,null,""]
["",null,null,null,null,""]
["",null,null,null,null,""]
["",null,null,null,null,""]
["",null,null,null,null,""]
["",null,null,null,null,""]
["",null,null,null,null,""]
["",null,null,null,null,""]
["",null,null,null,null,""]
["",null,null,null,null,""]
["",null,null,null,null,""]
["",null,null,null,null,""]
["",null,null,null,null,""]
["",null,null,null,null,{"$f":"IF(B1794>\"\",B1794&TEXT(C1794,\"aaa-yy\"),\"\")","v":""}]
[{"$f":"IF(B1795>\"\",YEAR(C1795),\"\")","v":""},null,null,null,null,""]
["",null,null,null,null,""]
["",null,null,null,null,""]
["",null,null,null,null,""]
["",null,null,null,null,""]
["",null,null,null,null,""]
["",null,null,null,null,""]
["",null,null,null,null,""]
["",null,null,null,null,""]
["",null,null,null,null,""]
["",null,null,null,null,""]
["",null,null,null,null,""]
["",null,null,null,null,""]
["",null,null,null,null,""]
["",null,null,null,null,""]
["",null,null,null,null,""]
["",null,null,null,null,""]
["",null,null,null,null,""]
["",null,null,null,null,""]
["",null,null,null,null,""]
["",null,null,null,null,""]
["",null,null,null,null,""]
["",null,null,null,null,""]
["",null,null,null,null,""]
["",null,null,null,null,""]
["",null,null,null,null,""]
["",null,null,null,null,""]
["",null,null,null,null,""]
["",null,null,null,null,""]
["",null,null,null,null,""]
["",null,null,null,null,""]
["",null,null,null,null,""]
["",null,null,null,null,""]
["",null,null,null,null,""]
["",null,null,null,null,""]
["",null,null,null,null,""]
["",null,null,null,null,""]
["",null,null,null,null,""]
["",null,null,null,null,""]
["",null,null,null,null,""]
["",null,null,null,null,""]
["",null,null,null,null,""]
["",null,null,null,null,""]
["",null,null,null,null,""]
["",null,null,null,null,""]
["",null,null,null,null,""]
["",null,null,null,null,""]
["",null,null,null,null,""]
["",null,null,null,null,""]
["",null,null,null,null,""]
["",null,null,null,null,""]
["",null,null,null,null,""]
["",null,null,null,null,""]
["",null,null,null,null,""]
["",null,null,null,null,""]
["",null,null,null,null,""]
["",null,null,null,null,""]
["",null,null,null,null,""]
["",null,null,null,null,""]
["",null,null,null,null,""]
["",null,null,null,null,""]
["",null,null,null,null,""]
["",null,null,null,null,""]
["",null,null,null,null,{"$f":"IF(B1858>\"\",B1858&TEXT(C1858,\"aaa-yy\"),\"\")","v":""}]
[{"$f":"IF(B1859>\"\",YEAR(C1859),\"\")","v":""},null,null,null,null,""]
["",null,null,null,null,""]
["",null,null,null,null,""]
["",null,null,null,null,""]
["",null,null,null,null,""]
["",null,null,null,null,""]
["",null,null,null,null,""]
["",null,null,null,null,""]
["",null,null,null,null,""]
["",null,null,null,null,""]
["",null,null,null,null,""]
["",null,null,null,null,""]
["",null,null,null,null,""]
["",null,null,null,null,""]
["",null,null,null,null,""]
["",null,null,null,null,""]
["",null,null,null,null,""]
["",null,null,null,null,""]
["",null,null,null,null,""]
["",null,null,null,null,""]
["",null,null,null,null,""]
["",null,null,null,null,""]
["",null,null,null,null,""]
["",null,null,null,null,""]
["",null,null,null,null,""]
["",null,null,null,null,""]
["",null,null,null,null,""]
["",null,null,null,null,""]
["",null,null,null,null,""]
["",null,null,null,null,""]
["",null,null,null,null,""]
["",null,null,null,null,""]
["",null,null,null,null,""]
["",null,null,null,null,""]
["",null,null,null,null,""]
["",null,null,null,null,""]
["",null,null,null,null,""]
["",null,null,null,null,""]
["",null,null,null,null,""]
["",null,null,null,null,""]
["",null,null,null,null,""]
["",null,null,null,null,""]
["",null,null,null,null,""]
["",null,null,null,null,""]
["",null,null,null,null,""]
["",null,null,null,null,""]
["",null,null,null,null,""]
["",null,null,null,null,""]
["",null,null,null,null,""]
["",null,null,null,null,""]
["",null,null,null,null,""]
["",null,null,null,null,""]
["",null,null,null,null,""]
["",null,null,null,null,""]
["",null,null,null,null,""]
["",null,null,null,null,""]
["",null,null,null,null,""]
["",null,null,null,null,""]
["",null,null,null,null,""]
["",null,null,null,null,""]
["",null,null,null,null,""]
["",null,null,null,null,""]
["",null,null,null,null,""]
["",null,null,null,null,{"$f":"IF(B1922>\"\",B1922&TEXT(C1922,\"aaa-yy\"),\"\")","v":""}]
[{"$f":"IF(B1923>\"\",YEAR(C1923),\"\")","v":""},null,null,null,null,""]
["",null,null,null,null,""]
["",null,null,null,null,""]
["",null,null,null,null,""]
["",null,null,null,null,""]
["",null,null,null,null,""]
["",null,null,null,null,""]
["",null,null,null,null,""]
["",null,null,null,null,""]
["",null,null,null,null,""]
["",null,null,null,null,""]
["",null,null,null,null,""]
["",null,null,null,null,""]
["",null,null,null,null,""]
["",null,null,null,null,""]
["",null,null,null,null,""]
["",null,null,null,null,""]
["",null,null,null,null,""]
["",null,null,null,null,""]
["",null,null,null,null,""]
["",null,null,null,null,""]
["",null,null,null,null,""]
["",null,null,null,null,""]
["",null,null,null,null,""]
["",null,null,null,null,""]
["",null,null,null,null,""]
["",null,null,null,null,""]
["",null,null,null,null,""]
["",null,null,null,null,""]
["",null,null,null,null,""]
["",null,null,null,null,""]
["",null,null,null,null,""]
["",null,null,null,null,""]
["",null,null,null,null,""]
["",null,null,null,null,""]
["",null,null,null,null,""]
["",null,null,null,null,""]
["",null,null,null,null,""]
["",null,null,null,null,""]
["",null,null,null,null,""]
["",null,null,null,null,""]
["",null,null,null,null,""]
["",null,null,null,null,""]
["",null,null,null,null,""]
["",null,null,null,null,""]
["",null,null,null,null,""]
["",null,null,null,null,""]
["",null,null,null,null,""]
["",null,null,null,null,""]
["",null,null,null,null,""]
["",null,null,null,null,""]
["",null,null,null,null,""]
["",null,null,null,null,""]
["",null,null,null,null,""]
["",null,null,null,null,""]
["",null,null,null,null,""]
["",null,null,null,null,""]
["",null,null,null,null,""]
["",null,null,null,null,""]
["",null,null,null,null,""]
["",null,null,null,null,""]
["",null,null,null,null,""]
["",null,null,null,null,""]
["",null,null,null,null,{"$f":"IF(B1986>\"\",B1986&TEXT(C1986,\"aaa-yy\"),\"\")","v":""}]
[{"$f":"IF(B1987>\"\",YEAR(C1987),\"\")","v":""},null,null,null,null,""]
["",null,null,null,null,""]
["",null,null,null,null,""]
["",null,null,null,null,""]
["",null,null,null,null,""]
["",null,null,null,null,""]
["",null,null,null,null,""]
["",null,null,null,null,""]
["",null,null,null,null,""]
["",null,null,null,null,""]
["",null,null,null,null,""]
["",null,null,null,null,""]
["",null,null,null,null,""]
["",null,null,null,null,""]
["",null,null,null,null,""]
["",null,null,null,null,""]
["",null,null,null,null,""]
["",null,null,null,null,""]
["",null,null,null,null,""]
["",null,null,null,null,""]
["",null,null,null,null,""]
["",null,null,null,null,""]
["",null,null,null,null,""]
["",null,null,null,null,""]
["",null,null,null,null,""]
["",null,null,null,null,""]
["",null,null,null,null,""]
["",null,null,null,null,""]
["",null,null,null,null,""]
["",null,null,null,null,""]
["",null,null,null,null,""]
["",null,null,null,null,""]
["",null,null,null,null,""]
["",null,null,null,null,""]
["",null,null,null,null,""]
["",null,null,null,null,""]
["",null,null,null,null,""]
["",null,null,null,null,""]
["",null,null,null,null,""]
["",null,null,null,null,""]
["",null,null,null,null,""]
["",null,null,null,null,""]
["",null,null,null,null,""]
["",null,null,null,null,""]
["",null,null,null,null,""]
["",null,null,null,null,""]
["",null,null,null,null,""]
["",null,null,null,null,""]
["",null,null,null,null,""]
["",null,null,null,null,""]
["",null,null,null,null,""]
["",null,null,null,null,""]
["",null,null,null,null,""]
["",null,null,null,null,""]
["",null,null,null,null,""]
["",null,null,null,null,""]
["",null,null,null,null,""]
["",null,null,null,null,""]
["",null,null,null,null,""]
["",null,null,null,null,""]
["",null,null,null,null,""]
["",null,null,null,null,""]
["",null,null,null,null,""]
["",null,null,null,null,{"$f":"IF(B2050>\"\",B2050&TEXT(C2050,\"aaa-yy\"),\"\")","v":""}]
[{"$f":"IF(B2051>\"\",YEAR(C2051),\"\")","v":""},null,null,null,null,""]
["",null,null,null,null,""]
["",null,null,null,null,""]
["",null,null,null,null,""]
["",null,null,null,null,""]
["",null,null,null,null,""]
["",null,null,null,null,""]
["",null,null,null,null,""]
["",null,null,null,null,""]
["",null,null,null,null,""]
["",null,null,null,null,""]
["",null,null,null,null,""]
["",null,null,null,null,""]
["",null,null,null,null,""]
["",null,null,null,null,""]
["",null,null,null,null,""]
["",null,null,null,null,""]
["",null,null,null,null,""]
["",null,null,null,null,""]
["",null,null,null,null,""]
["",null,null,null,null,""]
["",null,null,null,null,""]
["",null,null,null,null,""]
["",null,null,null,null,""]
["",null,null,null,null,""]
["",null,null,null,null,""]
["",null,null,null,null,""]
["",null,null,null,null,""]
["",null,null,null,null,""]
["",null,null,null,null,""]
["",null,null,null,null,""]
["",null,null,null,null,""]
["",null,null,null,null,""]
["",null,null,null,null,""]
["",null,null,null,null,""]
["",null,null,null,null,""]
["",null,null,null,null,""]
["",null,null,null,null,""]
["",null,null,null,null,""]
["",null,null,null,null,""]
["",null,null,null,null,""]
["",null,null,null,null,""]
["",null,null,null,null,""]
["",null,null,null,null,""]
["",null,null,null,null,""]
["",null,null,null,null,""]
["",null,null,null,null,""]
["",null,null,null,null,""]
["",null,null,null,null,""]
["",null,null,null,null,""]
["",null,null,null,null,""]
["",null,null,null,null,""]
["",null,null,null,null,""]
["",null,null,null,null,""]
["",null,null,null,null,""]
["",null,null,null,null,""]
["",null,null,null,null,""]
["",null,null,null,null,""]
["",null,null,null,null,""]
["",null,null,null,null,""]
["",null,null,null,null,""]
["",null,null,null,null,""]
["",null,null,null,null,""]
["",null,null,null,null,{"$f":"IF(B2114>\"\",B2114&TEXT(C2114,\"aaa-yy\"),\"\")","v":""}]
[{"$f":"IF(B2115>\"\",YEAR(C2115),\"\")","v":""},null,null,null,null,""]
["",null,null,null,null,""]
["",null,null,null,null,""]
["",null,null,null,null,""]
["",null,null,null,null,""]
["",null,null,null,null,""]
["",null,null,null,null,""]
["",null,null,null,null,""]
["",null,null,null,null,""]
["",null,null,null,null,""]
["",null,null,null,null,""]
["",null,null,null,null,""]
["",null,null,null,null,""]
["",null,null,null,null,""]
["",null,null,null,null,""]
["",null,null,null,null,""]
["",null,null,null,null,""]
["",null,null,null,null,""]
["",null,null,null,null,""]
["",null,null,null,null,""]
["",null,null,null,null,""]
["",null,null,null,null,""]
["",null,null,null,null,""]
["",null,null,null,null,""]
["",null,null,null,null,""]
["",null,null,null,null,""]
["",null,null,null,null,""]
["",null,null,null,null,""]
["",null,null,null,null,""]
["",null,null,null,null,""]
["",null,null,null,null,""]
["",null,null,null,null,""]
["",null,null,null,null,""]
["",null,null,null,null,""]
["",null,null,null,null,""]
["",null,null,null,null,""]
["",null,null,null,null,""]
["",null,null,null,null,""]
["",null,null,null,null,""]
["",null,null,null,null,""]
["",null,null,null,null,""]
["",null,null,null,null,""]
["",null,null,null,null,""]
["",null,null,null,null,""]
["",null,null,null,null,""]
["",null,null,null,null,""]
["",null,null,null,null,""]
["",null,null,null,null,""]
["",null,null,null,null,""]
["",null,null,null,null,""]
["",null,null,null,null,""]
["",null,null,null,null,""]
["",null,null,null,null,""]
["",null,null,null,null,""]
["",null,null,null,null,""]
["",null,null,null,null,""]
["",null,null,null,null,""]
["",null,null,null,null,""]
["",null,null,null,null,""]
["",null,null,null,null,""]
["",null,null,null,null,""]
["",null,null,null,null,""]
["",null,null,null,null,""]
["",null,null,null,null,{"$f":"IF(B2178>\"\",B2178&TEXT(C2178,\"aaa-yy\"),\"\")","v":""}]
[{"$f":"IF(B2179>\"\",YEAR(C2179),\"\")","v":""},null,null,null,null,""]
["",null,null,null,null,""]
["",null,null,null,null,""]
["",null,null,null,null,""]
["",null,null,null,null,""]
["",null,null,null,null,""]
["",null,null,null,null,""]
["",null,null,null,null,""]
["",null,null,null,null,""]
["",null,null,null,null,""]
["",null,null,null,null,""]
["",null,null,null,null,""]
["",null,null,null,null,""]
["",null,null,null,null,""]
["",null,null,null,null,""]
["",null,null,null,null,""]
["",null,null,null,null,""]
["",null,null,null,null,""]
["",null,null,null,null,""]
["",null,null,null,null,""]
["",null,null,null,null,""]
["",null,null,null,null,""]
["",null,null,null,null,""]
["",null,null,null,null,""]
["",null,null,null,null,""]
["",null,null,null,null,""]
["",null,null,null,null,""]
["",null,null,null,null,""]
["",null,null,null,null,""]
["",null,null,null,null,""]
["",null,null,null,null,""]
["",null,null,null,null,""]
["",null,null,null,null,""]
["",null,null,null,null,""]
["",null,null,null,null,""]
["",null,null,null,null,""]
["",null,null,null,null,""]
["",null,null,null,null,""]
["",null,null,null,null,""]
["",null,null,null,null,""]
["",null,null,null,null,""]
["",null,null,null,null,""]
["",null,null,null,null,""]
["",null,null,null,null,""]
["",null,null,null,null,""]
["",null,null,null,null,""]
["",null,null,null,null,""]
["",null,null,null,null,""]
["",null,null,null,null,""]
["",null,null,null,null,""]
["",null,null,null,null,""]
["",null,null,null,null,""]
["",null,null,null,null,""]
["",null,null,null,null,""]
["",null,null,null,null,""]
["",null,null,null,null,""]
["",null,null,null,null,""]
["",null,null,null,null,""]
["",null,null,null,null,""]
["",null,null,null,null,""]
["",null,null,null,null,""]
["",null,null,null,null,""]
["",null,null,null,null,""]
["",null,null,null,null,{"$f":"IF(B2242>\"\",B2242&TEXT(C2242,\"aaa-yy\"),\"\")","v":""}]
[{"$f":"IF(B2243>\"\",YEAR(C2243),\"\")","v":""},null,null,null,null,""]
["",null,null,null,null,""]
["",null,null,null,null,""]
["",null,null,null,null,""]
["",null,null,null,null,""]
["",null,null,null,null,""]
["",null,null,null,null,""]
["",null,null,null,null,""]
["",null,null,null,null,""]
["",null,null,null,null,""]
["",null,null,null,null,""]
["",null,null,null,null,""]
["",null,null,null,null,""]
["",null,null,null,null,""]
["",null,null,null,null,""]
["",null,null,null,null,""]
["",null,null,null,null,""]
["",null,null,null,null,""]
["",null,null,null,null,""]
["",null,null,null,null,""]
["",null,null,null,null,""]
["",null,null,null,null,""]
["",null,null,null,null,""]
["",null,null,null,null,""]
["",null,null,null,null,""]
["",null,null,null,null,""]
["",null,null,null,null,""]
["",null,null,null,null,""]
["",null,null,null,null,""]
["",null,null,null,null,""]
["",null,null,null,null,""]
["",null,null,null,null,""]
["",null,null,null,null,""]
["",null,null,null,null,""]
["",null,null,null,null,""]
["",null,null,null,null,""]
["",null,null,null,null,""]
["",null,null,null,null,""]
["",null,null,null,null,""]
["",null,null,null,null,""]
["",null,null,null,null,""]
["",null,null,null,null,""]
["",null,null,null,null,""]
["",null,null,null,null,""]
["",null,null,null,null,""]
["",null,null,null,null,""]
["",null,null,null,null,""]
["",null,null,null,null,""]
["",null,null,null,null,""]
["",null,null,null,null,""]
["",null,null,null,null,""]
["",null,null,null,null,""]
["",null,null,null,null,""]
["",null,null,null,null,""]
["",null,null,null,null,""]
["",null,null,null,null,""]
["",null,null,null,null,""]
["",null,null,null,null,""]
["",null,null,null,null,""]
["",null,null,null,null,""]
["",null,null,null,null,""]
["",null,null,null,null,""]
["",null,null,null,null,""]
["",null,null,null,null,{"$f":"IF(B2306>\"\",B2306&TEXT(C2306,\"aaa-yy\"),\"\")","v":""}]
[{"$f":"IF(B2307>\"\",YEAR(C2307),\"\")","v":""},null,null,null,null,""]
["",null,null,null,null,""]
["",null,null,null,null,""]
["",null,null,null,null,""]
["",null,null,null,null,""]
["",null,null,null,null,""]
["",null,null,null,null,""]
["",null,null,null,null,""]
["",null,null,null,null,""]
["",null,null,null,null,""]
["",null,null,null,null,""]
["",null,null,null,null,""]
["",null,null,null,null,""]
["",null,null,null,null,""]
["",null,null,null,null,""]
["",null,null,null,null,""]
["",null,null,null,null,""]
["",null,null,null,null,""]
["",null,null,null,null,""]
["",null,null,null,null,""]
["",null,null,null,null,""]
["",null,null,null,null,""]
["",null,null,null,null,""]
["",null,null,null,null,""]
["",null,null,null,null,""]
["",null,null,null,null,""]
["",null,null,null,null,""]
["",null,null,null,null,""]
["",null,null,null,null,""]
["",null,null,null,null,""]
["",null,null,null,null,""]
["",null,null,null,null,""]
["",null,null,null,null,""]
["",null,null,null,null,""]
["",null,null,null,null,""]
["",null,null,null,null,""]
["",null,null,null,null,""]
["",null,null,null,null,""]
["",null,null,null,null,""]
["",null,null,null,null,""]
["",null,null,null,null,""]
["",null,null,null,null,""]
["",null,null,null,null,""]
["",null,null,null,null,""]
["",null,null,null,null,""]
["",null,null,null,null,""]
["",null,null,null,null,""]
["",null,null,null,null,""]
["",null,null,null,null,""]
["",null,null,null,null,""]
["",null,null,null,null,""]
["",null,null,null,null,""]
["",null,null,null,null,""]
["",null,null,null,null,""]
["",null,null,null,null,""]
["",null,null,null,null,""]
["",null,null,null,null,""]
["",null,null,null,null,""]
["",null,null,null,null,""]
["",null,null,null,null,""]
["",null,null,null,null,""]
["",null,null,null,null,""]
["",null,null,null,null,""]
["",null,null,null,null,{"$f":"IF(B2370>\"\",B2370&TEXT(C2370,\"aaa-yy\"),\"\")","v":""}]
[{"$f":"IF(B2371>\"\",YEAR(C2371),\"\")","v":""},null,null,null,null,""]
["",null,null,null,null,""]
["",null,null,null,null,""]
["",null,null,null,null,""]
["",null,null,null,null,""]
["",null,null,null,null,""]
["",null,null,null,null,""]
["",null,null,null,null,""]
["",null,null,null,null,""]
["",null,null,null,null,""]
["",null,null,null,null,""]
["",null,null,null,null,""]
["",null,null,null,null,""]
["",null,null,null,null,""]
["",null,null,null,null,""]
["",null,null,null,null,""]
["",null,null,null,null,""]
["",null,null,null,null,""]
["",null,null,null,null,""]
["",null,null,null,null,""]
["",null,null,null,null,""]
["",null,null,null,null,""]
["",null,null,null,null,""]
["",null,null,null,null,""]
["",null,null,null,null,""]
["",null,null,null,null,""]
["",null,null,null,null,""]
["",null,null,null,null,""]
["",null,null,null,null,""]
["",null,null,null,null,""]
["",null,null,null,null,""]
["",null,null,null,null,""]
["",null,null,null,null,""]
["",null,null,null,null,""]
["",null,null,null,null,""]
["",null,null,null,null,""]
["",null,null,null,null,""]
["",null,null,null,null,""]
["",null,null,null,null,""]
["",null,null,null,null,""]
["",null,null,null,null,""]
["",null,null,null,null,""]
["",null,null,null,null,""]
["",null,null,null,null,""]
["",null,null,null,null,""]
["",null,null,null,null,""]
["",null,null,null,null,""]
["",null,null,null,null,""]
["",null,null,null,null,""]
["",null,null,null,null,""]
["",null,null,null,null,""]
["",null,null,null,null,""]
["",null,null,null,null,""]
["",null,null,null,null,""]
["",null,null,null,null,""]
["",null,null,null,null,""]
["",null,null,null,null,""]
["",null,null,null,null,""]
["",null,null,null,null,""]
["",null,null,null,null,""]
["",null,null,null,null,""]
["",null,null,null,null,""]
["",null,null,null,null,""]
["",null,null,null,null,{"$f":"IF(B2434>\"\",B2434&TEXT(C2434,\"aaa-yy\"),\"\")","v":""}]
[{"$f":"IF(B2435>\"\",YEAR(C2435),\"\")","v":""},null,null,null,null,""]
["",null,null,null,null,""]
["",null,null,null,null,""]
["",null,null,null,null,""]
["",null,null,null,null,""]
["",null,null,null,null,""]
["",null,null,null,null,""]
["",null,null,null,null,""]
["",null,null,null,null,""]
["",null,null,null,null,""]
["",null,null,null,null,""]
["",null,null,null,null,""]
["",null,null,null,null,""]
["",null,null,null,null,""]
["",null,null,null,null,""]
["",null,null,null,null,""]
["",null,null,null,null,""]
["",null,null,null,null,""]
["",null,null,null,null,""]
["",null,null,null,null,""]
["",null,null,null,null,""]
["",null,null,null,null,""]
["",null,null,null,null,""]
["",null,null,null,null,""]
["",null,null,null,null,""]
["",null,null,null,null,""]
["",null,null,null,null,""]
["",null,null,null,null,""]
["",null,null,null,null,""]
["",null,null,null,null,""]
["",null,null,null,null,""]
["",null,null,null,null,""]
["",null,null,null,null,""]
["",null,null,null,null,""]
["",null,null,null,null,""]
["",null,null,null,null,""]
["",null,null,null,null,""]
["",null,null,null,null,""]
["",null,null,null,null,""]
["",null,null,null,null,""]
["",null,null,null,null,""]
["",null,null,null,null,""]
["",null,null,null,null,""]
["",null,null,null,null,""]
["",null,null,null,null,""]
["",null,null,null,null,""]
["",null,null,null,null,""]
["",null,null,null,null,""]
["",null,null,null,null,""]
["",null,null,null,null,""]
["",null,null,null,null,""]
["",null,null,null,null,""]
["",null,null,null,null,""]
["",null,null,null,null,""]
["",null,null,null,null,""]
["",null,null,null,null,""]
["",null,null,null,null,""]
["",null,null,null,null,""]
["",null,null,null,null,""]
["",null,null,null,null,""]
["",null,null,null,null,""]
["",null,null,null,null,""]
["",null,null,null,null,""]
["",null,null,null,null,{"$f":"IF(B2498>\"\",B2498&TEXT(C2498,\"aaa-yy\"),\"\")","v":""}]
[{"$f":"IF(B2499>\"\",YEAR(C2499),\"\")","v":""},null,null,null,null,""]
["",null,null,null,null,""]
["",null,null,null,null,""]
["",null,null,null,null,""]
["",null,null,null,null,""]
["",null,null,null,null,""]
["",null,null,null,null,""]
["",null,null,null,null,""]
["",null,null,null,null,""]
["",null,null,null,null,""]
["",null,null,null,null,""]
["",null,null,null,null,""]
["",null,null,null,null,""]
["",null,null,null,null,""]
["",null,null,null,null,""]
["",null,null,null,null,""]
["",null,null,null,null,""]
["",null,null,null,null,""]
["",null,null,null,null,""]
["",null,null,null,null,""]
["",null,null,null,null,""]
["",null,null,null,null,""]
["",null,null,null,null,""]
["",null,null,null,null,""]
["",null,null,null,null,""]
["",null,null,null,null,""]
["",null,null,null,null,""]
["",null,null,null,null,""]
["",null,null,null,null,""]
["",null,null,null,null,""]
["",null,null,null,null,""]
["",null,null,null,null,""]
["",null,null,null,null,""]
["",null,null,null,null,""]
["",null,null,null,null,""]
["",null,null,null,null,""]
["",null,null,null,null,""]
["",null,null,null,null,""]
["",null,null,null,null,""]
["",null,null,null,null,""]
["",null,null,null,null,""]
["",null,null,null,null,""]
["",null,null,null,null,""]
["",null,null,null,null,""]
["",null,null,null,null,""]
["",null,null,null,null,""]
["",null,null,null,null,""]
["",null,null,null,null,""]
["",null,null,null,null,""]
["",null,null,null,null,""]
["",null,null,null,null,""]
["",null,null,null,null,""]
["",null,null,null,null,""]
["",null,null,null,null,""]
["",null,null,null,null,""]
["",null,null,null,null,""]
["",null,null,null,null,""]
["",null,null,null,null,""]
["",null,null,null,null,""]
["",null,null,null,null,""]
["",null,null,null,null,""]
["",null,null,null,null,""]
["",null,null,null,null,""]
["",null,null,null,null,{"$f":"IF(B2562>\"\",B2562&TEXT(C2562,\"aaa-yy\"),\"\")","v":""}]
[{"$f":"IF(B2563>\"\",YEAR(C2563),\"\")","v":""},null,null,null,null,""]
["",null,null,null,null,""]
["",null,null,null,null,""]
["",null,null,null,null,""]
["",null,null,null,null,""]
["",null,null,null,null,""]
["",null,null,null,null,""]
["",null,null,null,null,""]
["",null,null,null,null,""]
["",null,null,null,null,""]
["",null,null,null,null,""]
["",null,null,null,null,""]
["",null,null,null,null,""]
["",null,null,null,null,""]
["",null,null,null,null,""]
["",null,null,null,null,""]
["",null,null,null,null,""]
["",null,null,null,null,""]
["",null,null,null,null,""]
["",null,null,null,null,""]
["",null,null,null,null,""]
["",null,null,null,null,""]
["",null,null,null,null,""]
["",null,null,null,null,""]
["",null,null,null,null,""]
["",null,null,null,null,""]
["",null,null,null,null,""]
["",null,null,null,null,""]
["",null,null,null,null,""]
["",null,null,null,null,""]
["",null,null,null,null,""]
["",null,null,null,null,""]
["",null,null,null,null,""]
["",null,null,null,null,""]
["",null,null,null,null,""]
["",null,null,null,null,""]
["",null,null,null,null,""]
["",null,null,null,null,""]
["",null,null,null,null,""]
["",null,null,null,null,""]
["",null,null,null,null,""]
["",null,null,null,null,""]
["",null,null,null,null,""]
["",null,null,null,null,""]
["",null,null,null,null,""]
["",null,null,null,null,""]
["",null,null,null,null,""]
["",null,null,null,null,""]
["",null,null,null,null,""]
["",null,null,null,null,""]
["",null,null,null,null,""]
["",null,null,null,null,""]
["",null,null,null,null,""]
["",null,null,null,null,""]
["",null,null,null,null,""]
["",null,null,null,null,""]
["",null,null,null,null,""]
["",null,null,null,null,""]
["",null,null,null,null,""]
["",null,null,null,null,""]
["",null,null,null,null,""]
["",null,null,null,null,""]
["",null,null,null,null,""]
["",null,null,null,null,{"$f":"IF(B2626>\"\",B2626&TEXT(C2626,\"aaa-yy\"),\"\")","v":""}]
[{"$f":"IF(B2627>\"\",YEAR(C2627),\"\")","v":""},null,null,null,null,""]
["",null,null,null,null,""]
["",null,null,null,null,""]
["",null,null,null,null,""]
["",null,null,null,null,""]
["",null,null,null,null,""]
["",null,null,null,null,""]
["",null,null,null,null,""]
["",null,null,null,null,""]
["",null,null,null,null,""]
["",null,null,null,null,""]
["",null,null,null,null,""]
["",null,null,null,null,""]
["",null,null,null,null,""]
["",null,null,null,null,""]
["",null,null,null,null,""]
["",null,null,null,null,""]
["",null,null,null,null,""]
["",null,null,null,null,""]
["",null,null,null,null,""]
["",null,null,null,null,""]
["",null,null,null,null,""]
["",null,null,null,null,""]
["",null,null,null,null,""]
["",null,null,null,null,""]
["",null,null,null,null,""]
["",null,null,null,null,""]
["",null,null,null,null,""]
["",null,null,null,null,""]
["",null,null,null,null,""]
["",null,null,null,null,""]
["",null,null,null,null,""]
["",null,null,null,null,""]
["",null,null,null,null,""]
["",null,null,null,null,""]
["",null,null,null,null,""]
["",null,null,null,null,""]
["",null,null,null,null,""]
["",null,null,null,null,""]
["",null,null,null,null,""]
["",null,null,null,null,""]
["",null,null,null,null,""]
["",null,null,null,null,""]
["",null,null,null,null,""]
["",null,null,null,null,""]
["",null,null,null,null,""]
["",null,null,null,null,""]
["",null,null,null,null,""]
["",null,null,null,null,""]
["",null,null,null,null,""]
["",null,null,null,null,""]
["",null,null,null,null,""]
["",null,null,null,null,""]
["",null,null,null,null,""]
["",null,null,null,null,""]
["",null,null,null,null,""]
["",null,null,null,null,""]
["",null,null,null,null,""]
["",null,null,null,null,""]
["",null,null,null,null,""]
["",null,null,null,null,""]
["",null,null,null,null,""]
["",null,null,null,null,""]
["",null,null,null,null,{"$f":"IF(B2690>\"\",B2690&TEXT(C2690,\"aaa-yy\"),\"\")","v":""}]
[{"$f":"IF(B2691>\"\",YEAR(C2691),\"\")","v":""},null,null,null,null,""]
["",null,null,null,null,""]
["",null,null,null,null,""]
["",null,null,null,null,""]
["",null,null,null,null,""]
["",null,null,null,null,""]
["",null,null,null,null,""]
["",null,null,null,null,""]
["",null,null,null,null,""]
["",null,null,null,null,""]
["",null,null,null,null,""]
["",null,null,null,null,""]
["",null,null,null,null,""]
["",null,null,null,null,""]
["",null,null,null,null,""]
["",null,null,null,null,""]
["",null,null,null,null,""]
["",null,null,null,null,""]
["",null,null,null,null,""]
["",null,null,null,null,""]
["",null,null,null,null,""]
["",null,null,null,null,""]
["",null,null,null,null,""]
["",null,null,null,null,""]
["",null,null,null,null,""]
["",null,null,null,null,""]
["",null,null,null,null,""]
["",null,null,null,null,""]
["",null,null,null,null,""]
["",null,null,null,null,""]
["",null,null,null,null,""]
["",null,null,null,null,""]
["",null,null,null,null,""]
["",null,null,null,null,""]
["",null,null,null,null,""]
["",null,null,null,null,""]
["",null,null,null,null,""]
["",null,null,null,null,""]
["",null,null,null,null,""]
["",null,null,null,null,""]
["",null,null,null,null,""]
["",null,null,null,null,""]
["",null,null,null,null,""]
["",null,null,null,null,""]
["",null,null,null,null,""]
["",null,null,null,null,""]
["",null,null,null,null,""]
["",null,null,null,null,""]
["",null,null,null,null,""]
["",null,null,null,null,""]
["",null,null,null,null,""]
["",null,null,null,null,""]
["",null,null,null,null,""]
["",null,null,null,null,""]
["",null,null,null,null,""]
["",null,null,null,null,""]
["",null,null,null,null,""]
["",null,null,null,null,""]
["",null,null,null,null,""]
["",null,null,null,null,""]
["",null,null,null,null,""]
["",null,null,null,null,""]
["",null,null,null,null,""]
["",null,null,null,null,{"$f":"IF(B2754>\"\",B2754&TEXT(C2754,\"aaa-yy\"),\"\")","v":""}]
[{"$f":"IF(B2755>\"\",YEAR(C2755),\"\")","v":""},null,null,null,null,""]
["",null,null,null,null,""]
["",null,null,null,null,""]
["",null,null,null,null,""]
["",null,null,null,null,""]
["",null,null,null,null,""]
["",null,null,null,null,""]
["",null,null,null,null,""]
["",null,null,null,null,""]
["",null,null,null,null,""]
["",null,null,null,null,""]
["",null,null,null,null,""]
["",null,null,null,null,""]
["",null,null,null,null,""]
["",null,null,null,null,""]
["",null,null,null,null,""]
["",null,null,null,null,""]
["",null,null,null,null,""]
["",null,null,null,null,""]
["",null,null,null,null,""]
["",null,null,null,null,""]
["",null,null,null,null,""]
["",null,null,null,null,""]
["",null,null,null,null,""]
["",null,null,null,null,""]
["",null,null,null,null,""]
["",null,null,null,null,""]
["",null,null,null,null,""]
["",null,null,null,null,""]
["",null,null,null,null,""]
["",null,null,null,null,""]
["",null,null,null,null,""]
["",null,null,null,null,""]
["",null,null,null,null,""]
["",null,null,null,null,""]
["",null,null,null,null,""]
["",null,null,null,null,""]
["",null,null,null,null,""]
["",null,null,null,null,""]
["",null,null,null,null,""]
["",null,null,null,null,""]
["",null,null,null,null,""]
["",null,null,null,null,""]
["",null,null,null,null,""]
["",null,null,null,null,""]
["",null,null,null,null,""]
["",null,null,null,null,""]
["",null,null,null,null,""]
["",null,null,null,null,""]
["",null,null,null,null,""]
["",null,null,null,null,""]
["",null,null,null,null,""]
["",null,null,null,null,""]
["",null,null,null,null,""]
["",null,null,null,null,""]
["",null,null,null,null,""]
["",null,null,null,null,""]
["",null,null,null,null,""]
["",null,null,null,null,""]
["",null,null,null,null,""]
["",null,null,null,null,""]
["",null,null,null,null,""]
["",null,null,null,null,""]
["",null,null,null,null,{"$f":"IF(B2818>\"\",B2818&TEXT(C2818,\"aaa-yy\"),\"\")","v":""}]
[{"$f":"IF(B2819>\"\",YEAR(C2819),\"\")","v":""},null,null,null,null,""]
["",null,null,null,null,""]
["",null,null,null,null,""]
["",null,null,null,null,""]
["",null,null,null,null,""]
["",null,null,null,null,""]
["",null,null,null,null,""]
["",null,null,null,null,""]
["",null,null,null,null,""]
["",null,null,null,null,""]
["",null,null,null,null,""]
["",null,null,null,null,""]
["",null,null,null,null,""]
["",null,null,null,null,""]
["",null,null,null,null,""]
["",null,null,null,null,""]
["",null,null,null,null,""]
["",null,null,null,null,""]
["",null,null,null,null,""]
["",null,null,null,null,""]
["",null,null,null,null,""]
["",null,null,null,null,""]
["",null,null,null,null,""]
["",null,null,null,null,""]
["",null,null,null,null,""]
["",null,null,null,null,""]
["",null,null,null,null,""]
["",null,null,null,null,""]
["",null,null,null,null,""]
["",null,null,null,null,""]
["",null,null,null,null,""]
["",null,null,null,null,""]
["",null,null,null,null,""]
["",null,null,null,null,""]
["",null,null,null,null,""]
["",null,null,null,null,""]
["",null,null,null,null,""]
["",null,null,null,null,""]
["",null,null,null,null,""]
["",null,null,null,null,""]
["",null,null,null,null,""]
["",null,null,null,null,""]
["",null,null,null,null,""]
["",null,null,null,null,""]
["",null,null,null,null,""]
["",null,null,null,null,""]
["",null,null,null,null,""]
["",null,null,null,null,""]
["",null,null,null,null,""]
["",null,null,null,null,""]
["",null,null,null,null,""]
["",null,null,null,null,""]
["",null,null,null,null,""]
["",null,null,null,null,""]
["",null,null,null,null,""]
["",null,null,null,null,""]
["",null,null,null,null,""]
["",null,null,null,null,""]
["",null,null,null,null,""]
["",null,null,null,null,""]
["",null,null,null,null,""]
["",null,null,null,null,""]
["",null,null,null,null,""]
["",null,null,null,null,{"$f":"IF(B2882>\"\",B2882&TEXT(C2882,\"aaa-yy\"),\"\")","v":""}]
[{"$f":"IF(B2883>\"\",YEAR(C2883),\"\")","v":""},null,null,null,null,""]
["",null,null,null,null,""]
["",null,null,null,null,""]
["",null,null,null,null,""]
["",null,null,null,null,""]
["",null,null,null,null,""]
["",null,null,null,null,""]
["",null,null,null,null,""]
["",null,null,null,null,""]
["",null,null,null,null,""]
["",null,null,null,null,""]
["",null,null,null,null,""]
["",null,null,null,null,""]
["",null,null,null,null,""]
["",null,null,null,null,""]
["",null,null,null,null,""]
["",null,null,null,null,""]
["",null,null,null,null,""]
["",null,null,null,null,""]
["",null,null,null,null,""]
["",null,null,null,null,""]
["",null,null,null,null,""]
["",null,null,null,null,""]
["",null,null,null,null,""]
["",null,null,null,null,""]
["",null,null,null,null,""]
["",null,null,null,null,""]
["",null,null,null,null,""]
["",null,null,null,null,""]
["",null,null,null,null,""]
["",null,null,null,null,""]
["",null,null,null,null,""]
["",null,null,null,null,""]
["",null,null,null,null,""]
["",null,null,null,null,""]
["",null,null,null,null,""]
["",null,null,null,null,""]
["",null,null,null,null,""]
["",null,null,null,null,""]
["",null,null,null,null,""]
["",null,null,null,null,""]
["",null,null,null,null,""]
["",null,null,null,null,""]
["",null,null,null,null,""]
["",null,null,null,null,""]
["",null,null,null,null,""]
["",null,null,null,null,""]
["",null,null,null,null,""]
["",null,null,null,null,""]
["",null,null,null,null,""]
["",null,null,null,null,""]
["",null,null,null,null,""]
["",null,null,null,null,""]
["",null,null,null,null,""]
["",null,null,null,null,""]
["",null,null,null,null,""]
["",null,null,null,null,""]
["",null,null,null,null,""]
["",null,null,null,null,""]
["",null,null,null,null,""]
["",null,null,null,null,""]
["",null,null,null,null,""]
["",null,null,null,null,""]
["",null,null,null,null,{"$f":"IF(B2946>\"\",B2946&TEXT(C2946,\"aaa-yy\"),\"\")","v":""}]
[{"$f":"IF(B2947>\"\",YEAR(C2947),\"\")","v":""},null,null,null,null,""]
["",null,null,null,null,""]
["",null,null,null,null,""]
["",null,null,null,null,""]
["",null,null,null,null,""]
["",null,null,null,null,""]
["",null,null,null,null,""]
["",null,null,null,null,""]
["",null,null,null,null,""]
["",null,null,null,null,""]
["",null,null,null,null,""]
["",null,null,null,null,""]
["",null,null,null,null,""]
["",null,null,null,null,""]
["",null,null,null,null,""]
["",null,null,null,null,""]
["",null,null,null,null,""]
["",null,null,null,null,""]
["",null,null,null,null,""]
["",null,null,null,null,""]
["",null,null,null,null,""]
["",null,null,null,null,""]
["",null,null,null,null,""]
["",null,null,null,null,""]
["",null,null,null,null,""]
["",null,null,null,null,""]
["",null,null,null,null,""]
["",null,null,null,null,""]
["",null,null,null,null,""]
["",null,null,null,null,""]
["",null,null,null,null,""]
["",null,null,null,null,""]
["",null,null,null,null,""]
["",null,null,null,null,""]
["",null,null,null,null,""]
["",null,null,null,null,""]
["",null,null,null,null,""]
["",null,null,null,null,""]
["",null,null,null,null,""]
["",null,null,null,null,""]
["",null,null,null,null,""]
["",null,null,null,null,""]
["",null,null,null,null,""]
["",null,null,null,null,""]
["",null,null,null,null,""]
["",null,null,null,null,""]
["",null,null,null,null,""]
["",null,null,null,null,""]
["",null,null,null,null,""]
["",null,null,null,null,""]
["",null,null,null,null,""]
["",null,null,null,null,""]
["",null,null,null,null,""]
["",null,null,null,null,""]
["",null,null,null,null,""]
["",null,null,null,null,""]
["",null,null,null,null,""]
["",null,null,null,null,""]
["",null,null,null,null,""]
["",null,null,null,null,""]
["",null,null,null,null,""]
["",null,null,null,null,""]
["",null,null,null,null,""]
["",null,null,null,null,{"$f":"IF(B3010>\"\",B3010&TEXT(C3010,\"aaa-yy\"),\"\")","v":""}]
[{"$f":"IF(B3011>\"\",YEAR(C3011),\"\")","v":""},null,null,null,null,""]
["",null,null,null,null,""]
["",null,null,null,null,""]
["",null,null,null,null,""]
["",null,null,null,null,""]
["",null,null,null,null,""]
["",null,null,null,null,""]
["",null,null,null,null,""]
["",null,null,null,null,""]
["",null,null,null,null,""]
["",null,null,null,null,""]
["",null,null,null,null,""]
["",null,null,null,null,""]
["",null,null,null,null,""]
["",null,null,null,null,""]
["",null,null,null,null,""]
["",null,null,null,null,""]
["",null,null,null,null,""]
["",null,null,null,null,""]
["",null,null,null,null,""]
["",null,null,null,null,""]
["",null,null,null,null,""]
["",null,null,null,null,""]
["",null,null,null,null,""]
["",null,null,null,null,""]
["",null,null,null,null,""]
["",null,null,null,null,""]
["",null,null,null,null,""]
["",null,null,null,null,""]
["",null,null,null,null,""]
["",null,null,null,null,""]
["",null,null,null,null,""]
["",null,null,null,null,""]
["",null,null,null,null,""]
["",null,null,null,null,""]
["",null,null,null,null,""]
["",null,null,null,null,""]
["",null,null,null,null,""]
["",null,null,null,null,""]
["",null,null,null,null,""]
["",null,null,null,null,""]
["",null,null,null,null,""]
["",null,null,null,null,""]
["",null,null,null,null,""]
["",null,null,null,null,""]
["",null,null,null,null,""]
["",null,null,null,null,""]
["",null,null,null,null,""]
["",null,null,null,null,""]
["",null,null,null,null,""]
["",null,null,null,null,""]
["",null,null,null,null,""]
["",null,null,null,null,""]
["",null,null,null,null,""]
["",null,null,null,null,""]
["",null,null,null,null,""]
["",null,null,null,null,""]
["",null,null,null,null,""]
["",null,null,null,null,""]
["",null,null,null,null,""]
["",null,null,null,null,""]
["",null,null,null,null,""]
["",null,null,null,null,""]
["",null,null,null,null,{"$f":"IF(B3074>\"\",B3074&TEXT(C3074,\"aaa-yy\"),\"\")","v":""}]
[{"$f":"IF(B3075>\"\",YEAR(C3075),\"\")","v":""},null,null,null,null,""]
["",null,null,null,null,""]
["",null,null,null,null,""]
["",null,null,null,null,""]
["",null,null,null,null,""]
["",null,null,null,null,""]
["",null,null,null,null,""]
["",null,null,null,null,""]
["",null,null,null,null,""]
["",null,null,null,null,""]
["",null,null,null,null,""]
["",null,null,null,null,""]
["",null,null,null,null,""]
["",null,null,null,null,""]
["",null,null,null,null,""]
["",null,null,null,null,""]
["",null,null,null,null,""]
["",null,null,null,null,""]
["",null,null,null,null,""]
["",null,null,null,null,""]
["",null,null,null,null,""]
["",null,null,null,null,""]
["",null,null,null,null,""]
["",null,null,null,null,""]
["",null,null,null,null,""]
["",null,null,null,null,""]
["",null,null,null,null,""]
["",null,null,null,null,""]
["",null,null,null,null,""]
["",null,null,null,null,""]
["",null,null,null,null,""]
["",null,null,null,null,""]
["",null,null,null,null,""]
["",null,null,null,null,""]
["",null,null,null,null,""]
["",null,null,null,null,""]
["",null,null,null,null,""]
["",null,null,null,null,""]
["",null,null,null,null,""]
["",null,null,null,null,""]
["",null,null,null,null,""]
["",null,null,null,null,""]
["",null,null,null,null,""]
["",null,null,null,null,""]
["",null,null,null,null,""]
["",null,null,null,null,""]
["",null,null,null,null,""]
["",null,null,null,null,""]
["",null,null,null,null,""]
["",null,null,null,null,""]
["",null,null,null,null,""]
["",null,null,null,null,""]
["",null,null,null,null,""]
["",null,null,null,null,""]
["",null,null,null,null,""]
["",null,null,null,null,""]
["",null,null,null,null,""]
["",null,null,null,null,""]
["",null,null,null,null,""]
["",null,null,null,null,""]
["",null,null,null,null,""]
["",null,null,null,null,""]
["",null,null,null,null,""]
["",null,null,null,null,{"$f":"IF(B3138>\"\",B3138&TEXT(C3138,\"aaa-yy\"),\"\")","v":""}]
[{"$f":"IF(B3139>\"\",YEAR(C3139),\"\")","v":""},null,null,null,null,""]
["",null,null,null,null,""]
["",null,null,null,null,""]
["",null,null,null,null,""]
["",null,null,null,null,""]
["",null,null,null,null,""]
["",null,null,null,null,""]
["",null,null,null,null,""]
["",null,null,null,null,""]
["",null,null,null,null,""]
["",null,null,null,null,""]
["",null,null,null,null,""]
["",null,null,null,null,""]
["",null,null,null,null,""]
["",null,null,null,null,""]
["",null,null,null,null,""]
["",null,null,null,null,""]
["",null,null,null,null,""]
["",null,null,null,null,""]
["",null,null,null,null,""]
["",null,null,null,null,""]
["",null,null,null,null,""]
["",null,null,null,null,""]
["",null,null,null,null,""]
["",null,null,null,null,""]
["",null,null,null,null,""]
["",null,null,null,null,""]
["",null,null,null,null,""]
["",null,null,null,null,""]
["",null,null,null,null,""]
["",null,null,null,null,""]
["",null,null,null,null,""]
["",null,null,null,null,""]
["",null,null,null,null,""]
["",null,null,null,null,""]
["",null,null,null,null,""]
["",null,null,null,null,""]
["",null,null,null,null,""]
["",null,null,null,null,""]
["",null,null,null,null,""]
["",null,null,null,null,""]
["",null,null,null,null,""]
["",null,null,null,null,""]
["",null,null,null,null,""]
["",null,null,null,null,""]
["",null,null,null,null,""]
["",null,null,null,null,""]
["",null,null,null,null,""]
["",null,null,null,null,""]
["",null,null,null,null,""]
["",null,null,null,null,""]
["",null,null,null,null,""]
["",null,null,null,null,""]
["",null,null,null,null,""]
["",null,null,null,null,""]
["",null,null,null,null,""]
["",null,null,null,null,""]
["",null,null,null,null,""]
["",null,null,null,null,""]
["",null,null,null,null,""]
["",null,null,null,null,""]
["",null,null,null,null,""]
["",null,null,null,null,""]
["",null,null,null,null,{"$f":"IF(B3202>\"\",B3202&TEXT(C3202,\"aaa-yy\"),\"\")","v":""}]
[{"$f":"IF(B3203>\"\",YEAR(C3203),\"\")","v":""},null,null,null,null,""]
["",null,null,null,null,""]
["",null,null,null,null,""]
["",null,null,null,null,""]
["",null,null,null,null,""]
["",null,null,null,null,""]
["",null,null,null,null,""]
["",null,null,null,null,""]
["",null,null,null,null,""]
["",null,null,null,null,""]
["",null,null,null,null,""]
["",null,null,null,null,""]
["",null,null,null,null,""]
["",null,null,null,null,""]
["",null,null,null,null,""]
["",null,null,null,null,""]
["",null,null,null,null,""]
["",null,null,null,null,""]
["",null,null,null,null,""]
["",null,null,null,null,""]
["",null,null,null,null,""]
["",null,null,null,null,""]
["",null,null,null,null,""]
["",null,null,null,null,""]
["",null,null,null,null,""]
["",null,null,null,null,""]
["",null,null,null,null,""]
["",null,null,null,null,""]
["",null,null,null,null,""]
["",null,null,null,null,""]
["",null,null,null,null,""]
["",null,null,null,null,""]
["",null,null,null,null,""]
["",null,null,null,null,""]
["",null,null,null,null,""]
["",null,null,null,null,""]
["",null,null,null,null,""]
["",null,null,null,null,""]
["",null,null,null,null,""]
["",null,null,null,null,""]
["",null,null,null,null,""]
["",null,null,null,null,""]
["",null,null,null,null,""]
["",null,null,null,null,""]
["",null,null,null,null,""]
["",null,null,null,null,""]
["",null,null,null,null,""]
["",null,null,null,null,""]
["",null,null,null,null,""]
["",null,null,null,null,""]
["",null,null,null,null,""]
["",null,null,null,null,""]
["",null,null,null,null,""]
["",null,null,null,null,""]
["",null,null,null,null,""]
["",null,null,null,null,""]
["",null,null,null,null,""]
["",null,null,null,null,""]
["",null,null,null,null,""]
["",null,null,null,null,""]
["",null,null,null,null,""]
["",null,null,null,null,""]
["",null,null,null,null,""]
["",null,null,null,null,{"$f":"IF(B3266>\"\",B3266&TEXT(C3266,\"aaa-yy\"),\"\")","v":""}]
[{"$f":"IF(B3267>\"\",YEAR(C3267),\"\")","v":""},null,null,null,null,""]
["",null,null,null,null,""]
["",null,null,null,null,""]
["",null,null,null,null,""]
["",null,null,null,null,""]
["",null,null,null,null,""]
["",null,null,null,null,""]
["",null,null,null,null,""]
["",null,null,null,null,""]
["",null,null,null,null,""]
["",null,null,null,null,""]
["",null,null,null,null,""]
["",null,null,null,null,""]
["",null,null,null,null,""]
["",null,null,null,null,""]
["",null,null,null,null,""]
["",null,null,null,null,""]
["",null,null,null,null,""]
["",null,null,null,null,""]
["",null,null,null,null,""]
["",null,null,null,null,""]
["",null,null,null,null,""]
["",null,null,null,null,""]
["",null,null,null,null,""]
["",null,null,null,null,""]
["",null,null,null,null,""]
["",null,null,null,null,""]
["",null,null,null,null,""]
["",null,null,null,null,""]
["",null,null,null,null,""]
["",null,null,null,null,""]
["",null,null,null,null,""]
["",null,null,null,null,""]
["",null,null,null,null,""]
["",null,null,null,null,""]
["",null,null,null,null,""]
["",null,null,null,null,""]
["",null,null,null,null,""]
["",null,null,null,null,""]
["",null,null,null,null,""]
["",null,null,null,null,""]
["",null,null,null,null,""]
["",null,null,null,null,""]
["",null,null,null,null,""]
["",null,null,null,null,""]
["",null,null,null,null,""]
["",null,null,null,null,""]
["",null,null,null,null,""]
["",null,null,null,null,""]
["",null,null,null,null,""]
["",null,null,null,null,""]
["",null,null,null,null,""]
["",null,null,null,null,""]
["",null,null,null,null,""]
["",null,null,null,null,""]
["",null,null,null,null,""]
["",null,null,null,null,""]
["",null,null,null,null,""]
["",null,null,null,null,""]
["",null,null,null,null,""]
["",null,null,null,null,""]
["",null,null,null,null,""]
["",null,null,null,null,""]
["",null,null,null,null,{"$f":"IF(B3330>\"\",B3330&TEXT(C3330,\"aaa-yy\"),\"\")","v":""}]
[{"$f":"IF(B3331>\"\",YEAR(C3331),\"\")","v":""},null,null,null,null,""]
["",null,null,null,null,""]
["",null,null,null,null,""]
["",null,null,null,null,""]
["",null,null,null,null,""]
["",null,null,null,null,""]
["",null,null,null,null,""]
["",null,null,null,null,""]
["",null,null,null,null,""]
["",null,null,null,null,""]
["",null,null,null,null,""]
["",null,null,null,null,""]
["",null,null,null,null,""]
["",null,null,null,null,""]
["",null,null,null,null,""]
["",null,null,null,null,""]
["",null,null,null,null,""]
["",null,null,null,null,""]
["",null,null,null,null,""]
["",null,null,null,null,""]
["",null,null,null,null,""]
["",null,null,null,null,""]
["",null,null,null,null,""]
["",null,null,null,null,""]
["",null,null,null,null,""]
["",null,null,null,null,""]
["",null,null,null,null,""]
["",null,null,null,null,""]
["",null,null,null,null,""]
["",null,null,null,null,""]
["",null,null,null,null,""]
["",null,null,null,null,""]
["",null,null,null,null,""]
["",null,null,null,null,""]
["",null,null,null,null,""]
["",null,null,null,null,""]
["",null,null,null,null,""]
["",null,null,null,null,""]
["",null,null,null,null,""]
["",null,null,null,null,""]
["",null,null,null,null,""]
["",null,null,null,null,""]
["",null,null,null,null,""]
["",null,null,null,null,""]
["",null,null,null,null,""]
["",null,null,null,null,""]
["",null,null,null,null,""]
["",null,null,null,null,""]
["",null,null,null,null,""]
["",null,null,null,null,""]
["",null,null,null,null,""]
["",null,null,null,null,""]
["",null,null,null,null,""]
["",null,null,null,null,""]
["",null,null,null,null,""]
["",null,null,null,null,""]
["",null,null,null,null,""]
["",null,null,null,null,""]
["",null,null,null,null,""]
["",null,null,null,null,""]
["",null,null,null,null,""]
["",null,null,null,null,""]
["",null,null,null,null,""]
["",null,null,null,null,{"$f":"IF(B3394>\"\",B3394&TEXT(C3394,\"aaa-yy\"),\"\")","v":""}]
[{"$f":"IF(B3395>\"\",YEAR(C3395),\"\")","v":""},null,null,null,null,""]
["",null,null,null,null,""]
["",null,null,null,null,""]
["",null,null,null,null,""]
["",null,null,null,null,""]
["",null,null,null,null,""]
["",null,null,null,null,""]
["",null,null,null,null,""]
["",null,null,null,null,""]
["",null,null,null,null,""]
["",null,null,null,null,""]
["",null,null,null,null,""]
["",null,null,null,null,""]
["",null,null,null,null,""]
["",null,null,null,null,""]
["",null,null,null,null,""]
["",null,null,null,null,""]
["",null,null,null,null,""]
["",null,null,null,null,""]
["",null,null,null,null,""]
["",null,null,null,null,""]
["",null,null,null,null,""]
["",null,null,null,null,""]
["",null,null,null,null,""]
["",null,null,null,null,""]
["",null,null,null,null,""]
["",null,null,null,null,""]
["",null,null,null,null,""]
["",null,null,null,null,""]
["",null,null,null,null,""]
["",null,null,null,null,""]
["",null,null,null,null,""]
["",null,null,null,null,""]
["",null,null,null,null,""]
["",null,null,null,null,""]
["",null,null,null,null,""]
["",null,null,null,null,""]
["",null,null,null,null,""]
["",null,null,null,null,""]
["",null,null,null,null,""]
["",null,null,null,null,""]
["",null,null,null,null,""]
["",null,null,null,null,""]
["",null,null,null,null,""]
["",null,null,null,null,""]
["",null,null,null,null,""]
["",null,null,null,null,""]
["",null,null,null,null,""]
["",null,null,null,null,""]
["",null,null,null,null,""]
["",null,null,null,null,""]
["",null,null,null,null,""]
["",null,null,null,null,""]
["",null,null,null,null,""]
["",null,null,null,null,""]
["",null,null,null,null,""]
["",null,null,null,null,""]
["",null,null,null,null,""]
["",null,null,null,null,""]
["",null,null,null,null,""]
["",null,null,null,null,""]
["",null,null,null,null,""]
["",null,null,null,null,""]
["",null,null,null,null,{"$f":"IF(B3458>\"\",B3458&TEXT(C3458,\"aaa-yy\"),\"\")","v":""}]
[{"$f":"IF(B3459>\"\",YEAR(C3459),\"\")","v":""},null,null,null,null,""]
["",null,null,null,null,""]
["",null,null,null,null,""]
["",null,null,null,null,""]
["",null,null,null,null,""]
["",null,null,null,null,""]
["",null,null,null,null,""]
["",null,null,null,null,""]
["",null,null,null,null,""]
["",null,null,null,null,""]
["",null,null,null,null,""]
["",null,null,null,null,""]
["",null,null,null,null,""]
["",null,null,null,null,""]
["",null,null,null,null,""]
["",null,null,null,null,""]
["",null,null,null,null,""]
["",null,null,null,null,""]
["",null,null,null,null,""]
["",null,null,null,null,""]
["",null,null,null,null,""]
["",null,null,null,null,""]
["",null,null,null,null,""]
["",null,null,null,null,""]
["",null,null,null,null,""]
["",null,null,null,null,""]
["",null,null,null,null,""]
["",null,null,null,null,""]
["",null,null,null,null,""]
["",null,null,null,null,""]
["",null,null,null,null,""]
["",null,null,null,null,""]
["",null,null,null,null,""]
["",null,null,null,null,""]
["",null,null,null,null,""]
["",null,null,null,null,""]
["",null,null,null,null,""]
["",null,null,null,null,""]
["",null,null,null,null,""]
["",null,null,null,null,""]
["",null,null,null,null,""]
["",null,null,null,null,""]
["",null,null,null,null,""]
["",null,null,null,null,""]
["",null,null,null,null,""]
["",null,null,null,null,""]
["",null,null,null,null,""]
["",null,null,null,null,""]
["",null,null,null,null,""]
["",null,null,null,null,""]
["",null,null,null,null,""]
["",null,null,null,null,""]
["",null,null,null,null,""]
["",null,null,null,null,""]
["",null,null,null,null,""]
["",null,null,null,null,""]
["",null,null,null,null,""]
["",null,null,null,null,""]
["",null,null,null,null,""]
["",null,null,null,null,""]
["",null,null,null,null,""]
["",null,null,null,null,""]
["",null,null,null,null,""]
["",null,null,null,null,{"$f":"IF(B3522>\"\",B3522&TEXT(C3522,\"aaa-yy\"),\"\")","v":""}]
[{"$f":"IF(B3523>\"\",YEAR(C3523),\"\")","v":""},null,null,null,null,""]
["",null,null,null,null,""]
["",null,null,null,null,""]
["",null,null,null,null,""]
["",null,null,null,null,""]
["",null,null,null,null,""]
["",null,null,null,null,""]
["",null,null,null,null,""]
["",null,null,null,null,""]
["",null,null,null,null,""]
["",null,null,null,null,""]
["",null,null,null,null,""]
["",null,null,null,null,""]
["",null,null,null,null,""]
["",null,null,null,null,""]
["",null,null,null,null,""]
["",null,null,null,null,""]
["",null,null,null,null,""]
["",null,null,null,null,""]
["",null,null,null,null,""]
["",null,null,null,null,""]
["",null,null,null,null,""]
["",null,null,null,null,""]
["",null,null,null,null,""]
["",null,null,null,null,""]
["",null,null,null,null,""]
["",null,null,null,null,""]
["",null,null,null,null,""]
["",null,null,null,null,""]
["",null,null,null,null,""]
["",null,null,null,null,""]
["",null,null,null,null,""]
["",null,null,null,null,""]
["",null,null,null,null,""]
["",null,null,null,null,""]
["",null,null,null,null,""]
["",null,null,null,null,""]
["",null,null,null,null,""]
["",null,null,null,null,""]
["",null,null,null,null,""]
["",null,null,null,null,""]
["",null,null,null,null,""]
["",null,null,null,null,""]
["",null,null,null,null,""]
["",null,null,null,null,""]
["",null,null,null,null,""]
["",null,null,null,null,""]
["",null,null,null,null,""]
["",null,null,null,null,""]
["",null,null,null,null,""]
["",null,null,null,null,""]
["",null,null,null,null,""]
["",null,null,null,null,""]
["",null,null,null,null,""]
["",null,null,null,null,""]
["",null,null,null,null,""]
["",null,null,null,null,""]
["",null,null,null,null,""]
["",null,null,null,null,""]
["",null,null,null,null,""]
["",null,null,null,null,""]
["",null,null,null,null,""]
["",null,null,null,null,""]
["",null,null,null,null,{"$f":"IF(B3586>\"\",B3586&TEXT(C3586,\"aaa-yy\"),\"\")","v":""}]
[{"$f":"IF(B3587>\"\",YEAR(C3587),\"\")","v":""},null,null,null,null,""]
["",null,null,null,null,""]
["",null,null,null,null,""]
["",null,null,null,null,""]
["",null,null,null,null,""]
["",null,null,null,null,""]
["",null,null,null,null,""]
["",null,null,null,null,""]
["",null,null,null,null,""]
["",null,null,null,null,""]
["",null,null,null,null,""]
["",null,null,null,null,""]
["",null,null,null,null,""]
["",null,null,null,null,""]
["",null,null,null,null,""]
["",null,null,null,null,""]
["",null,null,null,null,""]
["",null,null,null,null,""]
["",null,null,null,null,""]
["",null,null,null,null,""]
["",null,null,null,null,""]
["",null,null,null,null,""]
["",null,null,null,null,""]
["",null,null,null,null,""]
["",null,null,null,null,""]
["",null,null,null,null,""]
["",null,null,null,null,""]
["",null,null,null,null,""]
["",null,null,null,null,""]
["",null,null,null,null,""]
["",null,null,null,null,""]
["",null,null,null,null,""]
["",null,null,null,null,""]
["",null,null,null,null,""]
["",null,null,null,null,""]
["",null,null,null,null,""]
["",null,null,null,null,""]
["",null,null,null,null,""]
["",null,null,null,null,""]
["",null,null,null,null,""]
["",null,null,null,null,""]
["",null,null,null,null,""]
["",null,null,null,null,""]
["",null,null,null,null,""]
["",null,null,null,null,""]
["",null,null,null,null,""]
["",null,null,null,null,""]
["",null,null,null,null,""]
["",null,null,null,null,""]
["",null,null,null,null,""]
["",null,null,null,null,""]
["",null,null,null,null,""]
["",null,null,null,null,""]
["",null,null,null,null,""]
["",null,null,null,null,""]
["",null,null,null,null,""]
["",null,null,null,null,""]
["",null,null,null,null,""]
["",null,null,null,null,""]
["",null,null,null,null,""]
["",null,null,null,null,""]
["",null,null,null,null,""]
["",null,null,null,null,""]
["",null,null,null,null,{"$f":"IF(B3650>\"\",B3650&TEXT(C3650,\"aaa-yy\"),\"\")","v":""}]
[{"$f":"IF(B3651>\"\",YEAR(C3651),\"\")","v":""},null,null,null,null,""]
["",null,null,null,null,""]
["",null,null,null,null,""]
["",null,null,null,null,""]
["",null,null,null,null,""]
["",null,null,null,null,""]
["",null,null,null,null,""]
["",null,null,null,null,""]
["",null,null,null,null,""]
["",null,null,null,null,""]
["",null,null,null,null,""]
["",null,null,null,null,""]
["",null,null,null,null,""]
["",null,null,null,null,""]
["",null,null,null,null,""]
["",null,null,null,null,""]
["",null,null,null,null,""]
["",null,null,null,null,""]
["",null,null,null,null,""]
["",null,null,null,null,""]
["",null,null,null,null,""]
["",null,null,null,null,""]
["",null,null,null,null,""]
["",null,null,null,null,""]
["",null,null,null,null,""]
["",null,null,null,null,""]
["",null,null,null,null,""]
["",null,null,null,null,""]
["",null,null,null,null,""]
["",null,null,null,null,""]
["",null,null,null,null,""]
["",null,null,null,null,""]
["",null,null,null,null,""]
["",null,null,null,null,""]
["",null,null,null,null,""]
["",null,null,null,null,""]
["",null,null,null,null,""]
["",null,null,null,null,""]
["",null,null,null,null,""]
["",null,null,null,null,""]
["",null,null,null,null,""]
["",null,null,null,null,""]
["",null,null,null,null,""]
["",null,null,null,null,""]
["",null,null,null,null,""]
["",null,null,null,null,""]
["",null,null,null,null,""]
["",null,null,null,null,""]
["",null,null,null,null,""]
["",null,null,null,null,""]
["",null,null,null,null,""]
["",null,null,null,null,""]
["",null,null,null,null,""]
["",null,null,null,null,""]
["",null,null,null,null,""]
["",null,null,null,null,""]
["",null,null,null,null,""]
["",null,null,null,null,""]
["",null,null,null,null,""]
["",null,null,null,null,""]
["",null,null,null,null,""]
["",null,null,null,null,""]
["",null,null,null,null,""]
["",null,null,null,null,{"$f":"IF(B3714>\"\",B3714&TEXT(C3714,\"aaa-yy\"),\"\")","v":""}]
[{"$f":"IF(B3715>\"\",YEAR(C3715),\"\")","v":""},null,null,null,null,""]
["",null,null,null,null,""]
["",null,null,null,null,""]
["",null,null,null,null,""]
["",null,null,null,null,""]
["",null,null,null,null,""]
["",null,null,null,null,""]
["",null,null,null,null,""]
["",null,null,null,null,""]
["",null,null,null,null,""]
["",null,null,null,null,""]
["",null,null,null,null,""]
["",null,null,null,null,""]
["",null,null,null,null,""]
["",null,null,null,null,""]
["",null,null,null,null,""]
["",null,null,null,null,""]
["",null,null,null,null,""]
["",null,null,null,null,""]
["",null,null,null,null,""]
["",null,null,null,null,""]
["",null,null,null,null,""]
["",null,null,null,null,""]
["",null,null,null,null,""]
["",null,null,null,null,""]
["",null,null,null,null,""]
["",null,null,null,null,""]
["",null,null,null,null,""]
["",null,null,null,null,""]
["",null,null,null,null,""]
["",null,null,null,null,""]
["",null,null,null,null,""]
["",null,null,null,null,""]
["",null,null,null,null,""]
["",null,null,null,null,""]
["",null,null,null,null,""]
["",null,null,null,null,""]
["",null,null,null,null,""]
["",null,null,null,null,""]
["",null,null,null,null,""]
["",null,null,null,null,""]
["",null,null,null,null,""]
["",null,null,null,null,""]
["",null,null,null,null,""]
["",null,null,null,null,""]
["",null,null,null,null,""]
["",null,null,null,null,""]
["",null,null,null,null,""]
["",null,null,null,null,""]
["",null,null,null,null,""]
["",null,null,null,null,""]
["",null,null,null,null,""]
["",null,null,null,null,""]
["",null,null,null,null,""]
["",null,null,null,null,""]
["",null,null,null,null,""]
["",null,null,null,null,""]
["",null,null,null,null,""]
["",null,null,null,null,""]
["",null,null,null,null,""]
["",null,null,null,null,""]
["",null,null,null,null,""]
["",null,null,null,null,""]
["",null,null,null,null,{"$f":"IF(B3778>\"\",B3778&TEXT(C3778,\"aaa-yy\"),\"\")","v":""}]
[{"$f":"IF(B3779>\"\",YEAR(C3779),\"\")","v":""},null,null,null,null,""]
["",null,null,null,null,""]
["",null,null,null,null,""]
["",null,null,null,null,""]
["",null,null,null,null,""]
["",null,null,null,null,""]
["",null,null,null,null,""]
["",null,null,null,null,""]
["",null,null,null,null,""]
["",null,null,null,null,""]
["",null,null,null,null,""]
["",null,null,null,null,""]
["",null,null,null,null,""]
["",null,null,null,null,""]
["",null,null,null,null,""]
["",null,null,null,null,""]
["",null,null,null,null,""]
["",null,null,null,null,""]
["",null,null,null,null,""]
["",null,null,null,null,""]
["",null,null,null,null,""]
["",null,null,null,null,""]
["",null,null,null,null,""]
["",null,null,null,null,""]
["",null,null,null,null,""]
["",null,null,null,null,""]
["",null,null,null,null,""]
["",null,null,null,null,""]
["",null,null,null,null,""]
["",null,null,null,null,""]
["",null,null,null,null,""]
["",null,null,null,null,""]
["",null,null,null,null,""]
["",null,null,null,null,""]
["",null,null,null,null,""]
["",null,null,null,null,""]
["",null,null,null,null,""]
["",null,null,null,null,""]
["",null,null,null,null,""]
["",null,null,null,null,""]
["",null,null,null,null,""]
["",null,null,null,null,""]
["",null,null,null,null,""]
["",null,null,null,null,""]
["",null,null,null,null,""]
["",null,null,null,null,""]
["",null,null,null,null,""]
["",null,null,null,null,""]
["",null,null,null,null,""]
["",null,null,null,null,""]
["",null,null,null,null,""]
["",null,null,null,null,""]
["",null,null,null,null,""]
["",null,null,null,null,""]
["",null,null,null,null,""]
["",null,null,null,null,""]
["",null,null,null,null,""]
["",null,null,null,null,""]
["",null,null,null,null,""]
["",null,null,null,null,""]
["",null,null,null,null,""]
["",null,null,null,null,""]
["",null,null,null,null,""]
["",null,null,null,null,{"$f":"IF(B3842>\"\",B3842&TEXT(C3842,\"aaa-yy\"),\"\")","v":""}]
[{"$f":"IF(B3843>\"\",YEAR(C3843),\"\")","v":""},null,null,null,null,""]
["",null,null,null,null,""]
["",null,null,null,null,""]
["",null,null,null,null,""]
["",null,null,null,null,""]
["",null,null,null,null,""]
["",null,null,null,null,""]
["",null,null,null,null,""]
["",null,null,null,null,""]
["",null,null,null,null,""]
["",null,null,null,null,""]
["",null,null,null,null,""]
["",null,null,null,null,""]
["",null,null,null,null,""]
["",null,null,null,null,""]
["",null,null,null,null,""]
["",null,null,null,null,""]
["",null,null,null,null,""]
["",null,null,null,null,""]
["",null,null,null,null,""]
["",null,null,null,null,""]
["",null,null,null,null,""]
["",null,null,null,null,""]
["",null,null,null,null,""]
["",null,null,null,null,""]
["",null,null,null,null,""]
["",null,null,null,null,""]
["",null,null,null,null,""]
["",null,null,null,null,""]
["",null,null,null,null,""]
["",null,null,null,null,""]
["",null,null,null,null,""]
["",null,null,null,null,""]
["",null,null,null,null,""]
["",null,null,null,null,""]
["",null,null,null,null,""]
["",null,null,null,null,""]
["",null,null,null,null,""]
["",null,null,null,null,""]
["",null,null,null,null,""]
["",null,null,null,null,""]
["",null,null,null,null,""]
["",null,null,null,null,""]
["",null,null,null,null,""]
["",null,null,null,null,""]
["",null,null,null,null,""]
["",null,null,null,null,""]
["",null,null,null,null,""]
["",null,null,null,null,""]
["",null,null,null,null,""]
["",null,null,null,null,""]
["",null,null,null,null,""]
["",null,null,null,null,""]
["",null,null,null,null,""]
["",null,null,null,null,""]
["",null,null,null,null,""]
["",null,null,null,null,""]
["",null,null,null,null,""]
["",null,null,null,null,""]
["",null,null,null,null,""]
["",null,null,null,null,""]
["",null,null,null,null,""]
["",null,null,null,null,""]
["",null,null,null,null,{"$f":"IF(B3906>\"\",B3906&TEXT(C3906,\"aaa-yy\"),\"\")","v":""}]
[{"$f":"IF(B3907>\"\",YEAR(C3907),\"\")","v":""},null,null,null,null,""]
["",null,null,null,null,""]
["",null,null,null,null,""]
["",null,null,null,null,""]
["",null,null,null,null,""]
["",null,null,null,null,""]
["",null,null,null,null,""]
["",null,null,null,null,""]
["",null,null,null,null,""]
["",null,null,null,null,""]
["",null,null,null,null,""]
["",null,null,null,null,""]
["",null,null,null,null,""]
["",null,null,null,null,""]
["",null,null,null,null,""]
["",null,null,null,null,""]
["",null,null,null,null,""]
["",null,null,null,null,""]
["",null,null,null,null,""]
["",null,null,null,null,""]
["",null,null,null,null,""]
["",null,null,null,null,""]
["",null,null,null,null,""]
["",null,null,null,null,""]
["",null,null,null,null,""]
["",null,null,null,null,""]
["",null,null,null,null,""]
["",null,null,null,null,""]
["",null,null,null,null,""]
["",null,null,null,null,""]
["",null,null,null,null,""]
["",null,null,null,null,""]
["",null,null,null,null,""]
["",null,null,null,null,""]
["",null,null,null,null,""]
["",null,null,null,null,""]
["",null,null,null,null,""]
["",null,null,null,null,""]
["",null,null,null,null,""]
["",null,null,null,null,""]
["",null,null,null,null,""]
["",null,null,null,null,""]
["",null,null,null,null,""]
["",null,null,null,null,""]
["",null,null,null,null,""]
["",null,null,null,null,""]
["",null,null,null,null,""]
["",null,null,null,null,""]
["",null,null,null,null,""]
["",null,null,null,null,""]
["",null,null,null,null,""]
["",null,null,null,null,""]
["",null,null,null,null,""]
["",null,null,null,null,""]
["",null,null,null,null,""]
["",null,null,null,null,""]
["",null,null,null,null,""]
["",null,null,null,null,""]
["",null,null,null,null,""]
["",null,null,null,null,""]
["",null,null,null,null,""]
["",null,null,null,null,""]
["",null,null,null,null,""]
["",null,null,null,null,{"$f":"IF(B3970>\"\",B3970&TEXT(C3970,\"aaa-yy\"),\"\")","v":""}]
[{"$f":"IF(B3971>\"\",YEAR(C3971),\"\")","v":""},null,null,null,null,""]
["",null,null,null,null,""]
["",null,null,null,null,""]
["",null,null,null,null,""]
["",null,null,null,null,""]
["",null,null,null,null,""]
["",null,null,null,null,""]
["",null,null,null,null,""]
["",null,null,null,null,""]
["",null,null,null,null,""]
["",null,null,null,null,""]
["",null,null,null,null,""]
["",null,null,null,null,""]
["",null,null,null,null,""]
["",null,null,null,null,""]
["",null,null,null,null,""]
["",null,null,null,null,""]
["",null,null,null,null,""]
["",null,null,null,null,""]
["",null,null,null,null,""]
["",null,null,null,null,""]
["",null,null,null,null,""]
["",null,null,null,null,""]
["",null,null,null,null,""]
["",null,null,null,null,""]
["",null,null,null,null,""]
["",null,null,null,null,""]
["",null,null,null,null,""]
["",null,null,null,null,""]
["",null,null,null,null,""]
["",null,null,null,null,""]
["",null,null,null,null,""]
["",null,null,null,null,""]
["",null,null,null,null,""]
["",null,null,null,null,""]
["",null,null,null,null,""]
["",null,null,null,null,""]
["",null,null,null,null,""]
["",null,null,null,null,""]
["",null,null,null,null,""]
["",null,null,null,null,""]
["",null,null,null,null,""]
["",null,null,null,null,""]
["",null,null,null,null,""]
["",null,null,null,null,""]
["",null,null,null,null,""]
["",null,null,null,null,""]
["",null,null,null,null,""]
["",null,null,null,null,""]
["",null,null,null,null,""]
["",null,null,null,null,""]
["",null,null,null,null,""]
["",null,null,null,null,""]
["",null,null,null,null,""]
["",null,null,null,null,""]
["",null,null,null,null,""]
["",null,null,null,null,""]
["",null,null,null,null,""]
["",null,null,null,null,""]
["",null,null,null,null,""]
["",null,null,null,null,""]
["",null,null,null,null,""]
["",null,null,null,null,""]
["",null,null,null,null,{"$f":"IF(B4034>\"\",B4034&TEXT(C4034,\"aaa-yy\"),\"\")","v":""}]
[{"$f":"IF(B4035>\"\",YEAR(C4035),\"\")","v":""},null,null,null,null,""]
["",null,null,null,null,""]
["",null,null,null,null,""]
["",null,null,null,null,""]
["",null,null,null,null,""]
["",null,null,null,null,""]
["",null,null,null,null,""]
["",null,null,null,null,""]
["",null,null,null,null,""]
["",null,null,null,null,""]
["",null,null,null,null,""]
["",null,null,null,null,""]
["",null,null,null,null,""]
["",null,null,null,null,""]
["",null,null,null,null,""]
["",null,null,null,null,""]
["",null,null,null,null,""]
["",null,null,null,null,""]
["",null,null,null,null,""]
["",null,null,null,null,""]
["",null,null,null,null,""]
["",null,null,null,null,""]
["",null,null,null,null,""]
["",null,null,null,null,""]
["",null,null,null,null,""]
["",null,null,null,null,""]
["",null,null,null,null,""]
["",null,null,null,null,""]
["",null,null,null,null,""]
["",null,null,null,null,""]
["",null,null,null,null,""]
["",null,null,null,null,""]
["",null,null,null,null,""]
["",null,null,null,null,""]
["",null,null,null,null,""]
["",null,null,null,null,""]
["",null,null,null,null,""]
["",null,null,null,null,""]
["",null,null,null,null,""]
["",null,null,null,null,""]
["",null,null,null,null,""]
["",null,null,null,null,""]
["",null,null,null,null,""]
["",null,null,null,null,""]
["",null,null,null,null,""]
["",null,null,null,null,""]
["",null,null,null,null,""]
["",null,null,null,null,""]
["",null,null,null,null,""]
["",null,null,null,null,""]
["",null,null,null,null,""]
["",null,null,null,null,""]
["",null,null,null,null,""]
["",null,null,null,null,""]
["",null,null,null,null,""]
["",null,null,null,null,""]
["",null,null,null,null,""]
["",null,null,null,null,""]
["",null,null,null,null,""]
["",null,null,null,null,""]
["",null,null,null,null,""]
["",null,null,null,null,""]
["",null,null,null,null,""]
["",null,null,null,null,{"$f":"IF(B4098>\"\",B4098&TEXT(C4098,\"aaa-yy\"),\"\")","v":""}]
[{"$f":"IF(B4099>\"\",YEAR(C4099),\"\")","v":""},null,null,null,null,""]
["",null,null,null,null,""]
["",null,null,null,null,""]
["",null,null,null,null,""]
["",null,null,null,null,""]
["",null,null,null,null,""]
["",null,null,null,null,""]
["",null,null,null,null,""]
["",null,null,null,null,""]
["",null,null,null,null,""]
["",null,null,null,null,""]
["",null,null,null,null,""]
["",null,null,null,null,""]
["",null,null,null,null,""]
["",null,null,null,null,""]
["",null,null,null,null,""]
["",null,null,null,null,""]
["",null,null,null,null,""]
["",null,null,null,null,""]
["",null,null,null,null,""]
["",null,null,null,null,""]
["",null,null,null,null,""]
["",null,null,null,null,""]
["",null,null,null,null,""]
["",null,null,null,null,""]
["",null,null,null,null,""]
["",null,null,null,null,""]
["",null,null,null,null,""]
["",null,null,null,null,""]
["",null,null,null,null,""]
["",null,null,null,null,""]
["",null,null,null,null,""]
["",null,null,null,null,""]
["",null,null,null,null,""]
["",null,null,null,null,""]
["",null,null,null,null,""]
["",null,null,null,null,""]
["",null,null,null,null,""]
["",null,null,null,null,""]
["",null,null,null,null,""]
["",null,null,null,null,""]
["",null,null,null,null,""]
["",null,null,null,null,""]
["",null,null,null,null,""]
["",null,null,null,null,""]
["",null,null,null,null,""]
["",null,null,null,null,""]
["",null,null,null,null,""]
["",null,null,null,null,""]
["",null,null,null,null,""]
["",null,null,null,null,""]
["",null,null,null,null,""]
["",null,null,null,null,""]
["",null,null,null,null,""]
["",null,null,null,null,""]
["",null,null,null,null,""]
["",null,null,null,null,""]
["",null,null,null,null,""]
["",null,null,null,null,""]
["",null,null,null,null,""]
["",null,null,null,null,""]
["",null,null,null,null,""]
["",null,null,null,null,""]
["",null,null,null,null,{"$f":"IF(B4162>\"\",B4162&TEXT(C4162,\"aaa-yy\"),\"\")","v":""}]
[{"$f":"IF(B4163>\"\",YEAR(C4163),\"\")","v":""},null,null,null,null,""]
["",null,null,null,null,""]
["",null,null,null,null,""]
["",null,null,null,null,""]
["",null,null,null,null,""]
["",null,null,null,null,""]
["",null,null,null,null,""]
["",null,null,null,null,""]
["",null,null,null,null,""]
["",null,null,null,null,""]
["",null,null,null,null,""]
["",null,null,null,null,""]
["",null,null,null,null,""]
["",null,null,null,null,""]
["",null,null,null,null,""]
["",null,null,null,null,""]
["",null,null,null,null,""]
["",null,null,null,null,""]
["",null,null,null,null,""]
["",null,null,null,null,""]
["",null,null,null,null,""]
["",null,null,null,null,""]
["",null,null,null,null,""]
["",null,null,null,null,""]
["",null,null,null,null,""]
["",null,null,null,null,""]
["",null,null,null,null,""]
["",null,null,null,null,""]
["",null,null,null,null,""]
["",null,null,null,null,""]
["",null,null,null,null,""]
["",null,null,null,null,""]
["",null,null,null,null,""]
["",null,null,null,null,""]
["",null,null,null,null,""]
["",null,null,null,null,""]
["",null,null,null,null,""]
["",null,null,null,null,""]
["",null,null,null,null,""]
["",null,null,null,null,""]
["",null,null,null,null,""]
["",null,null,null,null,""]
["",null,null,null,null,""]
["",null,null,null,null,""]
["",null,null,null,null,""]
["",null,null,null,null,""]
["",null,null,null,null,""]
["",null,null,null,null,""]
["",null,null,null,null,""]
["",null,null,null,null,""]
["",null,null,null,null,""]
["",null,null,null,null,""]
["",null,null,null,null,""]
["",null,null,null,null,""]
["",null,null,null,null,""]
["",null,null,null,null,""]
["",null,null,null,null,""]
["",null,null,null,null,""]
["",null,null,null,null,""]
["",null,null,null,null,""]
["",null,null,null,null,""]
["",null,null,null,null,""]
["",null,null,null,null,""]
["",null,null,null,null,{"$f":"IF(B4226>\"\",B4226&TEXT(C4226,\"aaa-yy\"),\"\")","v":""}]
[{"$f":"IF(B4227>\"\",YEAR(C4227),\"\")","v":""},null,null,null,null,""]
["",null,null,null,null,""]
["",null,null,null,null,""]
["",null,null,null,null,""]
["",null,null,null,null,""]
["",null,null,null,null,""]
["",null,null,null,null,""]
["",null,null,null,null,""]
["",null,null,null,null,""]
["",null,null,null,null,""]
["",null,null,null,null,""]
["",null,null,null,null,""]
["",null,null,null,null,""]
["",null,null,null,null,""]
["",null,null,null,null,""]
["",null,null,null,null,""]
["",null,null,null,null,""]
["",null,null,null,null,""]
["",null,null,null,null,""]
["",null,null,null,null,""]
["",null,null,null,null,""]
["",null,null,null,null,""]
["",null,null,null,null,""]
["",null,null,null,null,""]
["",null,null,null,null,""]
["",null,null,null,null,""]
["",null,null,null,null,""]
["",null,null,null,null,""]
["",null,null,null,null,""]
["",null,null,null,null,""]
["",null,null,null,null,""]
["",null,null,null,null,""]
["",null,null,null,null,""]
["",null,null,null,null,""]
["",null,null,null,null,""]
["",null,null,null,null,""]
["",null,null,null,null,""]
["",null,null,null,null,""]
["",null,null,null,null,""]
["",null,null,null,null,""]
["",null,null,null,null,""]
["",null,null,null,null,""]
["",null,null,null,null,""]
["",null,null,null,null,""]
["",null,null,null,null,""]
["",null,null,null,null,""]
["",null,null,null,null,""]
["",null,null,null,null,""]
["",null,null,null,null,""]
["",null,null,null,null,""]
["",null,null,null,null,""]
["",null,null,null,null,""]
["",null,null,null,null,""]
["",null,null,null,null,""]
["",null,null,null,null,""]
["",null,null,null,null,""]
["",null,null,null,null,""]
["",null,null,null,null,""]
["",null,null,null,null,""]
["",null,null,null,null,""]
["",null,null,null,null,""]
["",null,null,null,null,""]
["",null,null,null,null,""]
["",null,null,null,null,{"$f":"IF(B4290>\"\",B4290&TEXT(C4290,\"aaa-yy\"),\"\")","v":""}]
[{"$f":"IF(B4291>\"\",YEAR(C4291),\"\")","v":""},null,null,null,null,""]
["",null,null,null,null,""]
["",null,null,null,null,""]
["",null,null,null,null,""]
["",null,null,null,null,""]
["",null,null,null,null,""]
["",null,null,null,null,""]
["",null,null,null,null,""]
["",null,null,null,null,""]
["",null,null,null,null,""]
["",null,null,null,null,""]
["",null,null,null,null,""]
["",null,null,null,null,""]
["",null,null,null,null,""]
["",null,null,null,null,""]
["",null,null,null,null,""]
["",null,null,null,null,""]
["",null,null,null,null,""]
["",null,null,null,null,""]
["",null,null,null,null,""]
["",null,null,null,null,""]
["",null,null,null,null,""]
["",null,null,null,null,""]
["",null,null,null,null,""]
["",null,null,null,null,""]
["",null,null,null,null,""]
["",null,null,null,null,""]
["",null,null,null,null,""]
["",null,null,null,null,""]
["",null,null,null,null,""]
["",null,null,null,null,""]
["",null,null,null,null,""]
["",null,null,null,null,""]
["",null,null,null,null,""]
["",null,null,null,null,""]
["",null,null,null,null,""]
["",null,null,null,null,""]
["",null,null,null,null,""]
["",null,null,null,null,""]
["",null,null,null,null,""]
["",null,null,null,null,""]
["",null,null,null,null,""]
["",null,null,null,null,""]
["",null,null,null,null,""]
["",null,null,null,null,""]
["",null,null,null,null,""]
["",null,null,null,null,""]
["",null,null,null,null,""]
["",null,null,null,null,""]
["",null,null,null,null,""]
["",null,null,null,null,""]
["",null,null,null,null,""]
["",null,null,null,null,""]
["",null,null,null,null,""]
["",null,null,null,null,""]
["",null,null,null,null,""]
["",null,null,null,null,""]
["",null,null,null,null,""]
["",null,null,null,null,""]
["",null,null,null,null,""]
["",null,null,null,null,""]
["",null,null,null,null,""]
["",null,null,null,null,""]
["",null,null,null,null,{"$f":"IF(B4354>\"\",B4354&TEXT(C4354,\"aaa-yy\"),\"\")","v":""}]
[{"$f":"IF(B4355>\"\",YEAR(C4355),\"\")","v":""},null,null,null,null,""]
["",null,null,null,null,""]
["",null,null,null,null,""]
["",null,null,null,null,""]
["",null,null,null,null,""]
["",null,null,null,null,""]
["",null,null,null,null,""]
["",null,null,null,null,""]
["",null,null,null,null,""]
["",null,null,null,null,""]
["",null,null,null,null,""]
["",null,null,null,null,""]
["",null,null,null,null,""]
["",null,null,null,null,""]
["",null,null,null,null,""]
["",null,null,null,null,""]
["",null,null,null,null,""]
["",null,null,null,null,""]
["",null,null,null,null,""]
["",null,null,null,null,""]
["",null,null,null,null,""]
["",null,null,null,null,""]
["",null,null,null,null,""]
["",null,null,null,null,""]
["",null,null,null,null,""]
["",null,null,null,null,""]
["",null,null,null,null,""]
["",null,null,null,null,""]
["",null,null,null,null,""]
["",null,null,null,null,""]
["",null,null,null,null,""]
["",null,null,null,null,""]
["",null,null,null,null,""]
["",null,null,null,null,""]
["",null,null,null,null,""]
["",null,null,null,null,""]
["",null,null,null,null,""]
["",null,null,null,null,""]
["",null,null,null,null,""]
["",null,null,null,null,""]
["",null,null,null,null,""]
["",null,null,null,null,""]
["",null,null,null,null,""]
["",null,null,null,null,""]
["",null,null,null,null,""]
["",null,null,null,null,""]
["",null,null,null,null,""]
["",null,null,null,null,""]
["",null,null,null,null,""]
["",null,null,null,null,""]
["",null,null,null,null,""]
["",null,null,null,null,""]
["",null,null,null,null,""]
["",null,null,null,null,""]
["",null,null,null,null,""]
["",null,null,null,null,""]
["",null,null,null,null,""]
["",null,null,null,null,""]
["",null,null,null,null,""]
["",null,null,null,null,""]
["",null,null,null,null,""]
["",null,null,null,null,""]
["",null,null,null,null,""]
["",null,null,null,null,{"$f":"IF(B4418>\"\",B4418&TEXT(C4418,\"aaa-yy\"),\"\")","v":""}]
[{"$f":"IF(B4419>\"\",YEAR(C4419),\"\")","v":""},null,null,null,null,""]
["",null,null,null,null,""]
["",null,null,null,null,""]
["",null,null,null,null,""]
["",null,null,null,null,""]
["",null,null,null,null,""]
["",null,null,null,null,""]
["",null,null,null,null,""]
["",null,null,null,null,""]
["",null,null,null,null,""]
["",null,null,null,null,""]
["",null,null,null,null,""]
["",null,null,null,null,""]
["",null,null,null,null,""]
["",null,null,null,null,""]
["",null,null,null,null,""]
["",null,null,null,null,""]
["",null,null,null,null,""]
["",null,null,null,null,""]
["",null,null,null,null,""]
["",null,null,null,null,""]
["",null,null,null,null,""]
["",null,null,null,null,""]
["",null,null,null,null,""]
["",null,null,null,null,""]
["",null,null,null,null,""]
["",null,null,null,null,""]
["",null,null,null,null,""]
["",null,null,null,null,""]
["",null,null,null,null,""]
["",null,null,null,null,""]
["",null,null,null,null,""]
["",null,null,null,null,""]
["",null,null,null,null,""]
["",null,null,null,null,""]
["",null,null,null,null,""]
["",null,null,null,null,""]
["",null,null,null,null,""]
["",null,null,null,null,""]
["",null,null,null,null,""]
["",null,null,null,null,""]
["",null,null,null,null,""]
["",null,null,null,null,""]
["",null,null,null,null,""]
["",null,null,null,null,""]
["",null,null,null,null,""]
["",null,null,null,null,""]
["",null,null,null,null,""]
["",null,null,null,null,""]
["",null,null,null,null,""]
["",null,null,null,null,""]
["",null,null,null,null,""]
["",null,null,null,null,""]
["",null,null,null,null,""]
["",null,null,null,null,""]
["",null,null,null,null,""]
["",null,null,null,null,""]
["",null,null,null,null,""]
["",null,null,null,null,""]
["",null,null,null,null,""]
["",null,null,null,null,""]
["",null,null,null,null,""]
["",null,null,null,null,""]
["",null,null,null,null,{"$f":"IF(B4482>\"\",B4482&TEXT(C4482,\"aaa-yy\"),\"\")","v":""}]
[{"$f":"IF(B4483>\"\",YEAR(C4483),\"\")","v":""},null,null,null,null,""]
["",null,null,null,null,""]
["",null,null,null,null,""]
["",null,null,null,null,""]
["",null,null,null,null,""]
["",null,null,null,null,""]
["",null,null,null,null,""]
["",null,null,null,null,""]
["",null,null,null,null,""]
["",null,null,null,null,""]
["",null,null,null,null,""]
["",null,null,null,null,""]
["",null,null,null,null,""]
["",null,null,null,null,""]
["",null,null,null,null,""]
["",null,null,null,null,""]
["",null,null,null,null,""]
["",null,null,null,null,""]
["",null,null,null,null,""]
["",null,null,null,null,""]
["",null,null,null,null,""]
["",null,null,null,null,""]
["",null,null,null,null,""]
["",null,null,null,null,""]
["",null,null,null,null,""]
["",null,null,null,null,""]
["",null,null,null,null,""]
["",null,null,null,null,""]
["",null,null,null,null,""]
["",null,null,null,null,""]
["",null,null,null,null,""]
["",null,null,null,null,""]
["",null,null,null,null,""]
["",null,null,null,null,""]
["",null,null,null,null,""]
["",null,null,null,null,""]
["",null,null,null,null,""]
["",null,null,null,null,""]
["",null,null,null,null,""]
["",null,null,null,null,""]
["",null,null,null,null,""]
["",null,null,null,null,""]
["",null,null,null,null,""]
["",null,null,null,null,""]
["",null,null,null,null,""]
["",null,null,null,null,""]
["",null,null,null,null,""]
["",null,null,null,null,""]
["",null,null,null,null,""]
["",null,null,null,null,""]
["",null,null,null,null,""]
["",null,null,null,null,""]
["",null,null,null,null,""]
["",null,null,null,null,""]
["",null,null,null,null,""]
["",null,null,null,null,""]
["",null,null,null,null,""]
["",null,null,null,null,""]
["",null,null,null,null,""]
["",null,null,null,null,""]
["",null,null,null,null,""]
["",null,null,null,null,""]
["",null,null,null,null,""]
["",null,null,null,null,{"$f":"IF(B4546>\"\",B4546&TEXT(C4546,\"aaa-yy\"),\"\")","v":""}]
[{"$f":"IF(B4547>\"\",YEAR(C4547),\"\")","v":""},null,null,null,null,""]
["",null,null,null,null,""]
["",null,null,null,null,""]
["",null,null,null,null,""]
["",null,null,null,null,""]
["",null,null,null,null,""]
["",null,null,null,null,""]
["",null,null,null,null,""]
["",null,null,null,null,""]
["",null,null,null,null,""]
["",null,null,null,null,""]
["",null,null,null,null,""]
["",null,null,null,null,""]
["",null,null,null,null,""]
["",null,null,null,null,""]
["",null,null,null,null,""]
["",null,null,null,null,""]
["",null,null,null,null,""]
["",null,null,null,null,""]
["",null,null,null,null,""]
["",null,null,null,null,""]
["",null,null,null,null,""]
["",null,null,null,null,""]
["",null,null,null,null,""]
["",null,null,null,null,""]
["",null,null,null,null,""]
["",null,null,null,null,""]
["",null,null,null,null,""]
["",null,null,null,null,""]
["",null,null,null,null,""]
["",null,null,null,null,""]
["",null,null,null,null,""]
["",null,null,null,null,""]
["",null,null,null,null,""]
["",null,null,null,null,""]
["",null,null,null,null,""]
["",null,null,null,null,""]
["",null,null,null,null,""]
["",null,null,null,null,""]
["",null,null,null,null,""]
["",null,null,null,null,""]
["",null,null,null,null,""]
["",null,null,null,null,""]
["",null,null,null,null,""]
["",null,null,null,null,""]
["",null,null,null,null,""]
["",null,null,null,null,""]
["",null,null,null,null,""]
["",null,null,null,null,""]
["",null,null,null,null,""]
["",null,null,null,null,""]
["",null,null,null,null,""]
["",null,null,null,null,""]
["",null,null,null,null,""]
["",null,null,null,null,""]
["",null,null,null,null,""]
["",null,null,null,null,""]
["",null,null,null,null,""]
["",null,null,null,null,""]
["",null,null,null,null,""]
["",null,null,null,null,""]
["",null,null,null,null,""]
["",null,null,null,null,""]
["",null,null,null,null,{"$f":"IF(B4610>\"\",B4610&TEXT(C4610,\"aaa-yy\"),\"\")","v":""}]
[{"$f":"IF(B4611>\"\",YEAR(C4611),\"\")","v":""},null,null,null,null,""]
["",null,null,null,null,""]
["",null,null,null,null,""]
["",null,null,null,null,""]
["",null,null,null,null,""]
["",null,null,null,null,""]
["",null,null,null,null,""]
["",null,null,null,null,""]
["",null,null,null,null,""]
["",null,null,null,null,""]
["",null,null,null,null,""]
["",null,null,null,null,""]
["",null,null,null,null,""]
["",null,null,null,null,""]
["",null,null,null,null,""]
["",null,null,null,null,""]
["",null,null,null,null,""]
["",null,null,null,null,""]
["",null,null,null,null,""]
["",null,null,null,null,""]
["",null,null,null,null,""]
["",null,null,null,null,""]
["",null,null,null,null,""]
["",null,null,null,null,""]
["",null,null,null,null,""]
["",null,null,null,null,""]
["",null,null,null,null,""]
["",null,null,null,null,""]
["",null,null,null,null,""]
["",null,null,null,null,""]
["",null,null,null,null,""]
["",null,null,null,null,""]
["",null,null,null,null,""]
["",null,null,null,null,""]
["",null,null,null,null,""]
["",null,null,null,null,""]
["",null,null,null,null,""]
["",null,null,null,null,""]
["",null,null,null,null,""]
["",null,null,null,null,""]
["",null,null,null,null,""]
["",null,null,null,null,""]
["",null,null,null,null,""]
["",null,null,null,null,""]
["",null,null,null,null,""]
["",null,null,null,null,""]
["",null,null,null,null,""]
["",null,null,null,null,""]
["",null,null,null,null,""]
["",null,null,null,null,""]
["",null,null,null,null,""]
["",null,null,null,null,""]
["",null,null,null,null,""]
["",null,null,null,null,""]
["",null,null,null,null,""]
["",null,null,null,null,""]
["",null,null,null,null,""]
["",null,null,null,null,""]
["",null,null,null,null,""]
["",null,null,null,null,""]
["",null,null,null,null,""]
["",null,null,null,null,""]
["",null,null,null,null,""]
["",null,null,null,null,{"$f":"IF(B4674>\"\",B4674&TEXT(C4674,\"aaa-yy\"),\"\")","v":""}]
[{"$f":"IF(B4675>\"\",YEAR(C4675),\"\")","v":""},null,null,null,null,""]
["",null,null,null,null,""]
["",null,null,null,null,""]
["",null,null,null,null,""]
["",null,null,null,null,""]
["",null,null,null,null,""]
["",null,null,null,null,""]
["",null,null,null,null,""]
["",null,null,null,null,""]
["",null,null,null,null,""]
["",null,null,null,null,""]
["",null,null,null,null,""]
["",null,null,null,null,""]
["",null,null,null,null,""]
["",null,null,null,null,""]
["",null,null,null,null,""]
["",null,null,null,null,""]
["",null,null,null,null,""]
["",null,null,null,null,""]
["",null,null,null,null,""]
["",null,null,null,null,""]
["",null,null,null,null,""]
["",null,null,null,null,""]
["",null,null,null,null,""]
["",null,null,null,null,""]
["",null,null,null,null,""]
["",null,null,null,null,""]
["",null,null,null,null,""]
["",null,null,null,null,""]
["",null,null,null,null,""]
["",null,null,null,null,""]
["",null,null,null,null,""]
["",null,null,null,null,""]
["",null,null,null,null,""]
["",null,null,null,null,""]
["",null,null,null,null,""]
["",null,null,null,null,""]
["",null,null,null,null,""]
["",null,null,null,null,""]
["",null,null,null,null,""]
["",null,null,null,null,""]
["",null,null,null,null,""]
["",null,null,null,null,""]
["",null,null,null,null,""]
["",null,null,null,null,""]
["",null,null,null,null,""]
["",null,null,null,null,""]
["",null,null,null,null,""]
["",null,null,null,null,""]
["",null,null,null,null,""]
["",null,null,null,null,""]
["",null,null,null,null,""]
["",null,null,null,null,""]
["",null,null,null,null,""]
["",null,null,null,null,""]
["",null,null,null,null,""]
["",null,null,null,null,""]
["",null,null,null,null,""]
["",null,null,null,null,""]
["",null,null,null,null,""]
["",null,null,null,null,""]
["",null,null,null,null,""]
["",null,null,null,null,""]
["",null,null,null,null,{"$f":"IF(B4738>\"\",B4738&TEXT(C4738,\"aaa-yy\"),\"\")","v":""}]
[{"$f":"IF(B4739>\"\",YEAR(C4739),\"\")","v":""},null,null,null,null,""]
["",null,null,null,null,""]
["",null,null,null,null,""]
["",null,null,null,null,""]
["",null,null,null,null,""]
["",null,null,null,null,""]
["",null,null,null,null,""]
["",null,null,null,null,""]
["",null,null,null,null,""]
["",null,null,null,null,""]
["",null,null,null,null,""]
["",null,null,null,null,""]
["",null,null,null,null,""]
["",null,null,null,null,""]
["",null,null,null,null,""]
["",null,null,null,null,""]
["",null,null,null,null,""]
["",null,null,null,null,""]
["",null,null,null,null,""]
["",null,null,null,null,""]
["",null,null,null,null,""]
["",null,null,null,null,""]
["",null,null,null,null,""]
["",null,null,null,null,""]
["",null,null,null,null,""]
["",null,null,null,null,""]
["",null,null,null,null,""]
["",null,null,null,null,""]
["",null,null,null,null,""]
["",null,null,null,null,""]
["",null,null,null,null,""]
["",null,null,null,null,""]
["",null,null,null,null,""]
["",null,null,null,null,""]
["",null,null,null,null,""]
["",null,null,null,null,""]
["",null,null,null,null,""]
["",null,null,null,null,""]
["",null,null,null,null,""]
["",null,null,null,null,""]
["",null,null,null,null,""]
["",null,null,null,null,""]
["",null,null,null,null,""]
["",null,null,null,null,""]
["",null,null,null,null,""]
["",null,null,null,null,""]
["",null,null,null,null,""]
["",null,null,null,null,""]
["",null,null,null,null,""]
["",null,null,null,null,""]
["",null,null,null,null,""]
["",null,null,null,null,""]
["",null,null,null,null,""]
["",null,null,null,null,""]
["",null,null,null,null,""]
["",null,null,null,null,""]
["",null,null,null,null,""]
["",null,null,null,null,""]
["",null,null,null,null,""]
["",null,null,null,null,""]
["",null,null,null,null,""]
["",null,null,null,null,""]
["",null,null,null,null,""]
["",null,null,null,null,{"$f":"IF(B4802>\"\",B4802&TEXT(C4802,\"aaa-yy\"),\"\")","v":""}]
[{"$f":"IF(B4803>\"\",YEAR(C4803),\"\")","v":""},null,null,null,null,""]
["",null,null,null,null,""]
["",null,null,null,null,""]
["",null,null,null,null,""]
["",null,null,null,null,""]
["",null,null,null,null,""]
["",null,null,null,null,""]
["",null,null,null,null,""]
["",null,null,null,null,""]
["",null,null,null,null,""]
["",null,null,null,null,""]
["",null,null,null,null,""]
["",null,null,null,null,""]
["",null,null,null,null,""]
["",null,null,null,null,""]
["",null,null,null,null,""]
["",null,null,null,null,""]
["",null,null,null,null,""]
["",null,null,null,null,""]
["",null,null,null,null,""]
["",null,null,null,null,""]
["",null,null,null,null,""]
["",null,null,null,null,""]
["",null,null,null,null,""]
["",null,null,null,null,""]
["",null,null,null,null,""]
["",null,null,null,null,""]
["",null,null,null,null,""]
["",null,null,null,null,""]
["",null,null,null,null,""]
["",null,null,null,null,""]
["",null,null,null,null,""]
["",null,null,null,null,""]
["",null,null,null,null,""]
["",null,null,null,null,""]
["",null,null,null,null,""]
["",null,null,null,null,""]
["",null,null,null,null,""]
["",null,null,null,null,""]
["",null,null,null,null,""]
["",null,null,null,null,""]
["",null,null,null,null,""]
["",null,null,null,null,""]
["",null,null,null,null,""]
["",null,null,null,null,""]
["",null,null,null,null,""]
["",null,null,null,null,""]
["",null,null,null,null,""]
["",null,null,null,null,""]
["",null,null,null,null,""]
["",null,null,null,null,""]
["",null,null,null,null,""]
["",null,null,null,null,""]
["",null,null,null,null,""]
["",null,null,null,null,""]
["",null,null,null,null,""]
["",null,null,null,null,""]
["",null,null,null,null,""]
["",null,null,null,null,""]
["",null,null,null,null,""]
["",null,null,null,null,""]
["",null,null,null,null,""]
["",null,null,null,null,""]
["",null,null,null,null,{"$f":"IF(B4866>\"\",B4866&TEXT(C4866,\"aaa-yy\"),\"\")","v":""}]
[{"$f":"IF(B4867>\"\",YEAR(C4867),\"\")","v":""},null,null,null,null,""]
["",null,null,null,null,""]
["",null,null,null,null,""]
["",null,null,null,null,""]
["",null,null,null,null,""]
["",null,null,null,null,""]
["",null,null,null,null,""]
["",null,null,null,null,""]
["",null,null,null,null,""]
["",null,null,null,null,""]
["",null,null,null,null,""]
["",null,null,null,null,""]
["",null,null,null,null,""]
["",null,null,null,null,""]
["",null,null,null,null,""]
["",null,null,null,null,""]
["",null,null,null,null,""]
["",null,null,null,null,""]
["",null,null,null,null,""]
["",null,null,null,null,""]
["",null,null,null,null,""]
["",null,null,null,null,""]
["",null,null,null,null,""]
["",null,null,null,null,""]
["",null,null,null,null,""]
["",null,null,null,null,""]
["",null,null,null,null,""]
["",null,null,null,null,""]
["",null,null,null,null,""]
["",null,null,null,null,""]
["",null,null,null,null,""]
["",null,null,null,null,""]
["",null,null,null,null,""]
["",null,null,null,null,""]
["",null,null,null,null,""]
["",null,null,null,null,""]
["",null,null,null,null,""]
["",null,null,null,null,""]
["",null,null,null,null,""]
["",null,null,null,null,""]
["",null,null,null,null,""]
["",null,null,null,null,""]
["",null,null,null,null,""]
["",null,null,null,null,""]
["",null,null,null,null,""]
["",null,null,null,null,""]
["",null,null,null,null,""]
["",null,null,null,null,""]
["",null,null,null,null,""]
["",null,null,null,null,""]
["",null,null,null,null,""]
["",null,null,null,null,""]
["",null,null,null,null,""]
["",null,null,null,null,""]
["",null,null,null,null,""]
["",null,null,null,null,""]
["",null,null,null,null,""]
["",null,null,null,null,""]
["",null,null,null,null,""]
["",null,null,null,null,""]
["",null,null,null,null,""]
["",null,null,null,null,""]
["",null,null,null,null,""]
["",null,null,null,null,{"$f":"IF(B4930>\"\",B4930&TEXT(C4930,\"aaa-yy\"),\"\")","v":""}]
[{"$f":"IF(B4931>\"\",YEAR(C4931),\"\")","v":""},null,null,null,null,""]
["",null,null,null,null,""]
["",null,null,null,null,""]
["",null,null,null,null,""]
["",null,null,null,null,""]
["",null,null,null,null,""]
["",null,null,null,null,""]
["",null,null,null,null,""]
["",null,null,null,null,""]
["",null,null,null,null,""]
["",null,null,null,null,""]
["",null,null,null,null,""]
["",null,null,null,null,""]
["",null,null,null,null,""]
["",null,null,null,null,""]
["",null,null,null,null,""]
["",null,null,null,null,""]
["",null,null,null,null,""]
["",null,null,null,null,""]
["",null,null,null,null,""]
["",null,null,null,null,""]
["",null,null,null,null,""]
["",null,null,null,null,""]
["",null,null,null,null,""]
["",null,null,null,null,""]
["",null,null,null,null,""]
["",null,null,null,null,""]
["",null,null,null,null,""]
["",null,null,null,null,""]
["",null,null,null,null,""]
["",null,null,null,null,""]
["",null,null,null,null,""]
["",null,null,null,null,""]
["",null,null,null,null,""]
["",null,null,null,null,""]
["",null,null,null,null,""]
["",null,null,null,null,""]
["",null,null,null,null,""]
["",null,null,null,null,""]
["",null,null,null,null,""]
["",null,null,null,null,""]
["",null,null,null,null,""]
["",null,null,null,null,""]
["",null,null,null,null,""]
["",null,null,null,null,""]
["",null,null,null,null,""]
["",null,null,null,null,""]
["",null,null,null,null,""]
["",null,null,null,null,""]
["",null,null,null,null,""]
["",null,null,null,null,""]
["",null,null,null,null,""]
["",null,null,null,null,""]
["",null,null,null,null,""]
["",null,null,null,null,""]
["",null,null,null,null,""]
["",null,null,null,null,""]
["",null,null,null,null,""]
["",null,null,null,null,""]
["",null,null,null,null,""]
["",null,null,null,null,""]
["",null,null,null,null,""]
["",null,null,null,null,""]
["",null,null,null,null,{"$f":"IF(B4994>\"\",B4994&TEXT(C4994,\"aaa-yy\"),\"\")","v":""}]
[{"$f":"IF(B4995>\"\",YEAR(C4995),\"\")","v":""},null,null,null,null,""]
["",null,null,null,null,""]
["",null,null,null,null,""]
["",null,null,null,null,""]
["",null,null,null,null,""]
["",null,null,null,null,""]
["",null,null,null,null,""]
["",null,null,null,null,""]
["",null,null,null,null,""]
["",null,null,null,null,""]
["",null,null,null,null,""]
["",null,null,null,null,""]
["",null,null,null,null,""]
["",null,null,null,null,""]
["",null,null,null,null,""]
["",null,null,null,null,""]
["",null,null,null,null,""]
["",null,null,null,null,""]
["",null,null,null,null,""]
["",null,null,null,null,""]
["",null,null,null,null,""]
["",null,null,null,null,""]
["",null,null,null,null,""]
["",null,null,null,null,""]
["",null,null,null,null,""]
["",null,null,null,null,""]
["",null,null,null,null,""]
["",null,null,null,null,""]
["",null,null,null,null,""]
["",null,null,null,null,""]
["",null,null,null,null,""]
["",null,null,null,null,""]
["",null,null,null,null,""]
["",null,null,null,null,""]
["",null,null,null,null,""]
["",null,null,null,null,""]
["",null,null,null,null,""]
["",null,null,null,null,""]
["",null,null,null,null,""]
["",null,null,null,null,""]
["",null,null,null,null,""]
["",null,null,null,null,""]
["",null,null,null,null,""]
["",null,null,null,null,""]
["",null,null,null,null,""]
["",null,null,null,null,""]
["",null,null,null,null,""]
["",null,null,null,null,""]
["",null,null,null,null,""]
["",null,null,null,null,""]
["",null,null,null,null,""]
["",null,null,null,null,""]
["",null,null,null,null,""]
["",null,null,null,null,""]
["",null,null,null,null,""]
["",null,null,null,null,""]
["",null,null,null,null,""]
["",null,null,null,null,""]
["",null,null,null,null,""]
["",null,null,null,null,""]
["",null,null,null,null,""]
["",null,null,null,null,""]
["",null,null,null,null,""]
["",null,null,null,null,{"$f":"IF(B5058>\"\",B5058&TEXT(C5058,\"aaa-yy\"),\"\")","v":""}]
[{"$f":"IF(B5059>\"\",YEAR(C5059),\"\")","v":""},null,null,null,null,""]
["",null,null,null,null,""]
["",null,null,null,null,""]
["",null,null,null,null,""]
["",null,null,null,null,""]
["",null,null,null,null,""]
["",null,null,null,null,""]
["",null,null,null,null,""]
["",null,null,null,null,""]
["",null,null,null,null,""]
["",null,null,null,null,""]
["",null,null,null,null,""]
["",null,null,null,null,""]
["",null,null,null,null,""]
["",null,null,null,null,""]
["",null,null,null,null,""]

{"sheet":"GİDERLER","index":4,"n_rows":10290,"n_cols":58,"rows_kept":1125,"cut":true,"hidden":false,"merged":[],"bounds":{"rows_first":500,"rows_last":125,"rows_between":500,"halvings":2}}
["YIL","KİME / NEREYE HARCANDIĞI","TC./VERGİ NO","TARİH","BELGE NO","AÇIKLAMA","HARCAMA TUTARI"]
[{"$f":"IF(B2>\"\",YEAR(D2),\"\")","v":""},null,null,null,null,null,null,null,null,null,null,null,null,null,null,null,null,null,null,null,null,null,null,null,null,null,null,null,null,null,null,null,null,null,null,null,null,null,null,null,null,null,null,null,null,null,null,null,null,null,null,null,null,null,null,null,null,{"$f":"IF(B2>\"\",B2&TEXT(D2,\"aaa-yy\"),\"\")","v":""}]
[{"$f":"IF(B3>\"\",YEAR(D3),\"\")","v":""},null,null,null,null,null,null,null,null,null,null,null,null,null,null,null,null,null,null,null,null,null,null,null,null,null,null,null,null,null,null,null,null,null,null,null,null,null,null,null,null,null,null,null,null,null,null,null,null,null,null,null,null,null,null,null,null,{"$f":"IF(B3>\"\",B3&TEXT(D3,\"aaa-yy\"),\"\")","v":""}]
["",null,null,null,null,null,null,null,null,null,null,null,null,null,null,null,null,null,null,null,null,null,null,null,null,null,null,null,null,null,null,null,null,null,null,null,null,null,null,null,null,null,null,null,null,null,null,null,null,null,null,null,null,null,null,null,null,""]
["",null,null,null,null,null,null,null,null,null,null,null,null,null,null,null,null,null,null,null,null,null,null,null,null,null,null,null,null,null,null,null,null,null,null,null,null,null,null,null,null,null,null,null,null,null,null,null,null,null,null,null,null,null,null,null,null,""]
["",null,null,null,null,null,null,null,null,null,null,null,null,null,null,null,null,null,null,null,null,null,null,null,null,null,null,null,null,null,null,null,null,null,null,null,null,null,null,null,null,null,null,null,null,null,null,null,null,null,null,null,null,null,null,null,null,""]
["",null,null,null,null,null,null,null,null,null,null,null,null,null,null,null,null,null,null,null,null,null,null,null,null,null,null,null,null,null,null,null,null,null,null,null,null,null,null,null,null,null,null,null,null,null,null,null,null,null,null,null,null,null,null,null,null,""]
["",null,null,null,null,null,null,null,null,null,null,null,null,null,null,null,null,null,null,null,null,null,null,null,null,null,null,null,null,null,null,null,null,null,null,null,null,null,null,null,null,null,null,null,null,null,null,null,null,null,null,null,null,null,null,null,null,""]
["",null,null,null,null,null,null,null,null,null,null,null,null,null,null,null,null,null,null,null,null,null,null,null,null,null,null,null,null,null,null,null,null,null,null,null,null,null,null,null,null,null,null,null,null,null,null,null,null,null,null,null,null,null,null,null,null,""]
["",null,null,null,null,null,null,null,null,null,null,null,null,null,null,null,null,null,null,null,null,null,null,null,null,null,null,null,null,null,null,null,null,null,null,null,null,null,null,null,null,null,null,null,null,null,null,null,null,null,null,null,null,null,null,null,null,""]
["",null,null,null,null,null,null,null,null,null,null,null,null,null,null,null,null,null,null,null,null,null,null,null,null,null,null,null,null,null,null,null,null,null,null,null,null,null,null,null,null,null,null,null,null,null,null,null,null,null,null,null,null,null,null,null,null,""]
["",null,null,null,null,null,null,null,null,null,null,null,null,null,null,null,null,null,null,null,null,null,null,null,null,null,null,null,null,null,null,null,null,null,null,null,null,null,null,null,null,null,null,null,null,null,null,null,null,null,null,null,null,null,null,null,null,""]
["",null,null,null,null,null,null,null,null,null,null,null,null,null,null,null,null,null,null,null,null,null,null,null,null,null,null,null,null,null,null,null,null,null,null,null,null,null,null,null,null,null,null,null,null,null,null,null,null,null,null,null,null,null,null,null,null,""]
["",null,null,null,null,null,null,null,null,null,null,null,null,null,null,null,null,null,null,null,null,null,null,null,null,null,null,null,null,null,null,null,null,null,null,null,null,null,null,null,null,null,null,null,null,null,null,null,null,null,null,null,null,null,null,null,null,""]
["",null,null,null,null,null,null,null,null,null,null,null,null,null,null,null,null,null,null,null,null,null,null,null,null,null,null,null,null,null,null,null,null,null,null,null,null,null,null,null,null,null,null,null,null,null,null,null,null,null,null,null,null,null,null,null,null,""]
["",null,null,null,null,null,null,null,null,null,null,null,null,null,null,null,null,null,null,null,null,null,null,null,null,null,null,null,null,null,null,null,null,null,null,null,null,null,null,null,null,null,null,null,null,null,null,null,null,null,null,null,null,null,null,null,null,""]
["",null,null,null,null,null,null,null,null,null,null,null,null,null,null,null,null,null,null,null,null,null,null,null,null,null,null,null,null,null,null,null,null,null,null,null,null,null,null,null,null,null,null,null,null,null,null,null,null,null,null,null,null,null,null,null,null,""]
["",null,null,null,null,null,null,null,null,null,null,null,null,null,null,null,null,null,null,null,null,null,null,null,null,null,null,null,null,null,null,null,null,null,null,null,null,null,null,null,null,null,null,null,null,null,null,null,null,null,null,null,null,null,null,null,null,""]
["",null,null,null,null,null,null,null,null,null,null,null,null,null,null,null,null,null,null,null,null,null,null,null,null,null,null,null,null,null,null,null,null,null,null,null,null,null,null,null,null,null,null,null,null,null,null,null,null,null,null,null,null,null,null,null,null,""]
["",null,null,null,null,null,null,null,null,null,null,null,null,null,null,null,null,null,null,null,null,null,null,null,null,null,null,null,null,null,null,null,null,null,null,null,null,null,null,null,null,null,null,null,null,null,null,null,null,null,null,null,null,null,null,null,null,""]
["",null,null,null,null,null,null,null,null,null,null,null,null,null,null,null,null,null,null,null,null,null,null,null,null,null,null,null,null,null,null,null,null,null,null,null,null,null,null,null,null,null,null,null,null,null,null,null,null,null,null,null,null,null,null,null,null,""]
["",null,null,null,null,null,null,null,null,null,null,null,null,null,null,null,null,null,null,null,null,null,null,null,null,null,null,null,null,null,null,null,null,null,null,null,null,null,null,null,null,null,null,null,null,null,null,null,null,null,null,null,null,null,null,null,null,""]
["",null,null,null,null,null,null,null,null,null,null,null,null,null,null,null,null,null,null,null,null,null,null,null,null,null,null,null,null,null,null,null,null,null,null,null,null,null,null,null,null,null,null,null,null,null,null,null,null,null,null,null,null,null,null,null,null,""]
["",null,null,null,null,null,null,null,null,null,null,null,null,null,null,null,null,null,null,null,null,null,null,null,null,null,null,null,null,null,null,null,null,null,null,null,null,null,null,null,null,null,null,null,null,null,null,null,null,null,null,null,null,null,null,null,null,""]
["",null,null,null,null,null,null,null,null,null,null,null,null,null,null,null,null,null,null,null,null,null,null,null,null,null,null,null,null,null,null,null,null,null,null,null,null,null,null,null,null,null,null,null,null,null,null,null,null,null,null,null,null,null,null,null,null,""]
["",null,null,null,null,null,null,null,null,null,null,null,null,null,null,null,null,null,null,null,null,null,null,null,null,null,null,null,null,null,null,null,null,null,null,null,null,null,null,null,null,null,null,null,null,null,null,null,null,null,null,null,null,null,null,null,null,""]
["",null,null,null,null,null,null,null,null,null,null,null,null,null,null,null,null,null,null,null,null,null,null,null,null,null,null,null,null,null,null,null,null,null,null,null,null,null,null,null,null,null,null,null,null,null,null,null,null,null,null,null,null,null,null,null,null,""]
["",null,null,null,null,null,null,null,null,null,null,null,null,null,null,null,null,null,null,null,null,null,null,null,null,null,null,null,null,null,null,null,null,null,null,null,null,null,null,null,null,null,null,null,null,null,null,null,null,null,null,null,null,null,null,null,null,""]
["",null,null,null,null,null,null,null,null,null,null,null,null,null,null,null,null,null,null,null,null,null,null,null,null,null,null,null,null,null,null,null,null,null,null,null,null,null,null,null,null,null,null,null,null,null,null,null,null,null,null,null,null,null,null,null,null,""]
["",null,null,null,null,null,null,null,null,null,null,null,null,null,null,null,null,null,null,null,null,null,null,null,null,null,null,null,null,null,null,null,null,null,null,null,null,null,null,null,null,null,null,null,null,null,null,null,null,null,null,null,null,null,null,null,null,""]
["",null,null,null,null,null,null,null,null,null,null,null,null,null,null,null,null,null,null,null,null,null,null,null,null,null,null,null,null,null,null,null,null,null,null,null,null,null,null,null,null,null,null,null,null,null,null,null,null,null,null,null,null,null,null,null,null,""]
["",null,null,null,null,null,null,null,null,null,null,null,null,null,null,null,null,null,null,null,null,null,null,null,null,null,null,null,null,null,null,null,null,null,null,null,null,null,null,null,null,null,null,null,null,null,null,null,null,null,null,null,null,null,null,null,null,""]
["",null,null,null,null,null,null,null,null,null,null,null,null,null,null,null,null,null,null,null,null,null,null,null,null,null,null,null,null,null,null,null,null,null,null,null,null,null,null,null,null,null,null,null,null,null,null,null,null,null,null,null,null,null,null,null,null,""]
["",null,null,null,null,null,null,null,null,null,null,null,null,null,null,null,null,null,null,null,null,null,null,null,null,null,null,null,null,null,null,null,null,null,null,null,null,null,null,null,null,null,null,null,null,null,null,null,null,null,null,null,null,null,null,null,null,""]
["",null,null,null,null,null,null,null,null,null,null,null,null,null,null,null,null,null,null,null,null,null,null,null,null,null,null,null,null,null,null,null,null,null,null,null,null,null,null,null,null,null,null,null,null,null,null,null,null,null,null,null,null,null,null,null,null,""]
["",null,null,null,null,null,null,null,null,null,null,null,null,null,null,null,null,null,null,null,null,null,null,null,null,null,null,null,null,null,null,null,null,null,null,null,null,null,null,null,null,null,null,null,null,null,null,null,null,null,null,null,null,null,null,null,null,""]
["",null,null,null,null,null,null,null,null,null,null,null,null,null,null,null,null,null,null,null,null,null,null,null,null,null,null,null,null,null,null,null,null,null,null,null,null,null,null,null,null,null,null,null,null,null,null,null,null,null,null,null,null,null,null,null,null,""]
["",null,null,null,null,null,null,null,null,null,null,null,null,null,null,null,null,null,null,null,null,null,null,null,null,null,null,null,null,null,null,null,null,null,null,null,null,null,null,null,null,null,null,null,null,null,null,null,null,null,null,null,null,null,null,null,null,""]
["",null,null,null,null,null,null,null,null,null,null,null,null,null,null,null,null,null,null,null,null,null,null,null,null,null,null,null,null,null,null,null,null,null,null,null,null,null,null,null,null,null,null,null,null,null,null,null,null,null,null,null,null,null,null,null,null,""]
["",null,null,null,null,null,null,null,null,null,null,null,null,null,null,null,null,null,null,null,null,null,null,null,null,null,null,null,null,null,null,null,null,null,null,null,null,null,null,null,null,null,null,null,null,null,null,null,null,null,null,null,null,null,null,null,null,""]
["",null,null,null,null,null,null,null,null,null,null,null,null,null,null,null,null,null,null,null,null,null,null,null,null,null,null,null,null,null,null,null,null,null,null,null,null,null,null,null,null,null,null,null,null,null,null,null,null,null,null,null,null,null,null,null,null,""]
["",null,null,null,null,null,null,null,null,null,null,null,null,null,null,null,null,null,null,null,null,null,null,null,null,null,null,null,null,null,null,null,null,null,null,null,null,null,null,null,null,null,null,null,null,null,null,null,null,null,null,null,null,null,null,null,null,""]
["",null,null,null,null,null,null,null,null,null,null,null,null,null,null,null,null,null,null,null,null,null,null,null,null,null,null,null,null,null,null,null,null,null,null,null,null,null,null,null,null,null,null,null,null,null,null,null,null,null,null,null,null,null,null,null,null,""]
["",null,null,null,null,null,null,null,null,null,null,null,null,null,null,null,null,null,null,null,null,null,null,null,null,null,null,null,null,null,null,null,null,null,null,null,null,null,null,null,null,null,null,null,null,null,null,null,null,null,null,null,null,null,null,null,null,""]
["",null,null,null,null,null,null,null,null,null,null,null,null,null,null,null,null,null,null,null,null,null,null,null,null,null,null,null,null,null,null,null,null,null,null,null,null,null,null,null,null,null,null,null,null,null,null,null,null,null,null,null,null,null,null,null,null,""]
["",null,null,null,null,null,null,null,null,null,null,null,null,null,null,null,null,null,null,null,null,null,null,null,null,null,null,null,null,null,null,null,null,null,null,null,null,null,null,null,null,null,null,null,null,null,null,null,null,null,null,null,null,null,null,null,null,""]
["",null,null,null,null,null,null,null,null,null,null,null,null,null,null,null,null,null,null,null,null,null,null,null,null,null,null,null,null,null,null,null,null,null,null,null,null,null,null,null,null,null,null,null,null,null,null,null,null,null,null,null,null,null,null,null,null,""]
["",null,null,null,null,null,null,null,null,null,null,null,null,null,null,null,null,null,null,null,null,null,null,null,null,null,null,null,null,null,null,null,null,null,null,null,null,null,null,null,null,null,null,null,null,null,null,null,null,null,null,null,null,null,null,null,null,""]
["",null,null,null,null,null,null,null,null,null,null,null,null,null,null,null,null,null,null,null,null,null,null,null,null,null,null,null,null,null,null,null,null,null,null,null,null,null,null,null,null,null,null,null,null,null,null,null,null,null,null,null,null,null,null,null,null,""]
["",null,null,null,null,null,null,null,null,null,null,null,null,null,null,null,null,null,null,null,null,null,null,null,null,null,null,null,null,null,null,null,null,null,null,null,null,null,null,null,null,null,null,null,null,null,null,null,null,null,null,null,null,null,null,null,null,""]
["",null,null,null,null,null,null,null,null,null,null,null,null,null,null,null,null,null,null,null,null,null,null,null,null,null,null,null,null,null,null,null,null,null,null,null,null,null,null,null,null,null,null,null,null,null,null,null,null,null,null,null,null,null,null,null,null,""]
["",null,null,null,null,null,null,null,null,null,null,null,null,null,null,null,null,null,null,null,null,null,null,null,null,null,null,null,null,null,null,null,null,null,null,null,null,null,null,null,null,null,null,null,null,null,null,null,null,null,null,null,null,null,null,null,null,""]
["",null,null,null,null,null,null,null,null,null,null,null,null,null,null,null,null,null,null,null,null,null,null,null,null,null,null,null,null,null,null,null,null,null,null,null,null,null,null,null,null,null,null,null,null,null,null,null,null,null,null,null,null,null,null,null,null,""]
["",null,null,null,null,null,null,null,null,null,null,null,null,null,null,null,null,null,null,null,null,null,null,null,null,null,null,null,null,null,null,null,null,null,null,null,null,null,null,null,null,null,null,null,null,null,null,null,null,null,null,null,null,null,null,null,null,""]
["",null,null,null,null,null,null,null,null,null,null,null,null,null,null,null,null,null,null,null,null,null,null,null,null,null,null,null,null,null,null,null,null,null,null,null,null,null,null,null,null,null,null,null,null,null,null,null,null,null,null,null,null,null,null,null,null,""]
["",null,null,null,null,null,null,null,null,null,null,null,null,null,null,null,null,null,null,null,null,null,null,null,null,null,null,null,null,null,null,null,null,null,null,null,null,null,null,null,null,null,null,null,null,null,null,null,null,null,null,null,null,null,null,null,null,""]
["",null,null,null,null,null,null,null,null,null,null,null,null,null,null,null,null,null,null,null,null,null,null,null,null,null,null,null,null,null,null,null,null,null,null,null,null,null,null,null,null,null,null,null,null,null,null,null,null,null,null,null,null,null,null,null,null,""]
["",null,null,null,null,null,null,null,null,null,null,null,null,null,null,null,null,null,null,null,null,null,null,null,null,null,null,null,null,null,null,null,null,null,null,null,null,null,null,null,null,null,null,null,null,null,null,null,null,null,null,null,null,null,null,null,null,""]
["",null,null,null,null,null,null,null,null,null,null,null,null,null,null,null,null,null,null,null,null,null,null,null,null,null,null,null,null,null,null,null,null,null,null,null,null,null,null,null,null,null,null,null,null,null,null,null,null,null,null,null,null,null,null,null,null,""]
["",null,null,null,null,null,null,null,null,null,null,null,null,null,null,null,null,null,null,null,null,null,null,null,null,null,null,null,null,null,null,null,null,null,null,null,null,null,null,null,null,null,null,null,null,null,null,null,null,null,null,null,null,null,null,null,null,""]
["",null,null,null,null,null,null,null,null,null,null,null,null,null,null,null,null,null,null,null,null,null,null,null,null,null,null,null,null,null,null,null,null,null,null,null,null,null,null,null,null,null,null,null,null,null,null,null,null,null,null,null,null,null,null,null,null,""]
["",null,null,null,null,null,null,null,null,null,null,null,null,null,null,null,null,null,null,null,null,null,null,null,null,null,null,null,null,null,null,null,null,null,null,null,null,null,null,null,null,null,null,null,null,null,null,null,null,null,null,null,null,null,null,null,null,""]
["",null,null,null,null,null,null,null,null,null,null,null,null,null,null,null,null,null,null,null,null,null,null,null,null,null,null,null,null,null,null,null,null,null,null,null,null,null,null,null,null,null,null,null,null,null,null,null,null,null,null,null,null,null,null,null,null,""]
["",null,null,null,null,null,null,null,null,null,null,null,null,null,null,null,null,null,null,null,null,null,null,null,null,null,null,null,null,null,null,null,null,null,null,null,null,null,null,null,null,null,null,null,null,null,null,null,null,null,null,null,null,null,null,null,null,""]
["",null,null,null,null,null,null,null,null,null,null,null,null,null,null,null,null,null,null,null,null,null,null,null,null,null,null,null,null,null,null,null,null,null,null,null,null,null,null,null,null,null,null,null,null,null,null,null,null,null,null,null,null,null,null,null,null,""]
["",null,null,null,null,null,null,null,null,null,null,null,null,null,null,null,null,null,null,null,null,null,null,null,null,null,null,null,null,null,null,null,null,null,null,null,null,null,null,null,null,null,null,null,null,null,null,null,null,null,null,null,null,null,null,null,null,""]
[{"$f":"IF(B67>\"\",YEAR(D67),\"\")","v":""},null,null,null,null,null,null,null,null,null,null,null,null,null,null,null,null,null,null,null,null,null,null,null,null,null,null,null,null,null,null,null,null,null,null,null,null,null,null,null,null,null,null,null,null,null,null,null,null,null,null,null,null,null,null,null,null,{"$f":"IF(B67>\"\",B67&TEXT(D67,\"aaa-yy\"),\"\")","v":""}]
["",null,null,null,null,null,null,null,null,null,null,null,null,null,null,null,null,null,null,null,null,null,null,null,null,null,null,null,null,null,null,null,null,null,null,null,null,null,null,null,null,null,null,null,null,null,null,null,null,null,null,null,null,null,null,null,null,""]
["",null,null,null,null,null,null,null,null,null,null,null,null,null,null,null,null,null,null,null,null,null,null,null,null,null,null,null,null,null,null,null,null,null,null,null,null,null,null,null,null,null,null,null,null,null,null,null,null,null,null,null,null,null,null,null,null,""]
["",null,null,null,null,null,null,null,null,null,null,null,null,null,null,null,null,null,null,null,null,null,null,null,null,null,null,null,null,null,null,null,null,null,null,null,null,null,null,null,null,null,null,null,null,null,null,null,null,null,null,null,null,null,null,null,null,""]
["",null,null,null,null,null,null,null,null,null,null,null,null,null,null,null,null,null,null,null,null,null,null,null,null,null,null,null,null,null,null,null,null,null,null,null,null,null,null,null,null,null,null,null,null,null,null,null,null,null,null,null,null,null,null,null,null,""]
["",null,null,null,null,null,null,null,null,null,null,null,null,null,null,null,null,null,null,null,null,null,null,null,null,null,null,null,null,null,null,null,null,null,null,null,null,null,null,null,null,null,null,null,null,null,null,null,null,null,null,null,null,null,null,null,null,""]
["",null,null,null,null,null,null,null,null,null,null,null,null,null,null,null,null,null,null,null,null,null,null,null,null,null,null,null,null,null,null,null,null,null,null,null,null,null,null,null,null,null,null,null,null,null,null,null,null,null,null,null,null,null,null,null,null,""]
["",null,null,null,null,null,null,null,null,null,null,null,null,null,null,null,null,null,null,null,null,null,null,null,null,null,null,null,null,null,null,null,null,null,null,null,null,null,null,null,null,null,null,null,null,null,null,null,null,null,null,null,null,null,null,null,null,""]
["",null,null,null,null,null,null,null,null,null,null,null,null,null,null,null,null,null,null,null,null,null,null,null,null,null,null,null,null,null,null,null,null,null,null,null,null,null,null,null,null,null,null,null,null,null,null,null,null,null,null,null,null,null,null,null,null,""]
["",null,null,null,null,null,null,null,null,null,null,null,null,null,null,null,null,null,null,null,null,null,null,null,null,null,null,null,null,null,null,null,null,null,null,null,null,null,null,null,null,null,null,null,null,null,null,null,null,null,null,null,null,null,null,null,null,""]
["",null,null,null,null,null,null,null,null,null,null,null,null,null,null,null,null,null,null,null,null,null,null,null,null,null,null,null,null,null,null,null,null,null,null,null,null,null,null,null,null,null,null,null,null,null,null,null,null,null,null,null,null,null,null,null,null,""]
["",null,null,null,null,null,null,null,null,null,null,null,null,null,null,null,null,null,null,null,null,null,null,null,null,null,null,null,null,null,null,null,null,null,null,null,null,null,null,null,null,null,null,null,null,null,null,null,null,null,null,null,null,null,null,null,null,""]
["",null,null,null,null,null,null,null,null,null,null,null,null,null,null,null,null,null,null,null,null,null,null,null,null,null,null,null,null,null,null,null,null,null,null,null,null,null,null,null,null,null,null,null,null,null,null,null,null,null,null,null,null,null,null,null,null,""]
["",null,null,null,null,null,null,null,null,null,null,null,null,null,null,null,null,null,null,null,null,null,null,null,null,null,null,null,null,null,null,null,null,null,null,null,null,null,null,null,null,null,null,null,null,null,null,null,null,null,null,null,null,null,null,null,null,""]
["",null,null,null,null,null,null,null,null,null,null,null,null,null,null,null,null,null,null,null,null,null,null,null,null,null,null,null,null,null,null,null,null,null,null,null,null,null,null,null,null,null,null,null,null,null,null,null,null,null,null,null,null,null,null,null,null,""]
["",null,null,null,null,null,null,null,null,null,null,null,null,null,null,null,null,null,null,null,null,null,null,null,null,null,null,null,null,null,null,null,null,null,null,null,null,null,null,null,null,null,null,null,null,null,null,null,null,null,null,null,null,null,null,null,null,""]
["",null,null,null,null,null,null,null,null,null,null,null,null,null,null,null,null,null,null,null,null,null,null,null,null,null,null,null,null,null,null,null,null,null,null,null,null,null,null,null,null,null,null,null,null,null,null,null,null,null,null,null,null,null,null,null,null,""]
["",null,null,null,null,null,null,null,null,null,null,null,null,null,null,null,null,null,null,null,null,null,null,null,null,null,null,null,null,null,null,null,null,null,null,null,null,null,null,null,null,null,null,null,null,null,null,null,null,null,null,null,null,null,null,null,null,""]
["",null,null,null,null,null,null,null,null,null,null,null,null,null,null,null,null,null,null,null,null,null,null,null,null,null,null,null,null,null,null,null,null,null,null,null,null,null,null,null,null,null,null,null,null,null,null,null,null,null,null,null,null,null,null,null,null,""]
["",null,null,null,null,null,null,null,null,null,null,null,null,null,null,null,null,null,null,null,null,null,null,null,null,null,null,null,null,null,null,null,null,null,null,null,null,null,null,null,null,null,null,null,null,null,null,null,null,null,null,null,null,null,null,null,null,""]
["",null,null,null,null,null,null,null,null,null,null,null,null,null,null,null,null,null,null,null,null,null,null,null,null,null,null,null,null,null,null,null,null,null,null,null,null,null,null,null,null,null,null,null,null,null,null,null,null,null,null,null,null,null,null,null,null,""]
["",null,null,null,null,null,null,null,null,null,null,null,null,null,null,null,null,null,null,null,null,null,null,null,null,null,null,null,null,null,null,null,null,null,null,null,null,null,null,null,null,null,null,null,null,null,null,null,null,null,null,null,null,null,null,null,null,""]
["",null,null,null,null,null,null,null,null,null,null,null,null,null,null,null,null,null,null,null,null,null,null,null,null,null,null,null,null,null,null,null,null,null,null,null,null,null,null,null,null,null,null,null,null,null,null,null,null,null,null,null,null,null,null,null,null,""]
["",null,null,null,null,null,null,null,null,null,null,null,null,null,null,null,null,null,null,null,null,null,null,null,null,null,null,null,null,null,null,null,null,null,null,null,null,null,null,null,null,null,null,null,null,null,null,null,null,null,null,null,null,null,null,null,null,""]
["",null,null,null,null,null,null,null,null,null,null,null,null,null,null,null,null,null,null,null,null,null,null,null,null,null,null,null,null,null,null,null,null,null,null,null,null,null,null,null,null,null,null,null,null,null,null,null,null,null,null,null,null,null,null,null,null,""]
["",null,null,null,null,null,null,null,null,null,null,null,null,null,null,null,null,null,null,null,null,null,null,null,null,null,null,null,null,null,null,null,null,null,null,null,null,null,null,null,null,null,null,null,null,null,null,null,null,null,null,null,null,null,null,null,null,""]
["",null,null,null,null,null,null,null,null,null,null,null,null,null,null,null,null,null,null,null,null,null,null,null,null,null,null,null,null,null,null,null,null,null,null,null,null,null,null,null,null,null,null,null,null,null,null,null,null,null,null,null,null,null,null,null,null,""]
["",null,null,null,null,null,null,null,null,null,null,null,null,null,null,null,null,null,null,null,null,null,null,null,null,null,null,null,null,null,null,null,null,null,null,null,null,null,null,null,null,null,null,null,null,null,null,null,null,null,null,null,null,null,null,null,null,""]
["",null,null,null,null,null,null,null,null,null,null,null,null,null,null,null,null,null,null,null,null,null,null,null,null,null,null,null,null,null,null,null,null,null,null,null,null,null,null,null,null,null,null,null,null,null,null,null,null,null,null,null,null,null,null,null,null,""]
["",null,null,null,null,null,null,null,null,null,null,null,null,null,null,null,null,null,null,null,null,null,null,null,null,null,null,null,null,null,null,null,null,null,null,null,null,null,null,null,null,null,null,null,null,null,null,null,null,null,null,null,null,null,null,null,null,""]
["",null,null,null,null,null,null,null,null,null,null,null,null,null,null,null,null,null,null,null,null,null,null,null,null,null,null,null,null,null,null,null,null,null,null,null,null,null,null,null,null,null,null,null,null,null,null,null,null,null,null,null,null,null,null,null,null,""]
["",null,null,null,null,null,null,null,null,null,null,null,null,null,null,null,null,null,null,null,null,null,null,null,null,null,null,null,null,null,null,null,null,null,null,null,null,null,null,null,null,null,null,null,null,null,null,null,null,null,null,null,null,null,null,null,null,""]
["",null,null,null,null,null,null,null,null,null,null,null,null,null,null,null,null,null,null,null,null,null,null,null,null,null,null,null,null,null,null,null,null,null,null,null,null,null,null,null,null,null,null,null,null,null,null,null,null,null,null,null,null,null,null,null,null,""]
["",null,null,null,null,null,null,null,null,null,null,null,null,null,null,null,null,null,null,null,null,null,null,null,null,null,null,null,null,null,null,null,null,null,null,null,null,null,null,null,null,null,null,null,null,null,null,null,null,null,null,null,null,null,null,null,null,""]
["",null,null,null,null,null,null,null,null,null,null,null,null,null,null,null,null,null,null,null,null,null,null,null,null,null,null,null,null,null,null,null,null,null,null,null,null,null,null,null,null,null,null,null,null,null,null,null,null,null,null,null,null,null,null,null,null,""]
["",null,null,null,null,null,null,null,null,null,null,null,null,null,null,null,null,null,null,null,null,null,null,null,null,null,null,null,null,null,null,null,null,null,null,null,null,null,null,null,null,null,null,null,null,null,null,null,null,null,null,null,null,null,null,null,null,""]
["",null,null,null,null,null,null,null,null,null,null,null,null,null,null,null,null,null,null,null,null,null,null,null,null,null,null,null,null,null,null,null,null,null,null,null,null,null,null,null,null,null,null,null,null,null,null,null,null,null,null,null,null,null,null,null,null,""]
["",null,null,null,null,null,null,null,null,null,null,null,null,null,null,null,null,null,null,null,null,null,null,null,null,null,null,null,null,null,null,null,null,null,null,null,null,null,null,null,null,null,null,null,null,null,null,null,null,null,null,null,null,null,null,null,null,""]
["",null,null,null,null,null,null,null,null,null,null,null,null,null,null,null,null,null,null,null,null,null,null,null,null,null,null,null,null,null,null,null,null,null,null,null,null,null,null,null,null,null,null,null,null,null,null,null,null,null,null,null,null,null,null,null,null,""]
["",null,null,null,null,null,null,null,null,null,null,null,null,null,null,null,null,null,null,null,null,null,null,null,null,null,null,null,null,null,null,null,null,null,null,null,null,null,null,null,null,null,null,null,null,null,null,null,null,null,null,null,null,null,null,null,null,""]
["",null,null,null,null,null,null,null,null,null,null,null,null,null,null,null,null,null,null,null,null,null,null,null,null,null,null,null,null,null,null,null,null,null,null,null,null,null,null,null,null,null,null,null,null,null,null,null,null,null,null,null,null,null,null,null,null,""]
["",null,null,null,null,null,null,null,null,null,null,null,null,null,null,null,null,null,null,null,null,null,null,null,null,null,null,null,null,null,null,null,null,null,null,null,null,null,null,null,null,null,null,null,null,null,null,null,null,null,null,null,null,null,null,null,null,""]
["",null,null,null,null,null,null,null,null,null,null,null,null,null,null,null,null,null,null,null,null,null,null,null,null,null,null,null,null,null,null,null,null,null,null,null,null,null,null,null,null,null,null,null,null,null,null,null,null,null,null,null,null,null,null,null,null,""]
["",null,null,null,null,null,null,null,null,null,null,null,null,null,null,null,null,null,null,null,null,null,null,null,null,null,null,null,null,null,null,null,null,null,null,null,null,null,null,null,null,null,null,null,null,null,null,null,null,null,null,null,null,null,null,null,null,""]
["",null,null,null,null,null,null,null,null,null,null,null,null,null,null,null,null,null,null,null,null,null,null,null,null,null,null,null,null,null,null,null,null,null,null,null,null,null,null,null,null,null,null,null,null,null,null,null,null,null,null,null,null,null,null,null,null,""]
["",null,null,null,null,null,null,null,null,null,null,null,null,null,null,null,null,null,null,null,null,null,null,null,null,null,null,null,null,null,null,null,null,null,null,null,null,null,null,null,null,null,null,null,null,null,null,null,null,null,null,null,null,null,null,null,null,""]
["",null,null,null,null,null,null,null,null,null,null,null,null,null,null,null,null,null,null,null,null,null,null,null,null,null,null,null,null,null,null,null,null,null,null,null,null,null,null,null,null,null,null,null,null,null,null,null,null,null,null,null,null,null,null,null,null,""]
["",null,null,null,null,null,null,null,null,null,null,null,null,null,null,null,null,null,null,null,null,null,null,null,null,null,null,null,null,null,null,null,null,null,null,null,null,null,null,null,null,null,null,null,null,null,null,null,null,null,null,null,null,null,null,null,null,""]
["",null,null,null,null,null,null,null,null,null,null,null,null,null,null,null,null,null,null,null,null,null,null,null,null,null,null,null,null,null,null,null,null,null,null,null,null,null,null,null,null,null,null,null,null,null,null,null,null,null,null,null,null,null,null,null,null,""]
["",null,null,null,null,null,null,null,null,null,null,null,null,null,null,null,null,null,null,null,null,null,null,null,null,null,null,null,null,null,null,null,null,null,null,null,null,null,null,null,null,null,null,null,null,null,null,null,null,null,null,null,null,null,null,null,null,""]
["",null,null,null,null,null,null,null,null,null,null,null,null,null,null,null,null,null,null,null,null,null,null,null,null,null,null,null,null,null,null,null,null,null,null,null,null,null,null,null,null,null,null,null,null,null,null,null,null,null,null,null,null,null,null,null,null,""]
["",null,null,null,null,null,null,null,null,null,null,null,null,null,null,null,null,null,null,null,null,null,null,null,null,null,null,null,null,null,null,null,null,null,null,null,null,null,null,null,null,null,null,null,null,null,null,null,null,null,null,null,null,null,null,null,null,""]
["",null,null,null,null,null,null,null,null,null,null,null,null,null,null,null,null,null,null,null,null,null,null,null,null,null,null,null,null,null,null,null,null,null,null,null,null,null,null,null,null,null,null,null,null,null,null,null,null,null,null,null,null,null,null,null,null,""]
["",null,null,null,null,null,null,null,null,null,null,null,null,null,null,null,null,null,null,null,null,null,null,null,null,null,null,null,null,null,null,null,null,null,null,null,null,null,null,null,null,null,null,null,null,null,null,null,null,null,null,null,null,null,null,null,null,""]
["",null,null,null,null,null,null,null,null,null,null,null,null,null,null,null,null,null,null,null,null,null,null,null,null,null,null,null,null,null,null,null,null,null,null,null,null,null,null,null,null,null,null,null,null,null,null,null,null,null,null,null,null,null,null,null,null,""]
["",null,null,null,null,null,null,null,null,null,null,null,null,null,null,null,null,null,null,null,null,null,null,null,null,null,null,null,null,null,null,null,null,null,null,null,null,null,null,null,null,null,null,null,null,null,null,null,null,null,null,null,null,null,null,null,null,""]
["",null,null,null,null,null,null,null,null,null,null,null,null,null,null,null,null,null,null,null,null,null,null,null,null,null,null,null,null,null,null,null,null,null,null,null,null,null,null,null,null,null,null,null,null,null,null,null,null,null,null,null,null,null,null,null,null,""]
["",null,null,null,null,null,null,null,null,null,null,null,null,null,null,null,null,null,null,null,null,null,null,null,null,null,null,null,null,null,null,null,null,null,null,null,null,null,null,null,null,null,null,null,null,null,null,null,null,null,null,null,null,null,null,null,null,""]
["",null,null,null,null,null,null,null,null,null,null,null,null,null,null,null,null,null,null,null,null,null,null,null,null,null,null,null,null,null,null,null,null,null,null,null,null,null,null,null,null,null,null,null,null,null,null,null,null,null,null,null,null,null,null,null,null,""]
["",null,null,null,null,null,null,null,null,null,null,null,null,null,null,null,null,null,null,null,null,null,null,null,null,null,null,null,null,null,null,null,null,null,null,null,null,null,null,null,null,null,null,null,null,null,null,null,null,null,null,null,null,null,null,null,null,""]
["",null,null,null,null,null,null,null,null,null,null,null,null,null,null,null,null,null,null,null,null,null,null,null,null,null,null,null,null,null,null,null,null,null,null,null,null,null,null,null,null,null,null,null,null,null,null,null,null,null,null,null,null,null,null,null,null,""]
["",null,null,null,null,null,null,null,null,null,null,null,null,null,null,null,null,null,null,null,null,null,null,null,null,null,null,null,null,null,null,null,null,null,null,null,null,null,null,null,null,null,null,null,null,null,null,null,null,null,null,null,null,null,null,null,null,""]
["",null,null,null,null,null,null,null,null,null,null,null,null,null,null,null,null,null,null,null,null,null,null,null,null,null,null,null,null,null,null,null,null,null,null,null,null,null,null,null,null,null,null,null,null,null,null,null,null,null,null,null,null,null,null,null,null,""]
["",null,null,null,null,null,null,null,null,null,null,null,null,null,null,null,null,null,null,null,null,null,null,null,null,null,null,null,null,null,null,null,null,null,null,null,null,null,null,null,null,null,null,null,null,null,null,null,null,null,null,null,null,null,null,null,null,""]
[{"$f":"IF(B131>\"\",YEAR(D131),\"\")","v":""},null,null,null,null,null,null,null,null,null,null,null,null,null,null,null,null,null,null,null,null,null,null,null,null,null,null,null,null,null,null,null,null,null,null,null,null,null,null,null,null,null,null,null,null,null,null,null,null,null,null,null,null,null,null,null,null,{"$f":"IF(B131>\"\",B131&TEXT(D131,\"aaa-yy\"),\"\")","v":""}]
["",null,null,null,null,null,null,null,null,null,null,null,null,null,null,null,null,null,null,null,null,null,null,null,null,null,null,null,null,null,null,null,null,null,null,null,null,null,null,null,null,null,null,null,null,null,null,null,null,null,null,null,null,null,null,null,null,""]
["",null,null,null,null,null,null,null,null,null,null,null,null,null,null,null,null,null,null,null,null,null,null,null,null,null,null,null,null,null,null,null,null,null,null,null,null,null,null,null,null,null,null,null,null,null,null,null,null,null,null,null,null,null,null,null,null,""]
["",null,null,null,null,null,null,null,null,null,null,null,null,null,null,null,null,null,null,null,null,null,null,null,null,null,null,null,null,null,null,null,null,null,null,null,null,null,null,null,null,null,null,null,null,null,null,null,null,null,null,null,null,null,null,null,null,""]
["",null,null,null,null,null,null,null,null,null,null,null,null,null,null,null,null,null,null,null,null,null,null,null,null,null,null,null,null,null,null,null,null,null,null,null,null,null,null,null,null,null,null,null,null,null,null,null,null,null,null,null,null,null,null,null,null,""]
["",null,null,null,null,null,null,null,null,null,null,null,null,null,null,null,null,null,null,null,null,null,null,null,null,null,null,null,null,null,null,null,null,null,null,null,null,null,null,null,null,null,null,null,null,null,null,null,null,null,null,null,null,null,null,null,null,""]
["",null,null,null,null,null,null,null,null,null,null,null,null,null,null,null,null,null,null,null,null,null,null,null,null,null,null,null,null,null,null,null,null,null,null,null,null,null,null,null,null,null,null,null,null,null,null,null,null,null,null,null,null,null,null,null,null,""]
["",null,null,null,null,null,null,null,null,null,null,null,null,null,null,null,null,null,null,null,null,null,null,null,null,null,null,null,null,null,null,null,null,null,null,null,null,null,null,null,null,null,null,null,null,null,null,null,null,null,null,null,null,null,null,null,null,""]
["",null,null,null,null,null,null,null,null,null,null,null,null,null,null,null,null,null,null,null,null,null,null,null,null,null,null,null,null,null,null,null,null,null,null,null,null,null,null,null,null,null,null,null,null,null,null,null,null,null,null,null,null,null,null,null,null,""]
["",null,null,null,null,null,null,null,null,null,null,null,null,null,null,null,null,null,null,null,null,null,null,null,null,null,null,null,null,null,null,null,null,null,null,null,null,null,null,null,null,null,null,null,null,null,null,null,null,null,null,null,null,null,null,null,null,""]
["",null,null,null,null,null,null,null,null,null,null,null,null,null,null,null,null,null,null,null,null,null,null,null,null,null,null,null,null,null,null,null,null,null,null,null,null,null,null,null,null,null,null,null,null,null,null,null,null,null,null,null,null,null,null,null,null,""]
["",null,null,null,null,null,null,null,null,null,null,null,null,null,null,null,null,null,null,null,null,null,null,null,null,null,null,null,null,null,null,null,null,null,null,null,null,null,null,null,null,null,null,null,null,null,null,null,null,null,null,null,null,null,null,null,null,""]
["",null,null,null,null,null,null,null,null,null,null,null,null,null,null,null,null,null,null,null,null,null,null,null,null,null,null,null,null,null,null,null,null,null,null,null,null,null,null,null,null,null,null,null,null,null,null,null,null,null,null,null,null,null,null,null,null,""]
["",null,null,null,null,null,null,null,null,null,null,null,null,null,null,null,null,null,null,null,null,null,null,null,null,null,null,null,null,null,null,null,null,null,null,null,null,null,null,null,null,null,null,null,null,null,null,null,null,null,null,null,null,null,null,null,null,""]
["",null,null,null,null,null,null,null,null,null,null,null,null,null,null,null,null,null,null,null,null,null,null,null,null,null,null,null,null,null,null,null,null,null,null,null,null,null,null,null,null,null,null,null,null,null,null,null,null,null,null,null,null,null,null,null,null,""]
["",null,null,null,null,null,null,null,null,null,null,null,null,null,null,null,null,null,null,null,null,null,null,null,null,null,null,null,null,null,null,null,null,null,null,null,null,null,null,null,null,null,null,null,null,null,null,null,null,null,null,null,null,null,null,null,null,""]
["",null,null,null,null,null,null,null,null,null,null,null,null,null,null,null,null,null,null,null,null,null,null,null,null,null,null,null,null,null,null,null,null,null,null,null,null,null,null,null,null,null,null,null,null,null,null,null,null,null,null,null,null,null,null,null,null,""]
["",null,null,null,null,null,null,null,null,null,null,null,null,null,null,null,null,null,null,null,null,null,null,null,null,null,null,null,null,null,null,null,null,null,null,null,null,null,null,null,null,null,null,null,null,null,null,null,null,null,null,null,null,null,null,null,null,""]
["",null,null,null,null,null,null,null,null,null,null,null,null,null,null,null,null,null,null,null,null,null,null,null,null,null,null,null,null,null,null,null,null,null,null,null,null,null,null,null,null,null,null,null,null,null,null,null,null,null,null,null,null,null,null,null,null,""]
["",null,null,null,null,null,null,null,null,null,null,null,null,null,null,null,null,null,null,null,null,null,null,null,null,null,null,null,null,null,null,null,null,null,null,null,null,null,null,null,null,null,null,null,null,null,null,null,null,null,null,null,null,null,null,null,null,""]
["",null,null,null,null,null,null,null,null,null,null,null,null,null,null,null,null,null,null,null,null,null,null,null,null,null,null,null,null,null,null,null,null,null,null,null,null,null,null,null,null,null,null,null,null,null,null,null,null,null,null,null,null,null,null,null,null,""]
["",null,null,null,null,null,null,null,null,null,null,null,null,null,null,null,null,null,null,null,null,null,null,null,null,null,null,null,null,null,null,null,null,null,null,null,null,null,null,null,null,null,null,null,null,null,null,null,null,null,null,null,null,null,null,null,null,""]
["",null,null,null,null,null,null,null,null,null,null,null,null,null,null,null,null,null,null,null,null,null,null,null,null,null,null,null,null,null,null,null,null,null,null,null,null,null,null,null,null,null,null,null,null,null,null,null,null,null,null,null,null,null,null,null,null,""]
["",null,null,null,null,null,null,null,null,null,null,null,null,null,null,null,null,null,null,null,null,null,null,null,null,null,null,null,null,null,null,null,null,null,null,null,null,null,null,null,null,null,null,null,null,null,null,null,null,null,null,null,null,null,null,null,null,""]
["",null,null,null,null,null,null,null,null,null,null,null,null,null,null,null,null,null,null,null,null,null,null,null,null,null,null,null,null,null,null,null,null,null,null,null,null,null,null,null,null,null,null,null,null,null,null,null,null,null,null,null,null,null,null,null,null,""]
["",null,null,null,null,null,null,null,null,null,null,null,null,null,null,null,null,null,null,null,null,null,null,null,null,null,null,null,null,null,null,null,null,null,null,null,null,null,null,null,null,null,null,null,null,null,null,null,null,null,null,null,null,null,null,null,null,""]
["",null,null,null,null,null,null,null,null,null,null,null,null,null,null,null,null,null,null,null,null,null,null,null,null,null,null,null,null,null,null,null,null,null,null,null,null,null,null,null,null,null,null,null,null,null,null,null,null,null,null,null,null,null,null,null,null,""]
["",null,null,null,null,null,null,null,null,null,null,null,null,null,null,null,null,null,null,null,null,null,null,null,null,null,null,null,null,null,null,null,null,null,null,null,null,null,null,null,null,null,null,null,null,null,null,null,null,null,null,null,null,null,null,null,null,""]
["",null,null,null,null,null,null,null,null,null,null,null,null,null,null,null,null,null,null,null,null,null,null,null,null,null,null,null,null,null,null,null,null,null,null,null,null,null,null,null,null,null,null,null,null,null,null,null,null,null,null,null,null,null,null,null,null,""]
["",null,null,null,null,null,null,null,null,null,null,null,null,null,null,null,null,null,null,null,null,null,null,null,null,null,null,null,null,null,null,null,null,null,null,null,null,null,null,null,null,null,null,null,null,null,null,null,null,null,null,null,null,null,null,null,null,""]
["",null,null,null,null,null,null,null,null,null,null,null,null,null,null,null,null,null,null,null,null,null,null,null,null,null,null,null,null,null,null,null,null,null,null,null,null,null,null,null,null,null,null,null,null,null,null,null,null,null,null,null,null,null,null,null,null,""]
["",null,null,null,null,null,null,null,null,null,null,null,null,null,null,null,null,null,null,null,null,null,null,null,null,null,null,null,null,null,null,null,null,null,null,null,null,null,null,null,null,null,null,null,null,null,null,null,null,null,null,null,null,null,null,null,null,""]
["",null,null,null,null,null,null,null,null,null,null,null,null,null,null,null,null,null,null,null,null,null,null,null,null,null,null,null,null,null,null,null,null,null,null,null,null,null,null,null,null,null,null,null,null,null,null,null,null,null,null,null,null,null,null,null,null,""]
["",null,null,null,null,null,null,null,null,null,null,null,null,null,null,null,null,null,null,null,null,null,null,null,null,null,null,null,null,null,null,null,null,null,null,null,null,null,null,null,null,null,null,null,null,null,null,null,null,null,null,null,null,null,null,null,null,""]
["",null,null,null,null,null,null,null,null,null,null,null,null,null,null,null,null,null,null,null,null,null,null,null,null,null,null,null,null,null,null,null,null,null,null,null,null,null,null,null,null,null,null,null,null,null,null,null,null,null,null,null,null,null,null,null,null,""]
["",null,null,null,null,null,null,null,null,null,null,null,null,null,null,null,null,null,null,null,null,null,null,null,null,null,null,null,null,null,null,null,null,null,null,null,null,null,null,null,null,null,null,null,null,null,null,null,null,null,null,null,null,null,null,null,null,""]
["",null,null,null,null,null,null,null,null,null,null,null,null,null,null,null,null,null,null,null,null,null,null,null,null,null,null,null,null,null,null,null,null,null,null,null,null,null,null,null,null,null,null,null,null,null,null,null,null,null,null,null,null,null,null,null,null,""]
["",null,null,null,null,null,null,null,null,null,null,null,null,null,null,null,null,null,null,null,null,null,null,null,null,null,null,null,null,null,null,null,null,null,null,null,null,null,null,null,null,null,null,null,null,null,null,null,null,null,null,null,null,null,null,null,null,""]
["",null,null,null,null,null,null,null,null,null,null,null,null,null,null,null,null,null,null,null,null,null,null,null,null,null,null,null,null,null,null,null,null,null,null,null,null,null,null,null,null,null,null,null,null,null,null,null,null,null,null,null,null,null,null,null,null,""]
["",null,null,null,null,null,null,null,null,null,null,null,null,null,null,null,null,null,null,null,null,null,null,null,null,null,null,null,null,null,null,null,null,null,null,null,null,null,null,null,null,null,null,null,null,null,null,null,null,null,null,null,null,null,null,null,null,""]
["",null,null,null,null,null,null,null,null,null,null,null,null,null,null,null,null,null,null,null,null,null,null,null,null,null,null,null,null,null,null,null,null,null,null,null,null,null,null,null,null,null,null,null,null,null,null,null,null,null,null,null,null,null,null,null,null,""]
["",null,null,null,null,null,null,null,null,null,null,null,null,null,null,null,null,null,null,null,null,null,null,null,null,null,null,null,null,null,null,null,null,null,null,null,null,null,null,null,null,null,null,null,null,null,null,null,null,null,null,null,null,null,null,null,null,""]
["",null,null,null,null,null,null,null,null,null,null,null,null,null,null,null,null,null,null,null,null,null,null,null,null,null,null,null,null,null,null,null,null,null,null,null,null,null,null,null,null,null,null,null,null,null,null,null,null,null,null,null,null,null,null,null,null,""]
["",null,null,null,null,null,null,null,null,null,null,null,null,null,null,null,null,null,null,null,null,null,null,null,null,null,null,null,null,null,null,null,null,null,null,null,null,null,null,null,null,null,null,null,null,null,null,null,null,null,null,null,null,null,null,null,null,""]
["",null,null,null,null,null,null,null,null,null,null,null,null,null,null,null,null,null,null,null,null,null,null,null,null,null,null,null,null,null,null,null,null,null,null,null,null,null,null,null,null,null,null,null,null,null,null,null,null,null,null,null,null,null,null,null,null,""]
["",null,null,null,null,null,null,null,null,null,null,null,null,null,null,null,null,null,null,null,null,null,null,null,null,null,null,null,null,null,null,null,null,null,null,null,null,null,null,null,null,null,null,null,null,null,null,null,null,null,null,null,null,null,null,null,null,""]
["",null,null,null,null,null,null,null,null,null,null,null,null,null,null,null,null,null,null,null,null,null,null,null,null,null,null,null,null,null,null,null,null,null,null,null,null,null,null,null,null,null,null,null,null,null,null,null,null,null,null,null,null,null,null,null,null,""]
["",null,null,null,null,null,null,null,null,null,null,null,null,null,null,null,null,null,null,null,null,null,null,null,null,null,null,null,null,null,null,null,null,null,null,null,null,null,null,null,null,null,null,null,null,null,null,null,null,null,null,null,null,null,null,null,null,""]
["",null,null,null,null,null,null,null,null,null,null,null,null,null,null,null,null,null,null,null,null,null,null,null,null,null,null,null,null,null,null,null,null,null,null,null,null,null,null,null,null,null,null,null,null,null,null,null,null,null,null,null,null,null,null,null,null,""]
["",null,null,null,null,null,null,null,null,null,null,null,null,null,null,null,null,null,null,null,null,null,null,null,null,null,null,null,null,null,null,null,null,null,null,null,null,null,null,null,null,null,null,null,null,null,null,null,null,null,null,null,null,null,null,null,null,""]
["",null,null,null,null,null,null,null,null,null,null,null,null,null,null,null,null,null,null,null,null,null,null,null,null,null,null,null,null,null,null,null,null,null,null,null,null,null,null,null,null,null,null,null,null,null,null,null,null,null,null,null,null,null,null,null,null,""]
["",null,null,null,null,null,null,null,null,null,null,null,null,null,null,null,null,null,null,null,null,null,null,null,null,null,null,null,null,null,null,null,null,null,null,null,null,null,null,null,null,null,null,null,null,null,null,null,null,null,null,null,null,null,null,null,null,""]
["",null,null,null,null,null,null,null,null,null,null,null,null,null,null,null,null,null,null,null,null,null,null,null,null,null,null,null,null,null,null,null,null,null,null,null,null,null,null,null,null,null,null,null,null,null,null,null,null,null,null,null,null,null,null,null,null,""]
["",null,null,null,null,null,null,null,null,null,null,null,null,null,null,null,null,null,null,null,null,null,null,null,null,null,null,null,null,null,null,null,null,null,null,null,null,null,null,null,null,null,null,null,null,null,null,null,null,null,null,null,null,null,null,null,null,""]
["",null,null,null,null,null,null,null,null,null,null,null,null,null,null,null,null,null,null,null,null,null,null,null,null,null,null,null,null,null,null,null,null,null,null,null,null,null,null,null,null,null,null,null,null,null,null,null,null,null,null,null,null,null,null,null,null,""]
["",null,null,null,null,null,null,null,null,null,null,null,null,null,null,null,null,null,null,null,null,null,null,null,null,null,null,null,null,null,null,null,null,null,null,null,null,null,null,null,null,null,null,null,null,null,null,null,null,null,null,null,null,null,null,null,null,""]
["",null,null,null,null,null,null,null,null,null,null,null,null,null,null,null,null,null,null,null,null,null,null,null,null,null,null,null,null,null,null,null,null,null,null,null,null,null,null,null,null,null,null,null,null,null,null,null,null,null,null,null,null,null,null,null,null,""]
["",null,null,null,null,null,null,null,null,null,null,null,null,null,null,null,null,null,null,null,null,null,null,null,null,null,null,null,null,null,null,null,null,null,null,null,null,null,null,null,null,null,null,null,null,null,null,null,null,null,null,null,null,null,null,null,null,""]
["",null,null,null,null,null,null,null,null,null,null,null,null,null,null,null,null,null,null,null,null,null,null,null,null,null,null,null,null,null,null,null,null,null,null,null,null,null,null,null,null,null,null,null,null,null,null,null,null,null,null,null,null,null,null,null,null,""]
["",null,null,null,null,null,null,null,null,null,null,null,null,null,null,null,null,null,null,null,null,null,null,null,null,null,null,null,null,null,null,null,null,null,null,null,null,null,null,null,null,null,null,null,null,null,null,null,null,null,null,null,null,null,null,null,null,""]
["",null,null,null,null,null,null,null,null,null,null,null,null,null,null,null,null,null,null,null,null,null,null,null,null,null,null,null,null,null,null,null,null,null,null,null,null,null,null,null,null,null,null,null,null,null,null,null,null,null,null,null,null,null,null,null,null,""]
["",null,null,null,null,null,null,null,null,null,null,null,null,null,null,null,null,null,null,null,null,null,null,null,null,null,null,null,null,null,null,null,null,null,null,null,null,null,null,null,null,null,null,null,null,null,null,null,null,null,null,null,null,null,null,null,null,""]
["",null,null,null,null,null,null,null,null,null,null,null,null,null,null,null,null,null,null,null,null,null,null,null,null,null,null,null,null,null,null,null,null,null,null,null,null,null,null,null,null,null,null,null,null,null,null,null,null,null,null,null,null,null,null,null,null,""]
["",null,null,null,null,null,null,null,null,null,null,null,null,null,null,null,null,null,null,null,null,null,null,null,null,null,null,null,null,null,null,null,null,null,null,null,null,null,null,null,null,null,null,null,null,null,null,null,null,null,null,null,null,null,null,null,null,""]
[{"$f":"IF(B195>\"\",YEAR(D195),\"\")","v":""},null,null,null,null,null,null,null,null,null,null,null,null,null,null,null,null,null,null,null,null,null,null,null,null,null,null,null,null,null,null,null,null,null,null,null,null,null,null,null,null,null,null,null,null,null,null,null,null,null,null,null,null,null,null,null,null,{"$f":"IF(B195>\"\",B195&TEXT(D195,\"aaa-yy\"),\"\")","v":""}]
["",null,null,null,null,null,null,null,null,null,null,null,null,null,null,null,null,null,null,null,null,null,null,null,null,null,null,null,null,null,null,null,null,null,null,null,null,null,null,null,null,null,null,null,null,null,null,null,null,null,null,null,null,null,null,null,null,""]
["",null,null,null,null,null,null,null,null,null,null,null,null,null,null,null,null,null,null,null,null,null,null,null,null,null,null,null,null,null,null,null,null,null,null,null,null,null,null,null,null,null,null,null,null,null,null,null,null,null,null,null,null,null,null,null,null,""]
["",null,null,null,null,null,null,null,null,null,null,null,null,null,null,null,null,null,null,null,null,null,null,null,null,null,null,null,null,null,null,null,null,null,null,null,null,null,null,null,null,null,null,null,null,null,null,null,null,null,null,null,null,null,null,null,null,""]
["",null,null,null,null,null,null,null,null,null,null,null,null,null,null,null,null,null,null,null,null,null,null,null,null,null,null,null,null,null,null,null,null,null,null,null,null,null,null,null,null,null,null,null,null,null,null,null,null,null,null,null,null,null,null,null,null,""]
["",null,null,null,null,null,null,null,null,null,null,null,null,null,null,null,null,null,null,null,null,null,null,null,null,null,null,null,null,null,null,null,null,null,null,null,null,null,null,null,null,null,null,null,null,null,null,null,null,null,null,null,null,null,null,null,null,""]
["",null,null,null,null,null,null,null,null,null,null,null,null,null,null,null,null,null,null,null,null,null,null,null,null,null,null,null,null,null,null,null,null,null,null,null,null,null,null,null,null,null,null,null,null,null,null,null,null,null,null,null,null,null,null,null,null,""]
["",null,null,null,null,null,null,null,null,null,null,null,null,null,null,null,null,null,null,null,null,null,null,null,null,null,null,null,null,null,null,null,null,null,null,null,null,null,null,null,null,null,null,null,null,null,null,null,null,null,null,null,null,null,null,null,null,""]
["",null,null,null,null,null,null,null,null,null,null,null,null,null,null,null,null,null,null,null,null,null,null,null,null,null,null,null,null,null,null,null,null,null,null,null,null,null,null,null,null,null,null,null,null,null,null,null,null,null,null,null,null,null,null,null,null,""]
["",null,null,null,null,null,null,null,null,null,null,null,null,null,null,null,null,null,null,null,null,null,null,null,null,null,null,null,null,null,null,null,null,null,null,null,null,null,null,null,null,null,null,null,null,null,null,null,null,null,null,null,null,null,null,null,null,""]
["",null,null,null,null,null,null,null,null,null,null,null,null,null,null,null,null,null,null,null,null,null,null,null,null,null,null,null,null,null,null,null,null,null,null,null,null,null,null,null,null,null,null,null,null,null,null,null,null,null,null,null,null,null,null,null,null,""]
["",null,null,null,null,null,null,null,null,null,null,null,null,null,null,null,null,null,null,null,null,null,null,null,null,null,null,null,null,null,null,null,null,null,null,null,null,null,null,null,null,null,null,null,null,null,null,null,null,null,null,null,null,null,null,null,null,""]
["",null,null,null,null,null,null,null,null,null,null,null,null,null,null,null,null,null,null,null,null,null,null,null,null,null,null,null,null,null,null,null,null,null,null,null,null,null,null,null,null,null,null,null,null,null,null,null,null,null,null,null,null,null,null,null,null,""]
["",null,null,null,null,null,null,null,null,null,null,null,null,null,null,null,null,null,null,null,null,null,null,null,null,null,null,null,null,null,null,null,null,null,null,null,null,null,null,null,null,null,null,null,null,null,null,null,null,null,null,null,null,null,null,null,null,""]
["",null,null,null,null,null,null,null,null,null,null,null,null,null,null,null,null,null,null,null,null,null,null,null,null,null,null,null,null,null,null,null,null,null,null,null,null,null,null,null,null,null,null,null,null,null,null,null,null,null,null,null,null,null,null,null,null,""]
["",null,null,null,null,null,null,null,null,null,null,null,null,null,null,null,null,null,null,null,null,null,null,null,null,null,null,null,null,null,null,null,null,null,null,null,null,null,null,null,null,null,null,null,null,null,null,null,null,null,null,null,null,null,null,null,null,""]
["",null,null,null,null,null,null,null,null,null,null,null,null,null,null,null,null,null,null,null,null,null,null,null,null,null,null,null,null,null,null,null,null,null,null,null,null,null,null,null,null,null,null,null,null,null,null,null,null,null,null,null,null,null,null,null,null,""]
["",null,null,null,null,null,null,null,null,null,null,null,null,null,null,null,null,null,null,null,null,null,null,null,null,null,null,null,null,null,null,null,null,null,null,null,null,null,null,null,null,null,null,null,null,null,null,null,null,null,null,null,null,null,null,null,null,""]
["",null,null,null,null,null,null,null,null,null,null,null,null,null,null,null,null,null,null,null,null,null,null,null,null,null,null,null,null,null,null,null,null,null,null,null,null,null,null,null,null,null,null,null,null,null,null,null,null,null,null,null,null,null,null,null,null,""]
["",null,null,null,null,null,null,null,null,null,null,null,null,null,null,null,null,null,null,null,null,null,null,null,null,null,null,null,null,null,null,null,null,null,null,null,null,null,null,null,null,null,null,null,null,null,null,null,null,null,null,null,null,null,null,null,null,""]
["",null,null,null,null,null,null,null,null,null,null,null,null,null,null,null,null,null,null,null,null,null,null,null,null,null,null,null,null,null,null,null,null,null,null,null,null,null,null,null,null,null,null,null,null,null,null,null,null,null,null,null,null,null,null,null,null,""]
["",null,null,null,null,null,null,null,null,null,null,null,null,null,null,null,null,null,null,null,null,null,null,null,null,null,null,null,null,null,null,null,null,null,null,null,null,null,null,null,null,null,null,null,null,null,null,null,null,null,null,null,null,null,null,null,null,""]
["",null,null,null,null,null,null,null,null,null,null,null,null,null,null,null,null,null,null,null,null,null,null,null,null,null,null,null,null,null,null,null,null,null,null,null,null,null,null,null,null,null,null,null,null,null,null,null,null,null,null,null,null,null,null,null,null,""]
["",null,null,null,null,null,null,null,null,null,null,null,null,null,null,null,null,null,null,null,null,null,null,null,null,null,null,null,null,null,null,null,null,null,null,null,null,null,null,null,null,null,null,null,null,null,null,null,null,null,null,null,null,null,null,null,null,""]
["",null,null,null,null,null,null,null,null,null,null,null,null,null,null,null,null,null,null,null,null,null,null,null,null,null,null,null,null,null,null,null,null,null,null,null,null,null,null,null,null,null,null,null,null,null,null,null,null,null,null,null,null,null,null,null,null,""]
["",null,null,null,null,null,null,null,null,null,null,null,null,null,null,null,null,null,null,null,null,null,null,null,null,null,null,null,null,null,null,null,null,null,null,null,null,null,null,null,null,null,null,null,null,null,null,null,null,null,null,null,null,null,null,null,null,""]
["",null,null,null,null,null,null,null,null,null,null,null,null,null,null,null,null,null,null,null,null,null,null,null,null,null,null,null,null,null,null,null,null,null,null,null,null,null,null,null,null,null,null,null,null,null,null,null,null,null,null,null,null,null,null,null,null,""]
["",null,null,null,null,null,null,null,null,null,null,null,null,null,null,null,null,null,null,null,null,null,null,null,null,null,null,null,null,null,null,null,null,null,null,null,null,null,null,null,null,null,null,null,null,null,null,null,null,null,null,null,null,null,null,null,null,""]
["",null,null,null,null,null,null,null,null,null,null,null,null,null,null,null,null,null,null,null,null,null,null,null,null,null,null,null,null,null,null,null,null,null,null,null,null,null,null,null,null,null,null,null,null,null,null,null,null,null,null,null,null,null,null,null,null,""]
["",null,null,null,null,null,null,null,null,null,null,null,null,null,null,null,null,null,null,null,null,null,null,null,null,null,null,null,null,null,null,null,null,null,null,null,null,null,null,null,null,null,null,null,null,null,null,null,null,null,null,null,null,null,null,null,null,""]
["",null,null,null,null,null,null,null,null,null,null,null,null,null,null,null,null,null,null,null,null,null,null,null,null,null,null,null,null,null,null,null,null,null,null,null,null,null,null,null,null,null,null,null,null,null,null,null,null,null,null,null,null,null,null,null,null,""]
["",null,null,null,null,null,null,null,null,null,null,null,null,null,null,null,null,null,null,null,null,null,null,null,null,null,null,null,null,null,null,null,null,null,null,null,null,null,null,null,null,null,null,null,null,null,null,null,null,null,null,null,null,null,null,null,null,""]
["",null,null,null,null,null,null,null,null,null,null,null,null,null,null,null,null,null,null,null,null,null,null,null,null,null,null,null,null,null,null,null,null,null,null,null,null,null,null,null,null,null,null,null,null,null,null,null,null,null,null,null,null,null,null,null,null,""]
["",null,null,null,null,null,null,null,null,null,null,null,null,null,null,null,null,null,null,null,null,null,null,null,null,null,null,null,null,null,null,null,null,null,null,null,null,null,null,null,null,null,null,null,null,null,null,null,null,null,null,null,null,null,null,null,null,""]
["",null,null,null,null,null,null,null,null,null,null,null,null,null,null,null,null,null,null,null,null,null,null,null,null,null,null,null,null,null,null,null,null,null,null,null,null,null,null,null,null,null,null,null,null,null,null,null,null,null,null,null,null,null,null,null,null,""]
["",null,null,null,null,null,null,null,null,null,null,null,null,null,null,null,null,null,null,null,null,null,null,null,null,null,null,null,null,null,null,null,null,null,null,null,null,null,null,null,null,null,null,null,null,null,null,null,null,null,null,null,null,null,null,null,null,""]
["",null,null,null,null,null,null,null,null,null,null,null,null,null,null,null,null,null,null,null,null,null,null,null,null,null,null,null,null,null,null,null,null,null,null,null,null,null,null,null,null,null,null,null,null,null,null,null,null,null,null,null,null,null,null,null,null,""]
["",null,null,null,null,null,null,null,null,null,null,null,null,null,null,null,null,null,null,null,null,null,null,null,null,null,null,null,null,null,null,null,null,null,null,null,null,null,null,null,null,null,null,null,null,null,null,null,null,null,null,null,null,null,null,null,null,""]
["",null,null,null,null,null,null,null,null,null,null,null,null,null,null,null,null,null,null,null,null,null,null,null,null,null,null,null,null,null,null,null,null,null,null,null,null,null,null,null,null,null,null,null,null,null,null,null,null,null,null,null,null,null,null,null,null,""]
["",null,null,null,null,null,null,null,null,null,null,null,null,null,null,null,null,null,null,null,null,null,null,null,null,null,null,null,null,null,null,null,null,null,null,null,null,null,null,null,null,null,null,null,null,null,null,null,null,null,null,null,null,null,null,null,null,""]
["",null,null,null,null,null,null,null,null,null,null,null,null,null,null,null,null,null,null,null,null,null,null,null,null,null,null,null,null,null,null,null,null,null,null,null,null,null,null,null,null,null,null,null,null,null,null,null,null,null,null,null,null,null,null,null,null,""]
["",null,null,null,null,null,null,null,null,null,null,null,null,null,null,null,null,null,null,null,null,null,null,null,null,null,null,null,null,null,null,null,null,null,null,null,null,null,null,null,null,null,null,null,null,null,null,null,null,null,null,null,null,null,null,null,null,""]
["",null,null,null,null,null,null,null,null,null,null,null,null,null,null,null,null,null,null,null,null,null,null,null,null,null,null,null,null,null,null,null,null,null,null,null,null,null,null,null,null,null,null,null,null,null,null,null,null,null,null,null,null,null,null,null,null,""]
["",null,null,null,null,null,null,null,null,null,null,null,null,null,null,null,null,null,null,null,null,null,null,null,null,null,null,null,null,null,null,null,null,null,null,null,null,null,null,null,null,null,null,null,null,null,null,null,null,null,null,null,null,null,null,null,null,""]
["",null,null,null,null,null,null,null,null,null,null,null,null,null,null,null,null,null,null,null,null,null,null,null,null,null,null,null,null,null,null,null,null,null,null,null,null,null,null,null,null,null,null,null,null,null,null,null,null,null,null,null,null,null,null,null,null,""]
["",null,null,null,null,null,null,null,null,null,null,null,null,null,null,null,null,null,null,null,null,null,null,null,null,null,null,null,null,null,null,null,null,null,null,null,null,null,null,null,null,null,null,null,null,null,null,null,null,null,null,null,null,null,null,null,null,""]
["",null,null,null,null,null,null,null,null,null,null,null,null,null,null,null,null,null,null,null,null,null,null,null,null,null,null,null,null,null,null,null,null,null,null,null,null,null,null,null,null,null,null,null,null,null,null,null,null,null,null,null,null,null,null,null,null,""]
["",null,null,null,null,null,null,null,null,null,null,null,null,null,null,null,null,null,null,null,null,null,null,null,null,null,null,null,null,null,null,null,null,null,null,null,null,null,null,null,null,null,null,null,null,null,null,null,null,null,null,null,null,null,null,null,null,""]
["",null,null,null,null,null,null,null,null,null,null,null,null,null,null,null,null,null,null,null,null,null,null,null,null,null,null,null,null,null,null,null,null,null,null,null,null,null,null,null,null,null,null,null,null,null,null,null,null,null,null,null,null,null,null,null,null,""]
["",null,null,null,null,null,null,null,null,null,null,null,null,null,null,null,null,null,null,null,null,null,null,null,null,null,null,null,null,null,null,null,null,null,null,null,null,null,null,null,null,null,null,null,null,null,null,null,null,null,null,null,null,null,null,null,null,""]
["",null,null,null,null,null,null,null,null,null,null,null,null,null,null,null,null,null,null,null,null,null,null,null,null,null,null,null,null,null,null,null,null,null,null,null,null,null,null,null,null,null,null,null,null,null,null,null,null,null,null,null,null,null,null,null,null,""]
["",null,null,null,null,null,null,null,null,null,null,null,null,null,null,null,null,null,null,null,null,null,null,null,null,null,null,null,null,null,null,null,null,null,null,null,null,null,null,null,null,null,null,null,null,null,null,null,null,null,null,null,null,null,null,null,null,""]
["",null,null,null,null,null,null,null,null,null,null,null,null,null,null,null,null,null,null,null,null,null,null,null,null,null,null,null,null,null,null,null,null,null,null,null,null,null,null,null,null,null,null,null,null,null,null,null,null,null,null,null,null,null,null,null,null,""]
["",null,null,null,null,null,null,null,null,null,null,null,null,null,null,null,null,null,null,null,null,null,null,null,null,null,null,null,null,null,null,null,null,null,null,null,null,null,null,null,null,null,null,null,null,null,null,null,null,null,null,null,null,null,null,null,null,""]
["",null,null,null,null,null,null,null,null,null,null,null,null,null,null,null,null,null,null,null,null,null,null,null,null,null,null,null,null,null,null,null,null,null,null,null,null,null,null,null,null,null,null,null,null,null,null,null,null,null,null,null,null,null,null,null,null,""]
["",null,null,null,null,null,null,null,null,null,null,null,null,null,null,null,null,null,null,null,null,null,null,null,null,null,null,null,null,null,null,null,null,null,null,null,null,null,null,null,null,null,null,null,null,null,null,null,null,null,null,null,null,null,null,null,null,""]
["",null,null,null,null,null,null,null,null,null,null,null,null,null,null,null,null,null,null,null,null,null,null,null,null,null,null,null,null,null,null,null,null,null,null,null,null,null,null,null,null,null,null,null,null,null,null,null,null,null,null,null,null,null,null,null,null,""]
["",null,null,null,null,null,null,null,null,null,null,null,null,null,null,null,null,null,null,null,null,null,null,null,null,null,null,null,null,null,null,null,null,null,null,null,null,null,null,null,null,null,null,null,null,null,null,null,null,null,null,null,null,null,null,null,null,""]
["",null,null,null,null,null,null,null,null,null,null,null,null,null,null,null,null,null,null,null,null,null,null,null,null,null,null,null,null,null,null,null,null,null,null,null,null,null,null,null,null,null,null,null,null,null,null,null,null,null,null,null,null,null,null,null,null,""]
["",null,null,null,null,null,null,null,null,null,null,null,null,null,null,null,null,null,null,null,null,null,null,null,null,null,null,null,null,null,null,null,null,null,null,null,null,null,null,null,null,null,null,null,null,null,null,null,null,null,null,null,null,null,null,null,null,""]
["",null,null,null,null,null,null,null,null,null,null,null,null,null,null,null,null,null,null,null,null,null,null,null,null,null,null,null,null,null,null,null,null,null,null,null,null,null,null,null,null,null,null,null,null,null,null,null,null,null,null,null,null,null,null,null,null,""]
["",null,null,null,null,null,null,null,null,null,null,null,null,null,null,null,null,null,null,null,null,null,null,null,null,null,null,null,null,null,null,null,null,null,null,null,null,null,null,null,null,null,null,null,null,null,null,null,null,null,null,null,null,null,null,null,null,""]
["",null,null,null,null,null,null,null,null,null,null,null,null,null,null,null,null,null,null,null,null,null,null,null,null,null,null,null,null,null,null,null,null,null,null,null,null,null,null,null,null,null,null,null,null,null,null,null,null,null,null,null,null,null,null,null,null,""]
["",null,null,null,null,null,null,null,null,null,null,null,null,null,null,null,null,null,null,null,null,null,null,null,null,null,null,null,null,null,null,null,null,null,null,null,null,null,null,null,null,null,null,null,null,null,null,null,null,null,null,null,null,null,null,null,null,""]
[{"$f":"IF(B259>\"\",YEAR(D259),\"\")","v":""},null,null,null,null,null,null,null,null,null,null,null,null,null,null,null,null,null,null,null,null,null,null,null,null,null,null,null,null,null,null,null,null,null,null,null,null,null,null,null,null,null,null,null,null,null,null,null,null,null,null,null,null,null,null,null,null,{"$f":"IF(B259>\"\",B259&TEXT(D259,\"aaa-yy\"),\"\")","v":""}]
["",null,null,null,null,null,null,null,null,null,null,null,null,null,null,null,null,null,null,null,null,null,null,null,null,null,null,null,null,null,null,null,null,null,null,null,null,null,null,null,null,null,null,null,null,null,null,null,null,null,null,null,null,null,null,null,null,""]
["",null,null,null,null,null,null,null,null,null,null,null,null,null,null,null,null,null,null,null,null,null,null,null,null,null,null,null,null,null,null,null,null,null,null,null,null,null,null,null,null,null,null,null,null,null,null,null,null,null,null,null,null,null,null,null,null,""]
["",null,null,null,null,null,null,null,null,null,null,null,null,null,null,null,null,null,null,null,null,null,null,null,null,null,null,null,null,null,null,null,null,null,null,null,null,null,null,null,null,null,null,null,null,null,null,null,null,null,null,null,null,null,null,null,null,""]
["",null,null,null,null,null,null,null,null,null,null,null,null,null,null,null,null,null,null,null,null,null,null,null,null,null,null,null,null,null,null,null,null,null,null,null,null,null,null,null,null,null,null,null,null,null,null,null,null,null,null,null,null,null,null,null,null,""]
["",null,null,null,null,null,null,null,null,null,null,null,null,null,null,null,null,null,null,null,null,null,null,null,null,null,null,null,null,null,null,null,null,null,null,null,null,null,null,null,null,null,null,null,null,null,null,null,null,null,null,null,null,null,null,null,null,""]
["",null,null,null,null,null,null,null,null,null,null,null,null,null,null,null,null,null,null,null,null,null,null,null,null,null,null,null,null,null,null,null,null,null,null,null,null,null,null,null,null,null,null,null,null,null,null,null,null,null,null,null,null,null,null,null,null,""]
["",null,null,null,null,null,null,null,null,null,null,null,null,null,null,null,null,null,null,null,null,null,null,null,null,null,null,null,null,null,null,null,null,null,null,null,null,null,null,null,null,null,null,null,null,null,null,null,null,null,null,null,null,null,null,null,null,""]
["",null,null,null,null,null,null,null,null,null,null,null,null,null,null,null,null,null,null,null,null,null,null,null,null,null,null,null,null,null,null,null,null,null,null,null,null,null,null,null,null,null,null,null,null,null,null,null,null,null,null,null,null,null,null,null,null,""]
["",null,null,null,null,null,null,null,null,null,null,null,null,null,null,null,null,null,null,null,null,null,null,null,null,null,null,null,null,null,null,null,null,null,null,null,null,null,null,null,null,null,null,null,null,null,null,null,null,null,null,null,null,null,null,null,null,""]
["",null,null,null,null,null,null,null,null,null,null,null,null,null,null,null,null,null,null,null,null,null,null,null,null,null,null,null,null,null,null,null,null,null,null,null,null,null,null,null,null,null,null,null,null,null,null,null,null,null,null,null,null,null,null,null,null,""]
["",null,null,null,null,null,null,null,null,null,null,null,null,null,null,null,null,null,null,null,null,null,null,null,null,null,null,null,null,null,null,null,null,null,null,null,null,null,null,null,null,null,null,null,null,null,null,null,null,null,null,null,null,null,null,null,null,""]
["",null,null,null,null,null,null,null,null,null,null,null,null,null,null,null,null,null,null,null,null,null,null,null,null,null,null,null,null,null,null,null,null,null,null,null,null,null,null,null,null,null,null,null,null,null,null,null,null,null,null,null,null,null,null,null,null,""]
["",null,null,null,null,null,null,null,null,null,null,null,null,null,null,null,null,null,null,null,null,null,null,null,null,null,null,null,null,null,null,null,null,null,null,null,null,null,null,null,null,null,null,null,null,null,null,null,null,null,null,null,null,null,null,null,null,""]
["",null,null,null,null,null,null,null,null,null,null,null,null,null,null,null,null,null,null,null,null,null,null,null,null,null,null,null,null,null,null,null,null,null,null,null,null,null,null,null,null,null,null,null,null,null,null,null,null,null,null,null,null,null,null,null,null,""]
["",null,null,null,null,null,null,null,null,null,null,null,null,null,null,null,null,null,null,null,null,null,null,null,null,null,null,null,null,null,null,null,null,null,null,null,null,null,null,null,null,null,null,null,null,null,null,null,null,null,null,null,null,null,null,null,null,""]
["",null,null,null,null,null,null,null,null,null,null,null,null,null,null,null,null,null,null,null,null,null,null,null,null,null,null,null,null,null,null,null,null,null,null,null,null,null,null,null,null,null,null,null,null,null,null,null,null,null,null,null,null,null,null,null,null,""]
["",null,null,null,null,null,null,null,null,null,null,null,null,null,null,null,null,null,null,null,null,null,null,null,null,null,null,null,null,null,null,null,null,null,null,null,null,null,null,null,null,null,null,null,null,null,null,null,null,null,null,null,null,null,null,null,null,""]
["",null,null,null,null,null,null,null,null,null,null,null,null,null,null,null,null,null,null,null,null,null,null,null,null,null,null,null,null,null,null,null,null,null,null,null,null,null,null,null,null,null,null,null,null,null,null,null,null,null,null,null,null,null,null,null,null,""]
["",null,null,null,null,null,null,null,null,null,null,null,null,null,null,null,null,null,null,null,null,null,null,null,null,null,null,null,null,null,null,null,null,null,null,null,null,null,null,null,null,null,null,null,null,null,null,null,null,null,null,null,null,null,null,null,null,""]
["",null,null,null,null,null,null,null,null,null,null,null,null,null,null,null,null,null,null,null,null,null,null,null,null,null,null,null,null,null,null,null,null,null,null,null,null,null,null,null,null,null,null,null,null,null,null,null,null,null,null,null,null,null,null,null,null,""]
["",null,null,null,null,null,null,null,null,null,null,null,null,null,null,null,null,null,null,null,null,null,null,null,null,null,null,null,null,null,null,null,null,null,null,null,null,null,null,null,null,null,null,null,null,null,null,null,null,null,null,null,null,null,null,null,null,""]
["",null,null,null,null,null,null,null,null,null,null,null,null,null,null,null,null,null,null,null,null,null,null,null,null,null,null,null,null,null,null,null,null,null,null,null,null,null,null,null,null,null,null,null,null,null,null,null,null,null,null,null,null,null,null,null,null,""]
["",null,null,null,null,null,null,null,null,null,null,null,null,null,null,null,null,null,null,null,null,null,null,null,null,null,null,null,null,null,null,null,null,null,null,null,null,null,null,null,null,null,null,null,null,null,null,null,null,null,null,null,null,null,null,null,null,""]
["",null,null,null,null,null,null,null,null,null,null,null,null,null,null,null,null,null,null,null,null,null,null,null,null,null,null,null,null,null,null,null,null,null,null,null,null,null,null,null,null,null,null,null,null,null,null,null,null,null,null,null,null,null,null,null,null,""]
["",null,null,null,null,null,null,null,null,null,null,null,null,null,null,null,null,null,null,null,null,null,null,null,null,null,null,null,null,null,null,null,null,null,null,null,null,null,null,null,null,null,null,null,null,null,null,null,null,null,null,null,null,null,null,null,null,""]
["",null,null,null,null,null,null,null,null,null,null,null,null,null,null,null,null,null,null,null,null,null,null,null,null,null,null,null,null,null,null,null,null,null,null,null,null,null,null,null,null,null,null,null,null,null,null,null,null,null,null,null,null,null,null,null,null,""]
["",null,null,null,null,null,null,null,null,null,null,null,null,null,null,null,null,null,null,null,null,null,null,null,null,null,null,null,null,null,null,null,null,null,null,null,null,null,null,null,null,null,null,null,null,null,null,null,null,null,null,null,null,null,null,null,null,""]
["",null,null,null,null,null,null,null,null,null,null,null,null,null,null,null,null,null,null,null,null,null,null,null,null,null,null,null,null,null,null,null,null,null,null,null,null,null,null,null,null,null,null,null,null,null,null,null,null,null,null,null,null,null,null,null,null,""]
["",null,null,null,null,null,null,null,null,null,null,null,null,null,null,null,null,null,null,null,null,null,null,null,null,null,null,null,null,null,null,null,null,null,null,null,null,null,null,null,null,null,null,null,null,null,null,null,null,null,null,null,null,null,null,null,null,""]
["",null,null,null,null,null,null,null,null,null,null,null,null,null,null,null,null,null,null,null,null,null,null,null,null,null,null,null,null,null,null,null,null,null,null,null,null,null,null,null,null,null,null,null,null,null,null,null,null,null,null,null,null,null,null,null,null,""]
["",null,null,null,null,null,null,null,null,null,null,null,null,null,null,null,null,null,null,null,null,null,null,null,null,null,null,null,null,null,null,null,null,null,null,null,null,null,null,null,null,null,null,null,null,null,null,null,null,null,null,null,null,null,null,null,null,""]
["",null,null,null,null,null,null,null,null,null,null,null,null,null,null,null,null,null,null,null,null,null,null,null,null,null,null,null,null,null,null,null,null,null,null,null,null,null,null,null,null,null,null,null,null,null,null,null,null,null,null,null,null,null,null,null,null,""]
["",null,null,null,null,null,null,null,null,null,null,null,null,null,null,null,null,null,null,null,null,null,null,null,null,null,null,null,null,null,null,null,null,null,null,null,null,null,null,null,null,null,null,null,null,null,null,null,null,null,null,null,null,null,null,null,null,""]
["",null,null,null,null,null,null,null,null,null,null,null,null,null,null,null,null,null,null,null,null,null,null,null,null,null,null,null,null,null,null,null,null,null,null,null,null,null,null,null,null,null,null,null,null,null,null,null,null,null,null,null,null,null,null,null,null,""]
["",null,null,null,null,null,null,null,null,null,null,null,null,null,null,null,null,null,null,null,null,null,null,null,null,null,null,null,null,null,null,null,null,null,null,null,null,null,null,null,null,null,null,null,null,null,null,null,null,null,null,null,null,null,null,null,null,""]
["",null,null,null,null,null,null,null,null,null,null,null,null,null,null,null,null,null,null,null,null,null,null,null,null,null,null,null,null,null,null,null,null,null,null,null,null,null,null,null,null,null,null,null,null,null,null,null,null,null,null,null,null,null,null,null,null,""]
["",null,null,null,null,null,null,null,null,null,null,null,null,null,null,null,null,null,null,null,null,null,null,null,null,null,null,null,null,null,null,null,null,null,null,null,null,null,null,null,null,null,null,null,null,null,null,null,null,null,null,null,null,null,null,null,null,""]
["",null,null,null,null,null,null,null,null,null,null,null,null,null,null,null,null,null,null,null,null,null,null,null,null,null,null,null,null,null,null,null,null,null,null,null,null,null,null,null,null,null,null,null,null,null,null,null,null,null,null,null,null,null,null,null,null,""]
["",null,null,null,null,null,null,null,null,null,null,null,null,null,null,null,null,null,null,null,null,null,null,null,null,null,null,null,null,null,null,null,null,null,null,null,null,null,null,null,null,null,null,null,null,null,null,null,null,null,null,null,null,null,null,null,null,""]
["",null,null,null,null,null,null,null,null,null,null,null,null,null,null,null,null,null,null,null,null,null,null,null,null,null,null,null,null,null,null,null,null,null,null,null,null,null,null,null,null,null,null,null,null,null,null,null,null,null,null,null,null,null,null,null,null,""]
["",null,null,null,null,null,null,null,null,null,null,null,null,null,null,null,null,null,null,null,null,null,null,null,null,null,null,null,null,null,null,null,null,null,null,null,null,null,null,null,null,null,null,null,null,null,null,null,null,null,null,null,null,null,null,null,null,""]
["",null,null,null,null,null,null,null,null,null,null,null,null,null,null,null,null,null,null,null,null,null,null,null,null,null,null,null,null,null,null,null,null,null,null,null,null,null,null,null,null,null,null,null,null,null,null,null,null,null,null,null,null,null,null,null,null,""]
["",null,null,null,null,null,null,null,null,null,null,null,null,null,null,null,null,null,null,null,null,null,null,null,null,null,null,null,null,null,null,null,null,null,null,null,null,null,null,null,null,null,null,null,null,null,null,null,null,null,null,null,null,null,null,null,null,""]
["",null,null,null,null,null,null,null,null,null,null,null,null,null,null,null,null,null,null,null,null,null,null,null,null,null,null,null,null,null,null,null,null,null,null,null,null,null,null,null,null,null,null,null,null,null,null,null,null,null,null,null,null,null,null,null,null,""]
["",null,null,null,null,null,null,null,null,null,null,null,null,null,null,null,null,null,null,null,null,null,null,null,null,null,null,null,null,null,null,null,null,null,null,null,null,null,null,null,null,null,null,null,null,null,null,null,null,null,null,null,null,null,null,null,null,""]
["",null,null,null,null,null,null,null,null,null,null,null,null,null,null,null,null,null,null,null,null,null,null,null,null,null,null,null,null,null,null,null,null,null,null,null,null,null,null,null,null,null,null,null,null,null,null,null,null,null,null,null,null,null,null,null,null,""]
["",null,null,null,null,null,null,null,null,null,null,null,null,null,null,null,null,null,null,null,null,null,null,null,null,null,null,null,null,null,null,null,null,null,null,null,null,null,null,null,null,null,null,null,null,null,null,null,null,null,null,null,null,null,null,null,null,""]
["",null,null,null,null,null,null,null,null,null,null,null,null,null,null,null,null,null,null,null,null,null,null,null,null,null,null,null,null,null,null,null,null,null,null,null,null,null,null,null,null,null,null,null,null,null,null,null,null,null,null,null,null,null,null,null,null,""]
["",null,null,null,null,null,null,null,null,null,null,null,null,null,null,null,null,null,null,null,null,null,null,null,null,null,null,null,null,null,null,null,null,null,null,null,null,null,null,null,null,null,null,null,null,null,null,null,null,null,null,null,null,null,null,null,null,""]
["",null,null,null,null,null,null,null,null,null,null,null,null,null,null,null,null,null,null,null,null,null,null,null,null,null,null,null,null,null,null,null,null,null,null,null,null,null,null,null,null,null,null,null,null,null,null,null,null,null,null,null,null,null,null,null,null,""]
["",null,null,null,null,null,null,null,null,null,null,null,null,null,null,null,null,null,null,null,null,null,null,null,null,null,null,null,null,null,null,null,null,null,null,null,null,null,null,null,null,null,null,null,null,null,null,null,null,null,null,null,null,null,null,null,null,""]
["",null,null,null,null,null,null,null,null,null,null,null,null,null,null,null,null,null,null,null,null,null,null,null,null,null,null,null,null,null,null,null,null,null,null,null,null,null,null,null,null,null,null,null,null,null,null,null,null,null,null,null,null,null,null,null,null,""]
["",null,null,null,null,null,null,null,null,null,null,null,null,null,null,null,null,null,null,null,null,null,null,null,null,null,null,null,null,null,null,null,null,null,null,null,null,null,null,null,null,null,null,null,null,null,null,null,null,null,null,null,null,null,null,null,null,""]
["",null,null,null,null,null,null,null,null,null,null,null,null,null,null,null,null,null,null,null,null,null,null,null,null,null,null,null,null,null,null,null,null,null,null,null,null,null,null,null,null,null,null,null,null,null,null,null,null,null,null,null,null,null,null,null,null,""]
["",null,null,null,null,null,null,null,null,null,null,null,null,null,null,null,null,null,null,null,null,null,null,null,null,null,null,null,null,null,null,null,null,null,null,null,null,null,null,null,null,null,null,null,null,null,null,null,null,null,null,null,null,null,null,null,null,""]
["",null,null,null,null,null,null,null,null,null,null,null,null,null,null,null,null,null,null,null,null,null,null,null,null,null,null,null,null,null,null,null,null,null,null,null,null,null,null,null,null,null,null,null,null,null,null,null,null,null,null,null,null,null,null,null,null,""]
["",null,null,null,null,null,null,null,null,null,null,null,null,null,null,null,null,null,null,null,null,null,null,null,null,null,null,null,null,null,null,null,null,null,null,null,null,null,null,null,null,null,null,null,null,null,null,null,null,null,null,null,null,null,null,null,null,""]
["",null,null,null,null,null,null,null,null,null,null,null,null,null,null,null,null,null,null,null,null,null,null,null,null,null,null,null,null,null,null,null,null,null,null,null,null,null,null,null,null,null,null,null,null,null,null,null,null,null,null,null,null,null,null,null,null,""]
["",null,null,null,null,null,null,null,null,null,null,null,null,null,null,null,null,null,null,null,null,null,null,null,null,null,null,null,null,null,null,null,null,null,null,null,null,null,null,null,null,null,null,null,null,null,null,null,null,null,null,null,null,null,null,null,null,""]
["",null,null,null,null,null,null,null,null,null,null,null,null,null,null,null,null,null,null,null,null,null,null,null,null,null,null,null,null,null,null,null,null,null,null,null,null,null,null,null,null,null,null,null,null,null,null,null,null,null,null,null,null,null,null,null,null,""]
["",null,null,null,null,null,null,null,null,null,null,null,null,null,null,null,null,null,null,null,null,null,null,null,null,null,null,null,null,null,null,null,null,null,null,null,null,null,null,null,null,null,null,null,null,null,null,null,null,null,null,null,null,null,null,null,null,""]
["",null,null,null,null,null,null,null,null,null,null,null,null,null,null,null,null,null,null,null,null,null,null,null,null,null,null,null,null,null,null,null,null,null,null,null,null,null,null,null,null,null,null,null,null,null,null,null,null,null,null,null,null,null,null,null,null,""]
["",null,null,null,null,null,null,null,null,null,null,null,null,null,null,null,null,null,null,null,null,null,null,null,null,null,null,null,null,null,null,null,null,null,null,null,null,null,null,null,null,null,null,null,null,null,null,null,null,null,null,null,null,null,null,null,null,""]
[{"$f":"IF(B323>\"\",YEAR(D323),\"\")","v":""},null,null,null,null,null,null,null,null,null,null,null,null,null,null,null,null,null,null,null,null,null,null,null,null,null,null,null,null,null,null,null,null,null,null,null,null,null,null,null,null,null,null,null,null,null,null,null,null,null,null,null,null,null,null,null,null,{"$f":"IF(B323>\"\",B323&TEXT(D323,\"aaa-yy\"),\"\")","v":""}]
["",null,null,null,null,null,null,null,null,null,null,null,null,null,null,null,null,null,null,null,null,null,null,null,null,null,null,null,null,null,null,null,null,null,null,null,null,null,null,null,null,null,null,null,null,null,null,null,null,null,null,null,null,null,null,null,null,""]
["",null,null,null,null,null,null,null,null,null,null,null,null,null,null,null,null,null,null,null,null,null,null,null,null,null,null,null,null,null,null,null,null,null,null,null,null,null,null,null,null,null,null,null,null,null,null,null,null,null,null,null,null,null,null,null,null,""]
["",null,null,null,null,null,null,null,null,null,null,null,null,null,null,null,null,null,null,null,null,null,null,null,null,null,null,null,null,null,null,null,null,null,null,null,null,null,null,null,null,null,null,null,null,null,null,null,null,null,null,null,null,null,null,null,null,""]
["",null,null,null,null,null,null,null,null,null,null,null,null,null,null,null,null,null,null,null,null,null,null,null,null,null,null,null,null,null,null,null,null,null,null,null,null,null,null,null,null,null,null,null,null,null,null,null,null,null,null,null,null,null,null,null,null,""]
["",null,null,null,null,null,null,null,null,null,null,null,null,null,null,null,null,null,null,null,null,null,null,null,null,null,null,null,null,null,null,null,null,null,null,null,null,null,null,null,null,null,null,null,null,null,null,null,null,null,null,null,null,null,null,null,null,""]
["",null,null,null,null,null,null,null,null,null,null,null,null,null,null,null,null,null,null,null,null,null,null,null,null,null,null,null,null,null,null,null,null,null,null,null,null,null,null,null,null,null,null,null,null,null,null,null,null,null,null,null,null,null,null,null,null,""]
["",null,null,null,null,null,null,null,null,null,null,null,null,null,null,null,null,null,null,null,null,null,null,null,null,null,null,null,null,null,null,null,null,null,null,null,null,null,null,null,null,null,null,null,null,null,null,null,null,null,null,null,null,null,null,null,null,""]
["",null,null,null,null,null,null,null,null,null,null,null,null,null,null,null,null,null,null,null,null,null,null,null,null,null,null,null,null,null,null,null,null,null,null,null,null,null,null,null,null,null,null,null,null,null,null,null,null,null,null,null,null,null,null,null,null,""]
["",null,null,null,null,null,null,null,null,null,null,null,null,null,null,null,null,null,null,null,null,null,null,null,null,null,null,null,null,null,null,null,null,null,null,null,null,null,null,null,null,null,null,null,null,null,null,null,null,null,null,null,null,null,null,null,null,""]
["",null,null,null,null,null,null,null,null,null,null,null,null,null,null,null,null,null,null,null,null,null,null,null,null,null,null,null,null,null,null,null,null,null,null,null,null,null,null,null,null,null,null,null,null,null,null,null,null,null,null,null,null,null,null,null,null,""]
["",null,null,null,null,null,null,null,null,null,null,null,null,null,null,null,null,null,null,null,null,null,null,null,null,null,null,null,null,null,null,null,null,null,null,null,null,null,null,null,null,null,null,null,null,null,null,null,null,null,null,null,null,null,null,null,null,""]
["",null,null,null,null,null,null,null,null,null,null,null,null,null,null,null,null,null,null,null,null,null,null,null,null,null,null,null,null,null,null,null,null,null,null,null,null,null,null,null,null,null,null,null,null,null,null,null,null,null,null,null,null,null,null,null,null,""]
["",null,null,null,null,null,null,null,null,null,null,null,null,null,null,null,null,null,null,null,null,null,null,null,null,null,null,null,null,null,null,null,null,null,null,null,null,null,null,null,null,null,null,null,null,null,null,null,null,null,null,null,null,null,null,null,null,""]
["",null,null,null,null,null,null,null,null,null,null,null,null,null,null,null,null,null,null,null,null,null,null,null,null,null,null,null,null,null,null,null,null,null,null,null,null,null,null,null,null,null,null,null,null,null,null,null,null,null,null,null,null,null,null,null,null,""]
["",null,null,null,null,null,null,null,null,null,null,null,null,null,null,null,null,null,null,null,null,null,null,null,null,null,null,null,null,null,null,null,null,null,null,null,null,null,null,null,null,null,null,null,null,null,null,null,null,null,null,null,null,null,null,null,null,""]
["",null,null,null,null,null,null,null,null,null,null,null,null,null,null,null,null,null,null,null,null,null,null,null,null,null,null,null,null,null,null,null,null,null,null,null,null,null,null,null,null,null,null,null,null,null,null,null,null,null,null,null,null,null,null,null,null,""]
["",null,null,null,null,null,null,null,null,null,null,null,null,null,null,null,null,null,null,null,null,null,null,null,null,null,null,null,null,null,null,null,null,null,null,null,null,null,null,null,null,null,null,null,null,null,null,null,null,null,null,null,null,null,null,null,null,""]
["",null,null,null,null,null,null,null,null,null,null,null,null,null,null,null,null,null,null,null,null,null,null,null,null,null,null,null,null,null,null,null,null,null,null,null,null,null,null,null,null,null,null,null,null,null,null,null,null,null,null,null,null,null,null,null,null,""]
["",null,null,null,null,null,null,null,null,null,null,null,null,null,null,null,null,null,null,null,null,null,null,null,null,null,null,null,null,null,null,null,null,null,null,null,null,null,null,null,null,null,null,null,null,null,null,null,null,null,null,null,null,null,null,null,null,""]
["",null,null,null,null,null,null,null,null,null,null,null,null,null,null,null,null,null,null,null,null,null,null,null,null,null,null,null,null,null,null,null,null,null,null,null,null,null,null,null,null,null,null,null,null,null,null,null,null,null,null,null,null,null,null,null,null,""]
["",null,null,null,null,null,null,null,null,null,null,null,null,null,null,null,null,null,null,null,null,null,null,null,null,null,null,null,null,null,null,null,null,null,null,null,null,null,null,null,null,null,null,null,null,null,null,null,null,null,null,null,null,null,null,null,null,""]
["",null,null,null,null,null,null,null,null,null,null,null,null,null,null,null,null,null,null,null,null,null,null,null,null,null,null,null,null,null,null,null,null,null,null,null,null,null,null,null,null,null,null,null,null,null,null,null,null,null,null,null,null,null,null,null,null,""]
["",null,null,null,null,null,null,null,null,null,null,null,null,null,null,null,null,null,null,null,null,null,null,null,null,null,null,null,null,null,null,null,null,null,null,null,null,null,null,null,null,null,null,null,null,null,null,null,null,null,null,null,null,null,null,null,null,""]
["",null,null,null,null,null,null,null,null,null,null,null,null,null,null,null,null,null,null,null,null,null,null,null,null,null,null,null,null,null,null,null,null,null,null,null,null,null,null,null,null,null,null,null,null,null,null,null,null,null,null,null,null,null,null,null,null,""]
["",null,null,null,null,null,null,null,null,null,null,null,null,null,null,null,null,null,null,null,null,null,null,null,null,null,null,null,null,null,null,null,null,null,null,null,null,null,null,null,null,null,null,null,null,null,null,null,null,null,null,null,null,null,null,null,null,""]
["",null,null,null,null,null,null,null,null,null,null,null,null,null,null,null,null,null,null,null,null,null,null,null,null,null,null,null,null,null,null,null,null,null,null,null,null,null,null,null,null,null,null,null,null,null,null,null,null,null,null,null,null,null,null,null,null,""]
["",null,null,null,null,null,null,null,null,null,null,null,null,null,null,null,null,null,null,null,null,null,null,null,null,null,null,null,null,null,null,null,null,null,null,null,null,null,null,null,null,null,null,null,null,null,null,null,null,null,null,null,null,null,null,null,null,""]
["",null,null,null,null,null,null,null,null,null,null,null,null,null,null,null,null,null,null,null,null,null,null,null,null,null,null,null,null,null,null,null,null,null,null,null,null,null,null,null,null,null,null,null,null,null,null,null,null,null,null,null,null,null,null,null,null,""]
["",null,null,null,null,null,null,null,null,null,null,null,null,null,null,null,null,null,null,null,null,null,null,null,null,null,null,null,null,null,null,null,null,null,null,null,null,null,null,null,null,null,null,null,null,null,null,null,null,null,null,null,null,null,null,null,null,""]
["",null,null,null,null,null,null,null,null,null,null,null,null,null,null,null,null,null,null,null,null,null,null,null,null,null,null,null,null,null,null,null,null,null,null,null,null,null,null,null,null,null,null,null,null,null,null,null,null,null,null,null,null,null,null,null,null,""]
["",null,null,null,null,null,null,null,null,null,null,null,null,null,null,null,null,null,null,null,null,null,null,null,null,null,null,null,null,null,null,null,null,null,null,null,null,null,null,null,null,null,null,null,null,null,null,null,null,null,null,null,null,null,null,null,null,""]
["",null,null,null,null,null,null,null,null,null,null,null,null,null,null,null,null,null,null,null,null,null,null,null,null,null,null,null,null,null,null,null,null,null,null,null,null,null,null,null,null,null,null,null,null,null,null,null,null,null,null,null,null,null,null,null,null,""]
["",null,null,null,null,null,null,null,null,null,null,null,null,null,null,null,null,null,null,null,null,null,null,null,null,null,null,null,null,null,null,null,null,null,null,null,null,null,null,null,null,null,null,null,null,null,null,null,null,null,null,null,null,null,null,null,null,""]
["",null,null,null,null,null,null,null,null,null,null,null,null,null,null,null,null,null,null,null,null,null,null,null,null,null,null,null,null,null,null,null,null,null,null,null,null,null,null,null,null,null,null,null,null,null,null,null,null,null,null,null,null,null,null,null,null,""]
["",null,null,null,null,null,null,null,null,null,null,null,null,null,null,null,null,null,null,null,null,null,null,null,null,null,null,null,null,null,null,null,null,null,null,null,null,null,null,null,null,null,null,null,null,null,null,null,null,null,null,null,null,null,null,null,null,""]
["",null,null,null,null,null,null,null,null,null,null,null,null,null,null,null,null,null,null,null,null,null,null,null,null,null,null,null,null,null,null,null,null,null,null,null,null,null,null,null,null,null,null,null,null,null,null,null,null,null,null,null,null,null,null,null,null,""]
["",null,null,null,null,null,null,null,null,null,null,null,null,null,null,null,null,null,null,null,null,null,null,null,null,null,null,null,null,null,null,null,null,null,null,null,null,null,null,null,null,null,null,null,null,null,null,null,null,null,null,null,null,null,null,null,null,""]
["",null,null,null,null,null,null,null,null,null,null,null,null,null,null,null,null,null,null,null,null,null,null,null,null,null,null,null,null,null,null,null,null,null,null,null,null,null,null,null,null,null,null,null,null,null,null,null,null,null,null,null,null,null,null,null,null,""]
["",null,null,null,null,null,null,null,null,null,null,null,null,null,null,null,null,null,null,null,null,null,null,null,null,null,null,null,null,null,null,null,null,null,null,null,null,null,null,null,null,null,null,null,null,null,null,null,null,null,null,null,null,null,null,null,null,""]
["",null,null,null,null,null,null,null,null,null,null,null,null,null,null,null,null,null,null,null,null,null,null,null,null,null,null,null,null,null,null,null,null,null,null,null,null,null,null,null,null,null,null,null,null,null,null,null,null,null,null,null,null,null,null,null,null,""]
["",null,null,null,null,null,null,null,null,null,null,null,null,null,null,null,null,null,null,null,null,null,null,null,null,null,null,null,null,null,null,null,null,null,null,null,null,null,null,null,null,null,null,null,null,null,null,null,null,null,null,null,null,null,null,null,null,""]
["",null,null,null,null,null,null,null,null,null,null,null,null,null,null,null,null,null,null,null,null,null,null,null,null,null,null,null,null,null,null,null,null,null,null,null,null,null,null,null,null,null,null,null,null,null,null,null,null,null,null,null,null,null,null,null,null,""]
["",null,null,null,null,null,null,null,null,null,null,null,null,null,null,null,null,null,null,null,null,null,null,null,null,null,null,null,null,null,null,null,null,null,null,null,null,null,null,null,null,null,null,null,null,null,null,null,null,null,null,null,null,null,null,null,null,""]
["",null,null,null,null,null,null,null,null,null,null,null,null,null,null,null,null,null,null,null,null,null,null,null,null,null,null,null,null,null,null,null,null,null,null,null,null,null,null,null,null,null,null,null,null,null,null,null,null,null,null,null,null,null,null,null,null,""]
["",null,null,null,null,null,null,null,null,null,null,null,null,null,null,null,null,null,null,null,null,null,null,null,null,null,null,null,null,null,null,null,null,null,null,null,null,null,null,null,null,null,null,null,null,null,null,null,null,null,null,null,null,null,null,null,null,""]
["",null,null,null,null,null,null,null,null,null,null,null,null,null,null,null,null,null,null,null,null,null,null,null,null,null,null,null,null,null,null,null,null,null,null,null,null,null,null,null,null,null,null,null,null,null,null,null,null,null,null,null,null,null,null,null,null,""]
["",null,null,null,null,null,null,null,null,null,null,null,null,null,null,null,null,null,null,null,null,null,null,null,null,null,null,null,null,null,null,null,null,null,null,null,null,null,null,null,null,null,null,null,null,null,null,null,null,null,null,null,null,null,null,null,null,""]
["",null,null,null,null,null,null,null,null,null,null,null,null,null,null,null,null,null,null,null,null,null,null,null,null,null,null,null,null,null,null,null,null,null,null,null,null,null,null,null,null,null,null,null,null,null,null,null,null,null,null,null,null,null,null,null,null,""]
["",null,null,null,null,null,null,null,null,null,null,null,null,null,null,null,null,null,null,null,null,null,null,null,null,null,null,null,null,null,null,null,null,null,null,null,null,null,null,null,null,null,null,null,null,null,null,null,null,null,null,null,null,null,null,null,null,""]
["",null,null,null,null,null,null,null,null,null,null,null,null,null,null,null,null,null,null,null,null,null,null,null,null,null,null,null,null,null,null,null,null,null,null,null,null,null,null,null,null,null,null,null,null,null,null,null,null,null,null,null,null,null,null,null,null,""]
["",null,null,null,null,null,null,null,null,null,null,null,null,null,null,null,null,null,null,null,null,null,null,null,null,null,null,null,null,null,null,null,null,null,null,null,null,null,null,null,null,null,null,null,null,null,null,null,null,null,null,null,null,null,null,null,null,""]
["",null,null,null,null,null,null,null,null,null,null,null,null,null,null,null,null,null,null,null,null,null,null,null,null,null,null,null,null,null,null,null,null,null,null,null,null,null,null,null,null,null,null,null,null,null,null,null,null,null,null,null,null,null,null,null,null,""]
["",null,null,null,null,null,null,null,null,null,null,null,null,null,null,null,null,null,null,null,null,null,null,null,null,null,null,null,null,null,null,null,null,null,null,null,null,null,null,null,null,null,null,null,null,null,null,null,null,null,null,null,null,null,null,null,null,""]
["",null,null,null,null,null,null,null,null,null,null,null,null,null,null,null,null,null,null,null,null,null,null,null,null,null,null,null,null,null,null,null,null,null,null,null,null,null,null,null,null,null,null,null,null,null,null,null,null,null,null,null,null,null,null,null,null,""]
["",null,null,null,null,null,null,null,null,null,null,null,null,null,null,null,null,null,null,null,null,null,null,null,null,null,null,null,null,null,null,null,null,null,null,null,null,null,null,null,null,null,null,null,null,null,null,null,null,null,null,null,null,null,null,null,null,""]
["",null,null,null,null,null,null,null,null,null,null,null,null,null,null,null,null,null,null,null,null,null,null,null,null,null,null,null,null,null,null,null,null,null,null,null,null,null,null,null,null,null,null,null,null,null,null,null,null,null,null,null,null,null,null,null,null,""]
["",null,null,null,null,null,null,null,null,null,null,null,null,null,null,null,null,null,null,null,null,null,null,null,null,null,null,null,null,null,null,null,null,null,null,null,null,null,null,null,null,null,null,null,null,null,null,null,null,null,null,null,null,null,null,null,null,""]
["",null,null,null,null,null,null,null,null,null,null,null,null,null,null,null,null,null,null,null,null,null,null,null,null,null,null,null,null,null,null,null,null,null,null,null,null,null,null,null,null,null,null,null,null,null,null,null,null,null,null,null,null,null,null,null,null,""]
["",null,null,null,null,null,null,null,null,null,null,null,null,null,null,null,null,null,null,null,null,null,null,null,null,null,null,null,null,null,null,null,null,null,null,null,null,null,null,null,null,null,null,null,null,null,null,null,null,null,null,null,null,null,null,null,null,""]
["",null,null,null,null,null,null,null,null,null,null,null,null,null,null,null,null,null,null,null,null,null,null,null,null,null,null,null,null,null,null,null,null,null,null,null,null,null,null,null,null,null,null,null,null,null,null,null,null,null,null,null,null,null,null,null,null,""]
["",null,null,null,null,null,null,null,null,null,null,null,null,null,null,null,null,null,null,null,null,null,null,null,null,null,null,null,null,null,null,null,null,null,null,null,null,null,null,null,null,null,null,null,null,null,null,null,null,null,null,null,null,null,null,null,null,""]
["",null,null,null,null,null,null,null,null,null,null,null,null,null,null,null,null,null,null,null,null,null,null,null,null,null,null,null,null,null,null,null,null,null,null,null,null,null,null,null,null,null,null,null,null,null,null,null,null,null,null,null,null,null,null,null,null,""]
["",null,null,null,null,null,null,null,null,null,null,null,null,null,null,null,null,null,null,null,null,null,null,null,null,null,null,null,null,null,null,null,null,null,null,null,null,null,null,null,null,null,null,null,null,null,null,null,null,null,null,null,null,null,null,null,null,""]
[{"$f":"IF(B387>\"\",YEAR(D387),\"\")","v":""},null,null,null,null,null,null,null,null,null,null,null,null,null,null,null,null,null,null,null,null,null,null,null,null,null,null,null,null,null,null,null,null,null,null,null,null,null,null,null,null,null,null,null,null,null,null,null,null,null,null,null,null,null,null,null,null,{"$f":"IF(B387>\"\",B387&TEXT(D387,\"aaa-yy\"),\"\")","v":""}]
["",null,null,null,null,null,null,null,null,null,null,null,null,null,null,null,null,null,null,null,null,null,null,null,null,null,null,null,null,null,null,null,null,null,null,null,null,null,null,null,null,null,null,null,null,null,null,null,null,null,null,null,null,null,null,null,null,""]
["",null,null,null,null,null,null,null,null,null,null,null,null,null,null,null,null,null,null,null,null,null,null,null,null,null,null,null,null,null,null,null,null,null,null,null,null,null,null,null,null,null,null,null,null,null,null,null,null,null,null,null,null,null,null,null,null,""]
["",null,null,null,null,null,null,null,null,null,null,null,null,null,null,null,null,null,null,null,null,null,null,null,null,null,null,null,null,null,null,null,null,null,null,null,null,null,null,null,null,null,null,null,null,null,null,null,null,null,null,null,null,null,null,null,null,""]
["",null,null,null,null,null,null,null,null,null,null,null,null,null,null,null,null,null,null,null,null,null,null,null,null,null,null,null,null,null,null,null,null,null,null,null,null,null,null,null,null,null,null,null,null,null,null,null,null,null,null,null,null,null,null,null,null,""]
["",null,null,null,null,null,null,null,null,null,null,null,null,null,null,null,null,null,null,null,null,null,null,null,null,null,null,null,null,null,null,null,null,null,null,null,null,null,null,null,null,null,null,null,null,null,null,null,null,null,null,null,null,null,null,null,null,""]
["",null,null,null,null,null,null,null,null,null,null,null,null,null,null,null,null,null,null,null,null,null,null,null,null,null,null,null,null,null,null,null,null,null,null,null,null,null,null,null,null,null,null,null,null,null,null,null,null,null,null,null,null,null,null,null,null,""]
["",null,null,null,null,null,null,null,null,null,null,null,null,null,null,null,null,null,null,null,null,null,null,null,null,null,null,null,null,null,null,null,null,null,null,null,null,null,null,null,null,null,null,null,null,null,null,null,null,null,null,null,null,null,null,null,null,""]
["",null,null,null,null,null,null,null,null,null,null,null,null,null,null,null,null,null,null,null,null,null,null,null,null,null,null,null,null,null,null,null,null,null,null,null,null,null,null,null,null,null,null,null,null,null,null,null,null,null,null,null,null,null,null,null,null,""]
["",null,null,null,null,null,null,null,null,null,null,null,null,null,null,null,null,null,null,null,null,null,null,null,null,null,null,null,null,null,null,null,null,null,null,null,null,null,null,null,null,null,null,null,null,null,null,null,null,null,null,null,null,null,null,null,null,""]
["",null,null,null,null,null,null,null,null,null,null,null,null,null,null,null,null,null,null,null,null,null,null,null,null,null,null,null,null,null,null,null,null,null,null,null,null,null,null,null,null,null,null,null,null,null,null,null,null,null,null,null,null,null,null,null,null,""]
["",null,null,null,null,null,null,null,null,null,null,null,null,null,null,null,null,null,null,null,null,null,null,null,null,null,null,null,null,null,null,null,null,null,null,null,null,null,null,null,null,null,null,null,null,null,null,null,null,null,null,null,null,null,null,null,null,""]
["",null,null,null,null,null,null,null,null,null,null,null,null,null,null,null,null,null,null,null,null,null,null,null,null,null,null,null,null,null,null,null,null,null,null,null,null,null,null,null,null,null,null,null,null,null,null,null,null,null,null,null,null,null,null,null,null,""]
["",null,null,null,null,null,null,null,null,null,null,null,null,null,null,null,null,null,null,null,null,null,null,null,null,null,null,null,null,null,null,null,null,null,null,null,null,null,null,null,null,null,null,null,null,null,null,null,null,null,null,null,null,null,null,null,null,""]
["",null,null,null,null,null,null,null,null,null,null,null,null,null,null,null,null,null,null,null,null,null,null,null,null,null,null,null,null,null,null,null,null,null,null,null,null,null,null,null,null,null,null,null,null,null,null,null,null,null,null,null,null,null,null,null,null,""]
["",null,null,null,null,null,null,null,null,null,null,null,null,null,null,null,null,null,null,null,null,null,null,null,null,null,null,null,null,null,null,null,null,null,null,null,null,null,null,null,null,null,null,null,null,null,null,null,null,null,null,null,null,null,null,null,null,""]
["",null,null,null,null,null,null,null,null,null,null,null,null,null,null,null,null,null,null,null,null,null,null,null,null,null,null,null,null,null,null,null,null,null,null,null,null,null,null,null,null,null,null,null,null,null,null,null,null,null,null,null,null,null,null,null,null,""]
["",null,null,null,null,null,null,null,null,null,null,null,null,null,null,null,null,null,null,null,null,null,null,null,null,null,null,null,null,null,null,null,null,null,null,null,null,null,null,null,null,null,null,null,null,null,null,null,null,null,null,null,null,null,null,null,null,""]
["",null,null,null,null,null,null,null,null,null,null,null,null,null,null,null,null,null,null,null,null,null,null,null,null,null,null,null,null,null,null,null,null,null,null,null,null,null,null,null,null,null,null,null,null,null,null,null,null,null,null,null,null,null,null,null,null,""]
["",null,null,null,null,null,null,null,null,null,null,null,null,null,null,null,null,null,null,null,null,null,null,null,null,null,null,null,null,null,null,null,null,null,null,null,null,null,null,null,null,null,null,null,null,null,null,null,null,null,null,null,null,null,null,null,null,""]
["",null,null,null,null,null,null,null,null,null,null,null,null,null,null,null,null,null,null,null,null,null,null,null,null,null,null,null,null,null,null,null,null,null,null,null,null,null,null,null,null,null,null,null,null,null,null,null,null,null,null,null,null,null,null,null,null,""]
["",null,null,null,null,null,null,null,null,null,null,null,null,null,null,null,null,null,null,null,null,null,null,null,null,null,null,null,null,null,null,null,null,null,null,null,null,null,null,null,null,null,null,null,null,null,null,null,null,null,null,null,null,null,null,null,null,""]
["",null,null,null,null,null,null,null,null,null,null,null,null,null,null,null,null,null,null,null,null,null,null,null,null,null,null,null,null,null,null,null,null,null,null,null,null,null,null,null,null,null,null,null,null,null,null,null,null,null,null,null,null,null,null,null,null,""]
["",null,null,null,null,null,null,null,null,null,null,null,null,null,null,null,null,null,null,null,null,null,null,null,null,null,null,null,null,null,null,null,null,null,null,null,null,null,null,null,null,null,null,null,null,null,null,null,null,null,null,null,null,null,null,null,null,""]
["",null,null,null,null,null,null,null,null,null,null,null,null,null,null,null,null,null,null,null,null,null,null,null,null,null,null,null,null,null,null,null,null,null,null,null,null,null,null,null,null,null,null,null,null,null,null,null,null,null,null,null,null,null,null,null,null,""]
["",null,null,null,null,null,null,null,null,null,null,null,null,null,null,null,null,null,null,null,null,null,null,null,null,null,null,null,null,null,null,null,null,null,null,null,null,null,null,null,null,null,null,null,null,null,null,null,null,null,null,null,null,null,null,null,null,""]
["",null,null,null,null,null,null,null,null,null,null,null,null,null,null,null,null,null,null,null,null,null,null,null,null,null,null,null,null,null,null,null,null,null,null,null,null,null,null,null,null,null,null,null,null,null,null,null,null,null,null,null,null,null,null,null,null,""]
["",null,null,null,null,null,null,null,null,null,null,null,null,null,null,null,null,null,null,null,null,null,null,null,null,null,null,null,null,null,null,null,null,null,null,null,null,null,null,null,null,null,null,null,null,null,null,null,null,null,null,null,null,null,null,null,null,""]
["",null,null,null,null,null,null,null,null,null,null,null,null,null,null,null,null,null,null,null,null,null,null,null,null,null,null,null,null,null,null,null,null,null,null,null,null,null,null,null,null,null,null,null,null,null,null,null,null,null,null,null,null,null,null,null,null,""]
["",null,null,null,null,null,null,null,null,null,null,null,null,null,null,null,null,null,null,null,null,null,null,null,null,null,null,null,null,null,null,null,null,null,null,null,null,null,null,null,null,null,null,null,null,null,null,null,null,null,null,null,null,null,null,null,null,""]
["",null,null,null,null,null,null,null,null,null,null,null,null,null,null,null,null,null,null,null,null,null,null,null,null,null,null,null,null,null,null,null,null,null,null,null,null,null,null,null,null,null,null,null,null,null,null,null,null,null,null,null,null,null,null,null,null,""]
["",null,null,null,null,null,null,null,null,null,null,null,null,null,null,null,null,null,null,null,null,null,null,null,null,null,null,null,null,null,null,null,null,null,null,null,null,null,null,null,null,null,null,null,null,null,null,null,null,null,null,null,null,null,null,null,null,""]
["",null,null,null,null,null,null,null,null,null,null,null,null,null,null,null,null,null,null,null,null,null,null,null,null,null,null,null,null,null,null,null,null,null,null,null,null,null,null,null,null,null,null,null,null,null,null,null,null,null,null,null,null,null,null,null,null,""]
["",null,null,null,null,null,null,null,null,null,null,null,null,null,null,null,null,null,null,null,null,null,null,null,null,null,null,null,null,null,null,null,null,null,null,null,null,null,null,null,null,null,null,null,null,null,null,null,null,null,null,null,null,null,null,null,null,""]
["",null,null,null,null,null,null,null,null,null,null,null,null,null,null,null,null,null,null,null,null,null,null,null,null,null,null,null,null,null,null,null,null,null,null,null,null,null,null,null,null,null,null,null,null,null,null,null,null,null,null,null,null,null,null,null,null,""]
["",null,null,null,null,null,null,null,null,null,null,null,null,null,null,null,null,null,null,null,null,null,null,null,null,null,null,null,null,null,null,null,null,null,null,null,null,null,null,null,null,null,null,null,null,null,null,null,null,null,null,null,null,null,null,null,null,""]
["",null,null,null,null,null,null,null,null,null,null,null,null,null,null,null,null,null,null,null,null,null,null,null,null,null,null,null,null,null,null,null,null,null,null,null,null,null,null,null,null,null,null,null,null,null,null,null,null,null,null,null,null,null,null,null,null,""]
["",null,null,null,null,null,null,null,null,null,null,null,null,null,null,null,null,null,null,null,null,null,null,null,null,null,null,null,null,null,null,null,null,null,null,null,null,null,null,null,null,null,null,null,null,null,null,null,null,null,null,null,null,null,null,null,null,""]
["",null,null,null,null,null,null,null,null,null,null,null,null,null,null,null,null,null,null,null,null,null,null,null,null,null,null,null,null,null,null,null,null,null,null,null,null,null,null,null,null,null,null,null,null,null,null,null,null,null,null,null,null,null,null,null,null,""]
["",null,null,null,null,null,null,null,null,null,null,null,null,null,null,null,null,null,null,null,null,null,null,null,null,null,null,null,null,null,null,null,null,null,null,null,null,null,null,null,null,null,null,null,null,null,null,null,null,null,null,null,null,null,null,null,null,""]
["",null,null,null,null,null,null,null,null,null,null,null,null,null,null,null,null,null,null,null,null,null,null,null,null,null,null,null,null,null,null,null,null,null,null,null,null,null,null,null,null,null,null,null,null,null,null,null,null,null,null,null,null,null,null,null,null,""]
["",null,null,null,null,null,null,null,null,null,null,null,null,null,null,null,null,null,null,null,null,null,null,null,null,null,null,null,null,null,null,null,null,null,null,null,null,null,null,null,null,null,null,null,null,null,null,null,null,null,null,null,null,null,null,null,null,""]
["",null,null,null,null,null,null,null,null,null,null,null,null,null,null,null,null,null,null,null,null,null,null,null,null,null,null,null,null,null,null,null,null,null,null,null,null,null,null,null,null,null,null,null,null,null,null,null,null,null,null,null,null,null,null,null,null,""]
["",null,null,null,null,null,null,null,null,null,null,null,null,null,null,null,null,null,null,null,null,null,null,null,null,null,null,null,null,null,null,null,null,null,null,null,null,null,null,null,null,null,null,null,null,null,null,null,null,null,null,null,null,null,null,null,null,""]
["",null,null,null,null,null,null,null,null,null,null,null,null,null,null,null,null,null,null,null,null,null,null,null,null,null,null,null,null,null,null,null,null,null,null,null,null,null,null,null,null,null,null,null,null,null,null,null,null,null,null,null,null,null,null,null,null,""]
["",null,null,null,null,null,null,null,null,null,null,null,null,null,null,null,null,null,null,null,null,null,null,null,null,null,null,null,null,null,null,null,null,null,null,null,null,null,null,null,null,null,null,null,null,null,null,null,null,null,null,null,null,null,null,null,null,""]
["",null,null,null,null,null,null,null,null,null,null,null,null,null,null,null,null,null,null,null,null,null,null,null,null,null,null,null,null,null,null,null,null,null,null,null,null,null,null,null,null,null,null,null,null,null,null,null,null,null,null,null,null,null,null,null,null,""]
["",null,null,null,null,null,null,null,null,null,null,null,null,null,null,null,null,null,null,null,null,null,null,null,null,null,null,null,null,null,null,null,null,null,null,null,null,null,null,null,null,null,null,null,null,null,null,null,null,null,null,null,null,null,null,null,null,""]
["",null,null,null,null,null,null,null,null,null,null,null,null,null,null,null,null,null,null,null,null,null,null,null,null,null,null,null,null,null,null,null,null,null,null,null,null,null,null,null,null,null,null,null,null,null,null,null,null,null,null,null,null,null,null,null,null,""]
["",null,null,null,null,null,null,null,null,null,null,null,null,null,null,null,null,null,null,null,null,null,null,null,null,null,null,null,null,null,null,null,null,null,null,null,null,null,null,null,null,null,null,null,null,null,null,null,null,null,null,null,null,null,null,null,null,""]
["",null,null,null,null,null,null,null,null,null,null,null,null,null,null,null,null,null,null,null,null,null,null,null,null,null,null,null,null,null,null,null,null,null,null,null,null,null,null,null,null,null,null,null,null,null,null,null,null,null,null,null,null,null,null,null,null,""]
["",null,null,null,null,null,null,null,null,null,null,null,null,null,null,null,null,null,null,null,null,null,null,null,null,null,null,null,null,null,null,null,null,null,null,null,null,null,null,null,null,null,null,null,null,null,null,null,null,null,null,null,null,null,null,null,null,""]
["",null,null,null,null,null,null,null,null,null,null,null,null,null,null,null,null,null,null,null,null,null,null,null,null,null,null,null,null,null,null,null,null,null,null,null,null,null,null,null,null,null,null,null,null,null,null,null,null,null,null,null,null,null,null,null,null,""]
["",null,null,null,null,null,null,null,null,null,null,null,null,null,null,null,null,null,null,null,null,null,null,null,null,null,null,null,null,null,null,null,null,null,null,null,null,null,null,null,null,null,null,null,null,null,null,null,null,null,null,null,null,null,null,null,null,""]
["",null,null,null,null,null,null,null,null,null,null,null,null,null,null,null,null,null,null,null,null,null,null,null,null,null,null,null,null,null,null,null,null,null,null,null,null,null,null,null,null,null,null,null,null,null,null,null,null,null,null,null,null,null,null,null,null,""]
["",null,null,null,null,null,null,null,null,null,null,null,null,null,null,null,null,null,null,null,null,null,null,null,null,null,null,null,null,null,null,null,null,null,null,null,null,null,null,null,null,null,null,null,null,null,null,null,null,null,null,null,null,null,null,null,null,""]
["",null,null,null,null,null,null,null,null,null,null,null,null,null,null,null,null,null,null,null,null,null,null,null,null,null,null,null,null,null,null,null,null,null,null,null,null,null,null,null,null,null,null,null,null,null,null,null,null,null,null,null,null,null,null,null,null,""]
["",null,null,null,null,null,null,null,null,null,null,null,null,null,null,null,null,null,null,null,null,null,null,null,null,null,null,null,null,null,null,null,null,null,null,null,null,null,null,null,null,null,null,null,null,null,null,null,null,null,null,null,null,null,null,null,null,""]
["",null,null,null,null,null,null,null,null,null,null,null,null,null,null,null,null,null,null,null,null,null,null,null,null,null,null,null,null,null,null,null,null,null,null,null,null,null,null,null,null,null,null,null,null,null,null,null,null,null,null,null,null,null,null,null,null,""]
["",null,null,null,null,null,null,null,null,null,null,null,null,null,null,null,null,null,null,null,null,null,null,null,null,null,null,null,null,null,null,null,null,null,null,null,null,null,null,null,null,null,null,null,null,null,null,null,null,null,null,null,null,null,null,null,null,""]
["",null,null,null,null,null,null,null,null,null,null,null,null,null,null,null,null,null,null,null,null,null,null,null,null,null,null,null,null,null,null,null,null,null,null,null,null,null,null,null,null,null,null,null,null,null,null,null,null,null,null,null,null,null,null,null,null,""]
["",null,null,null,null,null,null,null,null,null,null,null,null,null,null,null,null,null,null,null,null,null,null,null,null,null,null,null,null,null,null,null,null,null,null,null,null,null,null,null,null,null,null,null,null,null,null,null,null,null,null,null,null,null,null,null,null,""]
["",null,null,null,null,null,null,null,null,null,null,null,null,null,null,null,null,null,null,null,null,null,null,null,null,null,null,null,null,null,null,null,null,null,null,null,null,null,null,null,null,null,null,null,null,null,null,null,null,null,null,null,null,null,null,null,null,""]
["",null,null,null,null,null,null,null,null,null,null,null,null,null,null,null,null,null,null,null,null,null,null,null,null,null,null,null,null,null,null,null,null,null,null,null,null,null,null,null,null,null,null,null,null,null,null,null,null,null,null,null,null,null,null,null,null,""]
[{"$f":"IF(B451>\"\",YEAR(D451),\"\")","v":""},null,null,null,null,null,null,null,null,null,null,null,null,null,null,null,null,null,null,null,null,null,null,null,null,null,null,null,null,null,null,null,null,null,null,null,null,null,null,null,null,null,null,null,null,null,null,null,null,null,null,null,null,null,null,null,null,{"$f":"IF(B451>\"\",B451&TEXT(D451,\"aaa-yy\"),\"\")","v":""}]
["",null,null,null,null,null,null,null,null,null,null,null,null,null,null,null,null,null,null,null,null,null,null,null,null,null,null,null,null,null,null,null,null,null,null,null,null,null,null,null,null,null,null,null,null,null,null,null,null,null,null,null,null,null,null,null,null,""]
["",null,null,null,null,null,null,null,null,null,null,null,null,null,null,null,null,null,null,null,null,null,null,null,null,null,null,null,null,null,null,null,null,null,null,null,null,null,null,null,null,null,null,null,null,null,null,null,null,null,null,null,null,null,null,null,null,""]
["",null,null,null,null,null,null,null,null,null,null,null,null,null,null,null,null,null,null,null,null,null,null,null,null,null,null,null,null,null,null,null,null,null,null,null,null,null,null,null,null,null,null,null,null,null,null,null,null,null,null,null,null,null,null,null,null,""]
["",null,null,null,null,null,null,null,null,null,null,null,null,null,null,null,null,null,null,null,null,null,null,null,null,null,null,null,null,null,null,null,null,null,null,null,null,null,null,null,null,null,null,null,null,null,null,null,null,null,null,null,null,null,null,null,null,""]
["",null,null,null,null,null,null,null,null,null,null,null,null,null,null,null,null,null,null,null,null,null,null,null,null,null,null,null,null,null,null,null,null,null,null,null,null,null,null,null,null,null,null,null,null,null,null,null,null,null,null,null,null,null,null,null,null,""]
["",null,null,null,null,null,null,null,null,null,null,null,null,null,null,null,null,null,null,null,null,null,null,null,null,null,null,null,null,null,null,null,null,null,null,null,null,null,null,null,null,null,null,null,null,null,null,null,null,null,null,null,null,null,null,null,null,""]
["",null,null,null,null,null,null,null,null,null,null,null,null,null,null,null,null,null,null,null,null,null,null,null,null,null,null,null,null,null,null,null,null,null,null,null,null,null,null,null,null,null,null,null,null,null,null,null,null,null,null,null,null,null,null,null,null,""]
["",null,null,null,null,null,null,null,null,null,null,null,null,null,null,null,null,null,null,null,null,null,null,null,null,null,null,null,null,null,null,null,null,null,null,null,null,null,null,null,null,null,null,null,null,null,null,null,null,null,null,null,null,null,null,null,null,""]
["",null,null,null,null,null,null,null,null,null,null,null,null,null,null,null,null,null,null,null,null,null,null,null,null,null,null,null,null,null,null,null,null,null,null,null,null,null,null,null,null,null,null,null,null,null,null,null,null,null,null,null,null,null,null,null,null,""]
["",null,null,null,null,null,null,null,null,null,null,null,null,null,null,null,null,null,null,null,null,null,null,null,null,null,null,null,null,null,null,null,null,null,null,null,null,null,null,null,null,null,null,null,null,null,null,null,null,null,null,null,null,null,null,null,null,""]
["",null,null,null,null,null,null,null,null,null,null,null,null,null,null,null,null,null,null,null,null,null,null,null,null,null,null,null,null,null,null,null,null,null,null,null,null,null,null,null,null,null,null,null,null,null,null,null,null,null,null,null,null,null,null,null,null,""]
["",null,null,null,null,null,null,null,null,null,null,null,null,null,null,null,null,null,null,null,null,null,null,null,null,null,null,null,null,null,null,null,null,null,null,null,null,null,null,null,null,null,null,null,null,null,null,null,null,null,null,null,null,null,null,null,null,""]
["",null,null,null,null,null,null,null,null,null,null,null,null,null,null,null,null,null,null,null,null,null,null,null,null,null,null,null,null,null,null,null,null,null,null,null,null,null,null,null,null,null,null,null,null,null,null,null,null,null,null,null,null,null,null,null,null,""]
["",null,null,null,null,null,null,null,null,null,null,null,null,null,null,null,null,null,null,null,null,null,null,null,null,null,null,null,null,null,null,null,null,null,null,null,null,null,null,null,null,null,null,null,null,null,null,null,null,null,null,null,null,null,null,null,null,""]
["",null,null,null,null,null,null,null,null,null,null,null,null,null,null,null,null,null,null,null,null,null,null,null,null,null,null,null,null,null,null,null,null,null,null,null,null,null,null,null,null,null,null,null,null,null,null,null,null,null,null,null,null,null,null,null,null,""]
["",null,null,null,null,null,null,null,null,null,null,null,null,null,null,null,null,null,null,null,null,null,null,null,null,null,null,null,null,null,null,null,null,null,null,null,null,null,null,null,null,null,null,null,null,null,null,null,null,null,null,null,null,null,null,null,null,""]
["",null,null,null,null,null,null,null,null,null,null,null,null,null,null,null,null,null,null,null,null,null,null,null,null,null,null,null,null,null,null,null,null,null,null,null,null,null,null,null,null,null,null,null,null,null,null,null,null,null,null,null,null,null,null,null,null,""]
["",null,null,null,null,null,null,null,null,null,null,null,null,null,null,null,null,null,null,null,null,null,null,null,null,null,null,null,null,null,null,null,null,null,null,null,null,null,null,null,null,null,null,null,null,null,null,null,null,null,null,null,null,null,null,null,null,""]
["",null,null,null,null,null,null,null,null,null,null,null,null,null,null,null,null,null,null,null,null,null,null,null,null,null,null,null,null,null,null,null,null,null,null,null,null,null,null,null,null,null,null,null,null,null,null,null,null,null,null,null,null,null,null,null,null,""]
["",null,null,null,null,null,null,null,null,null,null,null,null,null,null,null,null,null,null,null,null,null,null,null,null,null,null,null,null,null,null,null,null,null,null,null,null,null,null,null,null,null,null,null,null,null,null,null,null,null,null,null,null,null,null,null,null,""]
["",null,null,null,null,null,null,null,null,null,null,null,null,null,null,null,null,null,null,null,null,null,null,null,null,null,null,null,null,null,null,null,null,null,null,null,null,null,null,null,null,null,null,null,null,null,null,null,null,null,null,null,null,null,null,null,null,""]
["",null,null,null,null,null,null,null,null,null,null,null,null,null,null,null,null,null,null,null,null,null,null,null,null,null,null,null,null,null,null,null,null,null,null,null,null,null,null,null,null,null,null,null,null,null,null,null,null,null,null,null,null,null,null,null,null,""]
["",null,null,null,null,null,null,null,null,null,null,null,null,null,null,null,null,null,null,null,null,null,null,null,null,null,null,null,null,null,null,null,null,null,null,null,null,null,null,null,null,null,null,null,null,null,null,null,null,null,null,null,null,null,null,null,null,""]
["",null,null,null,null,null,null,null,null,null,null,null,null,null,null,null,null,null,null,null,null,null,null,null,null,null,null,null,null,null,null,null,null,null,null,null,null,null,null,null,null,null,null,null,null,null,null,null,null,null,null,null,null,null,null,null,null,""]
["",null,null,null,null,null,null,null,null,null,null,null,null,null,null,null,null,null,null,null,null,null,null,null,null,null,null,null,null,null,null,null,null,null,null,null,null,null,null,null,null,null,null,null,null,null,null,null,null,null,null,null,null,null,null,null,null,""]
["",null,null,null,null,null,null,null,null,null,null,null,null,null,null,null,null,null,null,null,null,null,null,null,null,null,null,null,null,null,null,null,null,null,null,null,null,null,null,null,null,null,null,null,null,null,null,null,null,null,null,null,null,null,null,null,null,""]
["",null,null,null,null,null,null,null,null,null,null,null,null,null,null,null,null,null,null,null,null,null,null,null,null,null,null,null,null,null,null,null,null,null,null,null,null,null,null,null,null,null,null,null,null,null,null,null,null,null,null,null,null,null,null,null,null,""]
["",null,null,null,null,null,null,null,null,null,null,null,null,null,null,null,null,null,null,null,null,null,null,null,null,null,null,null,null,null,null,null,null,null,null,null,null,null,null,null,null,null,null,null,null,null,null,null,null,null,null,null,null,null,null,null,null,""]
["",null,null,null,null,null,null,null,null,null,null,null,null,null,null,null,null,null,null,null,null,null,null,null,null,null,null,null,null,null,null,null,null,null,null,null,null,null,null,null,null,null,null,null,null,null,null,null,null,null,null,null,null,null,null,null,null,""]
["",null,null,null,null,null,null,null,null,null,null,null,null,null,null,null,null,null,null,null,null,null,null,null,null,null,null,null,null,null,null,null,null,null,null,null,null,null,null,null,null,null,null,null,null,null,null,null,null,null,null,null,null,null,null,null,null,""]
["",null,null,null,null,null,null,null,null,null,null,null,null,null,null,null,null,null,null,null,null,null,null,null,null,null,null,null,null,null,null,null,null,null,null,null,null,null,null,null,null,null,null,null,null,null,null,null,null,null,null,null,null,null,null,null,null,""]
["",null,null,null,null,null,null,null,null,null,null,null,null,null,null,null,null,null,null,null,null,null,null,null,null,null,null,null,null,null,null,null,null,null,null,null,null,null,null,null,null,null,null,null,null,null,null,null,null,null,null,null,null,null,null,null,null,""]
["",null,null,null,null,null,null,null,null,null,null,null,null,null,null,null,null,null,null,null,null,null,null,null,null,null,null,null,null,null,null,null,null,null,null,null,null,null,null,null,null,null,null,null,null,null,null,null,null,null,null,null,null,null,null,null,null,""]
["",null,null,null,null,null,null,null,null,null,null,null,null,null,null,null,null,null,null,null,null,null,null,null,null,null,null,null,null,null,null,null,null,null,null,null,null,null,null,null,null,null,null,null,null,null,null,null,null,null,null,null,null,null,null,null,null,""]
["",null,null,null,null,null,null,null,null,null,null,null,null,null,null,null,null,null,null,null,null,null,null,null,null,null,null,null,null,null,null,null,null,null,null,null,null,null,null,null,null,null,null,null,null,null,null,null,null,null,null,null,null,null,null,null,null,""]
["",null,null,null,null,null,null,null,null,null,null,null,null,null,null,null,null,null,null,null,null,null,null,null,null,null,null,null,null,null,null,null,null,null,null,null,null,null,null,null,null,null,null,null,null,null,null,null,null,null,null,null,null,null,null,null,null,""]
["",null,null,null,null,null,null,null,null,null,null,null,null,null,null,null,null,null,null,null,null,null,null,null,null,null,null,null,null,null,null,null,null,null,null,null,null,null,null,null,null,null,null,null,null,null,null,null,null,null,null,null,null,null,null,null,null,""]
["",null,null,null,null,null,null,null,null,null,null,null,null,null,null,null,null,null,null,null,null,null,null,null,null,null,null,null,null,null,null,null,null,null,null,null,null,null,null,null,null,null,null,null,null,null,null,null,null,null,null,null,null,null,null,null,null,""]
["",null,null,null,null,null,null,null,null,null,null,null,null,null,null,null,null,null,null,null,null,null,null,null,null,null,null,null,null,null,null,null,null,null,null,null,null,null,null,null,null,null,null,null,null,null,null,null,null,null,null,null,null,null,null,null,null,""]
["",null,null,null,null,null,null,null,null,null,null,null,null,null,null,null,null,null,null,null,null,null,null,null,null,null,null,null,null,null,null,null,null,null,null,null,null,null,null,null,null,null,null,null,null,null,null,null,null,null,null,null,null,null,null,null,null,""]
["",null,null,null,null,null,null,null,null,null,null,null,null,null,null,null,null,null,null,null,null,null,null,null,null,null,null,null,null,null,null,null,null,null,null,null,null,null,null,null,null,null,null,null,null,null,null,null,null,null,null,null,null,null,null,null,null,""]
["",null,null,null,null,null,null,null,null,null,null,null,null,null,null,null,null,null,null,null,null,null,null,null,null,null,null,null,null,null,null,null,null,null,null,null,null,null,null,null,null,null,null,null,null,null,null,null,null,null,null,null,null,null,null,null,null,""]
["",null,null,null,null,null,null,null,null,null,null,null,null,null,null,null,null,null,null,null,null,null,null,null,null,null,null,null,null,null,null,null,null,null,null,null,null,null,null,null,null,null,null,null,null,null,null,null,null,null,null,null,null,null,null,null,null,""]
["",null,null,null,null,null,null,null,null,null,null,null,null,null,null,null,null,null,null,null,null,null,null,null,null,null,null,null,null,null,null,null,null,null,null,null,null,null,null,null,null,null,null,null,null,null,null,null,null,null,null,null,null,null,null,null,null,""]
["",null,null,null,null,null,null,null,null,null,null,null,null,null,null,null,null,null,null,null,null,null,null,null,null,null,null,null,null,null,null,null,null,null,null,null,null,null,null,null,null,null,null,null,null,null,null,null,null,null,null,null,null,null,null,null,null,""]
["",null,null,null,null,null,null,null,null,null,null,null,null,null,null,null,null,null,null,null,null,null,null,null,null,null,null,null,null,null,null,null,null,null,null,null,null,null,null,null,null,null,null,null,null,null,null,null,null,null,null,null,null,null,null,null,null,""]
["",null,null,null,null,null,null,null,null,null,null,null,null,null,null,null,null,null,null,null,null,null,null,null,null,null,null,null,null,null,null,null,null,null,null,null,null,null,null,null,null,null,null,null,null,null,null,null,null,null,null,null,null,null,null,null,null,""]
["",null,null,null,null,null,null,null,null,null,null,null,null,null,null,null,null,null,null,null,null,null,null,null,null,null,null,null,null,null,null,null,null,null,null,null,null,null,null,null,null,null,null,null,null,null,null,null,null,null,null,null,null,null,null,null,null,""]
["",null,null,null,null,null,null,null,null,null,null,null,null,null,null,null,null,null,null,null,null,null,null,null,null,null,null,null,null,null,null,null,null,null,null,null,null,null,null,null,null,null,null,null,null,null,null,null,null,null,null,null,null,null,null,null,null,""]
[{"$f":"IF(B515>\"\",YEAR(D515),\"\")","v":""},null,null,null,null,null,null,null,null,null,null,null,null,null,null,null,null,null,null,null,null,null,null,null,null,null,null,null,null,null,null,null,null,null,null,null,null,null,null,null,null,null,null,null,null,null,null,null,null,null,null,null,null,null,null,null,null,{"$f":"IF(B515>\"\",B515&TEXT(D515,\"aaa-yy\"),\"\")","v":""}]
["",null,null,null,null,null,null,null,null,null,null,null,null,null,null,null,null,null,null,null,null,null,null,null,null,null,null,null,null,null,null,null,null,null,null,null,null,null,null,null,null,null,null,null,null,null,null,null,null,null,null,null,null,null,null,null,null,""]
["",null,null,null,null,null,null,null,null,null,null,null,null,null,null,null,null,null,null,null,null,null,null,null,null,null,null,null,null,null,null,null,null,null,null,null,null,null,null,null,null,null,null,null,null,null,null,null,null,null,null,null,null,null,null,null,null,""]
["",null,null,null,null,null,null,null,null,null,null,null,null,null,null,null,null,null,null,null,null,null,null,null,null,null,null,null,null,null,null,null,null,null,null,null,null,null,null,null,null,null,null,null,null,null,null,null,null,null,null,null,null,null,null,null,null,""]
["",null,null,null,null,null,null,null,null,null,null,null,null,null,null,null,null,null,null,null,null,null,null,null,null,null,null,null,null,null,null,null,null,null,null,null,null,null,null,null,null,null,null,null,null,null,null,null,null,null,null,null,null,null,null,null,null,""]
["",null,null,null,null,null,null,null,null,null,null,null,null,null,null,null,null,null,null,null,null,null,null,null,null,null,null,null,null,null,null,null,null,null,null,null,null,null,null,null,null,null,null,null,null,null,null,null,null,null,null,null,null,null,null,null,null,""]
["",null,null,null,null,null,null,null,null,null,null,null,null,null,null,null,null,null,null,null,null,null,null,null,null,null,null,null,null,null,null,null,null,null,null,null,null,null,null,null,null,null,null,null,null,null,null,null,null,null,null,null,null,null,null,null,null,""]
["",null,null,null,null,null,null,null,null,null,null,null,null,null,null,null,null,null,null,null,null,null,null,null,null,null,null,null,null,null,null,null,null,null,null,null,null,null,null,null,null,null,null,null,null,null,null,null,null,null,null,null,null,null,null,null,null,""]
["",null,null,null,null,null,null,null,null,null,null,null,null,null,null,null,null,null,null,null,null,null,null,null,null,null,null,null,null,null,null,null,null,null,null,null,null,null,null,null,null,null,null,null,null,null,null,null,null,null,null,null,null,null,null,null,null,""]
["",null,null,null,null,null,null,null,null,null,null,null,null,null,null,null,null,null,null,null,null,null,null,null,null,null,null,null,null,null,null,null,null,null,null,null,null,null,null,null,null,null,null,null,null,null,null,null,null,null,null,null,null,null,null,null,null,""]
["",null,null,null,null,null,null,null,null,null,null,null,null,null,null,null,null,null,null,null,null,null,null,null,null,null,null,null,null,null,null,null,null,null,null,null,null,null,null,null,null,null,null,null,null,null,null,null,null,null,null,null,null,null,null,null,null,""]
["",null,null,null,null,null,null,null,null,null,null,null,null,null,null,null,null,null,null,null,null,null,null,null,null,null,null,null,null,null,null,null,null,null,null,null,null,null,null,null,null,null,null,null,null,null,null,null,null,null,null,null,null,null,null,null,null,""]
["",null,null,null,null,null,null,null,null,null,null,null,null,null,null,null,null,null,null,null,null,null,null,null,null,null,null,null,null,null,null,null,null,null,null,null,null,null,null,null,null,null,null,null,null,null,null,null,null,null,null,null,null,null,null,null,null,""]
["",null,null,null,null,null,null,null,null,null,null,null,null,null,null,null,null,null,null,null,null,null,null,null,null,null,null,null,null,null,null,null,null,null,null,null,null,null,null,null,null,null,null,null,null,null,null,null,null,null,null,null,null,null,null,null,null,""]
["",null,null,null,null,null,null,null,null,null,null,null,null,null,null,null,null,null,null,null,null,null,null,null,null,null,null,null,null,null,null,null,null,null,null,null,null,null,null,null,null,null,null,null,null,null,null,null,null,null,null,null,null,null,null,null,null,""]
["",null,null,null,null,null,null,null,null,null,null,null,null,null,null,null,null,null,null,null,null,null,null,null,null,null,null,null,null,null,null,null,null,null,null,null,null,null,null,null,null,null,null,null,null,null,null,null,null,null,null,null,null,null,null,null,null,""]
["",null,null,null,null,null,null,null,null,null,null,null,null,null,null,null,null,null,null,null,null,null,null,null,null,null,null,null,null,null,null,null,null,null,null,null,null,null,null,null,null,null,null,null,null,null,null,null,null,null,null,null,null,null,null,null,null,""]
["",null,null,null,null,null,null,null,null,null,null,null,null,null,null,null,null,null,null,null,null,null,null,null,null,null,null,null,null,null,null,null,null,null,null,null,null,null,null,null,null,null,null,null,null,null,null,null,null,null,null,null,null,null,null,null,null,""]
["",null,null,null,null,null,null,null,null,null,null,null,null,null,null,null,null,null,null,null,null,null,null,null,null,null,null,null,null,null,null,null,null,null,null,null,null,null,null,null,null,null,null,null,null,null,null,null,null,null,null,null,null,null,null,null,null,""]
["",null,null,null,null,null,null,null,null,null,null,null,null,null,null,null,null,null,null,null,null,null,null,null,null,null,null,null,null,null,null,null,null,null,null,null,null,null,null,null,null,null,null,null,null,null,null,null,null,null,null,null,null,null,null,null,null,""]
["",null,null,null,null,null,null,null,null,null,null,null,null,null,null,null,null,null,null,null,null,null,null,null,null,null,null,null,null,null,null,null,null,null,null,null,null,null,null,null,null,null,null,null,null,null,null,null,null,null,null,null,null,null,null,null,null,""]
["",null,null,null,null,null,null,null,null,null,null,null,null,null,null,null,null,null,null,null,null,null,null,null,null,null,null,null,null,null,null,null,null,null,null,null,null,null,null,null,null,null,null,null,null,null,null,null,null,null,null,null,null,null,null,null,null,""]
["",null,null,null,null,null,null,null,null,null,null,null,null,null,null,null,null,null,null,null,null,null,null,null,null,null,null,null,null,null,null,null,null,null,null,null,null,null,null,null,null,null,null,null,null,null,null,null,null,null,null,null,null,null,null,null,null,""]
["",null,null,null,null,null,null,null,null,null,null,null,null,null,null,null,null,null,null,null,null,null,null,null,null,null,null,null,null,null,null,null,null,null,null,null,null,null,null,null,null,null,null,null,null,null,null,null,null,null,null,null,null,null,null,null,null,""]
["",null,null,null,null,null,null,null,null,null,null,null,null,null,null,null,null,null,null,null,null,null,null,null,null,null,null,null,null,null,null,null,null,null,null,null,null,null,null,null,null,null,null,null,null,null,null,null,null,null,null,null,null,null,null,null,null,""]
["",null,null,null,null,null,null,null,null,null,null,null,null,null,null,null,null,null,null,null,null,null,null,null,null,null,null,null,null,null,null,null,null,null,null,null,null,null,null,null,null,null,null,null,null,null,null,null,null,null,null,null,null,null,null,null,null,""]
["",null,null,null,null,null,null,null,null,null,null,null,null,null,null,null,null,null,null,null,null,null,null,null,null,null,null,null,null,null,null,null,null,null,null,null,null,null,null,null,null,null,null,null,null,null,null,null,null,null,null,null,null,null,null,null,null,""]
["",null,null,null,null,null,null,null,null,null,null,null,null,null,null,null,null,null,null,null,null,null,null,null,null,null,null,null,null,null,null,null,null,null,null,null,null,null,null,null,null,null,null,null,null,null,null,null,null,null,null,null,null,null,null,null,null,""]
["",null,null,null,null,null,null,null,null,null,null,null,null,null,null,null,null,null,null,null,null,null,null,null,null,null,null,null,null,null,null,null,null,null,null,null,null,null,null,null,null,null,null,null,null,null,null,null,null,null,null,null,null,null,null,null,null,""]
["",null,null,null,null,null,null,null,null,null,null,null,null,null,null,null,null,null,null,null,null,null,null,null,null,null,null,null,null,null,null,null,null,null,null,null,null,null,null,null,null,null,null,null,null,null,null,null,null,null,null,null,null,null,null,null,null,""]
["",null,null,null,null,null,null,null,null,null,null,null,null,null,null,null,null,null,null,null,null,null,null,null,null,null,null,null,null,null,null,null,null,null,null,null,null,null,null,null,null,null,null,null,null,null,null,null,null,null,null,null,null,null,null,null,null,""]
["",null,null,null,null,null,null,null,null,null,null,null,null,null,null,null,null,null,null,null,null,null,null,null,null,null,null,null,null,null,null,null,null,null,null,null,null,null,null,null,null,null,null,null,null,null,null,null,null,null,null,null,null,null,null,null,null,""]
["",null,null,null,null,null,null,null,null,null,null,null,null,null,null,null,null,null,null,null,null,null,null,null,null,null,null,null,null,null,null,null,null,null,null,null,null,null,null,null,null,null,null,null,null,null,null,null,null,null,null,null,null,null,null,null,null,""]
["",null,null,null,null,null,null,null,null,null,null,null,null,null,null,null,null,null,null,null,null,null,null,null,null,null,null,null,null,null,null,null,null,null,null,null,null,null,null,null,null,null,null,null,null,null,null,null,null,null,null,null,null,null,null,null,null,""]
["",null,null,null,null,null,null,null,null,null,null,null,null,null,null,null,null,null,null,null,null,null,null,null,null,null,null,null,null,null,null,null,null,null,null,null,null,null,null,null,null,null,null,null,null,null,null,null,null,null,null,null,null,null,null,null,null,""]
["",null,null,null,null,null,null,null,null,null,null,null,null,null,null,null,null,null,null,null,null,null,null,null,null,null,null,null,null,null,null,null,null,null,null,null,null,null,null,null,null,null,null,null,null,null,null,null,null,null,null,null,null,null,null,null,null,""]
["",null,null,null,null,null,null,null,null,null,null,null,null,null,null,null,null,null,null,null,null,null,null,null,null,null,null,null,null,null,null,null,null,null,null,null,null,null,null,null,null,null,null,null,null,null,null,null,null,null,null,null,null,null,null,null,null,""]
["",null,null,null,null,null,null,null,null,null,null,null,null,null,null,null,null,null,null,null,null,null,null,null,null,null,null,null,null,null,null,null,null,null,null,null,null,null,null,null,null,null,null,null,null,null,null,null,null,null,null,null,null,null,null,null,null,""]
["",null,null,null,null,null,null,null,null,null,null,null,null,null,null,null,null,null,null,null,null,null,null,null,null,null,null,null,null,null,null,null,null,null,null,null,null,null,null,null,null,null,null,null,null,null,null,null,null,null,null,null,null,null,null,null,null,""]
["",null,null,null,null,null,null,null,null,null,null,null,null,null,null,null,null,null,null,null,null,null,null,null,null,null,null,null,null,null,null,null,null,null,null,null,null,null,null,null,null,null,null,null,null,null,null,null,null,null,null,null,null,null,null,null,null,""]
["",null,null,null,null,null,null,null,null,null,null,null,null,null,null,null,null,null,null,null,null,null,null,null,null,null,null,null,null,null,null,null,null,null,null,null,null,null,null,null,null,null,null,null,null,null,null,null,null,null,null,null,null,null,null,null,null,""]
["",null,null,null,null,null,null,null,null,null,null,null,null,null,null,null,null,null,null,null,null,null,null,null,null,null,null,null,null,null,null,null,null,null,null,null,null,null,null,null,null,null,null,null,null,null,null,null,null,null,null,null,null,null,null,null,null,""]
["",null,null,null,null,null,null,null,null,null,null,null,null,null,null,null,null,null,null,null,null,null,null,null,null,null,null,null,null,null,null,null,null,null,null,null,null,null,null,null,null,null,null,null,null,null,null,null,null,null,null,null,null,null,null,null,null,""]
["",null,null,null,null,null,null,null,null,null,null,null,null,null,null,null,null,null,null,null,null,null,null,null,null,null,null,null,null,null,null,null,null,null,null,null,null,null,null,null,null,null,null,null,null,null,null,null,null,null,null,null,null,null,null,null,null,""]
["",null,null,null,null,null,null,null,null,null,null,null,null,null,null,null,null,null,null,null,null,null,null,null,null,null,null,null,null,null,null,null,null,null,null,null,null,null,null,null,null,null,null,null,null,null,null,null,null,null,null,null,null,null,null,null,null,""]
["",null,null,null,null,null,null,null,null,null,null,null,null,null,null,null,null,null,null,null,null,null,null,null,null,null,null,null,null,null,null,null,null,null,null,null,null,null,null,null,null,null,null,null,null,null,null,null,null,null,null,null,null,null,null,null,null,""]
["",null,null,null,null,null,null,null,null,null,null,null,null,null,null,null,null,null,null,null,null,null,null,null,null,null,null,null,null,null,null,null,null,null,null,null,null,null,null,null,null,null,null,null,null,null,null,null,null,null,null,null,null,null,null,null,null,""]
["",null,null,null,null,null,null,null,null,null,null,null,null,null,null,null,null,null,null,null,null,null,null,null,null,null,null,null,null,null,null,null,null,null,null,null,null,null,null,null,null,null,null,null,null,null,null,null,null,null,null,null,null,null,null,null,null,""]
["",null,null,null,null,null,null,null,null,null,null,null,null,null,null,null,null,null,null,null,null,null,null,null,null,null,null,null,null,null,null,null,null,null,null,null,null,null,null,null,null,null,null,null,null,null,null,null,null,null,null,null,null,null,null,null,null,""]
["",null,null,null,null,null,null,null,null,null,null,null,null,null,null,null,null,null,null,null,null,null,null,null,null,null,null,null,null,null,null,null,null,null,null,null,null,null,null,null,null,null,null,null,null,null,null,null,null,null,null,null,null,null,null,null,null,""]
["",null,null,null,null,null,null,null,null,null,null,null,null,null,null,null,null,null,null,null,null,null,null,null,null,null,null,null,null,null,null,null,null,null,null,null,null,null,null,null,null,null,null,null,null,null,null,null,null,null,null,null,null,null,null,null,null,""]
["",null,null,null,null,null,null,null,null,null,null,null,null,null,null,null,null,null,null,null,null,null,null,null,null,null,null,null,null,null,null,null,null,null,null,null,null,null,null,null,null,null,null,null,null,null,null,null,null,null,null,null,null,null,null,null,null,""]
["",null,null,null,null,null,null,null,null,null,null,null,null,null,null,null,null,null,null,null,null,null,null,null,null,null,null,null,null,null,null,null,null,null,null,null,null,null,null,null,null,null,null,null,null,null,null,null,null,null,null,null,null,null,null,null,null,""]
["",null,null,null,null,null,null,null,null,null,null,null,null,null,null,null,null,null,null,null,null,null,null,null,null,null,null,null,null,null,null,null,null,null,null,null,null,null,null,null,null,null,null,null,null,null,null,null,null,null,null,null,null,null,null,null,null,""]
["",null,null,null,null,null,null,null,null,null,null,null,null,null,null,null,null,null,null,null,null,null,null,null,null,null,null,null,null,null,null,null,null,null,null,null,null,null,null,null,null,null,null,null,null,null,null,null,null,null,null,null,null,null,null,null,null,""]
["",null,null,null,null,null,null,null,null,null,null,null,null,null,null,null,null,null,null,null,null,null,null,null,null,null,null,null,null,null,null,null,null,null,null,null,null,null,null,null,null,null,null,null,null,null,null,null,null,null,null,null,null,null,null,null,null,""]
["",null,null,null,null,null,null,null,null,null,null,null,null,null,null,null,null,null,null,null,null,null,null,null,null,null,null,null,null,null,null,null,null,null,null,null,null,null,null,null,null,null,null,null,null,null,null,null,null,null,null,null,null,null,null,null,null,""]
["",null,null,null,null,null,null,null,null,null,null,null,null,null,null,null,null,null,null,null,null,null,null,null,null,null,null,null,null,null,null,null,null,null,null,null,null,null,null,null,null,null,null,null,null,null,null,null,null,null,null,null,null,null,null,null,null,""]
["",null,null,null,null,null,null,null,null,null,null,null,null,null,null,null,null,null,null,null,null,null,null,null,null,null,null,null,null,null,null,null,null,null,null,null,null,null,null,null,null,null,null,null,null,null,null,null,null,null,null,null,null,null,null,null,null,""]
["",null,null,null,null,null,null,null,null,null,null,null,null,null,null,null,null,null,null,null,null,null,null,null,null,null,null,null,null,null,null,null,null,null,null,null,null,null,null,null,null,null,null,null,null,null,null,null,null,null,null,null,null,null,null,null,null,""]
["",null,null,null,null,null,null,null,null,null,null,null,null,null,null,null,null,null,null,null,null,null,null,null,null,null,null,null,null,null,null,null,null,null,null,null,null,null,null,null,null,null,null,null,null,null,null,null,null,null,null,null,null,null,null,null,null,""]
["",null,null,null,null,null,null,null,null,null,null,null,null,null,null,null,null,null,null,null,null,null,null,null,null,null,null,null,null,null,null,null,null,null,null,null,null,null,null,null,null,null,null,null,null,null,null,null,null,null,null,null,null,null,null,null,null,""]
["",null,null,null,null,null,null,null,null,null,null,null,null,null,null,null,null,null,null,null,null,null,null,null,null,null,null,null,null,null,null,null,null,null,null,null,null,null,null,null,null,null,null,null,null,null,null,null,null,null,null,null,null,null,null,null,null,""]
["",null,null,null,null,null,null,null,null,null,null,null,null,null,null,null,null,null,null,null,null,null,null,null,null,null,null,null,null,null,null,null,null,null,null,null,null,null,null,null,null,null,null,null,null,null,null,null,null,null,null,null,null,null,null,null,null,""]
["",null,null,null,null,null,null,null,null,null,null,null,null,null,null,null,null,null,null,null,null,null,null,null,null,null,null,null,null,null,null,null,null,null,null,null,null,null,null,null,null,null,null,null,null,null,null,null,null,null,null,null,null,null,null,null,null,""]
["",null,null,null,null,null,null,null,null,null,null,null,null,null,null,null,null,null,null,null,null,null,null,null,null,null,null,null,null,null,null,null,null,null,null,null,null,null,null,null,null,null,null,null,null,null,null,null,null,null,null,null,null,null,null,null,null,""]
["",null,null,null,null,null,null,null,null,null,null,null,null,null,null,null,null,null,null,null,null,null,null,null,null,null,null,null,null,null,null,null,null,null,null,null,null,null,null,null,null,null,null,null,null,null,null,null,null,null,null,null,null,null,null,null,null,""]
["",null,null,null,null,null,null,null,null,null,null,null,null,null,null,null,null,null,null,null,null,null,null,null,null,null,null,null,null,null,null,null,null,null,null,null,null,null,null,null,null,null,null,null,null,null,null,null,null,null,null,null,null,null,null,null,null,""]
["",null,null,null,null,null,null,null,null,null,null,null,null,null,null,null,null,null,null,null,null,null,null,null,null,null,null,null,null,null,null,null,null,null,null,null,null,null,null,null,null,null,null,null,null,null,null,null,null,null,null,null,null,null,null,null,null,""]
["",null,null,null,null,null,null,null,null,null,null,null,null,null,null,null,null,null,null,null,null,null,null,null,null,null,null,null,null,null,null,null,null,null,null,null,null,null,null,null,null,null,null,null,null,null,null,null,null,null,null,null,null,null,null,null,null,""]
[{"$f":"IF(B1859>\"\",YEAR(D1859),\"\")","v":""},null,null,null,null,null,null,null,null,null,null,null,null,null,null,null,null,null,null,null,null,null,null,null,null,null,null,null,null,null,null,null,null,null,null,null,null,null,null,null,null,null,null,null,null,null,null,null,null,null,null,null,null,null,null,null,null,{"$f":"IF(B1859>\"\",B1859&TEXT(D1859,\"aaa-yy\"),\"\")","v":""}]
["",null,null,null,null,null,null,null,null,null,null,null,null,null,null,null,null,null,null,null,null,null,null,null,null,null,null,null,null,null,null,null,null,null,null,null,null,null,null,null,null,null,null,null,null,null,null,null,null,null,null,null,null,null,null,null,null,""]
["",null,null,null,null,null,null,null,null,null,null,null,null,null,null,null,null,null,null,null,null,null,null,null,null,null,null,null,null,null,null,null,null,null,null,null,null,null,null,null,null,null,null,null,null,null,null,null,null,null,null,null,null,null,null,null,null,""]
[{"$f":"IF(B1923>\"\",YEAR(D1923),\"\")","v":""},null,null,null,null,null,null,null,null,null,null,null,null,null,null,null,null,null,null,null,null,null,null,null,null,null,null,null,null,null,null,null,null,null,null,null,null,null,null,null,null,null,null,null,null,null,null,null,null,null,null,null,null,null,null,null,null,{"$f":"IF(B1923>\"\",B1923&TEXT(D1923,\"aaa-yy\"),\"\")","v":""}]
["",null,null,null,null,null,null,null,null,null,null,null,null,null,null,null,null,null,null,null,null,null,null,null,null,null,null,null,null,null,null,null,null,null,null,null,null,null,null,null,null,null,null,null,null,null,null,null,null,null,null,null,null,null,null,null,null,""]
["",null,null,null,null,null,null,null,null,null,null,null,null,null,null,null,null,null,null,null,null,null,null,null,null,null,null,null,null,null,null,null,null,null,null,null,null,null,null,null,null,null,null,null,null,null,null,null,null,null,null,null,null,null,null,null,null,""]
["",null,null,null,null,null,null,null,null,null,null,null,null,null,null,null,null,null,null,null,null,null,null,null,null,null,null,null,null,null,null,null,null,null,null,null,null,null,null,null,null,null,null,null,null,null,null,null,null,null,null,null,null,null,null,null,null,""]
["",null,null,null,null,null,null,null,null,null,null,null,null,null,null,null,null,null,null,null,null,null,null,null,null,null,null,null,null,null,null,null,null,null,null,null,null,null,null,null,null,null,null,null,null,null,null,null,null,null,null,null,null,null,null,null,null,""]
["",null,null,null,null,null,null,null,null,null,null,null,null,null,null,null,null,null,null,null,null,null,null,null,null,null,null,null,null,null,null,null,null,null,null,null,null,null,null,null,null,null,null,null,null,null,null,null,null,null,null,null,null,null,null,null,null,""]
["",null,null,null,null,null,null,null,null,null,null,null,null,null,null,null,null,null,null,null,null,null,null,null,null,null,null,null,null,null,null,null,null,null,null,null,null,null,null,null,null,null,null,null,null,null,null,null,null,null,null,null,null,null,null,null,null,""]
["",null,null,null,null,null,null,null,null,null,null,null,null,null,null,null,null,null,null,null,null,null,null,null,null,null,null,null,null,null,null,null,null,null,null,null,null,null,null,null,null,null,null,null,null,null,null,null,null,null,null,null,null,null,null,null,null,""]
["",null,null,null,null,null,null,null,null,null,null,null,null,null,null,null,null,null,null,null,null,null,null,null,null,null,null,null,null,null,null,null,null,null,null,null,null,null,null,null,null,null,null,null,null,null,null,null,null,null,null,null,null,null,null,null,null,""]
["",null,null,null,null,null,null,null,null,null,null,null,null,null,null,null,null,null,null,null,null,null,null,null,null,null,null,null,null,null,null,null,null,null,null,null,null,null,null,null,null,null,null,null,null,null,null,null,null,null,null,null,null,null,null,null,null,""]
["",null,null,null,null,null,null,null,null,null,null,null,null,null,null,null,null,null,null,null,null,null,null,null,null,null,null,null,null,null,null,null,null,null,null,null,null,null,null,null,null,null,null,null,null,null,null,null,null,null,null,null,null,null,null,null,null,""]
["",null,null,null,null,null,null,null,null,null,null,null,null,null,null,null,null,null,null,null,null,null,null,null,null,null,null,null,null,null,null,null,null,null,null,null,null,null,null,null,null,null,null,null,null,null,null,null,null,null,null,null,null,null,null,null,null,""]
["",null,null,null,null,null,null,null,null,null,null,null,null,null,null,null,null,null,null,null,null,null,null,null,null,null,null,null,null,null,null,null,null,null,null,null,null,null,null,null,null,null,null,null,null,null,null,null,null,null,null,null,null,null,null,null,null,""]
["",null,null,null,null,null,null,null,null,null,null,null,null,null,null,null,null,null,null,null,null,null,null,null,null,null,null,null,null,null,null,null,null,null,null,null,null,null,null,null,null,null,null,null,null,null,null,null,null,null,null,null,null,null,null,null,null,""]
["",null,null,null,null,null,null,null,null,null,null,null,null,null,null,null,null,null,null,null,null,null,null,null,null,null,null,null,null,null,null,null,null,null,null,null,null,null,null,null,null,null,null,null,null,null,null,null,null,null,null,null,null,null,null,null,null,""]
["",null,null,null,null,null,null,null,null,null,null,null,null,null,null,null,null,null,null,null,null,null,null,null,null,null,null,null,null,null,null,null,null,null,null,null,null,null,null,null,null,null,null,null,null,null,null,null,null,null,null,null,null,null,null,null,null,""]
["",null,null,null,null,null,null,null,null,null,null,null,null,null,null,null,null,null,null,null,null,null,null,null,null,null,null,null,null,null,null,null,null,null,null,null,null,null,null,null,null,null,null,null,null,null,null,null,null,null,null,null,null,null,null,null,null,""]
["",null,null,null,null,null,null,null,null,null,null,null,null,null,null,null,null,null,null,null,null,null,null,null,null,null,null,null,null,null,null,null,null,null,null,null,null,null,null,null,null,null,null,null,null,null,null,null,null,null,null,null,null,null,null,null,null,""]
["",null,null,null,null,null,null,null,null,null,null,null,null,null,null,null,null,null,null,null,null,null,null,null,null,null,null,null,null,null,null,null,null,null,null,null,null,null,null,null,null,null,null,null,null,null,null,null,null,null,null,null,null,null,null,null,null,""]
["",null,null,null,null,null,null,null,null,null,null,null,null,null,null,null,null,null,null,null,null,null,null,null,null,null,null,null,null,null,null,null,null,null,null,null,null,null,null,null,null,null,null,null,null,null,null,null,null,null,null,null,null,null,null,null,null,""]
["",null,null,null,null,null,null,null,null,null,null,null,null,null,null,null,null,null,null,null,null,null,null,null,null,null,null,null,null,null,null,null,null,null,null,null,null,null,null,null,null,null,null,null,null,null,null,null,null,null,null,null,null,null,null,null,null,""]
["",null,null,null,null,null,null,null,null,null,null,null,null,null,null,null,null,null,null,null,null,null,null,null,null,null,null,null,null,null,null,null,null,null,null,null,null,null,null,null,null,null,null,null,null,null,null,null,null,null,null,null,null,null,null,null,null,""]
["",null,null,null,null,null,null,null,null,null,null,null,null,null,null,null,null,null,null,null,null,null,null,null,null,null,null,null,null,null,null,null,null,null,null,null,null,null,null,null,null,null,null,null,null,null,null,null,null,null,null,null,null,null,null,null,null,""]
["",null,null,null,null,null,null,null,null,null,null,null,null,null,null,null,null,null,null,null,null,null,null,null,null,null,null,null,null,null,null,null,null,null,null,null,null,null,null,null,null,null,null,null,null,null,null,null,null,null,null,null,null,null,null,null,null,""]
["",null,null,null,null,null,null,null,null,null,null,null,null,null,null,null,null,null,null,null,null,null,null,null,null,null,null,null,null,null,null,null,null,null,null,null,null,null,null,null,null,null,null,null,null,null,null,null,null,null,null,null,null,null,null,null,null,""]
["",null,null,null,null,null,null,null,null,null,null,null,null,null,null,null,null,null,null,null,null,null,null,null,null,null,null,null,null,null,null,null,null,null,null,null,null,null,null,null,null,null,null,null,null,null,null,null,null,null,null,null,null,null,null,null,null,""]
["",null,null,null,null,null,null,null,null,null,null,null,null,null,null,null,null,null,null,null,null,null,null,null,null,null,null,null,null,null,null,null,null,null,null,null,null,null,null,null,null,null,null,null,null,null,null,null,null,null,null,null,null,null,null,null,null,""]
[{"$f":"IF(B2435>\"\",YEAR(D2435),\"\")","v":""},null,null,null,null,null,null,null,null,null,null,null,null,null,null,null,null,null,null,null,null,null,null,null,null,null,null,null,null,null,null,null,null,null,null,null,null,null,null,null,null,null,null,null,null,null,null,null,null,null,null,null,null,null,null,null,null,{"$f":"IF(B2435>\"\",B2435&TEXT(D2435,\"aaa-yy\"),\"\")","v":""}]
["",null,null,null,null,null,null,null,null,null,null,null,null,null,null,null,null,null,null,null,null,null,null,null,null,null,null,null,null,null,null,null,null,null,null,null,null,null,null,null,null,null,null,null,null,null,null,null,null,null,null,null,null,null,null,null,null,""]
["",null,null,null,null,null,null,null,null,null,null,null,null,null,null,null,null,null,null,null,null,null,null,null,null,null,null,null,null,null,null,null,null,null,null,null,null,null,null,null,null,null,null,null,null,null,null,null,null,null,null,null,null,null,null,null,null,""]
["",null,null,null,null,null,null,null,null,null,null,null,null,null,null,null,null,null,null,null,null,null,null,null,null,null,null,null,null,null,null,null,null,null,null,null,null,null,null,null,null,null,null,null,null,null,null,null,null,null,null,null,null,null,null,null,null,""]
["",null,null,null,null,null,null,null,null,null,null,null,null,null,null,null,null,null,null,null,null,null,null,null,null,null,null,null,null,null,null,null,null,null,null,null,null,null,null,null,null,null,null,null,null,null,null,null,null,null,null,null,null,null,null,null,null,""]
["",null,null,null,null,null,null,null,null,null,null,null,null,null,null,null,null,null,null,null,null,null,null,null,null,null,null,null,null,null,null,null,null,null,null,null,null,null,null,null,null,null,null,null,null,null,null,null,null,null,null,null,null,null,null,null,null,""]
["",null,null,null,null,null,null,null,null,null,null,null,null,null,null,null,null,null,null,null,null,null,null,null,null,null,null,null,null,null,null,null,null,null,null,null,null,null,null,null,null,null,null,null,null,null,null,null,null,null,null,null,null,null,null,null,null,""]
["",null,null,null,null,null,null,null,null,null,null,null,null,null,null,null,null,null,null,null,null,null,null,null,null,null,null,null,null,null,null,null,null,null,null,null,null,null,null,null,null,null,null,null,null,null,null,null,null,null,null,null,null,null,null,null,null,""]
["",null,null,null,null,null,null,null,null,null,null,null,null,null,null,null,null,null,null,null,null,null,null,null,null,null,null,null,null,null,null,null,null,null,null,null,null,null,null,null,null,null,null,null,null,null,null,null,null,null,null,null,null,null,null,null,null,""]
["",null,null,null,null,null,null,null,null,null,null,null,null,null,null,null,null,null,null,null,null,null,null,null,null,null,null,null,null,null,null,null,null,null,null,null,null,null,null,null,null,null,null,null,null,null,null,null,null,null,null,null,null,null,null,null,null,""]
["",null,null,null,null,null,null,null,null,null,null,null,null,null,null,null,null,null,null,null,null,null,null,null,null,null,null,null,null,null,null,null,null,null,null,null,null,null,null,null,null,null,null,null,null,null,null,null,null,null,null,null,null,null,null,null,null,""]
["",null,null,null,null,null,null,null,null,null,null,null,null,null,null,null,null,null,null,null,null,null,null,null,null,null,null,null,null,null,null,null,null,null,null,null,null,null,null,null,null,null,null,null,null,null,null,null,null,null,null,null,null,null,null,null,null,""]
["",null,null,null,null,null,null,null,null,null,null,null,null,null,null,null,null,null,null,null,null,null,null,null,null,null,null,null,null,null,null,null,null,null,null,null,null,null,null,null,null,null,null,null,null,null,null,null,null,null,null,null,null,null,null,null,null,""]
["",null,null,null,null,null,null,null,null,null,null,null,null,null,null,null,null,null,null,null,null,null,null,null,null,null,null,null,null,null,null,null,null,null,null,null,null,null,null,null,null,null,null,null,null,null,null,null,null,null,null,null,null,null,null,null,null,""]
["",null,null,null,null,null,null,null,null,null,null,null,null,null,null,null,null,null,null,null,null,null,null,null,null,null,null,null,null,null,null,null,null,null,null,null,null,null,null,null,null,null,null,null,null,null,null,null,null,null,null,null,null,null,null,null,null,""]
["",null,null,null,null,null,null,null,null,null,null,null,null,null,null,null,null,null,null,null,null,null,null,null,null,null,null,null,null,null,null,null,null,null,null,null,null,null,null,null,null,null,null,null,null,null,null,null,null,null,null,null,null,null,null,null,null,""]
["",null,null,null,null,null,null,null,null,null,null,null,null,null,null,null,null,null,null,null,null,null,null,null,null,null,null,null,null,null,null,null,null,null,null,null,null,null,null,null,null,null,null,null,null,null,null,null,null,null,null,null,null,null,null,null,null,""]
["",null,null,null,null,null,null,null,null,null,null,null,null,null,null,null,null,null,null,null,null,null,null,null,null,null,null,null,null,null,null,null,null,null,null,null,null,null,null,null,null,null,null,null,null,null,null,null,null,null,null,null,null,null,null,null,null,""]
["",null,null,null,null,null,null,null,null,null,null,null,null,null,null,null,null,null,null,null,null,null,null,null,null,null,null,null,null,null,null,null,null,null,null,null,null,null,null,null,null,null,null,null,null,null,null,null,null,null,null,null,null,null,null,null,null,""]
["",null,null,null,null,null,null,null,null,null,null,null,null,null,null,null,null,null,null,null,null,null,null,null,null,null,null,null,null,null,null,null,null,null,null,null,null,null,null,null,null,null,null,null,null,null,null,null,null,null,null,null,null,null,null,null,null,""]
["",null,null,null,null,null,null,null,null,null,null,null,null,null,null,null,null,null,null,null,null,null,null,null,null,null,null,null,null,null,null,null,null,null,null,null,null,null,null,null,null,null,null,null,null,null,null,null,null,null,null,null,null,null,null,null,null,""]
["",null,null,null,null,null,null,null,null,null,null,null,null,null,null,null,null,null,null,null,null,null,null,null,null,null,null,null,null,null,null,null,null,null,null,null,null,null,null,null,null,null,null,null,null,null,null,null,null,null,null,null,null,null,null,null,null,""]
["",null,null,null,null,null,null,null,null,null,null,null,null,null,null,null,null,null,null,null,null,null,null,null,null,null,null,null,null,null,null,null,null,null,null,null,null,null,null,null,null,null,null,null,null,null,null,null,null,null,null,null,null,null,null,null,null,""]
["",null,null,null,null,null,null,null,null,null,null,null,null,null,null,null,null,null,null,null,null,null,null,null,null,null,null,null,null,null,null,null,null,null,null,null,null,null,null,null,null,null,null,null,null,null,null,null,null,null,null,null,null,null,null,null,null,""]
["",null,null,null,null,null,null,null,null,null,null,null,null,null,null,null,null,null,null,null,null,null,null,null,null,null,null,null,null,null,null,null,null,null,null,null,null,null,null,null,null,null,null,null,null,null,null,null,null,null,null,null,null,null,null,null,null,""]
["",null,null,null,null,null,null,null,null,null,null,null,null,null,null,null,null,null,null,null,null,null,null,null,null,null,null,null,null,null,null,null,null,null,null,null,null,null,null,null,null,null,null,null,null,null,null,null,null,null,null,null,null,null,null,null,null,""]
["",null,null,null,null,null,null,null,null,null,null,null,null,null,null,null,null,null,null,null,null,null,null,null,null,null,null,null,null,null,null,null,null,null,null,null,null,null,null,null,null,null,null,null,null,null,null,null,null,null,null,null,null,null,null,null,null,""]
["",null,null,null,null,null,null,null,null,null,null,null,null,null,null,null,null,null,null,null,null,null,null,null,null,null,null,null,null,null,null,null,null,null,null,null,null,null,null,null,null,null,null,null,null,null,null,null,null,null,null,null,null,null,null,null,null,""]
["",null,null,null,null,null,null,null,null,null,null,null,null,null,null,null,null,null,null,null,null,null,null,null,null,null,null,null,null,null,null,null,null,null,null,null,null,null,null,null,null,null,null,null,null,null,null,null,null,null,null,null,null,null,null,null,null,""]
["",null,null,null,null,null,null,null,null,null,null,null,null,null,null,null,null,null,null,null,null,null,null,null,null,null,null,null,null,null,null,null,null,null,null,null,null,null,null,null,null,null,null,null,null,null,null,null,null,null,null,null,null,null,null,null,null,""]
["",null,null,null,null,null,null,null,null,null,null,null,null,null,null,null,null,null,null,null,null,null,null,null,null,null,null,null,null,null,null,null,null,null,null,null,null,null,null,null,null,null,null,null,null,null,null,null,null,null,null,null,null,null,null,null,null,""]
["",null,null,null,null,null,null,null,null,null,null,null,null,null,null,null,null,null,null,null,null,null,null,null,null,null,null,null,null,null,null,null,null,null,null,null,null,null,null,null,null,null,null,null,null,null,null,null,null,null,null,null,null,null,null,null,null,""]
["",null,null,null,null,null,null,null,null,null,null,null,null,null,null,null,null,null,null,null,null,null,null,null,null,null,null,null,null,null,null,null,null,null,null,null,null,null,null,null,null,null,null,null,null,null,null,null,null,null,null,null,null,null,null,null,null,""]
["",null,null,null,null,null,null,null,null,null,null,null,null,null,null,null,null,null,null,null,null,null,null,null,null,null,null,null,null,null,null,null,null,null,null,null,null,null,null,null,null,null,null,null,null,null,null,null,null,null,null,null,null,null,null,null,null,""]
["",null,null,null,null,null,null,null,null,null,null,null,null,null,null,null,null,null,null,null,null,null,null,null,null,null,null,null,null,null,null,null,null,null,null,null,null,null,null,null,null,null,null,null,null,null,null,null,null,null,null,null,null,null,null,null,null,""]
["",null,null,null,null,null,null,null,null,null,null,null,null,null,null,null,null,null,null,null,null,null,null,null,null,null,null,null,null,null,null,null,null,null,null,null,null,null,null,null,null,null,null,null,null,null,null,null,null,null,null,null,null,null,null,null,null,""]
["",null,null,null,null,null,null,null,null,null,null,null,null,null,null,null,null,null,null,null,null,null,null,null,null,null,null,null,null,null,null,null,null,null,null,null,null,null,null,null,null,null,null,null,null,null,null,null,null,null,null,null,null,null,null,null,null,""]
["",null,null,null,null,null,null,null,null,null,null,null,null,null,null,null,null,null,null,null,null,null,null,null,null,null,null,null,null,null,null,null,null,null,null,null,null,null,null,null,null,null,null,null,null,null,null,null,null,null,null,null,null,null,null,null,null,""]
["",null,null,null,null,null,null,null,null,null,null,null,null,null,null,null,null,null,null,null,null,null,null,null,null,null,null,null,null,null,null,null,null,null,null,null,null,null,null,null,null,null,null,null,null,null,null,null,null,null,null,null,null,null,null,null,null,""]
["",null,null,null,null,null,null,null,null,null,null,null,null,null,null,null,null,null,null,null,null,null,null,null,null,null,null,null,null,null,null,null,null,null,null,null,null,null,null,null,null,null,null,null,null,null,null,null,null,null,null,null,null,null,null,null,null,""]
["",null,null,null,null,null,null,null,null,null,null,null,null,null,null,null,null,null,null,null,null,null,null,null,null,null,null,null,null,null,null,null,null,null,null,null,null,null,null,null,null,null,null,null,null,null,null,null,null,null,null,null,null,null,null,null,null,""]
["",null,null,null,null,null,null,null,null,null,null,null,null,null,null,null,null,null,null,null,null,null,null,null,null,null,null,null,null,null,null,null,null,null,null,null,null,null,null,null,null,null,null,null,null,null,null,null,null,null,null,null,null,null,null,null,null,""]
["",null,null,null,null,null,null,null,null,null,null,null,null,null,null,null,null,null,null,null,null,null,null,null,null,null,null,null,null,null,null,null,null,null,null,null,null,null,null,null,null,null,null,null,null,null,null,null,null,null,null,null,null,null,null,null,null,""]
[{"$f":"IF(B3267>\"\",YEAR(D3267),\"\")","v":""},null,null,null,null,null,null,null,null,null,null,null,null,null,null,null,null,null,null,null,null,null,null,null,null,null,null,null,null,null,null,null,null,null,null,null,null,null,null,null,null,null,null,null,null,null,null,null,null,null,null,null,null,null,null,null,null,{"$f":"IF(B3267>\"\",B3267&TEXT(D3267,\"aaa-yy\"),\"\")","v":""}]
["",null,null,null,null,null,null,null,null,null,null,null,null,null,null,null,null,null,null,null,null,null,null,null,null,null,null,null,null,null,null,null,null,null,null,null,null,null,null,null,null,null,null,null,null,null,null,null,null,null,null,null,null,null,null,null,null,""]
["",null,null,null,null,null,null,null,null,null,null,null,null,null,null,null,null,null,null,null,null,null,null,null,null,null,null,null,null,null,null,null,null,null,null,null,null,null,null,null,null,null,null,null,null,null,null,null,null,null,null,null,null,null,null,null,null,""]
[{"$f":"IF(B3331>\"\",YEAR(D3331),\"\")","v":""},null,null,null,null,null,null,null,null,null,null,null,null,null,null,null,null,null,null,null,null,null,null,null,null,null,null,null,null,null,null,null,null,null,null,null,null,null,null,null,null,null,null,null,null,null,null,null,null,null,null,null,null,null,null,null,null,{"$f":"IF(B3331>\"\",B3331&TEXT(D3331,\"aaa-yy\"),\"\")","v":""}]
["",null,null,null,null,null,null,null,null,null,null,null,null,null,null,null,null,null,null,null,null,null,null,null,null,null,null,null,null,null,null,null,null,null,null,null,null,null,null,null,null,null,null,null,null,null,null,null,null,null,null,null,null,null,null,null,null,""]
["",null,null,null,null,null,null,null,null,null,null,null,null,null,null,null,null,null,null,null,null,null,null,null,null,null,null,null,null,null,null,null,null,null,null,null,null,null,null,null,null,null,null,null,null,null,null,null,null,null,null,null,null,null,null,null,null,""]
[{"$f":"IF(B3395>\"\",YEAR(D3395),\"\")","v":""},null,null,null,null,null,null,null,null,null,null,null,null,null,null,null,null,null,null,null,null,null,null,null,null,null,null,null,null,null,null,null,null,null,null,null,null,null,null,null,null,null,null,null,null,null,null,null,null,null,null,null,null,null,null,null,null,{"$f":"IF(B3395>\"\",B3395&TEXT(D3395,\"aaa-yy\"),\"\")","v":""}]
["",null,null,null,null,null,null,null,null,null,null,null,null,null,null,null,null,null,null,null,null,null,null,null,null,null,null,null,null,null,null,null,null,null,null,null,null,null,null,null,null,null,null,null,null,null,null,null,null,null,null,null,null,null,null,null,null,""]
["",null,null,null,null,null,null,null,null,null,null,null,null,null,null,null,null,null,null,null,null,null,null,null,null,null,null,null,null,null,null,null,null,null,null,null,null,null,null,null,null,null,null,null,null,null,null,null,null,null,null,null,null,null,null,null,null,""]
["",null,null,null,null,null,null,null,null,null,null,null,null,null,null,null,null,null,null,null,null,null,null,null,null,null,null,null,null,null,null,null,null,null,null,null,null,null,null,null,null,null,null,null,null,null,null,null,null,null,null,null,null,null,null,null,null,""]
["",null,null,null,null,null,null,null,null,null,null,null,null,null,null,null,null,null,null,null,null,null,null,null,null,null,null,null,null,null,null,null,null,null,null,null,null,null,null,null,null,null,null,null,null,null,null,null,null,null,null,null,null,null,null,null,null,""]
["",null,null,null,null,null,null,null,null,null,null,null,null,null,null,null,null,null,null,null,null,null,null,null,null,null,null,null,null,null,null,null,null,null,null,null,null,null,null,null,null,null,null,null,null,null,null,null,null,null,null,null,null,null,null,null,null,""]
["",null,null,null,null,null,null,null,null,null,null,null,null,null,null,null,null,null,null,null,null,null,null,null,null,null,null,null,null,null,null,null,null,null,null,null,null,null,null,null,null,null,null,null,null,null,null,null,null,null,null,null,null,null,null,null,null,""]
["",null,null,null,null,null,null,null,null,null,null,null,null,null,null,null,null,null,null,null,null,null,null,null,null,null,null,null,null,null,null,null,null,null,null,null,null,null,null,null,null,null,null,null,null,null,null,null,null,null,null,null,null,null,null,null,null,""]
["",null,null,null,null,null,null,null,null,null,null,null,null,null,null,null,null,null,null,null,null,null,null,null,null,null,null,null,null,null,null,null,null,null,null,null,null,null,null,null,null,null,null,null,null,null,null,null,null,null,null,null,null,null,null,null,null,""]
["",null,null,null,null,null,null,null,null,null,null,null,null,null,null,null,null,null,null,null,null,null,null,null,null,null,null,null,null,null,null,null,null,null,null,null,null,null,null,null,null,null,null,null,null,null,null,null,null,null,null,null,null,null,null,null,null,""]
["",null,null,null,null,null,null,null,null,null,null,null,null,null,null,null,null,null,null,null,null,null,null,null,null,null,null,null,null,null,null,null,null,null,null,null,null,null,null,null,null,null,null,null,null,null,null,null,null,null,null,null,null,null,null,null,null,""]
["",null,null,null,null,null,null,null,null,null,null,null,null,null,null,null,null,null,null,null,null,null,null,null,null,null,null,null,null,null,null,null,null,null,null,null,null,null,null,null,null,null,null,null,null,null,null,null,null,null,null,null,null,null,null,null,null,""]
["",null,null,null,null,null,null,null,null,null,null,null,null,null,null,null,null,null,null,null,null,null,null,null,null,null,null,null,null,null,null,null,null,null,null,null,null,null,null,null,null,null,null,null,null,null,null,null,null,null,null,null,null,null,null,null,null,""]
["",null,null,null,null,null,null,null,null,null,null,null,null,null,null,null,null,null,null,null,null,null,null,null,null,null,null,null,null,null,null,null,null,null,null,null,null,null,null,null,null,null,null,null,null,null,null,null,null,null,null,null,null,null,null,null,null,""]
["",null,null,null,null,null,null,null,null,null,null,null,null,null,null,null,null,null,null,null,null,null,null,null,null,null,null,null,null,null,null,null,null,null,null,null,null,null,null,null,null,null,null,null,null,null,null,null,null,null,null,null,null,null,null,null,null,""]
["",null,null,null,null,null,null,null,null,null,null,null,null,null,null,null,null,null,null,null,null,null,null,null,null,null,null,null,null,null,null,null,null,null,null,null,null,null,null,null,null,null,null,null,null,null,null,null,null,null,null,null,null,null,null,null,null,""]
["",null,null,null,null,null,null,null,null,null,null,null,null,null,null,null,null,null,null,null,null,null,null,null,null,null,null,null,null,null,null,null,null,null,null,null,null,null,null,null,null,null,null,null,null,null,null,null,null,null,null,null,null,null,null,null,null,""]
["",null,null,null,null,null,null,null,null,null,null,null,null,null,null,null,null,null,null,null,null,null,null,null,null,null,null,null,null,null,null,null,null,null,null,null,null,null,null,null,null,null,null,null,null,null,null,null,null,null,null,null,null,null,null,null,null,""]
["",null,null,null,null,null,null,null,null,null,null,null,null,null,null,null,null,null,null,null,null,null,null,null,null,null,null,null,null,null,null,null,null,null,null,null,null,null,null,null,null,null,null,null,null,null,null,null,null,null,null,null,null,null,null,null,null,""]
["",null,null,null,null,null,null,null,null,null,null,null,null,null,null,null,null,null,null,null,null,null,null,null,null,null,null,null,null,null,null,null,null,null,null,null,null,null,null,null,null,null,null,null,null,null,null,null,null,null,null,null,null,null,null,null,null,""]
["",null,null,null,null,null,null,null,null,null,null,null,null,null,null,null,null,null,null,null,null,null,null,null,null,null,null,null,null,null,null,null,null,null,null,null,null,null,null,null,null,null,null,null,null,null,null,null,null,null,null,null,null,null,null,null,null,""]
["",null,null,null,null,null,null,null,null,null,null,null,null,null,null,null,null,null,null,null,null,null,null,null,null,null,null,null,null,null,null,null,null,null,null,null,null,null,null,null,null,null,null,null,null,null,null,null,null,null,null,null,null,null,null,null,null,""]
["",null,null,null,null,null,null,null,null,null,null,null,null,null,null,null,null,null,null,null,null,null,null,null,null,null,null,null,null,null,null,null,null,null,null,null,null,null,null,null,null,null,null,null,null,null,null,null,null,null,null,null,null,null,null,null,null,""]
["",null,null,null,null,null,null,null,null,null,null,null,null,null,null,null,null,null,null,null,null,null,null,null,null,null,null,null,null,null,null,null,null,null,null,null,null,null,null,null,null,null,null,null,null,null,null,null,null,null,null,null,null,null,null,null,null,""]
["",null,null,null,null,null,null,null,null,null,null,null,null,null,null,null,null,null,null,null,null,null,null,null,null,null,null,null,null,null,null,null,null,null,null,null,null,null,null,null,null,null,null,null,null,null,null,null,null,null,null,null,null,null,null,null,null,""]
["",null,null,null,null,null,null,null,null,null,null,null,null,null,null,null,null,null,null,null,null,null,null,null,null,null,null,null,null,null,null,null,null,null,null,null,null,null,null,null,null,null,null,null,null,null,null,null,null,null,null,null,null,null,null,null,null,""]
["",null,null,null,null,null,null,null,null,null,null,null,null,null,null,null,null,null,null,null,null,null,null,null,null,null,null,null,null,null,null,null,null,null,null,null,null,null,null,null,null,null,null,null,null,null,null,null,null,null,null,null,null,null,null,null,null,""]
[{"$f":"IF(B3907>\"\",YEAR(D3907),\"\")","v":""},null,null,null,null,null,null,null,null,null,null,null,null,null,null,null,null,null,null,null,null,null,null,null,null,null,null,null,null,null,null,null,null,null,null,null,null,null,null,null,null,null,null,null,null,null,null,null,null,null,null,null,null,null,null,null,null,{"$f":"IF(B3907>\"\",B3907&TEXT(D3907,\"aaa-yy\"),\"\")","v":""}]
["",null,null,null,null,null,null,null,null,null,null,null,null,null,null,null,null,null,null,null,null,null,null,null,null,null,null,null,null,null,null,null,null,null,null,null,null,null,null,null,null,null,null,null,null,null,null,null,null,null,null,null,null,null,null,null,null,""]
["",null,null,null,null,null,null,null,null,null,null,null,null,null,null,null,null,null,null,null,null,null,null,null,null,null,null,null,null,null,null,null,null,null,null,null,null,null,null,null,null,null,null,null,null,null,null,null,null,null,null,null,null,null,null,null,null,""]
[{"$f":"IF(B3971>\"\",YEAR(D3971),\"\")","v":""},null,null,null,null,null,null,null,null,null,null,null,null,null,null,null,null,null,null,null,null,null,null,null,null,null,null,null,null,null,null,null,null,null,null,null,null,null,null,null,null,null,null,null,null,null,null,null,null,null,null,null,null,null,null,null,null,{"$f":"IF(B3971>\"\",B3971&TEXT(D3971,\"aaa-yy\"),\"\")","v":""}]
["",null,null,null,null,null,null,null,null,null,null,null,null,null,null,null,null,null,null,null,null,null,null,null,null,null,null,null,null,null,null,null,null,null,null,null,null,null,null,null,null,null,null,null,null,null,null,null,null,null,null,null,null,null,null,null,null,""]
["",null,null,null,null,null,null,null,null,null,null,null,null,null,null,null,null,null,null,null,null,null,null,null,null,null,null,null,null,null,null,null,null,null,null,null,null,null,null,null,null,null,null,null,null,null,null,null,null,null,null,null,null,null,null,null,null,""]
[{"$f":"IF(B4035>\"\",YEAR(D4035),\"\")","v":""},null,null,null,null,null,null,null,null,null,null,null,null,null,null,null,null,null,null,null,null,null,null,null,null,null,null,null,null,null,null,null,null,null,null,null,null,null,null,null,null,null,null,null,null,null,null,null,null,null,null,null,null,null,null,null,null,{"$f":"IF(B4035>\"\",B4035&TEXT(D4035,\"aaa-yy\"),\"\")","v":""}]
["",null,null,null,null,null,null,null,null,null,null,null,null,null,null,null,null,null,null,null,null,null,null,null,null,null,null,null,null,null,null,null,null,null,null,null,null,null,null,null,null,null,null,null,null,null,null,null,null,null,null,null,null,null,null,null,null,""]
["",null,null,null,null,null,null,null,null,null,null,null,null,null,null,null,null,null,null,null,null,null,null,null,null,null,null,null,null,null,null,null,null,null,null,null,null,null,null,null,null,null,null,null,null,null,null,null,null,null,null,null,null,null,null,null,null,""]
["",null,null,null,null,null,null,null,null,null,null,null,null,null,null,null,null,null,null,null,null,null,null,null,null,null,null,null,null,null,null,null,null,null,null,null,null,null,null,null,null,null,null,null,null,null,null,null,null,null,null,null,null,null,null,null,null,""]
["",null,null,null,null,null,null,null,null,null,null,null,null,null,null,null,null,null,null,null,null,null,null,null,null,null,null,null,null,null,null,null,null,null,null,null,null,null,null,null,null,null,null,null,null,null,null,null,null,null,null,null,null,null,null,null,null,""]
["",null,null,null,null,null,null,null,null,null,null,null,null,null,null,null,null,null,null,null,null,null,null,null,null,null,null,null,null,null,null,null,null,null,null,null,null,null,null,null,null,null,null,null,null,null,null,null,null,null,null,null,null,null,null,null,null,""]
["",null,null,null,null,null,null,null,null,null,null,null,null,null,null,null,null,null,null,null,null,null,null,null,null,null,null,null,null,null,null,null,null,null,null,null,null,null,null,null,null,null,null,null,null,null,null,null,null,null,null,null,null,null,null,null,null,""]
["",null,null,null,null,null,null,null,null,null,null,null,null,null,null,null,null,null,null,null,null,null,null,null,null,null,null,null,null,null,null,null,null,null,null,null,null,null,null,null,null,null,null,null,null,null,null,null,null,null,null,null,null,null,null,null,null,""]
["",null,null,null,null,null,null,null,null,null,null,null,null,null,null,null,null,null,null,null,null,null,null,null,null,null,null,null,null,null,null,null,null,null,null,null,null,null,null,null,null,null,null,null,null,null,null,null,null,null,null,null,null,null,null,null,null,""]
["",null,null,null,null,null,null,null,null,null,null,null,null,null,null,null,null,null,null,null,null,null,null,null,null,null,null,null,null,null,null,null,null,null,null,null,null,null,null,null,null,null,null,null,null,null,null,null,null,null,null,null,null,null,null,null,null,""]
["",null,null,null,null,null,null,null,null,null,null,null,null,null,null,null,null,null,null,null,null,null,null,null,null,null,null,null,null,null,null,null,null,null,null,null,null,null,null,null,null,null,null,null,null,null,null,null,null,null,null,null,null,null,null,null,null,""]
["",null,null,null,null,null,null,null,null,null,null,null,null,null,null,null,null,null,null,null,null,null,null,null,null,null,null,null,null,null,null,null,null,null,null,null,null,null,null,null,null,null,null,null,null,null,null,null,null,null,null,null,null,null,null,null,null,""]
["",null,null,null,null,null,null,null,null,null,null,null,null,null,null,null,null,null,null,null,null,null,null,null,null,null,null,null,null,null,null,null,null,null,null,null,null,null,null,null,null,null,null,null,null,null,null,null,null,null,null,null,null,null,null,null,null,""]
["",null,null,null,null,null,null,null,null,null,null,null,null,null,null,null,null,null,null,null,null,null,null,null,null,null,null,null,null,null,null,null,null,null,null,null,null,null,null,null,null,null,null,null,null,null,null,null,null,null,null,null,null,null,null,null,null,""]
["",null,null,null,null,null,null,null,null,null,null,null,null,null,null,null,null,null,null,null,null,null,null,null,null,null,null,null,null,null,null,null,null,null,null,null,null,null,null,null,null,null,null,null,null,null,null,null,null,null,null,null,null,null,null,null,null,""]
["",null,null,null,null,null,null,null,null,null,null,null,null,null,null,null,null,null,null,null,null,null,null,null,null,null,null,null,null,null,null,null,null,null,null,null,null,null,null,null,null,null,null,null,null,null,null,null,null,null,null,null,null,null,null,null,null,""]
["",null,null,null,null,null,null,null,null,null,null,null,null,null,null,null,null,null,null,null,null,null,null,null,null,null,null,null,null,null,null,null,null,null,null,null,null,null,null,null,null,null,null,null,null,null,null,null,null,null,null,null,null,null,null,null,null,""]
["",null,null,null,null,null,null,null,null,null,null,null,null,null,null,null,null,null,null,null,null,null,null,null,null,null,null,null,null,null,null,null,null,null,null,null,null,null,null,null,null,null,null,null,null,null,null,null,null,null,null,null,null,null,null,null,null,""]
["",null,null,null,null,null,null,null,null,null,null,null,null,null,null,null,null,null,null,null,null,null,null,null,null,null,null,null,null,null,null,null,null,null,null,null,null,null,null,null,null,null,null,null,null,null,null,null,null,null,null,null,null,null,null,null,null,""]
["",null,null,null,null,null,null,null,null,null,null,null,null,null,null,null,null,null,null,null,null,null,null,null,null,null,null,null,null,null,null,null,null,null,null,null,null,null,null,null,null,null,null,null,null,null,null,null,null,null,null,null,null,null,null,null,null,""]
["",null,null,null,null,null,null,null,null,null,null,null,null,null,null,null,null,null,null,null,null,null,null,null,null,null,null,null,null,null,null,null,null,null,null,null,null,null,null,null,null,null,null,null,null,null,null,null,null,null,null,null,null,null,null,null,null,""]
["",null,null,null,null,null,null,null,null,null,null,null,null,null,null,null,null,null,null,null,null,null,null,null,null,null,null,null,null,null,null,null,null,null,null,null,null,null,null,null,null,null,null,null,null,null,null,null,null,null,null,null,null,null,null,null,null,""]
["",null,null,null,null,null,null,null,null,null,null,null,null,null,null,null,null,null,null,null,null,null,null,null,null,null,null,null,null,null,null,null,null,null,null,null,null,null,null,null,null,null,null,null,null,null,null,null,null,null,null,null,null,null,null,null,null,""]
["",null,null,null,null,null,null,null,null,null,null,null,null,null,null,null,null,null,null,null,null,null,null,null,null,null,null,null,null,null,null,null,null,null,null,null,null,null,null,null,null,null,null,null,null,null,null,null,null,null,null,null,null,null,null,null,null,""]
["",null,null,null,null,null,null,null,null,null,null,null,null,null,null,null,null,null,null,null,null,null,null,null,null,null,null,null,null,null,null,null,null,null,null,null,null,null,null,null,null,null,null,null,null,null,null,null,null,null,null,null,null,null,null,null,null,""]
["",null,null,null,null,null,null,null,null,null,null,null,null,null,null,null,null,null,null,null,null,null,null,null,null,null,null,null,null,null,null,null,null,null,null,null,null,null,null,null,null,null,null,null,null,null,null,null,null,null,null,null,null,null,null,null,null,""]
["",null,null,null,null,null,null,null,null,null,null,null,null,null,null,null,null,null,null,null,null,null,null,null,null,null,null,null,null,null,null,null,null,null,null,null,null,null,null,null,null,null,null,null,null,null,null,null,null,null,null,null,null,null,null,null,null,""]
["",null,null,null,null,null,null,null,null,null,null,null,null,null,null,null,null,null,null,null,null,null,null,null,null,null,null,null,null,null,null,null,null,null,null,null,null,null,null,null,null,null,null,null,null,null,null,null,null,null,null,null,null,null,null,null,null,""]
["",null,null,null,null,null,null,null,null,null,null,null,null,null,null,null,null,null,null,null,null,null,null,null,null,null,null,null,null,null,null,null,null,null,null,null,null,null,null,null,null,null,null,null,null,null,null,null,null,null,null,null,null,null,null,null,null,""]
["",null,null,null,null,null,null,null,null,null,null,null,null,null,null,null,null,null,null,null,null,null,null,null,null,null,null,null,null,null,null,null,null,null,null,null,null,null,null,null,null,null,null,null,null,null,null,null,null,null,null,null,null,null,null,null,null,""]
["",null,null,null,null,null,null,null,null,null,null,null,null,null,null,null,null,null,null,null,null,null,null,null,null,null,null,null,null,null,null,null,null,null,null,null,null,null,null,null,null,null,null,null,null,null,null,null,null,null,null,null,null,null,null,null,null,""]
["",null,null,null,null,null,null,null,null,null,null,null,null,null,null,null,null,null,null,null,null,null,null,null,null,null,null,null,null,null,null,null,null,null,null,null,null,null,null,null,null,null,null,null,null,null,null,null,null,null,null,null,null,null,null,null,null,""]
["",null,null,null,null,null,null,null,null,null,null,null,null,null,null,null,null,null,null,null,null,null,null,null,null,null,null,null,null,null,null,null,null,null,null,null,null,null,null,null,null,null,null,null,null,null,null,null,null,null,null,null,null,null,null,null,null,""]
["",null,null,null,null,null,null,null,null,null,null,null,null,null,null,null,null,null,null,null,null,null,null,null,null,null,null,null,null,null,null,null,null,null,null,null,null,null,null,null,null,null,null,null,null,null,null,null,null,null,null,null,null,null,null,null,null,""]
["",null,null,null,null,null,null,null,null,null,null,null,null,null,null,null,null,null,null,null,null,null,null,null,null,null,null,null,null,null,null,null,null,null,null,null,null,null,null,null,null,null,null,null,null,null,null,null,null,null,null,null,null,null,null,null,null,""]
["",null,null,null,null,null,null,null,null,null,null,null,null,null,null,null,null,null,null,null,null,null,null,null,null,null,null,null,null,null,null,null,null,null,null,null,null,null,null,null,null,null,null,null,null,null,null,null,null,null,null,null,null,null,null,null,null,""]
["",null,null,null,null,null,null,null,null,null,null,null,null,null,null,null,null,null,null,null,null,null,null,null,null,null,null,null,null,null,null,null,null,null,null,null,null,null,null,null,null,null,null,null,null,null,null,null,null,null,null,null,null,null,null,null,null,""]
[{"$f":"IF(B4739>\"\",YEAR(D4739),\"\")","v":""},null,null,null,null,null,null,null,null,null,null,null,null,null,null,null,null,null,null,null,null,null,null,null,null,null,null,null,null,null,null,null,null,null,null,null,null,null,null,null,null,null,null,null,null,null,null,null,null,null,null,null,null,null,null,null,null,{"$f":"IF(B4739>\"\",B4739&TEXT(D4739,\"aaa-yy\"),\"\")","v":""}]
["",null,null,null,null,null,null,null,null,null,null,null,null,null,null,null,null,null,null,null,null,null,null,null,null,null,null,null,null,null,null,null,null,null,null,null,null,null,null,null,null,null,null,null,null,null,null,null,null,null,null,null,null,null,null,null,null,""]
["",null,null,null,null,null,null,null,null,null,null,null,null,null,null,null,null,null,null,null,null,null,null,null,null,null,null,null,null,null,null,null,null,null,null,null,null,null,null,null,null,null,null,null,null,null,null,null,null,null,null,null,null,null,null,null,null,""]
[{"$f":"IF(B4803>\"\",YEAR(D4803),\"\")","v":""},null,null,null,null,null,null,null,null,null,null,null,null,null,null,null,null,null,null,null,null,null,null,null,null,null,null,null,null,null,null,null,null,null,null,null,null,null,null,null,null,null,null,null,null,null,null,null,null,null,null,null,null,null,null,null,null,{"$f":"IF(B4803>\"\",B4803&TEXT(D4803,\"aaa-yy\"),\"\")","v":""}]
["",null,null,null,null,null,null,null,null,null,null,null,null,null,null,null,null,null,null,null,null,null,null,null,null,null,null,null,null,null,null,null,null,null,null,null,null,null,null,null,null,null,null,null,null,null,null,null,null,null,null,null,null,null,null,null,null,""]
["",null,null,null,null,null,null,null,null,null,null,null,null,null,null,null,null,null,null,null,null,null,null,null,null,null,null,null,null,null,null,null,null,null,null,null,null,null,null,null,null,null,null,null,null,null,null,null,null,null,null,null,null,null,null,null,null,""]
[{"$f":"IF(B4867>\"\",YEAR(D4867),\"\")","v":""},null,null,null,null,null,null,null,null,null,null,null,null,null,null,null,null,null,null,null,null,null,null,null,null,null,null,null,null,null,null,null,null,null,null,null,null,null,null,null,null,null,null,null,null,null,null,null,null,null,null,null,null,null,null,null,null,{"$f":"IF(B4867>\"\",B4867&TEXT(D4867,\"aaa-yy\"),\"\")","v":""}]
["",null,null,null,null,null,null,null,null,null,null,null,null,null,null,null,null,null,null,null,null,null,null,null,null,null,null,null,null,null,null,null,null,null,null,null,null,null,null,null,null,null,null,null,null,null,null,null,null,null,null,null,null,null,null,null,null,""]
["",null,null,null,null,null,null,null,null,null,null,null,null,null,null,null,null,null,null,null,null,null,null,null,null,null,null,null,null,null,null,null,null,null,null,null,null,null,null,null,null,null,null,null,null,null,null,null,null,null,null,null,null,null,null,null,null,""]
["",null,null,null,null,null,null,null,null,null,null,null,null,null,null,null,null,null,null,null,null,null,null,null,null,null,null,null,null,null,null,null,null,null,null,null,null,null,null,null,null,null,null,null,null,null,null,null,null,null,null,null,null,null,null,null,null,""]
["",null,null,null,null,null,null,null,null,null,null,null,null,null,null,null,null,null,null,null,null,null,null,null,null,null,null,null,null,null,null,null,null,null,null,null,null,null,null,null,null,null,null,null,null,null,null,null,null,null,null,null,null,null,null,null,null,""]
["",null,null,null,null,null,null,null,null,null,null,null,null,null,null,null,null,null,null,null,null,null,null,null,null,null,null,null,null,null,null,null,null,null,null,null,null,null,null,null,null,null,null,null,null,null,null,null,null,null,null,null,null,null,null,null,null,""]
["",null,null,null,null,null,null,null,null,null,null,null,null,null,null,null,null,null,null,null,null,null,null,null,null,null,null,null,null,null,null,null,null,null,null,null,null,null,null,null,null,null,null,null,null,null,null,null,null,null,null,null,null,null,null,null,null,""]
["",null,null,null,null,null,null,null,null,null,null,null,null,null,null,null,null,null,null,null,null,null,null,null,null,null,null,null,null,null,null,null,null,null,null,null,null,null,null,null,null,null,null,null,null,null,null,null,null,null,null,null,null,null,null,null,null,""]
["",null,null,null,null,null,null,null,null,null,null,null,null,null,null,null,null,null,null,null,null,null,null,null,null,null,null,null,null,null,null,null,null,null,null,null,null,null,null,null,null,null,null,null,null,null,null,null,null,null,null,null,null,null,null,null,null,""]
["",null,null,null,null,null,null,null,null,null,null,null,null,null,null,null,null,null,null,null,null,null,null,null,null,null,null,null,null,null,null,null,null,null,null,null,null,null,null,null,null,null,null,null,null,null,null,null,null,null,null,null,null,null,null,null,null,""]
["",null,null,null,null,null,null,null,null,null,null,null,null,null,null,null,null,null,null,null,null,null,null,null,null,null,null,null,null,null,null,null,null,null,null,null,null,null,null,null,null,null,null,null,null,null,null,null,null,null,null,null,null,null,null,null,null,""]
["",null,null,null,null,null,null,null,null,null,null,null,null,null,null,null,null,null,null,null,null,null,null,null,null,null,null,null,null,null,null,null,null,null,null,null,null,null,null,null,null,null,null,null,null,null,null,null,null,null,null,null,null,null,null,null,null,""]
["",null,null,null,null,null,null,null,null,null,null,null,null,null,null,null,null,null,null,null,null,null,null,null,null,null,null,null,null,null,null,null,null,null,null,null,null,null,null,null,null,null,null,null,null,null,null,null,null,null,null,null,null,null,null,null,null,""]
["",null,null,null,null,null,null,null,null,null,null,null,null,null,null,null,null,null,null,null,null,null,null,null,null,null,null,null,null,null,null,null,null,null,null,null,null,null,null,null,null,null,null,null,null,null,null,null,null,null,null,null,null,null,null,null,null,""]
["",null,null,null,null,null,null,null,null,null,null,null,null,null,null,null,null,null,null,null,null,null,null,null,null,null,null,null,null,null,null,null,null,null,null,null,null,null,null,null,null,null,null,null,null,null,null,null,null,null,null,null,null,null,null,null,null,""]
["",null,null,null,null,null,null,null,null,null,null,null,null,null,null,null,null,null,null,null,null,null,null,null,null,null,null,null,null,null,null,null,null,null,null,null,null,null,null,null,null,null,null,null,null,null,null,null,null,null,null,null,null,null,null,null,null,""]
["",null,null,null,null,null,null,null,null,null,null,null,null,null,null,null,null,null,null,null,null,null,null,null,null,null,null,null,null,null,null,null,null,null,null,null,null,null,null,null,null,null,null,null,null,null,null,null,null,null,null,null,null,null,null,null,null,""]
["",null,null,null,null,null,null,null,null,null,null,null,null,null,null,null,null,null,null,null,null,null,null,null,null,null,null,null,null,null,null,null,null,null,null,null,null,null,null,null,null,null,null,null,null,null,null,null,null,null,null,null,null,null,null,null,null,""]
["",null,null,null,null,null,null,null,null,null,null,null,null,null,null,null,null,null,null,null,null,null,null,null,null,null,null,null,null,null,null,null,null,null,null,null,null,null,null,null,null,null,null,null,null,null,null,null,null,null,null,null,null,null,null,null,null,""]
["",null,null,null,null,null,null,null,null,null,null,null,null,null,null,null,null,null,null,null,null,null,null,null,null,null,null,null,null,null,null,null,null,null,null,null,null,null,null,null,null,null,null,null,null,null,null,null,null,null,null,null,null,null,null,null,null,""]
["",null,null,null,null,null,null,null,null,null,null,null,null,null,null,null,null,null,null,null,null,null,null,null,null,null,null,null,null,null,null,null,null,null,null,null,null,null,null,null,null,null,null,null,null,null,null,null,null,null,null,null,null,null,null,null,null,""]
["",null,null,null,null,null,null,null,null,null,null,null,null,null,null,null,null,null,null,null,null,null,null,null,null,null,null,null,null,null,null,null,null,null,null,null,null,null,null,null,null,null,null,null,null,null,null,null,null,null,null,null,null,null,null,null,null,""]
["",null,null,null,null,null,null,null,null,null,null,null,null,null,null,null,null,null,null,null,null,null,null,null,null,null,null,null,null,null,null,null,null,null,null,null,null,null,null,null,null,null,null,null,null,null,null,null,null,null,null,null,null,null,null,null,null,""]
["",null,null,null,null,null,null,null,null,null,null,null,null,null,null,null,null,null,null,null,null,null,null,null,null,null,null,null,null,null,null,null,null,null,null,null,null,null,null,null,null,null,null,null,null,null,null,null,null,null,null,null,null,null,null,null,null,""]
[{"$f":"IF(B5315>\"\",YEAR(D5315),\"\")","v":""},null,null,null,null,null,null,null,null,null,null,null,null,null,null,null,null,null,null,null,null,null,null,null,null,null,null,null,null,null,null,null,null,null,null,null,null,null,null,null,null,null,null,null,null,null,null,null,null,null,null,null,null,null,null,null,null,{"$f":"IF(B5315>\"\",B5315&TEXT(D5315,\"aaa-yy\"),\"\")","v":""}]
["",null,null,null,null,null,null,null,null,null,null,null,null,null,null,null,null,null,null,null,null,null,null,null,null,null,null,null,null,null,null,null,null,null,null,null,null,null,null,null,null,null,null,null,null,null,null,null,null,null,null,null,null,null,null,null,null,""]
["",null,null,null,null,null,null,null,null,null,null,null,null,null,null,null,null,null,null,null,null,null,null,null,null,null,null,null,null,null,null,null,null,null,null,null,null,null,null,null,null,null,null,null,null,null,null,null,null,null,null,null,null,null,null,null,null,""]
[{"$f":"IF(B5379>\"\",YEAR(D5379),\"\")","v":""},null,null,null,null,null,null,null,null,null,null,null,null,null,null,null,null,null,null,null,null,null,null,null,null,null,null,null,null,null,null,null,null,null,null,null,null,null,null,null,null,null,null,null,null,null,null,null,null,null,null,null,null,null,null,null,null,{"$f":"IF(B5379>\"\",B5379&TEXT(D5379,\"aaa-yy\"),\"\")","v":""}]
["",null,null,null,null,null,null,null,null,null,null,null,null,null,null,null,null,null,null,null,null,null,null,null,null,null,null,null,null,null,null,null,null,null,null,null,null,null,null,null,null,null,null,null,null,null,null,null,null,null,null,null,null,null,null,null,null,""]
["",null,null,null,null,null,null,null,null,null,null,null,null,null,null,null,null,null,null,null,null,null,null,null,null,null,null,null,null,null,null,null,null,null,null,null,null,null,null,null,null,null,null,null,null,null,null,null,null,null,null,null,null,null,null,null,null,""]
[{"$f":"IF(B5443>\"\",YEAR(D5443),\"\")","v":""},null,null,null,null,null,null,null,null,null,null,null,null,null,null,null,null,null,null,null,null,null,null,null,null,null,null,null,null,null,null,null,null,null,null,null,null,null,null,null,null,null,null,null,null,null,null,null,null,null,null,null,null,null,null,null,null,{"$f":"IF(B5443>\"\",B5443&TEXT(D5443,\"aaa-yy\"),\"\")","v":""}]
["",null,null,null,null,null,null,null,null,null,null,null,null,null,null,null,null,null,null,null,null,null,null,null,null,null,null,null,null,null,null,null,null,null,null,null,null,null,null,null,null,null,null,null,null,null,null,null,null,null,null,null,null,null,null,null,null,""]
["",null,null,null,null,null,null,null,null,null,null,null,null,null,null,null,null,null,null,null,null,null,null,null,null,null,null,null,null,null,null,null,null,null,null,null,null,null,null,null,null,null,null,null,null,null,null,null,null,null,null,null,null,null,null,null,null,""]
["",null,null,null,null,null,null,null,null,null,null,null,null,null,null,null,null,null,null,null,null,null,null,null,null,null,null,null,null,null,null,null,null,null,null,null,null,null,null,null,null,null,null,null,null,null,null,null,null,null,null,null,null,null,null,null,null,""]
[{"$f":"IF(B5507>\"\",YEAR(D5507),\"\")","v":""},null,null,null,null,null,null,null,null,null,null,null,null,null,null,null,null,null,null,null,null,null,null,null,null,null,null,null,null,null,null,null,null,null,null,null,null,null,null,null,null,null,null,null,null,null,null,null,null,null,null,null,null,null,null,null,null,{"$f":"IF(B5507>\"\",B5507&TEXT(D5507,\"aaa-yy\"),\"\")","v":""}]
["",null,null,null,null,null,null,null,null,null,null,null,null,null,null,null,null,null,null,null,null,null,null,null,null,null,null,null,null,null,null,null,null,null,null,null,null,null,null,null,null,null,null,null,null,null,null,null,null,null,null,null,null,null,null,null,null,""]
["",null,null,null,null,null,null,null,null,null,null,null,null,null,null,null,null,null,null,null,null,null,null,null,null,null,null,null,null,null,null,null,null,null,null,null,null,null,null,null,null,null,null,null,null,null,null,null,null,null,null,null,null,null,null,null,null,""]
["",null,null,null,null,null,null,null,null,null,null,null,null,null,null,null,null,null,null,null,null,null,null,null,null,null,null,null,null,null,null,null,null,null,null,null,null,null,null,null,null,null,null,null,null,null,null,null,null,null,null,null,null,null,null,null,null,""]
["",null,null,null,null,null,null,null,null,null,null,null,null,null,null,null,null,null,null,null,null,null,null,null,null,null,null,null,null,null,null,null,null,null,null,null,null,null,null,null,null,null,null,null,null,null,null,null,null,null,null,null,null,null,null,null,null,""]
["",null,null,null,null,null,null,null,null,null,null,null,null,null,null,null,null,null,null,null,null,null,null,null,null,null,null,null,null,null,null,null,null,null,null,null,null,null,null,null,null,null,null,null,null,null,null,null,null,null,null,null,null,null,null,null,null,""]
["",null,null,null,null,null,null,null,null,null,null,null,null,null,null,null,null,null,null,null,null,null,null,null,null,null,null,null,null,null,null,null,null,null,null,null,null,null,null,null,null,null,null,null,null,null,null,null,null,null,null,null,null,null,null,null,null,""]
["",null,null,null,null,null,null,null,null,null,null,null,null,null,null,null,null,null,null,null,null,null,null,null,null,null,null,null,null,null,null,null,null,null,null,null,null,null,null,null,null,null,null,null,null,null,null,null,null,null,null,null,null,null,null,null,null,""]
["",null,null,null,null,null,null,null,null,null,null,null,null,null,null,null,null,null,null,null,null,null,null,null,null,null,null,null,null,null,null,null,null,null,null,null,null,null,null,null,null,null,null,null,null,null,null,null,null,null,null,null,null,null,null,null,null,""]
["",null,null,null,null,null,null,null,null,null,null,null,null,null,null,null,null,null,null,null,null,null,null,null,null,null,null,null,null,null,null,null,null,null,null,null,null,null,null,null,null,null,null,null,null,null,null,null,null,null,null,null,null,null,null,null,null,""]
["",null,null,null,null,null,null,null,null,null,null,null,null,null,null,null,null,null,null,null,null,null,null,null,null,null,null,null,null,null,null,null,null,null,null,null,null,null,null,null,null,null,null,null,null,null,null,null,null,null,null,null,null,null,null,null,null,""]
["",null,null,null,null,null,null,null,null,null,null,null,null,null,null,null,null,null,null,null,null,null,null,null,null,null,null,null,null,null,null,null,null,null,null,null,null,null,null,null,null,null,null,null,null,null,null,null,null,null,null,null,null,null,null,null,null,""]
["",null,null,null,null,null,null,null,null,null,null,null,null,null,null,null,null,null,null,null,null,null,null,null,null,null,null,null,null,null,null,null,null,null,null,null,null,null,null,null,null,null,null,null,null,null,null,null,null,null,null,null,null,null,null,null,null,""]
["",null,null,null,null,null,null,null,null,null,null,null,null,null,null,null,null,null,null,null,null,null,null,null,null,null,null,null,null,null,null,null,null,null,null,null,null,null,null,null,null,null,null,null,null,null,null,null,null,null,null,null,null,null,null,null,null,""]
["",null,null,null,null,null,null,null,null,null,null,null,null,null,null,null,null,null,null,null,null,null,null,null,null,null,null,null,null,null,null,null,null,null,null,null,null,null,null,null,null,null,null,null,null,null,null,null,null,null,null,null,null,null,null,null,null,""]
["",null,null,null,null,null,null,null,null,null,null,null,null,null,null,null,null,null,null,null,null,null,null,null,null,null,null,null,null,null,null,null,null,null,null,null,null,null,null,null,null,null,null,null,null,null,null,null,null,null,null,null,null,null,null,null,null,""]
["",null,null,null,null,null,null,null,null,null,null,null,null,null,null,null,null,null,null,null,null,null,null,null,null,null,null,null,null,null,null,null,null,null,null,null,null,null,null,null,null,null,null,null,null,null,null,null,null,null,null,null,null,null,null,null,null,""]
["",null,null,null,null,null,null,null,null,null,null,null,null,null,null,null,null,null,null,null,null,null,null,null,null,null,null,null,null,null,null,null,null,null,null,null,null,null,null,null,null,null,null,null,null,null,null,null,null,null,null,null,null,null,null,null,null,""]
["",null,null,null,null,null,null,null,null,null,null,null,null,null,null,null,null,null,null,null,null,null,null,null,null,null,null,null,null,null,null,null,null,null,null,null,null,null,null,null,null,null,null,null,null,null,null,null,null,null,null,null,null,null,null,null,null,""]
["",null,null,null,null,null,null,null,null,null,null,null,null,null,null,null,null,null,null,null,null,null,null,null,null,null,null,null,null,null,null,null,null,null,null,null,null,null,null,null,null,null,null,null,null,null,null,null,null,null,null,null,null,null,null,null,null,""]
["",null,null,null,null,null,null,null,null,null,null,null,null,null,null,null,null,null,null,null,null,null,null,null,null,null,null,null,null,null,null,null,null,null,null,null,null,null,null,null,null,null,null,null,null,null,null,null,null,null,null,null,null,null,null,null,null,""]
["",null,null,null,null,null,null,null,null,null,null,null,null,null,null,null,null,null,null,null,null,null,null,null,null,null,null,null,null,null,null,null,null,null,null,null,null,null,null,null,null,null,null,null,null,null,null,null,null,null,null,null,null,null,null,null,null,""]
["",null,null,null,null,null,null,null,null,null,null,null,null,null,null,null,null,null,null,null,null,null,null,null,null,null,null,null,null,null,null,null,null,null,null,null,null,null,null,null,null,null,null,null,null,null,null,null,null,null,null,null,null,null,null,null,null,""]
["",null,null,null,null,null,null,null,null,null,null,null,null,null,null,null,null,null,null,null,null,null,null,null,null,null,null,null,null,null,null,null,null,null,null,null,null,null,null,null,null,null,null,null,null,null,null,null,null,null,null,null,null,null,null,null,null,""]
["",null,null,null,null,null,null,null,null,null,null,null,null,null,null,null,null,null,null,null,null,null,null,null,null,null,null,null,null,null,null,null,null,null,null,null,null,null,null,null,null,null,null,null,null,null,null,null,null,null,null,null,null,null,null,null,null,""]
["",null,null,null,null,null,null,null,null,null,null,null,null,null,null,null,null,null,null,null,null,null,null,null,null,null,null,null,null,null,null,null,null,null,null,null,null,null,null,null,null,null,null,null,null,null,null,null,null,null,null,null,null,null,null,null,null,""]
["",null,null,null,null,null,null,null,null,null,null,null,null,null,null,null,null,null,null,null,null,null,null,null,null,null,null,null,null,null,null,null,null,null,null,null,null,null,null,null,null,null,null,null,null,null,null,null,null,null,null,null,null,null,null,null,null,""]
["",null,null,null,null,null,null,null,null,null,null,null,null,null,null,null,null,null,null,null,null,null,null,null,null,null,null,null,null,null,null,null,null,null,null,null,null,null,null,null,null,null,null,null,null,null,null,null,null,null,null,null,null,null,null,null,null,""]
["",null,null,null,null,null,null,null,null,null,null,null,null,null,null,null,null,null,null,null,null,null,null,null,null,null,null,null,null,null,null,null,null,null,null,null,null,null,null,null,null,null,null,null,null,null,null,null,null,null,null,null,null,null,null,null,null,""]
[{"$f":"IF(B6083>\"\",YEAR(D6083),\"\")","v":""},null,null,null,null,null,null,null,null,null,null,null,null,null,null,null,null,null,null,null,null,null,null,null,null,null,null,null,null,null,null,null,null,null,null,null,null,null,null,null,null,null,null,null,null,null,null,null,null,null,null,null,null,null,null,null,null,{"$f":"IF(B6083>\"\",B6083&TEXT(D6083,\"aaa-yy\"),\"\")","v":""}]
["",null,null,null,null,null,null,null,null,null,null,null,null,null,null,null,null,null,null,null,null,null,null,null,null,null,null,null,null,null,null,null,null,null,null,null,null,null,null,null,null,null,null,null,null,null,null,null,null,null,null,null,null,null,null,null,null,""]
["",null,null,null,null,null,null,null,null,null,null,null,null,null,null,null,null,null,null,null,null,null,null,null,null,null,null,null,null,null,null,null,null,null,null,null,null,null,null,null,null,null,null,null,null,null,null,null,null,null,null,null,null,null,null,null,null,""]
["",null,null,null,null,null,null,null,null,null,null,null,null,null,null,null,null,null,null,null,null,null,null,null,null,null,null,null,null,null,null,null,null,null,null,null,null,null,null,null,null,null,null,null,null,null,null,null,null,null,null,null,null,null,null,null,null,""]
[{"$f":"IF(B6147>\"\",YEAR(D6147),\"\")","v":""},null,null,null,null,null,null,null,null,null,null,null,null,null,null,null,null,null,null,null,null,null,null,null,null,null,null,null,null,null,null,null,null,null,null,null,null,null,null,null,null,null,null,null,null,null,null,null,null,null,null,null,null,null,null,null,null,{"$f":"IF(B6147>\"\",B6147&TEXT(D6147,\"aaa-yy\"),\"\")","v":""}]
["",null,null,null,null,null,null,null,null,null,null,null,null,null,null,null,null,null,null,null,null,null,null,null,null,null,null,null,null,null,null,null,null,null,null,null,null,null,null,null,null,null,null,null,null,null,null,null,null,null,null,null,null,null,null,null,null,""]
["",null,null,null,null,null,null,null,null,null,null,null,null,null,null,null,null,null,null,null,null,null,null,null,null,null,null,null,null,null,null,null,null,null,null,null,null,null,null,null,null,null,null,null,null,null,null,null,null,null,null,null,null,null,null,null,null,""]
[{"$f":"IF(B6211>\"\",YEAR(D6211),\"\")","v":""},null,null,null,null,null,null,null,null,null,null,null,null,null,null,null,null,null,null,null,null,null,null,null,null,null,null,null,null,null,null,null,null,null,null,null,null,null,null,null,null,null,null,null,null,null,null,null,null,null,null,null,null,null,null,null,null,{"$f":"IF(B6211>\"\",B6211&TEXT(D6211,\"aaa-yy\"),\"\")","v":""}]
["",null,null,null,null,null,null,null,null,null,null,null,null,null,null,null,null,null,null,null,null,null,null,null,null,null,null,null,null,null,null,null,null,null,null,null,null,null,null,null,null,null,null,null,null,null,null,null,null,null,null,null,null,null,null,null,null,""]
["",null,null,null,null,null,null,null,null,null,null,null,null,null,null,null,null,null,null,null,null,null,null,null,null,null,null,null,null,null,null,null,null,null,null,null,null,null,null,null,null,null,null,null,null,null,null,null,null,null,null,null,null,null,null,null,null,""]
[{"$f":"IF(B6275>\"\",YEAR(D6275),\"\")","v":""},null,null,null,null,null,null,null,null,null,null,null,null,null,null,null,null,null,null,null,null,null,null,null,null,null,null,null,null,null,null,null,null,null,null,null,null,null,null,null,null,null,null,null,null,null,null,null,null,null,null,null,null,null,null,null,null,{"$f":"IF(B6275>\"\",B6275&TEXT(D6275,\"aaa-yy\"),\"\")","v":""}]
["",null,null,null,null,null,null,null,null,null,null,null,null,null,null,null,null,null,null,null,null,null,null,null,null,null,null,null,null,null,null,null,null,null,null,null,null,null,null,null,null,null,null,null,null,null,null,null,null,null,null,null,null,null,null,null,null,""]
["",null,null,null,null,null,null,null,null,null,null,null,null,null,null,null,null,null,null,null,null,null,null,null,null,null,null,null,null,null,null,null,null,null,null,null,null,null,null,null,null,null,null,null,null,null,null,null,null,null,null,null,null,null,null,null,null,""]
["",null,null,null,null,null,null,null,null,null,null,null,null,null,null,null,null,null,null,null,null,null,null,null,null,null,null,null,null,null,null,null,null,null,null,null,null,null,null,null,null,null,null,null,null,null,null,null,null,null,null,null,null,null,null,null,null,""]
["",null,null,null,null,null,null,null,null,null,null,null,null,null,null,null,null,null,null,null,null,null,null,null,null,null,null,null,null,null,null,null,null,null,null,null,null,null,null,null,null,null,null,null,null,null,null,null,null,null,null,null,null,null,null,null,null,""]
["",null,null,null,null,null,null,null,null,null,null,null,null,null,null,null,null,null,null,null,null,null,null,null,null,null,null,null,null,null,null,null,null,null,null,null,null,null,null,null,null,null,null,null,null,null,null,null,null,null,null,null,null,null,null,null,null,""]
["",null,null,null,null,null,null,null,null,null,null,null,null,null,null,null,null,null,null,null,null,null,null,null,null,null,null,null,null,null,null,null,null,null,null,null,null,null,null,null,null,null,null,null,null,null,null,null,null,null,null,null,null,null,null,null,null,""]
["",null,null,null,null,null,null,null,null,null,null,null,null,null,null,null,null,null,null,null,null,null,null,null,null,null,null,null,null,null,null,null,null,null,null,null,null,null,null,null,null,null,null,null,null,null,null,null,null,null,null,null,null,null,null,null,null,""]
["",null,null,null,null,null,null,null,null,null,null,null,null,null,null,null,null,null,null,null,null,null,null,null,null,null,null,null,null,null,null,null,null,null,null,null,null,null,null,null,null,null,null,null,null,null,null,null,null,null,null,null,null,null,null,null,null,""]
["",null,null,null,null,null,null,null,null,null,null,null,null,null,null,null,null,null,null,null,null,null,null,null,null,null,null,null,null,null,null,null,null,null,null,null,null,null,null,null,null,null,null,null,null,null,null,null,null,null,null,null,null,null,null,null,null,""]
["",null,null,null,null,null,null,null,null,null,null,null,null,null,null,null,null,null,null,null,null,null,null,null,null,null,null,null,null,null,null,null,null,null,null,null,null,null,null,null,null,null,null,null,null,null,null,null,null,null,null,null,null,null,null,null,null,""]
["",null,null,null,null,null,null,null,null,null,null,null,null,null,null,null,null,null,null,null,null,null,null,null,null,null,null,null,null,null,null,null,null,null,null,null,null,null,null,null,null,null,null,null,null,null,null,null,null,null,null,null,null,null,null,null,null,""]
["",null,null,null,null,null,null,null,null,null,null,null,null,null,null,null,null,null,null,null,null,null,null,null,null,null,null,null,null,null,null,null,null,null,null,null,null,null,null,null,null,null,null,null,null,null,null,null,null,null,null,null,null,null,null,null,null,""]
["",null,null,null,null,null,null,null,null,null,null,null,null,null,null,null,null,null,null,null,null,null,null,null,null,null,null,null,null,null,null,null,null,null,null,null,null,null,null,null,null,null,null,null,null,null,null,null,null,null,null,null,null,null,null,null,null,""]
["",null,null,null,null,null,null,null,null,null,null,null,null,null,null,null,null,null,null,null,null,null,null,null,null,null,null,null,null,null,null,null,null,null,null,null,null,null,null,null,null,null,null,null,null,null,null,null,null,null,null,null,null,null,null,null,null,""]
["",null,null,null,null,null,null,null,null,null,null,null,null,null,null,null,null,null,null,null,null,null,null,null,null,null,null,null,null,null,null,null,null,null,null,null,null,null,null,null,null,null,null,null,null,null,null,null,null,null,null,null,null,null,null,null,null,""]
["",null,null,null,null,null,null,null,null,null,null,null,null,null,null,null,null,null,null,null,null,null,null,null,null,null,null,null,null,null,null,null,null,null,null,null,null,null,null,null,null,null,null,null,null,null,null,null,null,null,null,null,null,null,null,null,null,""]
["",null,null,null,null,null,null,null,null,null,null,null,null,null,null,null,null,null,null,null,null,null,null,null,null,null,null,null,null,null,null,null,null,null,null,null,null,null,null,null,null,null,null,null,null,null,null,null,null,null,null,null,null,null,null,null,null,""]
["",null,null,null,null,null,null,null,null,null,null,null,null,null,null,null,null,null,null,null,null,null,null,null,null,null,null,null,null,null,null,null,null,null,null,null,null,null,null,null,null,null,null,null,null,null,null,null,null,null,null,null,null,null,null,null,null,""]
["",null,null,null,null,null,null,null,null,null,null,null,null,null,null,null,null,null,null,null,null,null,null,null,null,null,null,null,null,null,null,null,null,null,null,null,null,null,null,null,null,null,null,null,null,null,null,null,null,null,null,null,null,null,null,null,null,""]
["",null,null,null,null,null,null,null,null,null,null,null,null,null,null,null,null,null,null,null,null,null,null,null,null,null,null,null,null,null,null,null,null,null,null,null,null,null,null,null,null,null,null,null,null,null,null,null,null,null,null,null,null,null,null,null,null,""]
["",null,null,null,null,null,null,null,null,null,null,null,null,null,null,null,null,null,null,null,null,null,null,null,null,null,null,null,null,null,null,null,null,null,null,null,null,null,null,null,null,null,null,null,null,null,null,null,null,null,null,null,null,null,null,null,null,""]
["",null,null,null,null,null,null,null,null,null,null,null,null,null,null,null,null,null,null,null,null,null,null,null,null,null,null,null,null,null,null,null,null,null,null,null,null,null,null,null,null,null,null,null,null,null,null,null,null,null,null,null,null,null,null,null,null,""]
[{"$f":"IF(B6723>\"\",YEAR(D6723),\"\")","v":""},null,null,null,null,null,null,null,null,null,null,null,null,null,null,null,null,null,null,null,null,null,null,null,null,null,null,null,null,null,null,null,null,null,null,null,null,null,null,null,null,null,null,null,null,null,null,null,null,null,null,null,null,null,null,null,null,{"$f":"IF(B6723>\"\",B6723&TEXT(D6723,\"aaa-yy\"),\"\")","v":""}]
["",null,null,null,null,null,null,null,null,null,null,null,null,null,null,null,null,null,null,null,null,null,null,null,null,null,null,null,null,null,null,null,null,null,null,null,null,null,null,null,null,null,null,null,null,null,null,null,null,null,null,null,null,null,null,null,null,""]
["",null,null,null,null,null,null,null,null,null,null,null,null,null,null,null,null,null,null,null,null,null,null,null,null,null,null,null,null,null,null,null,null,null,null,null,null,null,null,null,null,null,null,null,null,null,null,null,null,null,null,null,null,null,null,null,null,""]
["",null,null,null,null,null,null,null,null,null,null,null,null,null,null,null,null,null,null,null,null,null,null,null,null,null,null,null,null,null,null,null,null,null,null,null,null,null,null,null,null,null,null,null,null,null,null,null,null,null,null,null,null,null,null,null,null,""]
[{"$f":"IF(B6787>\"\",YEAR(D6787),\"\")","v":""},null,null,null,null,null,null,null,null,null,null,null,null,null,null,null,null,null,null,null,null,null,null,null,null,null,null,null,null,null,null,null,null,null,null,null,null,null,null,null,null,null,null,null,null,null,null,null,null,null,null,null,null,null,null,null,null,{"$f":"IF(B6787>\"\",B6787&TEXT(D6787,\"aaa-yy\"),\"\")","v":""}]
["",null,null,null,null,null,null,null,null,null,null,null,null,null,null,null,null,null,null,null,null,null,null,null,null,null,null,null,null,null,null,null,null,null,null,null,null,null,null,null,null,null,null,null,null,null,null,null,null,null,null,null,null,null,null,null,null,""]
["",null,null,null,null,null,null,null,null,null,null,null,null,null,null,null,null,null,null,null,null,null,null,null,null,null,null,null,null,null,null,null,null,null,null,null,null,null,null,null,null,null,null,null,null,null,null,null,null,null,null,null,null,null,null,null,null,""]
[{"$f":"IF(B6851>\"\",YEAR(D6851),\"\")","v":""},null,null,null,null,null,null,null,null,null,null,null,null,null,null,null,null,null,null,null,null,null,null,null,null,null,null,null,null,null,null,null,null,null,null,null,null,null,null,null,null,null,null,null,null,null,null,null,null,null,null,null,null,null,null,null,null,{"$f":"IF(B6851>\"\",B6851&TEXT(D6851,\"aaa-yy\"),\"\")","v":""}]
["",null,null,null,null,null,null,null,null,null,null,null,null,null,null,null,null,null,null,null,null,null,null,null,null,null,null,null,null,null,null,null,null,null,null,null,null,null,null,null,null,null,null,null,null,null,null,null,null,null,null,null,null,null,null,null,null,""]
["",null,null,null,null,null,null,null,null,null,null,null,null,null,null,null,null,null,null,null,null,null,null,null,null,null,null,null,null,null,null,null,null,null,null,null,null,null,null,null,null,null,null,null,null,null,null,null,null,null,null,null,null,null,null,null,null,""]
[{"$f":"IF(B6915>\"\",YEAR(D6915),\"\")","v":""},null,null,null,null,null,null,null,null,null,null,null,null,null,null,null,null,null,null,null,null,null,null,null,null,null,null,null,null,null,null,null,null,null,null,null,null,null,null,null,null,null,null,null,null,null,null,null,null,null,null,null,null,null,null,null,null,{"$f":"IF(B6915>\"\",B6915&TEXT(D6915,\"aaa-yy\"),\"\")","v":""}]
["",null,null,null,null,null,null,null,null,null,null,null,null,null,null,null,null,null,null,null,null,null,null,null,null,null,null,null,null,null,null,null,null,null,null,null,null,null,null,null,null,null,null,null,null,null,null,null,null,null,null,null,null,null,null,null,null,""]
["",null,null,null,null,null,null,null,null,null,null,null,null,null,null,null,null,null,null,null,null,null,null,null,null,null,null,null,null,null,null,null,null,null,null,null,null,null,null,null,null,null,null,null,null,null,null,null,null,null,null,null,null,null,null,null,null,""]
["",null,null,null,null,null,null,null,null,null,null,null,null,null,null,null,null,null,null,null,null,null,null,null,null,null,null,null,null,null,null,null,null,null,null,null,null,null,null,null,null,null,null,null,null,null,null,null,null,null,null,null,null,null,null,null,null,""]
[{"$f":"IF(B6979>\"\",YEAR(D6979),\"\")","v":""},null,null,null,null,null,null,null,null,null,null,null,null,null,null,null,null,null,null,null,null,null,null,null,null,null,null,null,null,null,null,null,null,null,null,null,null,null,null,null,null,null,null,null,null,null,null,null,null,null,null,null,null,null,null,null,null,{"$f":"IF(B6979>\"\",B6979&TEXT(D6979,\"aaa-yy\"),\"\")","v":""}]
["",null,null,null,null,null,null,null,null,null,null,null,null,null,null,null,null,null,null,null,null,null,null,null,null,null,null,null,null,null,null,null,null,null,null,null,null,null,null,null,null,null,null,null,null,null,null,null,null,null,null,null,null,null,null,null,null,""]
["",null,null,null,null,null,null,null,null,null,null,null,null,null,null,null,null,null,null,null,null,null,null,null,null,null,null,null,null,null,null,null,null,null,null,null,null,null,null,null,null,null,null,null,null,null,null,null,null,null,null,null,null,null,null,null,null,""]
["",null,null,null,null,null,null,null,null,null,null,null,null,null,null,null,null,null,null,null,null,null,null,null,null,null,null,null,null,null,null,null,null,null,null,null,null,null,null,null,null,null,null,null,null,null,null,null,null,null,null,null,null,null,null,null,null,""]
["",null,null,null,null,null,null,null,null,null,null,null,null,null,null,null,null,null,null,null,null,null,null,null,null,null,null,null,null,null,null,null,null,null,null,null,null,null,null,null,null,null,null,null,null,null,null,null,null,null,null,null,null,null,null,null,null,""]
["",null,null,null,null,null,null,null,null,null,null,null,null,null,null,null,null,null,null,null,null,null,null,null,null,null,null,null,null,null,null,null,null,null,null,null,null,null,null,null,null,null,null,null,null,null,null,null,null,null,null,null,null,null,null,null,null,""]
["",null,null,null,null,null,null,null,null,null,null,null,null,null,null,null,null,null,null,null,null,null,null,null,null,null,null,null,null,null,null,null,null,null,null,null,null,null,null,null,null,null,null,null,null,null,null,null,null,null,null,null,null,null,null,null,null,""]
["",null,null,null,null,null,null,null,null,null,null,null,null,null,null,null,null,null,null,null,null,null,null,null,null,null,null,null,null,null,null,null,null,null,null,null,null,null,null,null,null,null,null,null,null,null,null,null,null,null,null,null,null,null,null,null,null,""]
["",null,null,null,null,null,null,null,null,null,null,null,null,null,null,null,null,null,null,null,null,null,null,null,null,null,null,null,null,null,null,null,null,null,null,null,null,null,null,null,null,null,null,null,null,null,null,null,null,null,null,null,null,null,null,null,null,""]
["",null,null,null,null,null,null,null,null,null,null,null,null,null,null,null,null,null,null,null,null,null,null,null,null,null,null,null,null,null,null,null,null,null,null,null,null,null,null,null,null,null,null,null,null,null,null,null,null,null,null,null,null,null,null,null,null,""]
[{"$f":"IF(B7171>\"\",YEAR(D7171),\"\")","v":""},null,null,null,null,null,null,null,null,null,null,null,null,null,null,null,null,null,null,null,null,null,null,null,null,null,null,null,null,null,null,null,null,null,null,null,null,null,null,null,null,null,null,null,null,null,null,null,null,null,null,null,null,null,null,null,null,{"$f":"IF(B7171>\"\",B7171&TEXT(D7171,\"aaa-yy\"),\"\")","v":""}]
["",null,null,null,null,null,null,null,null,null,null,null,null,null,null,null,null,null,null,null,null,null,null,null,null,null,null,null,null,null,null,null,null,null,null,null,null,null,null,null,null,null,null,null,null,null,null,null,null,null,null,null,null,null,null,null,null,""]
["",null,null,null,null,null,null,null,null,null,null,null,null,null,null,null,null,null,null,null,null,null,null,null,null,null,null,null,null,null,null,null,null,null,null,null,null,null,null,null,null,null,null,null,null,null,null,null,null,null,null,null,null,null,null,null,null,""]
["",null,null,null,null,null,null,null,null,null,null,null,null,null,null,null,null,null,null,null,null,null,null,null,null,null,null,null,null,null,null,null,null,null,null,null,null,null,null,null,null,null,null,null,null,null,null,null,null,null,null,null,null,null,null,null,null,""]
["",null,null,null,null,null,null,null,null,null,null,null,null,null,null,null,null,null,null,null,null,null,null,null,null,null,null,null,null,null,null,null,null,null,null,null,null,null,null,null,null,null,null,null,null,null,null,null,null,null,null,null,null,null,null,null,null,""]
["",null,null,null,null,null,null,null,null,null,null,null,null,null,null,null,null,null,null,null,null,null,null,null,null,null,null,null,null,null,null,null,null,null,null,null,null,null,null,null,null,null,null,null,null,null,null,null,null,null,null,null,null,null,null,null,null,""]
["",null,null,null,null,null,null,null,null,null,null,null,null,null,null,null,null,null,null,null,null,null,null,null,null,null,null,null,null,null,null,null,null,null,null,null,null,null,null,null,null,null,null,null,null,null,null,null,null,null,null,null,null,null,null,null,null,""]
["",null,null,null,null,null,null,null,null,null,null,null,null,null,null,null,null,null,null,null,null,null,null,null,null,null,null,null,null,null,null,null,null,null,null,null,null,null,null,null,null,null,null,null,null,null,null,null,null,null,null,null,null,null,null,null,null,""]
["",null,null,null,null,null,null,null,null,null,null,null,null,null,null,null,null,null,null,null,null,null,null,null,null,null,null,null,null,null,null,null,null,null,null,null,null,null,null,null,null,null,null,null,null,null,null,null,null,null,null,null,null,null,null,null,null,""]
["",null,null,null,null,null,null,null,null,null,null,null,null,null,null,null,null,null,null,null,null,null,null,null,null,null,null,null,null,null,null,null,null,null,null,null,null,null,null,null,null,null,null,null,null,null,null,null,null,null,null,null,null,null,null,null,null,""]
["",null,null,null,null,null,null,null,null,null,null,null,null,null,null,null,null,null,null,null,null,null,null,null,null,null,null,null,null,null,null,null,null,null,null,null,null,null,null,null,null,null,null,null,null,null,null,null,null,null,null,null,null,null,null,null,null,""]
["",null,null,null,null,null,null,null,null,null,null,null,null,null,null,null,null,null,null,null,null,null,null,null,null,null,null,null,null,null,null,null,null,null,null,null,null,null,null,null,null,null,null,null,null,null,null,null,null,null,null,null,null,null,null,null,null,""]
["",null,null,null,null,null,null,null,null,null,null,null,null,null,null,null,null,null,null,null,null,null,null,null,null,null,null,null,null,null,null,null,null,null,null,null,null,null,null,null,null,null,null,null,null,null,null,null,null,null,null,null,null,null,null,null,null,""]
["",null,null,null,null,null,null,null,null,null,null,null,null,null,null,null,null,null,null,null,null,null,null,null,null,null,null,null,null,null,null,null,null,null,null,null,null,null,null,null,null,null,null,null,null,null,null,null,null,null,null,null,null,null,null,null,null,""]
["",null,null,null,null,null,null,null,null,null,null,null,null,null,null,null,null,null,null,null,null,null,null,null,null,null,null,null,null,null,null,null,null,null,null,null,null,null,null,null,null,null,null,null,null,null,null,null,null,null,null,null,null,null,null,null,null,""]
["",null,null,null,null,null,null,null,null,null,null,null,null,null,null,null,null,null,null,null,null,null,null,null,null,null,null,null,null,null,null,null,null,null,null,null,null,null,null,null,null,null,null,null,null,null,null,null,null,null,null,null,null,null,null,null,null,""]
["",null,null,null,null,null,null,null,null,null,null,null,null,null,null,null,null,null,null,null,null,null,null,null,null,null,null,null,null,null,null,null,null,null,null,null,null,null,null,null,null,null,null,null,null,null,null,null,null,null,null,null,null,null,null,null,null,""]
["",null,null,null,null,null,null,null,null,null,null,null,null,null,null,null,null,null,null,null,null,null,null,null,null,null,null,null,null,null,null,null,null,null,null,null,null,null,null,null,null,null,null,null,null,null,null,null,null,null,null,null,null,null,null,null,null,""]
["",null,null,null,null,null,null,null,null,null,null,null,null,null,null,null,null,null,null,null,null,null,null,null,null,null,null,null,null,null,null,null,null,null,null,null,null,null,null,null,null,null,null,null,null,null,null,null,null,null,null,null,null,null,null,null,null,""]
[{"$f":"IF(B7555>\"\",YEAR(D7555),\"\")","v":""},null,null,null,null,null,null,null,null,null,null,null,null,null,null,null,null,null,null,null,null,null,null,null,null,null,null,null,null,null,null,null,null,null,null,null,null,null,null,null,null,null,null,null,null,null,null,null,null,null,null,null,null,null,null,null,null,{"$f":"IF(B7555>\"\",B7555&TEXT(D7555,\"aaa-yy\"),\"\")","v":""}]
["",null,null,null,null,null,null,null,null,null,null,null,null,null,null,null,null,null,null,null,null,null,null,null,null,null,null,null,null,null,null,null,null,null,null,null,null,null,null,null,null,null,null,null,null,null,null,null,null,null,null,null,null,null,null,null,null,""]
["",null,null,null,null,null,null,null,null,null,null,null,null,null,null,null,null,null,null,null,null,null,null,null,null,null,null,null,null,null,null,null,null,null,null,null,null,null,null,null,null,null,null,null,null,null,null,null,null,null,null,null,null,null,null,null,null,""]
["",null,null,null,null,null,null,null,null,null,null,null,null,null,null,null,null,null,null,null,null,null,null,null,null,null,null,null,null,null,null,null,null,null,null,null,null,null,null,null,null,null,null,null,null,null,null,null,null,null,null,null,null,null,null,null,null,""]
[{"$f":"IF(B7619>\"\",YEAR(D7619),\"\")","v":""},null,null,null,null,null,null,null,null,null,null,null,null,null,null,null,null,null,null,null,null,null,null,null,null,null,null,null,null,null,null,null,null,null,null,null,null,null,null,null,null,null,null,null,null,null,null,null,null,null,null,null,null,null,null,null,null,{"$f":"IF(B7619>\"\",B7619&TEXT(D7619,\"aaa-yy\"),\"\")","v":""}]
["",null,null,null,null,null,null,null,null,null,null,null,null,null,null,null,null,null,null,null,null,null,null,null,null,null,null,null,null,null,null,null,null,null,null,null,null,null,null,null,null,null,null,null,null,null,null,null,null,null,null,null,null,null,null,null,null,""]
["",null,null,null,null,null,null,null,null,null,null,null,null,null,null,null,null,null,null,null,null,null,null,null,null,null,null,null,null,null,null,null,null,null,null,null,null,null,null,null,null,null,null,null,null,null,null,null,null,null,null,null,null,null,null,null,null,""]
[{"$f":"IF(B7683>\"\",YEAR(D7683),\"\")","v":""},null,null,null,null,null,null,null,null,null,null,null,null,null,null,null,null,null,null,null,null,null,null,null,null,null,null,null,null,null,null,null,null,null,null,null,null,null,null,null,null,null,null,null,null,null,null,null,null,null,null,null,null,null,null,null,null,{"$f":"IF(B7683>\"\",B7683&TEXT(D7683,\"aaa-yy\"),\"\")","v":""}]
["",null,null,null,null,null,null,null,null,null,null,null,null,null,null,null,null,null,null,null,null,null,null,null,null,null,null,null,null,null,null,null,null,null,null,null,null,null,null,null,null,null,null,null,null,null,null,null,null,null,null,null,null,null,null,null,null,""]
["",null,null,null,null,null,null,null,null,null,null,null,null,null,null,null,null,null,null,null,null,null,null,null,null,null,null,null,null,null,null,null,null,null,null,null,null,null,null,null,null,null,null,null,null,null,null,null,null,null,null,null,null,null,null,null,null,""]
[{"$f":"IF(B7747>\"\",YEAR(D7747),\"\")","v":""},null,null,null,null,null,null,null,null,null,null,null,null,null,null,null,null,null,null,null,null,null,null,null,null,null,null,null,null,null,null,null,null,null,null,null,null,null,null,null,null,null,null,null,null,null,null,null,null,null,null,null,null,null,null,null,null,{"$f":"IF(B7747>\"\",B7747&TEXT(D7747,\"aaa-yy\"),\"\")","v":""}]
["",null,null,null,null,null,null,null,null,null,null,null,null,null,null,null,null,null,null,null,null,null,null,null,null,null,null,null,null,null,null,null,null,null,null,null,null,null,null,null,null,null,null,null,null,null,null,null,null,null,null,null,null,null,null,null,null,""]
["",null,null,null,null,null,null,null,null,null,null,null,null,null,null,null,null,null,null,null,null,null,null,null,null,null,null,null,null,null,null,null,null,null,null,null,null,null,null,null,null,null,null,null,null,null,null,null,null,null,null,null,null,null,null,null,null,""]
["",null,null,null,null,null,null,null,null,null,null,null,null,null,null,null,null,null,null,null,null,null,null,null,null,null,null,null,null,null,null,null,null,null,null,null,null,null,null,null,null,null,null,null,null,null,null,null,null,null,null,null,null,null,null,null,null,""]
["",null,null,null,null,null,null,null,null,null,null,null,null,null,null,null,null,null,null,null,null,null,null,null,null,null,null,null,null,null,null,null,null,null,null,null,null,null,null,null,null,null,null,null,null,null,null,null,null,null,null,null,null,null,null,null,null,""]
["",null,null,null,null,null,null,null,null,null,null,null,null,null,null,null,null,null,null,null,null,null,null,null,null,null,null,null,null,null,null,null,null,null,null,null,null,null,null,null,null,null,null,null,null,null,null,null,null,null,null,null,null,null,null,null,null,""]
["",null,null,null,null,null,null,null,null,null,null,null,null,null,null,null,null,null,null,null,null,null,null,null,null,null,null,null,null,null,null,null,null,null,null,null,null,null,null,null,null,null,null,null,null,null,null,null,null,null,null,null,null,null,null,null,null,""]
["",null,null,null,null,null,null,null,null,null,null,null,null,null,null,null,null,null,null,null,null,null,null,null,null,null,null,null,null,null,null,null,null,null,null,null,null,null,null,null,null,null,null,null,null,null,null,null,null,null,null,null,null,null,null,null,null,""]
["",null,null,null,null,null,null,null,null,null,null,null,null,null,null,null,null,null,null,null,null,null,null,null,null,null,null,null,null,null,null,null,null,null,null,null,null,null,null,null,null,null,null,null,null,null,null,null,null,null,null,null,null,null,null,null,null,""]
["",null,null,null,null,null,null,null,null,null,null,null,null,null,null,null,null,null,null,null,null,null,null,null,null,null,null,null,null,null,null,null,null,null,null,null,null,null,null,null,null,null,null,null,null,null,null,null,null,null,null,null,null,null,null,null,null,""]
["",null,null,null,null,null,null,null,null,null,null,null,null,null,null,null,null,null,null,null,null,null,null,null,null,null,null,null,null,null,null,null,null,null,null,null,null,null,null,null,null,null,null,null,null,null,null,null,null,null,null,null,null,null,null,null,null,""]
["",null,null,null,null,null,null,null,null,null,null,null,null,null,null,null,null,null,null,null,null,null,null,null,null,null,null,null,null,null,null,null,null,null,null,null,null,null,null,null,null,null,null,null,null,null,null,null,null,null,null,null,null,null,null,null,null,""]
["",null,null,null,null,null,null,null,null,null,null,null,null,null,null,null,null,null,null,null,null,null,null,null,null,null,null,null,null,null,null,null,null,null,null,null,null,null,null,null,null,null,null,null,null,null,null,null,null,null,null,null,null,null,null,null,null,""]
["",null,null,null,null,null,null,null,null,null,null,null,null,null,null,null,null,null,null,null,null,null,null,null,null,null,null,null,null,null,null,null,null,null,null,null,null,null,null,null,null,null,null,null,null,null,null,null,null,null,null,null,null,null,null,null,null,""]
["",null,null,null,null,null,null,null,null,null,null,null,null,null,null,null,null,null,null,null,null,null,null,null,null,null,null,null,null,null,null,null,null,null,null,null,null,null,null,null,null,null,null,null,null,null,null,null,null,null,null,null,null,null,null,null,null,""]
["",null,null,null,null,null,null,null,null,null,null,null,null,null,null,null,null,null,null,null,null,null,null,null,null,null,null,null,null,null,null,null,null,null,null,null,null,null,null,null,null,null,null,null,null,null,null,null,null,null,null,null,null,null,null,null,null,""]
["",null,null,null,null,null,null,null,null,null,null,null,null,null,null,null,null,null,null,null,null,null,null,null,null,null,null,null,null,null,null,null,null,null,null,null,null,null,null,null,null,null,null,null,null,null,null,null,null,null,null,null,null,null,null,null,null,""]
["",null,null,null,null,null,null,null,null,null,null,null,null,null,null,null,null,null,null,null,null,null,null,null,null,null,null,null,null,null,null,null,null,null,null,null,null,null,null,null,null,null,null,null,null,null,null,null,null,null,null,null,null,null,null,null,null,""]
["",null,null,null,null,null,null,null,null,null,null,null,null,null,null,null,null,null,null,null,null,null,null,null,null,null,null,null,null,null,null,null,null,null,null,null,null,null,null,null,null,null,null,null,null,null,null,null,null,null,null,null,null,null,null,null,null,""]
["",null,null,null,null,null,null,null,null,null,null,null,null,null,null,null,null,null,null,null,null,null,null,null,null,null,null,null,null,null,null,null,null,null,null,null,null,null,null,null,null,null,null,null,null,null,null,null,null,null,null,null,null,null,null,null,null,""]
["",null,null,null,null,null,null,null,null,null,null,null,null,null,null,null,null,null,null,null,null,null,null,null,null,null,null,null,null,null,null,null,null,null,null,null,null,null,null,null,null,null,null,null,null,null,null,null,null,null,null,null,null,null,null,null,null,""]
["",null,null,null,null,null,null,null,null,null,null,null,null,null,null,null,null,null,null,null,null,null,null,null,null,null,null,null,null,null,null,null,null,null,null,null,null,null,null,null,null,null,null,null,null,null,null,null,null,null,null,null,null,null,null,null,null,""]
["",null,null,null,null,null,null,null,null,null,null,null,null,null,null,null,null,null,null,null,null,null,null,null,null,null,null,null,null,null,null,null,null,null,null,null,null,null,null,null,null,null,null,null,null,null,null,null,null,null,null,null,null,null,null,null,null,""]
["",null,null,null,null,null,null,null,null,null,null,null,null,null,null,null,null,null,null,null,null,null,null,null,null,null,null,null,null,null,null,null,null,null,null,null,null,null,null,null,null,null,null,null,null,null,null,null,null,null,null,null,null,null,null,null,null,""]
[{"$f":"IF(B8195>\"\",YEAR(D8195),\"\")","v":""},null,null,null,null,null,null,null,null,null,null,null,null,null,null,null,null,null,null,null,null,null,null,null,null,null,null,null,null,null,null,null,null,null,null,null,null,null,null,null,null,null,null,null,null,null,null,null,null,null,null,null,null,null,null,null,null,{"$f":"IF(B8195>\"\",B8195&TEXT(D8195,\"aaa-yy\"),\"\")","v":""}]
["",null,null,null,null,null,null,null,null,null,null,null,null,null,null,null,null,null,null,null,null,null,null,null,null,null,null,null,null,null,null,null,null,null,null,null,null,null,null,null,null,null,null,null,null,null,null,null,null,null,null,null,null,null,null,null,null,""]
["",null,null,null,null,null,null,null,null,null,null,null,null,null,null,null,null,null,null,null,null,null,null,null,null,null,null,null,null,null,null,null,null,null,null,null,null,null,null,null,null,null,null,null,null,null,null,null,null,null,null,null,null,null,null,null,null,""]
[{"$f":"IF(B8259>\"\",YEAR(D8259),\"\")","v":""},null,null,null,null,null,null,null,null,null,null,null,null,null,null,null,null,null,null,null,null,null,null,null,null,null,null,null,null,null,null,null,null,null,null,null,null,null,null,null,null,null,null,null,null,null,null,null,null,null,null,null,null,null,null,null,null,{"$f":"IF(B8259>\"\",B8259&TEXT(D8259,\"aaa-yy\"),\"\")","v":""}]
["",null,null,null,null,null,null,null,null,null,null,null,null,null,null,null,null,null,null,null,null,null,null,null,null,null,null,null,null,null,null,null,null,null,null,null,null,null,null,null,null,null,null,null,null,null,null,null,null,null,null,null,null,null,null,null,null,""]
["",null,null,null,null,null,null,null,null,null,null,null,null,null,null,null,null,null,null,null,null,null,null,null,null,null,null,null,null,null,null,null,null,null,null,null,null,null,null,null,null,null,null,null,null,null,null,null,null,null,null,null,null,null,null,null,null,""]
[{"$f":"IF(B8323>\"\",YEAR(D8323),\"\")","v":""},null,null,null,null,null,null,null,null,null,null,null,null,null,null,null,null,null,null,null,null,null,null,null,null,null,null,null,null,null,null,null,null,null,null,null,null,null,null,null,null,null,null,null,null,null,null,null,null,null,null,null,null,null,null,null,null,{"$f":"IF(B8323>\"\",B8323&TEXT(D8323,\"aaa-yy\"),\"\")","v":""}]
["",null,null,null,null,null,null,null,null,null,null,null,null,null,null,null,null,null,null,null,null,null,null,null,null,null,null,null,null,null,null,null,null,null,null,null,null,null,null,null,null,null,null,null,null,null,null,null,null,null,null,null,null,null,null,null,null,""]
["",null,null,null,null,null,null,null,null,null,null,null,null,null,null,null,null,null,null,null,null,null,null,null,null,null,null,null,null,null,null,null,null,null,null,null,null,null,null,null,null,null,null,null,null,null,null,null,null,null,null,null,null,null,null,null,null,""]
["",null,null,null,null,null,null,null,null,null,null,null,null,null,null,null,null,null,null,null,null,null,null,null,null,null,null,null,null,null,null,null,null,null,null,null,null,null,null,null,null,null,null,null,null,null,null,null,null,null,null,null,null,null,null,null,null,""]
[{"$f":"IF(B8387>\"\",YEAR(D8387),\"\")","v":""},null,null,null,null,null,null,null,null,null,null,null,null,null,null,null,null,null,null,null,null,null,null,null,null,null,null,null,null,null,null,null,null,null,null,null,null,null,null,null,null,null,null,null,null,null,null,null,null,null,null,null,null,null,null,null,null,{"$f":"IF(B8387>\"\",B8387&TEXT(D8387,\"aaa-yy\"),\"\")","v":""}]
["",null,null,null,null,null,null,null,null,null,null,null,null,null,null,null,null,null,null,null,null,null,null,null,null,null,null,null,null,null,null,null,null,null,null,null,null,null,null,null,null,null,null,null,null,null,null,null,null,null,null,null,null,null,null,null,null,""]
["",null,null,null,null,null,null,null,null,null,null,null,null,null,null,null,null,null,null,null,null,null,null,null,null,null,null,null,null,null,null,null,null,null,null,null,null,null,null,null,null,null,null,null,null,null,null,null,null,null,null,null,null,null,null,null,null,""]
[{"$f":"IF(B8451>\"\",YEAR(D8451),\"\")","v":""},null,null,null,null,null,null,null,null,null,null,null,null,null,null,null,null,null,null,null,null,null,null,null,null,null,null,null,null,null,null,null,null,null,null,null,null,null,null,null,null,null,null,null,null,null,null,null,null,null,null,null,null,null,null,null,null,{"$f":"IF(B8451>\"\",B8451&TEXT(D8451,\"aaa-yy\"),\"\")","v":""}]
["",null,null,null,null,null,null,null,null,null,null,null,null,null,null,null,null,null,null,null,null,null,null,null,null,null,null,null,null,null,null,null,null,null,null,null,null,null,null,null,null,null,null,null,null,null,null,null,null,null,null,null,null,null,null,null,null,""]
["",null,null,null,null,null,null,null,null,null,null,null,null,null,null,null,null,null,null,null,null,null,null,null,null,null,null,null,null,null,null,null,null,null,null,null,null,null,null,null,null,null,null,null,null,null,null,null,null,null,null,null,null,null,null,null,null,""]
["",null,null,null,null,null,null,null,null,null,null,null,null,null,null,null,null,null,null,null,null,null,null,null,null,null,null,null,null,null,null,null,null,null,null,null,null,null,null,null,null,null,null,null,null,null,null,null,null,null,null,null,null,null,null,null,null,""]
["",null,null,null,null,null,null,null,null,null,null,null,null,null,null,null,null,null,null,null,null,null,null,null,null,null,null,null,null,null,null,null,null,null,null,null,null,null,null,null,null,null,null,null,null,null,null,null,null,null,null,null,null,null,null,null,null,""]
["",null,null,null,null,null,null,null,null,null,null,null,null,null,null,null,null,null,null,null,null,null,null,null,null,null,null,null,null,null,null,null,null,null,null,null,null,null,null,null,null,null,null,null,null,null,null,null,null,null,null,null,null,null,null,null,null,""]
["",null,null,null,null,null,null,null,null,null,null,null,null,null,null,null,null,null,null,null,null,null,null,null,null,null,null,null,null,null,null,null,null,null,null,null,null,null,null,null,null,null,null,null,null,null,null,null,null,null,null,null,null,null,null,null,null,""]
["",null,null,null,null,null,null,null,null,null,null,null,null,null,null,null,null,null,null,null,null,null,null,null,null,null,null,null,null,null,null,null,null,null,null,null,null,null,null,null,null,null,null,null,null,null,null,null,null,null,null,null,null,null,null,null,null,""]
["",null,null,null,null,null,null,null,null,null,null,null,null,null,null,null,null,null,null,null,null,null,null,null,null,null,null,null,null,null,null,null,null,null,null,null,null,null,null,null,null,null,null,null,null,null,null,null,null,null,null,null,null,null,null,null,null,""]
["",null,null,null,null,null,null,null,null,null,null,null,null,null,null,null,null,null,null,null,null,null,null,null,null,null,null,null,null,null,null,null,null,null,null,null,null,null,null,null,null,null,null,null,null,null,null,null,null,null,null,null,null,null,null,null,null,""]
["",null,null,null,null,null,null,null,null,null,null,null,null,null,null,null,null,null,null,null,null,null,null,null,null,null,null,null,null,null,null,null,null,null,null,null,null,null,null,null,null,null,null,null,null,null,null,null,null,null,null,null,null,null,null,null,null,""]
["",null,null,null,null,null,null,null,null,null,null,null,null,null,null,null,null,null,null,null,null,null,null,null,null,null,null,null,null,null,null,null,null,null,null,null,null,null,null,null,null,null,null,null,null,null,null,null,null,null,null,null,null,null,null,null,null,""]
["",null,null,null,null,null,null,null,null,null,null,null,null,null,null,null,null,null,null,null,null,null,null,null,null,null,null,null,null,null,null,null,null,null,null,null,null,null,null,null,null,null,null,null,null,null,null,null,null,null,null,null,null,null,null,null,null,""]
["",null,null,null,null,null,null,null,null,null,null,null,null,null,null,null,null,null,null,null,null,null,null,null,null,null,null,null,null,null,null,null,null,null,null,null,null,null,null,null,null,null,null,null,null,null,null,null,null,null,null,null,null,null,null,null,null,""]
["",null,null,null,null,null,null,null,null,null,null,null,null,null,null,null,null,null,null,null,null,null,null,null,null,null,null,null,null,null,null,null,null,null,null,null,null,null,null,null,null,null,null,null,null,null,null,null,null,null,null,null,null,null,null,null,null,""]
["",null,null,null,null,null,null,null,null,null,null,null,null,null,null,null,null,null,null,null,null,null,null,null,null,null,null,null,null,null,null,null,null,null,null,null,null,null,null,null,null,null,null,null,null,null,null,null,null,null,null,null,null,null,null,null,null,""]
["",null,null,null,null,null,null,null,null,null,null,null,null,null,null,null,null,null,null,null,null,null,null,null,null,null,null,null,null,null,null,null,null,null,null,null,null,null,null,null,null,null,null,null,null,null,null,null,null,null,null,null,null,null,null,null,null,""]
["",null,null,null,null,null,null,null,null,null,null,null,null,null,null,null,null,null,null,null,null,null,null,null,null,null,null,null,null,null,null,null,null,null,null,null,null,null,null,null,null,null,null,null,null,null,null,null,null,null,null,null,null,null,null,null,null,""]
["",null,null,null,null,null,null,null,null,null,null,null,null,null,null,null,null,null,null,null,null,null,null,null,null,null,null,null,null,null,null,null,null,null,null,null,null,null,null,null,null,null,null,null,null,null,null,null,null,null,null,null,null,null,null,null,null,""]
["",null,null,null,null,null,null,null,null,null,null,null,null,null,null,null,null,null,null,null,null,null,null,null,null,null,null,null,null,null,null,null,null,null,null,null,null,null,null,null,null,null,null,null,null,null,null,null,null,null,null,null,null,null,null,null,null,""]
["",null,null,null,null,null,null,null,null,null,null,null,null,null,null,null,null,null,null,null,null,null,null,null,null,null,null,null,null,null,null,null,null,null,null,null,null,null,null,null,null,null,null,null,null,null,null,null,null,null,null,null,null,null,null,null,null,""]
["",null,null,null,null,null,null,null,null,null,null,null,null,null,null,null,null,null,null,null,null,null,null,null,null,null,null,null,null,null,null,null,null,null,null,null,null,null,null,null,null,null,null,null,null,null,null,null,null,null,null,null,null,null,null,null,null,""]
["",null,null,null,null,null,null,null,null,null,null,null,null,null,null,null,null,null,null,null,null,null,null,null,null,null,null,null,null,null,null,null,null,null,null,null,null,null,null,null,null,null,null,null,null,null,null,null,null,null,null,null,null,null,null,null,null,""]
["",null,null,null,null,null,null,null,null,null,null,null,null,null,null,null,null,null,null,null,null,null,null,null,null,null,null,null,null,null,null,null,null,null,null,null,null,null,null,null,null,null,null,null,null,null,null,null,null,null,null,null,null,null,null,null,null,""]
["",null,null,null,null,null,null,null,null,null,null,null,null,null,null,null,null,null,null,null,null,null,null,null,null,null,null,null,null,null,null,null,null,null,null,null,null,null,null,null,null,null,null,null,null,null,null,null,null,null,null,null,null,null,null,null,null,""]
["",null,null,null,null,null,null,null,null,null,null,null,null,null,null,null,null,null,null,null,null,null,null,null,null,null,null,null,null,null,null,null,null,null,null,null,null,null,null,null,null,null,null,null,null,null,null,null,null,null,null,null,null,null,null,null,null,""]
["",null,null,null,null,null,null,null,null,null,null,null,null,null,null,null,null,null,null,null,null,null,null,null,null,null,null,null,null,null,null,null,null,null,null,null,null,null,null,null,null,null,null,null,null,null,null,null,null,null,null,null,null,null,null,null,null,""]
["",null,null,null,null,null,null,null,null,null,null,null,null,null,null,null,null,null,null,null,null,null,null,null,null,null,null,null,null,null,null,null,null,null,null,null,null,null,null,null,null,null,null,null,null,null,null,null,null,null,null,null,null,null,null,null,null,""]
["",null,null,null,null,null,null,null,null,null,null,null,null,null,null,null,null,null,null,null,null,null,null,null,null,null,null,null,null,null,null,null,null,null,null,null,null,null,null,null,null,null,null,null,null,null,null,null,null,null,null,null,null,null,null,null,null,""]
["",null,null,null,null,null,null,null,null,null,null,null,null,null,null,null,null,null,null,null,null,null,null,null,null,null,null,null,null,null,null,null,null,null,null,null,null,null,null,null,null,null,null,null,null,null,null,null,null,null,null,null,null,null,null,null,null,""]
[{"$f":"IF(B9027>\"\",YEAR(D9027),\"\")","v":""},null,null,null,null,null,null,null,null,null,null,null,null,null,null,null,null,null,null,null,null,null,null,null,null,null,null,null,null,null,null,null,null,null,null,null,null,null,null,null,null,null,null,null,null,null,null,null,null,null,null,null,null,null,null,null,null,{"$f":"IF(B9027>\"\",B9027&TEXT(D9027,\"aaa-yy\"),\"\")","v":""}]
["",null,null,null,null,null,null,null,null,null,null,null,null,null,null,null,null,null,null,null,null,null,null,null,null,null,null,null,null,null,null,null,null,null,null,null,null,null,null,null,null,null,null,null,null,null,null,null,null,null,null,null,null,null,null,null,null,""]
["",null,null,null,null,null,null,null,null,null,null,null,null,null,null,null,null,null,null,null,null,null,null,null,null,null,null,null,null,null,null,null,null,null,null,null,null,null,null,null,null,null,null,null,null,null,null,null,null,null,null,null,null,null,null,null,null,""]
[{"$f":"IF(B9091>\"\",YEAR(D9091),\"\")","v":""},null,null,null,null,null,null,null,null,null,null,null,null,null,null,null,null,null,null,null,null,null,null,null,null,null,null,null,null,null,null,null,null,null,null,null,null,null,null,null,null,null,null,null,null,null,null,null,null,null,null,null,null,null,null,null,null,{"$f":"IF(B9091>\"\",B9091&TEXT(D9091,\"aaa-yy\"),\"\")","v":""}]
["",null,null,null,null,null,null,null,null,null,null,null,null,null,null,null,null,null,null,null,null,null,null,null,null,null,null,null,null,null,null,null,null,null,null,null,null,null,null,null,null,null,null,null,null,null,null,null,null,null,null,null,null,null,null,null,null,""]
["",null,null,null,null,null,null,null,null,null,null,null,null,null,null,null,null,null,null,null,null,null,null,null,null,null,null,null,null,null,null,null,null,null,null,null,null,null,null,null,null,null,null,null,null,null,null,null,null,null,null,null,null,null,null,null,null,""]
[{"$f":"IF(B9155>\"\",YEAR(D9155),\"\")","v":""},null,null,null,null,null,null,null,null,null,null,null,null,null,null,null,null,null,null,null,null,null,null,null,null,null,null,null,null,null,null,null,null,null,null,null,null,null,null,null,null,null,null,null,null,null,null,null,null,null,null,null,null,null,null,null,null,{"$f":"IF(B9155>\"\",B9155&TEXT(D9155,\"aaa-yy\"),\"\")","v":""}]
["",null,null,null,null,null,null,null,null,null,null,null,null,null,null,null,null,null,null,null,null,null,null,null,null,null,null,null,null,null,null,null,null,null,null,null,null,null,null,null,null,null,null,null,null,null,null,null,null,null,null,null,null,null,null,null,null,""]
["",null,null,null,null,null,null,null,null,null,null,null,null,null,null,null,null,null,null,null,null,null,null,null,null,null,null,null,null,null,null,null,null,null,null,null,null,null,null,null,null,null,null,null,null,null,null,null,null,null,null,null,null,null,null,null,null,""]
["",null,null,null,null,null,null,null,null,null,null,null,null,null,null,null,null,null,null,null,null,null,null,null,null,null,null,null,null,null,null,null,null,null,null,null,null,null,null,null,null,null,null,null,null,null,null,null,null,null,null,null,null,null,null,null,null,""]
["",null,null,null,null,null,null,null,null,null,null,null,null,null,null,null,null,null,null,null,null,null,null,null,null,null,null,null,null,null,null,null,null,null,null,null,null,null,null,null,null,null,null,null,null,null,null,null,null,null,null,null,null,null,null,null,null,""]
["",null,null,null,null,null,null,null,null,null,null,null,null,null,null,null,null,null,null,null,null,null,null,null,null,null,null,null,null,null,null,null,null,null,null,null,null,null,null,null,null,null,null,null,null,null,null,null,null,null,null,null,null,null,null,null,null,""]
["",null,null,null,null,null,null,null,null,null,null,null,null,null,null,null,null,null,null,null,null,null,null,null,null,null,null,null,null,null,null,null,null,null,null,null,null,null,null,null,null,null,null,null,null,null,null,null,null,null,null,null,null,null,null,null,null,""]
["",null,null,null,null,null,null,null,null,null,null,null,null,null,null,null,null,null,null,null,null,null,null,null,null,null,null,null,null,null,null,null,null,null,null,null,null,null,null,null,null,null,null,null,null,null,null,null,null,null,null,null,null,null,null,null,null,""]
["",null,null,null,null,null,null,null,null,null,null,null,null,null,null,null,null,null,null,null,null,null,null,null,null,null,null,null,null,null,null,null,null,null,null,null,null,null,null,null,null,null,null,null,null,null,null,null,null,null,null,null,null,null,null,null,null,""]
["",null,null,null,null,null,null,null,null,null,null,null,null,null,null,null,null,null,null,null,null,null,null,null,null,null,null,null,null,null,null,null,null,null,null,null,null,null,null,null,null,null,null,null,null,null,null,null,null,null,null,null,null,null,null,null,null,""]
["",null,null,null,null,null,null,null,null,null,null,null,null,null,null,null,null,null,null,null,null,null,null,null,null,null,null,null,null,null,null,null,null,null,null,null,null,null,null,null,null,null,null,null,null,null,null,null,null,null,null,null,null,null,null,null,null,""]
["",null,null,null,null,null,null,null,null,null,null,null,null,null,null,null,null,null,null,null,null,null,null,null,null,null,null,null,null,null,null,null,null,null,null,null,null,null,null,null,null,null,null,null,null,null,null,null,null,null,null,null,null,null,null,null,null,""]
["",null,null,null,null,null,null,null,null,null,null,null,null,null,null,null,null,null,null,null,null,null,null,null,null,null,null,null,null,null,null,null,null,null,null,null,null,null,null,null,null,null,null,null,null,null,null,null,null,null,null,null,null,null,null,null,null,""]
["",null,null,null,null,null,null,null,null,null,null,null,null,null,null,null,null,null,null,null,null,null,null,null,null,null,null,null,null,null,null,null,null,null,null,null,null,null,null,null,null,null,null,null,null,null,null,null,null,null,null,null,null,null,null,null,null,""]
["",null,null,null,null,null,null,null,null,null,null,null,null,null,null,null,null,null,null,null,null,null,null,null,null,null,null,null,null,null,null,null,null,null,null,null,null,null,null,null,null,null,null,null,null,null,null,null,null,null,null,null,null,null,null,null,null,""]
["",null,null,null,null,null,null,null,null,null,null,null,null,null,null,null,null,null,null,null,null,null,null,null,null,null,null,null,null,null,null,null,null,null,null,null,null,null,null,null,null,null,null,null,null,null,null,null,null,null,null,null,null,null,null,null,null,""]
["",null,null,null,null,null,null,null,null,null,null,null,null,null,null,null,null,null,null,null,null,null,null,null,null,null,null,null,null,null,null,null,null,null,null,null,null,null,null,null,null,null,null,null,null,null,null,null,null,null,null,null,null,null,null,null,null,""]
["",null,null,null,null,null,null,null,null,null,null,null,null,null,null,null,null,null,null,null,null,null,null,null,null,null,null,null,null,null,null,null,null,null,null,null,null,null,null,null,null,null,null,null,null,null,null,null,null,null,null,null,null,null,null,null,null,""]
["",null,null,null,null,null,null,null,null,null,null,null,null,null,null,null,null,null,null,null,null,null,null,null,null,null,null,null,null,null,null,null,null,null,null,null,null,null,null,null,null,null,null,null,null,null,null,null,null,null,null,null,null,null,null,null,null,""]
["",null,null,null,null,null,null,null,null,null,null,null,null,null,null,null,null,null,null,null,null,null,null,null,null,null,null,null,null,null,null,null,null,null,null,null,null,null,null,null,null,null,null,null,null,null,null,null,null,null,null,null,null,null,null,null,null,""]
["",null,null,null,null,null,null,null,null,null,null,null,null,null,null,null,null,null,null,null,null,null,null,null,null,null,null,null,null,null,null,null,null,null,null,null,null,null,null,null,null,null,null,null,null,null,null,null,null,null,null,null,null,null,null,null,null,""]
["",null,null,null,null,null,null,null,null,null,null,null,null,null,null,null,null,null,null,null,null,null,null,null,null,null,null,null,null,null,null,null,null,null,null,null,null,null,null,null,null,null,null,null,null,null,null,null,null,null,null,null,null,null,null,null,null,""]
["",null,null,null,null,null,null,null,null,null,null,null,null,null,null,null,null,null,null,null,null,null,null,null,null,null,null,null,null,null,null,null,null,null,null,null,null,null,null,null,null,null,null,null,null,null,null,null,null,null,null,null,null,null,null,null,null,""]
["",null,null,null,null,null,null,null,null,null,null,null,null,null,null,null,null,null,null,null,null,null,null,null,null,null,null,null,null,null,null,null,null,null,null,null,null,null,null,null,null,null,null,null,null,null,null,null,null,null,null,null,null,null,null,null,null,""]
["",null,null,null,null,null,null,null,null,null,null,null,null,null,null,null,null,null,null,null,null,null,null,null,null,null,null,null,null,null,null,null,null,null,null,null,null,null,null,null,null,null,null,null,null,null,null,null,null,null,null,null,null,null,null,null,null,""]
["",null,null,null,null,null,null,null,null,null,null,null,null,null,null,null,null,null,null,null,null,null,null,null,null,null,null,null,null,null,null,null,null,null,null,null,null,null,null,null,null,null,null,null,null,null,null,null,null,null,null,null,null,null,null,null,null,""]
["",null,null,null,null,null,null,null,null,null,null,null,null,null,null,null,null,null,null,null,null,null,null,null,null,null,null,null,null,null,null,null,null,null,null,null,null,null,null,null,null,null,null,null,null,null,null,null,null,null,null,null,null,null,null,null,null,""]
[{"$f":"IF(B9667>\"\",YEAR(D9667),\"\")","v":""},null,null,null,null,null,null,null,null,null,null,null,null,null,null,null,null,null,null,null,null,null,null,null,null,null,null,null,null,null,null,null,null,null,null,null,null,null,null,null,null,null,null,null,null,null,null,null,null,null,null,null,null,null,null,null,null,{"$f":"IF(B9667>\"\",B9667&TEXT(D9667,\"aaa-yy\"),\"\")","v":""}]
["",null,null,null,null,null,null,null,null,null,null,null,null,null,null,null,null,null,null,null,null,null,null,null,null,null,null,null,null,null,null,null,null,null,null,null,null,null,null,null,null,null,null,null,null,null,null,null,null,null,null,null,null,null,null,null,null,""]
["",null,null,null,null,null,null,null,null,null,null,null,null,null,null,null,null,null,null,null,null,null,null,null,null,null,null,null,null,null,null,null,null,null,null,null,null,null,null,null,null,null,null,null,null,null,null,null,null,null,null,null,null,null,null,null,null,""]
[{"$f":"IF(B9731>\"\",YEAR(D9731),\"\")","v":""},null,null,null,null,null,null,null,null,null,null,null,null,null,null,null,null,null,null,null,null,null,null,null,null,null,null,null,null,null,null,null,null,null,null,null,null,null,null,null,null,null,null,null,null,null,null,null,null,null,null,null,null,null,null,null,null,{"$f":"IF(B9731>\"\",B9731&TEXT(D9731,\"aaa-yy\"),\"\")","v":""}]
["",null,null,null,null,null,null,null,null,null,null,null,null,null,null,null,null,null,null,null,null,null,null,null,null,null,null,null,null,null,null,null,null,null,null,null,null,null,null,null,null,null,null,null,null,null,null,null,null,null,null,null,null,null,null,null,null,""]
["",null,null,null,null,null,null,null,null,null,null,null,null,null,null,null,null,null,null,null,null,null,null,null,null,null,null,null,null,null,null,null,null,null,null,null,null,null,null,null,null,null,null,null,null,null,null,null,null,null,null,null,null,null,null,null,null,""]
[{"$f":"IF(B9795>\"\",YEAR(D9795),\"\")","v":""},null,null,null,null,null,null,null,null,null,null,null,null,null,null,null,null,null,null,null,null,null,null,null,null,null,null,null,null,null,null,null,null,null,null,null,null,null,null,null,null,null,null,null,null,null,null,null,null,null,null,null,null,null,null,null,null,{"$f":"IF(B9795>\"\",B9795&TEXT(D9795,\"aaa-yy\"),\"\")","v":""}]
["",null,null,null,null,null,null,null,null,null,null,null,null,null,null,null,null,null,null,null,null,null,null,null,null,null,null,null,null,null,null,null,null,null,null,null,null,null,null,null,null,null,null,null,null,null,null,null,null,null,null,null,null,null,null,null,null,""]
["",null,null,null,null,null,null,null,null,null,null,null,null,null,null,null,null,null,null,null,null,null,null,null,null,null,null,null,null,null,null,null,null,null,null,null,null,null,null,null,null,null,null,null,null,null,null,null,null,null,null,null,null,null,null,null,null,""]
["",null,null,null,null,null,null,null,null,null,null,null,null,null,null,null,null,null,null,null,null,null,null,null,null,null,null,null,null,null,null,null,null,null,null,null,null,null,null,null,null,null,null,null,null,null,null,null,null,null,null,null,null,null,null,null,null,""]
["",null,null,null,null,null,null,null,null,null,null,null,null,null,null,null,null,null,null,null,null,null,null,null,null,null,null,null,null,null,null,null,null,null,null,null,null,null,null,null,null,null,null,null,null,null,null,null,null,null,null,null,null,null,null,null,null,""]
["",null,null,null,null,null,null,null,null,null,null,null,null,null,null,null,null,null,null,null,null,null,null,null,null,null,null,null,null,null,null,null,null,null,null,null,null,null,null,null,null,null,null,null,null,null,null,null,null,null,null,null,null,null,null,null,null,""]
["",null,null,null,null,null,null,null,null,null,null,null,null,null,null,null,null,null,null,null,null,null,null,null,null,null,null,null,null,null,null,null,null,null,null,null,null,null,null,null,null,null,null,null,null,null,null,null,null,null,null,null,null,null,null,null,null,""]
["",null,null,null,null,null,null,null,null,null,null,null,null,null,null,null,null,null,null,null,null,null,null,null,null,null,null,null,null,null,null,null,null,null,null,null,null,null,null,null,null,null,null,null,null,null,null,null,null,null,null,null,null,null,null,null,null,""]
["",null,null,null,null,null,null,null,null,null,null,null,null,null,null,null,null,null,null,null,null,null,null,null,null,null,null,null,null,null,null,null,null,null,null,null,null,null,null,null,null,null,null,null,null,null,null,null,null,null,null,null,null,null,null,null,null,""]
["",null,null,null,null,null,null,null,null,null,null,null,null,null,null,null,null,null,null,null,null,null,null,null,null,null,null,null,null,null,null,null,null,null,null,null,null,null,null,null,null,null,null,null,null,null,null,null,null,null,null,null,null,null,null,null,null,""]
["",null,null,null,null,null,null,null,null,null,null,null,null,null,null,null,null,null,null,null,null,null,null,null,null,null,null,null,null,null,null,null,null,null,null,null,null,null,null,null,null,null,null,null,null,null,null,null,null,null,null,null,null,null,null,null,null,""]
["",null,null,null,null,null,null,null,null,null,null,null,null,null,null,null,null,null,null,null,null,null,null,null,null,null,null,null,null,null,null,null,null,null,null,null,null,null,null,null,null,null,null,null,null,null,null,null,null,null,null,null,null,null,null,null,null,""]
["",null,null,null,null,null,null,null,null,null,null,null,null,null,null,null,null,null,null,null,null,null,null,null,null,null,null,null,null,null,null,null,null,null,null,null,null,null,null,null,null,null,null,null,null,null,null,null,null,null,null,null,null,null,null,null,null,""]
["",null,null,null,null,null,null,null,null,null,null,null,null,null,null,null,null,null,null,null,null,null,null,null,null,null,null,null,null,null,null,null,null,null,null,null,null,null,null,null,null,null,null,null,null,null,null,null,null,null,null,null,null,null,null,null,null,""]
["",null,null,null,null,null,null,null,null,null,null,null,null,null,null,null,null,null,null,null,null,null,null,null,null,null,null,null,null,null,null,null,null,null,null,null,null,null,null,null,null,null,null,null,null,null,null,null,null,null,null,null,null,null,null,null,null,""]
["",null,null,null,null,null,null,null,null,null,null,null,null,null,null,null,null,null,null,null,null,null,null,null,null,null,null,null,null,null,null,null,null,null,null,null,null,null,null,null,null,null,null,null,null,null,null,null,null,null,null,null,null,null,null,null,null,""]
["",null,null,null,null,null,null,null,null,null,null,null,null,null,null,null,null,null,null,null,null,null,null,null,null,null,null,null,null,null,null,null,null,null,null,null,null,null,null,null,null,null,null,null,null,null,null,null,null,null,null,null,null,null,null,null,null,""]
["",null,null,null,null,null,null,null,null,null,null,null,null,null,null,null,null,null,null,null,null,null,null,null,null,null,null,null,null,null,null,null,null,null,null,null,null,null,null,null,null,null,null,null,null,null,null,null,null,null,null,null,null,null,null,null,null,""]
["",null,null,null,null,null,null,null,null,null,null,null,null,null,null,null,null,null,null,null,null,null,null,null,null,null,null,null,null,null,null,null,null,null,null,null,null,null,null,null,null,null,null,null,null,null,null,null,null,null,null,null,null,null,null,null,null,""]
["",null,null,null,null,null,null,null,null,null,null,null,null,null,null,null,null,null,null,null,null,null,null,null,null,null,null,null,null,null,null,null,null,null,null,null,null,null,null,null,null,null,null,null,null,null,null,null,null,null,null,null,null,null,null,null,null,""]
["",null,null,null,null,null,null,null,null,null,null,null,null,null,null,null,null,null,null,null,null,null,null,null,null,null,null,null,null,null,null,null,null,null,null,null,null,null,null,null,null,null,null,null,null,null,null,null,null,null,null,null,null,null,null,null,null,""]
["",null,null,null,null,null,null,null,null,null,null,null,null,null,null,null,null,null,null,null,null,null,null,null,null,null,null,null,null,null,null,null,null,null,null,null,null,null,null,null,null,null,null,null,null,null,null,null,null,null,null,null,null,null,null,null,null,""]
["",null,null,null,null,null,null,null,null,null,null,null,null,null,null,null,null,null,null,null,null,null,null,null,null,null,null,null,null,null,null,null,null,null,null,null,null,null,null,null,null,null,null,null,null,null,null,null,null,null,null,null,null,null,null,null,null,""]
["",null,null,null,null,null,null,null,null,null,null,null,null,null,null,null,null,null,null,null,null,null,null,null,null,null,null,null,null,null,null,null,null,null,null,null,null,null,null,null,null,null,null,null,null,null,null,null,null,null,null,null,null,null,null,null,null,""]
["",null,null,null,null,null,null,null,null,null,null,null,null,null,null,null,null,null,null,null,null,null,null,null,null,null,null,null,null,null,null,null,null,null,null,null,null,null,null,null,null,null,null,null,null,null,null,null,null,null,null,null,null,null,null,null,null,""]
["",null,null,null,null,null,null,null,null,null,null,null,null,null,null,null,null,null,null,null,null,null,null,null,null,null,null,null,null,null,null,null,null,null,null,null,null,null,null,null,null,null,null,null,null,null,null,null,null,null,null,null,null,null,null,null,null,""]
["",null,null,null,null,null,null,null,null,null,null,null,null,null,null,null,null,null,null,null,null,null,null,null,null,null,null,null,null,null,null,null,null,null,null,null,null,null,null,null,null,null,null,null,null,null,null,null,null,null,null,null,null,null,null,null,null,""]
["",null,null,null,null,null,null,null,null,null,null,null,null,null,null,null,null,null,null,null,null,null,null,null,null,null,null,null,null,null,null,null,null,null,null,null,null,null,null,null,null,null,null,null,null,null,null,null,null,null,null,null,null,null,null,null,null,""]
["",null,null,null,null,null,null,null,null,null,null,null,null,null,null,null,null,null,null,null,null,null,null,null,null,null,null,null,null,null,null,null,null,null,null,null,null,null,null,null,null,null,null,null,null,null,null,null,null,null,null,null,null,null,null,null,null,""]
["",null,null,null,null,null,null,null,null,null,null,null,null,null,null,null,null,null,null,null,null,null,null,null,null,null,null,null,null,null,null,null,null,null,null,null,null,null,null,null,null,null,null,null,null,null,null,null,null,null,null,null,null,null,null,null,null,""]
["",null,null,null,null,null,null,null,null,null,null,null,null,null,null,null,null,null,null,null,null,null,null,null,null,null,null,null,null,null,null,null,null,null,null,null,null,null,null,null,null,null,null,null,null,null,null,null,null,null,null,null,null,null,null,null,null,""]
["",null,null,null,null,null,null,null,null,null,null,null,null,null,null,null,null,null,null,null,null,null,null,null,null,null,null,null,null,null,null,null,null,null,null,null,null,null,null,null,null,null,null,null,null,null,null,null,null,null,null,null,null,null,null,null,null,""]
["",null,null,null,null,null,null,null,null,null,null,null,null,null,null,null,null,null,null,null,null,null,null,null,null,null,null,null,null,null,null,null,null,null,null,null,null,null,null,null,null,null,null,null,null,null,null,null,null,null,null,null,null,null,null,null,null,""]
[{"$f":"IF(B10179>\"\",YEAR(D10179),\"\")","v":""},null,null,null,null,null,null,null,null,null,null,null,null,null,null,null,null,null,null,null,null,null,null,null,null,null,null,null,null,null,null,null,null,null,null,null,null,null,null,null,null,null,null,null,null,null,null,null,null,null,null,null,null,null,null,null,null,{"$f":"IF(B10179>\"\",B10179&TEXT(D10179,\"aaa-yy\"),\"\")","v":""}]
["",null,null,null,null,null,null,null,null,null,null,null,null,null,null,null,null,null,null,null,null,null,null,null,null,null,null,null,null,null,null,null,null,null,null,null,null,null,null,null,null,null,null,null,null,null,null,null,null,null,null,null,null,null,null,null,null,""]
["",null,null,null,null,null,null,null,null,null,null,null,null,null,null,null,null,null,null,null,null,null,null,null,null,null,null,null,null,null,null,null,null,null,null,null,null,null,null,null,null,null,null,null,null,null,null,null,null,null,null,null,null,null,null,null,null,""]
["",null,null,null,null,null,null,null,null,null,null,null,null,null,null,null,null,null,null,null,null,null,null,null,null,null,null,null,null,null,null,null,null,null,null,null,null,null,null,null,null,null,null,null,null,null,null,null,null,null,null,null,null,null,null,null,null,""]
["",null,null,null,null,null,null,null,null,null,null,null,null,null,null,null,null,null,null,null,null,null,null,null,null,null,null,null,null,null,null,null,null,null,null,null,null,null,null,null,null,null,null,null,null,null,null,null,null,null,null,null,null,null,null,null,null,""]
["",null,null,null,null,null,null,null,null,null,null,null,null,null,null,null,null,null,null,null,null,null,null,null,null,null,null,null,null,null,null,null,null,null,null,null,null,null,null,null,null,null,null,null,null,null,null,null,null,null,null,null,null,null,null,null,null,""]
["",null,null,null,null,null,null,null,null,null,null,null,null,null,null,null,null,null,null,null,null,null,null,null,null,null,null,null,null,null,null,null,null,null,null,null,null,null,null,null,null,null,null,null,null,null,null,null,null,null,null,null,null,null,null,null,null,""]
["",null,null,null,null,null,null,null,null,null,null,null,null,null,null,null,null,null,null,null,null,null,null,null,null,null,null,null,null,null,null,null,null,null,null,null,null,null,null,null,null,null,null,null,null,null,null,null,null,null,null,null,null,null,null,null,null,""]
["",null,null,null,null,null,null,null,null,null,null,null,null,null,null,null,null,null,null,null,null,null,null,null,null,null,null,null,null,null,null,null,null,null,null,null,null,null,null,null,null,null,null,null,null,null,null,null,null,null,null,null,null,null,null,null,null,""]
["",null,null,null,null,null,null,null,null,null,null,null,null,null,null,null,null,null,null,null,null,null,null,null,null,null,null,null,null,null,null,null,null,null,null,null,null,null,null,null,null,null,null,null,null,null,null,null,null,null,null,null,null,null,null,null,null,""]
["",null,null,null,null,null,null,null,null,null,null,null,null,null,null,null,null,null,null,null,null,null,null,null,null,null,null,null,null,null,null,null,null,null,null,null,null,null,null,null,null,null,null,null,null,null,null,null,null,null,null,null,null,null,null,null,null,""]
["",null,null,null,null,null,null,null,null,null,null,null,null,null,null,null,null,null,null,null,null,null,null,null,null,null,null,null,null,null,null,null,null,null,null,null,null,null,null,null,null,null,null,null,null,null,null,null,null,null,null,null,null,null,null,null,null,""]
["",null,null,null,null,null,null,null,null,null,null,null,null,null,null,null,null,null,null,null,null,null,null,null,null,null,null,null,null,null,null,null,null,null,null,null,null,null,null,null,null,null,null,null,null,null,null,null,null,null,null,null,null,null,null,null,null,""]
["",null,null,null,null,null,null,null,null,null,null,null,null,null,null,null,null,null,null,null,null,null,null,null,null,null,null,null,null,null,null,null,null,null,null,null,null,null,null,null,null,null,null,null,null,null,null,null,null,null,null,null,null,null,null,null,null,""]
["",null,null,null,null,null,null,null,null,null,null,null,null,null,null,null,null,null,null,null,null,null,null,null,null,null,null,null,null,null,null,null,null,null,null,null,null,null,null,null,null,null,null,null,null,null,null,null,null,null,null,null,null,null,null,null,null,""]
["",null,null,null,null,null,null,null,null,null,null,null,null,null,null,null,null,null,null,null,null,null,null,null,null,null,null,null,null,null,null,null,null,null,null,null,null,null,null,null,null,null,null,null,null,null,null,null,null,null,null,null,null,null,null,null,null,""]
["",null,null,null,null,null,null,null,null,null,null,null,null,null,null,null,null,null,null,null,null,null,null,null,null,null,null,null,null,null,null,null,null,null,null,null,null,null,null,null,null,null,null,null,null,null,null,null,null,null,null,null,null,null,null,null,null,""]
["",null,null,null,null,null,null,null,null,null,null,null,null,null,null,null,null,null,null,null,null,null,null,null,null,null,null,null,null,null,null,null,null,null,null,null,null,null,null,null,null,null,null,null,null,null,null,null,null,null,null,null,null,null,null,null,null,""]
["",null,null,null,null,null,null,null,null,null,null,null,null,null,null,null,null,null,null,null,null,null,null,null,null,null,null,null,null,null,null,null,null,null,null,null,null,null,null,null,null,null,null,null,null,null,null,null,null,null,null,null,null,null,null,null,null,""]
["",null,null,null,null,null,null,null,null,null,null,null,null,null,null,null,null,null,null,null,null,null,null,null,null,null,null,null,null,null,null,null,null,null,null,null,null,null,null,null,null,null,null,null,null,null,null,null,null,null,null,null,null,null,null,null,null,""]
["",null,null,null,null,null,null,null,null,null,null,null,null,null,null,null,null,null,null,null,null,null,null,null,null,null,null,null,null,null,null,null,null,null,null,null,null,null,null,null,null,null,null,null,null,null,null,null,null,null,null,null,null,null,null,null,null,""]
["",null,null,null,null,null,null,null,null,null,null,null,null,null,null,null,null,null,null,null,null,null,null,null,null,null,null,null,null,null,null,null,null,null,null,null,null,null,null,null,null,null,null,null,null,null,null,null,null,null,null,null,null,null,null,null,null,""]
["",null,null,null,null,null,null,null,null,null,null,null,null,null,null,null,null,null,null,null,null,null,null,null,null,null,null,null,null,null,null,null,null,null,null,null,null,null,null,null,null,null,null,null,null,null,null,null,null,null,null,null,null,null,null,null,null,""]
["",null,null,null,null,null,null,null,null,null,null,null,null,null,null,null,null,null,null,null,null,null,null,null,null,null,null,null,null,null,null,null,null,null,null,null,null,null,null,null,null,null,null,null,null,null,null,null,null,null,null,null,null,null,null,null,null,""]
["",null,null,null,null,null,null,null,null,null,null,null,null,null,null,null,null,null,null,null,null,null,null,null,null,null,null,null,null,null,null,null,null,null,null,null,null,null,null,null,null,null,null,null,null,null,null,null,null,null,null,null,null,null,null,null,null,""]
["",null,null,null,null,null,null,null,null,null,null,null,null,null,null,null,null,null,null,null,null,null,null,null,null,null,null,null,null,null,null,null,null,null,null,null,null,null,null,null,null,null,null,null,null,null,null,null,null,null,null,null,null,null,null,null,null,""]
["",null,null,null,null,null,null,null,null,null,null,null,null,null,null,null,null,null,null,null,null,null,null,null,null,null,null,null,null,null,null,null,null,null,null,null,null,null,null,null,null,null,null,null,null,null,null,null,null,null,null,null,null,null,null,null,null,""]
["",null,null,null,null,null,null,null,null,null,null,null,null,null,null,null,null,null,null,null,null,null,null,null,null,null,null,null,null,null,null,null,null,null,null,null,null,null,null,null,null,null,null,null,null,null,null,null,null,null,null,null,null,null,null,null,null,""]
["",null,null,null,null,null,null,null,null,null,null,null,null,null,null,null,null,null,null,null,null,null,null,null,null,null,null,null,null,null,null,null,null,null,null,null,null,null,null,null,null,null,null,null,null,null,null,null,null,null,null,null,null,null,null,null,null,""]
["",null,null,null,null,null,null,null,null,null,null,null,null,null,null,null,null,null,null,null,null,null,null,null,null,null,null,null,null,null,null,null,null,null,null,null,null,null,null,null,null,null,null,null,null,null,null,null,null,null,null,null,null,null,null,null,null,""]
["",null,null,null,null,null,null,null,null,null,null,null,null,null,null,null,null,null,null,null,null,null,null,null,null,null,null,null,null,null,null,null,null,null,null,null,null,null,null,null,null,null,null,null,null,null,null,null,null,null,null,null,null,null,null,null,null,""]
["",null,null,null,null,null,null,null,null,null,null,null,null,null,null,null,null,null,null,null,null,null,null,null,null,null,null,null,null,null,null,null,null,null,null,null,null,null,null,null,null,null,null,null,null,null,null,null,null,null,null,null,null,null,null,null,null,""]
["",null,null,null,null,null,null,null,null,null,null,null,null,null,null,null,null,null,null,null,null,null,null,null,null,null,null,null,null,null,null,null,null,null,null,null,null,null,null,null,null,null,null,null,null,null,null,null,null,null,null,null,null,null,null,null,null,""]
["",null,null,null,null,null,null,null,null,null,null,null,null,null,null,null,null,null,null,null,null,null,null,null,null,null,null,null,null,null,null,null,null,null,null,null,null,null,null,null,null,null,null,null,null,null,null,null,null,null,null,null,null,null,null,null,null,""]
["",null,null,null,null,null,null,null,null,null,null,null,null,null,null,null,null,null,null,null,null,null,null,null,null,null,null,null,null,null,null,null,null,null,null,null,null,null,null,null,null,null,null,null,null,null,null,null,null,null,null,null,null,null,null,null,null,""]
["",null,null,null,null,null,null,null,null,null,null,null,null,null,null,null,null,null,null,null,null,null,null,null,null,null,null,null,null,null,null,null,null,null,null,null,null,null,null,null,null,null,null,null,null,null,null,null,null,null,null,null,null,null,null,null,null,""]
["",null,null,null,null,null,null,null,null,null,null,null,null,null,null,null,null,null,null,null,null,null,null,null,null,null,null,null,null,null,null,null,null,null,null,null,null,null,null,null,null,null,null,null,null,null,null,null,null,null,null,null,null,null,null,null,null,""]
["",null,null,null,null,null,null,null,null,null,null,null,null,null,null,null,null,null,null,null,null,null,null,null,null,null,null,null,null,null,null,null,null,null,null,null,null,null,null,null,null,null,null,null,null,null,null,null,null,null,null,null,null,null,null,null,null,""]
["",null,null,null,null,null,null,null,null,null,null,null,null,null,null,null,null,null,null,null,null,null,null,null,null,null,null,null,null,null,null,null,null,null,null,null,null,null,null,null,null,null,null,null,null,null,null,null,null,null,null,null,null,null,null,null,null,""]
["",null,null,null,null,null,null,null,null,null,null,null,null,null,null,null,null,null,null,null,null,null,null,null,null,null,null,null,null,null,null,null,null,null,null,null,null,null,null,null,null,null,null,null,null,null,null,null,null,null,null,null,null,null,null,null,null,""]
["",null,null,null,null,null,null,null,null,null,null,null,null,null,null,null,null,null,null,null,null,null,null,null,null,null,null,null,null,null,null,null,null,null,null,null,null,null,null,null,null,null,null,null,null,null,null,null,null,null,null,null,null,null,null,null,null,""]
["",null,null,null,null,null,null,null,null,null,null,null,null,null,null,null,null,null,null,null,null,null,null,null,null,null,null,null,null,null,null,null,null,null,null,null,null,null,null,null,null,null,null,null,null,null,null,null,null,null,null,null,null,null,null,null,null,""]
["",null,null,null,null,null,null,null,null,null,null,null,null,null,null,null,null,null,null,null,null,null,null,null,null,null,null,null,null,null,null,null,null,null,null,null,null,null,null,null,null,null,null,null,null,null,null,null,null,null,null,null,null,null,null,null,null,""]
["",null,null,null,null,null,null,null,null,null,null,null,null,null,null,null,null,null,null,null,null,null,null,null,null,null,null,null,null,null,null,null,null,null,null,null,null,null,null,null,null,null,null,null,null,null,null,null,null,null,null,null,null,null,null,null,null,""]
["",null,null,null,null,null,null,null,null,null,null,null,null,null,null,null,null,null,null,null,null,null,null,null,null,null,null,null,null,null,null,null,null,null,null,null,null,null,null,null,null,null,null,null,null,null,null,null,null,null,null,null,null,null,null,null,null,""]
["",null,null,null,null,null,null,null,null,null,null,null,null,null,null,null,null,null,null,null,null,null,null,null,null,null,null,null,null,null,null,null,null,null,null,null,null,null,null,null,null,null,null,null,null,null,null,null,null,null,null,null,null,null,null,null,null,""]
["",null,null,null,null,null,null,null,null,null,null,null,null,null,null,null,null,null,null,null,null,null,null,null,null,null,null,null,null,null,null,null,null,null,null,null,null,null,null,null,null,null,null,null,null,null,null,null,null,null,null,null,null,null,null,null,null,""]
["",null,null,null,null,null,null,null,null,null,null,null,null,null,null,null,null,null,null,null,null,null,null,null,null,null,null,null,null,null,null,null,null,null,null,null,null,null,null,null,null,null,null,null,null,null,null,null,null,null,null,null,null,null,null,null,null,""]
["",null,null,null,null,null,null,null,null,null,null,null,null,null,null,null,null,null,null,null,null,null,null,null,null,null,null,null,null,null,null,null,null,null,null,null,null,null,null,null,null,null,null,null,null,null,null,null,null,null,null,null,null,null,null,null,null,""]
["",null,null,null,null,null,null,null,null,null,null,null,null,null,null,null,null,null,null,null,null,null,null,null,null,null,null,null,null,null,null,null,null,null,null,null,null,null,null,null,null,null,null,null,null,null,null,null,null,null,null,null,null,null,null,null,null,""]
["",null,null,null,null,null,null,null,null,null,null,null,null,null,null,null,null,null,null,null,null,null,null,null,null,null,null,null,null,null,null,null,null,null,null,null,null,null,null,null,null,null,null,null,null,null,null,null,null,null,null,null,null,null,null,null,null,""]
["",null,null,null,null,null,null,null,null,null,null,null,null,null,null,null,null,null,null,null,null,null,null,null,null,null,null,null,null,null,null,null,null,null,null,null,null,null,null,null,null,null,null,null,null,null,null,null,null,null,null,null,null,null,null,null,null,""]
["",null,null,null,null,null,null,null,null,null,null,null,null,null,null,null,null,null,null,null,null,null,null,null,null,null,null,null,null,null,null,null,null,null,null,null,null,null,null,null,null,null,null,null,null,null,null,null,null,null,null,null,null,null,null,null,null,""]
["",null,null,null,null,null,null,null,null,null,null,null,null,null,null,null,null,null,null,null,null,null,null,null,null,null,null,null,null,null,null,null,null,null,null,null,null,null,null,null,null,null,null,null,null,null,null,null,null,null,null,null,null,null,null,null,null,""]
["",null,null,null,null,null,null,null,null,null,null,null,null,null,null,null,null,null,null,null,null,null,null,null,null,null,null,null,null,null,null,null,null,null,null,null,null,null,null,null,null,null,null,null,null,null,null,null,null,null,null,null,null,null,null,null,null,""]
["",null,null,null,null,null,null,null,null,null,null,null,null,null,null,null,null,null,null,null,null,null,null,null,null,null,null,null,null,null,null,null,null,null,null,null,null,null,null,null,null,null,null,null,null,null,null,null,null,null,null,null,null,null,null,null,null,""]
["",null,null,null,null,null,null,null,null,null,null,null,null,null,null,null,null,null,null,null,null,null,null,null,null,null,null,null,null,null,null,null,null,null,null,null,null,null,null,null,null,null,null,null,null,null,null,null,null,null,null,null,null,null,null,null,null,""]
["",null,null,null,null,null,null,null,null,null,null,null,null,null,null,null,null,null,null,null,null,null,null,null,null,null,null,null,null,null,null,null,null,null,null,null,null,null,null,null,null,null,null,null,null,null,null,null,null,null,null,null,null,null,null,null,null,""]
["",null,null,null,null,null,null,null,null,null,null,null,null,null,null,null,null,null,null,null,null,null,null,null,null,null,null,null,null,null,null,null,null,null,null,null,null,null,null,null,null,null,null,null,null,null,null,null,null,null,null,null,null,null,null,null,null,""]
["",null,null,null,null,null,null,null,null,null,null,null,null,null,null,null,null,null,null,null,null,null,null,null,null,null,null,null,null,null,null,null,null,null,null,null,null,null,null,null,null,null,null,null,null,null,null,null,null,null,null,null,null,null,null,null,null,""]
["",null,null,null,null,null,null,null,null,null,null,null,null,null,null,null,null,null,null,null,null,null,null,null,null,null,null,null,null,null,null,null,null,null,null,null,null,null,null,null,null,null,null,null,null,null,null,null,null,null,null,null,null,null,null,null,null,""]
["",null,null,null,null,null,null,null,null,null,null,null,null,null,null,null,null,null,null,null,null,null,null,null,null,null,null,null,null,null,null,null,null,null,null,null,null,null,null,null,null,null,null,null,null,null,null,null,null,null,null,null,null,null,null,null,null,""]
["",null,null,null,null,null,null,null,null,null,null,null,null,null,null,null,null,null,null,null,null,null,null,null,null,null,null,null,null,null,null,null,null,null,null,null,null,null,null,null,null,null,null,null,null,null,null,null,null,null,null,null,null,null,null,null,null,""]
["",null,null,null,null,null,null,null,null,null,null,null,null,null,null,null,null,null,null,null,null,null,null,null,null,null,null,null,null,null,null,null,null,null,null,null,null,null,null,null,null,null,null,null,null,null,null,null,null,null,null,null,null,null,null,null,null,""]
[{"$f":"IF(B10243>\"\",YEAR(D10243),\"\")","v":""},null,null,null,null,null,null,null,null,null,null,null,null,null,null,null,null,null,null,null,null,null,null,null,null,null,null,null,null,null,null,null,null,null,null,null,null,null,null,null,null,null,null,null,null,null,null,null,null,null,null,null,null,null,null,null,null,{"$f":"IF(B10243>\"\",B10243&TEXT(D10243,\"aaa-yy\"),\"\")","v":""}]
["",null,null,null,null,null,null,null,null,null,null,null,null,null,null,null,null,null,null,null,null,null,null,null,null,null,null,null,null,null,null,null,null,null,null,null,null,null,null,null,null,null,null,null,null,null,null,null,null,null,null,null,null,null,null,null,null,""]
["",null,null,null,null,null,null,null,null,null,null,null,null,null,null,null,null,null,null,null,null,null,null,null,null,null,null,null,null,null,null,null,null,null,null,null,null,null,null,null,null,null,null,null,null,null,null,null,null,null,null,null,null,null,null,null,null,""]
["",null,null,null,null,null,null,null,null,null,null,null,null,null,null,null,null,null,null,null,null,null,null,null,null,null,null,null,null,null,null,null,null,null,null,null,null,null,null,null,null,null,null,null,null,null,null,null,null,null,null,null,null,null,null,null,null,""]
["",null,null,null,null,null,null,null,null,null,null,null,null,null,null,null,null,null,null,null,null,null,null,null,null,null,null,null,null,null,null,null,null,null,null,null,null,null,null,null,null,null,null,null,null,null,null,null,null,null,null,null,null,null,null,null,null,""]
["",null,null,null,null,null,null,null,null,null,null,null,null,null,null,null,null,null,null,null,null,null,null,null,null,null,null,null,null,null,null,null,null,null,null,null,null,null,null,null,null,null,null,null,null,null,null,null,null,null,null,null,null,null,null,null,null,""]
["",null,null,null,null,null,null,null,null,null,null,null,null,null,null,null,null,null,null,null,null,null,null,null,null,null,null,null,null,null,null,null,null,null,null,null,null,null,null,null,null,null,null,null,null,null,null,null,null,null,null,null,null,null,null,null,null,""]
["",null,null,null,null,null,null,null,null,null,null,null,null,null,null,null,null,null,null,null,null,null,null,null,null,null,null,null,null,null,null,null,null,null,null,null,null,null,null,null,null,null,null,null,null,null,null,null,null,null,null,null,null,null,null,null,null,""]
["",null,null,null,null,null,null,null,null,null,null,null,null,null,null,null,null,null,null,null,null,null,null,null,null,null,null,null,null,null,null,null,null,null,null,null,null,null,null,null,null,null,null,null,null,null,null,null,null,null,null,null,null,null,null,null,null,""]
["",null,null,null,null,null,null,null,null,null,null,null,null,null,null,null,null,null,null,null,null,null,null,null,null,null,null,null,null,null,null,null,null,null,null,null,null,null,null,null,null,null,null,null,null,null,null,null,null,null,null,null,null,null,null,null,null,""]
["",null,null,null,null,null,null,null,null,null,null,null,null,null,null,null,null,null,null,null,null,null,null,null,null,null,null,null,null,null,null,null,null,null,null,null,null,null,null,null,null,null,null,null,null,null,null,null,null,null,null,null,null,null,null,null,null,""]
["",null,null,null,null,null,null,null,null,null,null,null,null,null,null,null,null,null,null,null,null,null,null,null,null,null,null,null,null,null,null,null,null,null,null,null,null,null,null,null,null,null,null,null,null,null,null,null,null,null,null,null,null,null,null,null,null,""]
["",null,null,null,null,null,null,null,null,null,null,null,null,null,null,null,null,null,null,null,null,null,null,null,null,null,null,null,null,null,null,null,null,null,null,null,null,null,null,null,null,null,null,null,null,null,null,null,null,null,null,null,null,null,null,null,null,""]
["",null,null,null,null,null,null,null,null,null,null,null,null,null,null,null,null,null,null,null,null,null,null,null,null,null,null,null,null,null,null,null,null,null,null,null,null,null,null,null,null,null,null,null,null,null,null,null,null,null,null,null,null,null,null,null,null,""]
["",null,null,null,null,null,null,null,null,null,null,null,null,null,null,null,null,null,null,null,null,null,null,null,null,null,null,null,null,null,null,null,null,null,null,null,null,null,null,null,null,null,null,null,null,null,null,null,null,null,null,null,null,null,null,null,null,""]
["",null,null,null,null,null,null,null,null,null,null,null,null,null,null,null,null,null,null,null,null,null,null,null,null,null,null,null,null,null,null,null,null,null,null,null,null,null,null,null,null,null,null,null,null,null,null,null,null,null,null,null,null,null,null,null,null,""]
["",null,null,null,null,null,null,null,null,null,null,null,null,null,null,null,null,null,null,null,null,null,null,null,null,null,null,null,null,null,null,null,null,null,null,null,null,null,null,null,null,null,null,null,null,null,null,null,null,null,null,null,null,null,null,null,null,""]
["",null,null,null,null,null,null,null,null,null,null,null,null,null,null,null,null,null,null,null,null,null,null,null,null,null,null,null,null,null,null,null,null,null,null,null,null,null,null,null,null,null,null,null,null,null,null,null,null,null,null,null,null,null,null,null,null,""]
["",null,null,null,null,null,null,null,null,null,null,null,null,null,null,null,null,null,null,null,null,null,null,null,null,null,null,null,null,null,null,null,null,null,null,null,null,null,null,null,null,null,null,null,null,null,null,null,null,null,null,null,null,null,null,null,null,""]
["",null,null,null,null,null,null,null,null,null,null,null,null,null,null,null,null,null,null,null,null,null,null,null,null,null,null,null,null,null,null,null,null,null,null,null,null,null,null,null,null,null,null,null,null,null,null,null,null,null,null,null,null,null,null,null,null,""]
["",null,null,null,null,null,null,null,null,null,null,null,null,null,null,null,null,null,null,null,null,null,null,null,null,null,null,null,null,null,null,null,null,null,null,null,null,null,null,null,null,null,null,null,null,null,null,null,null,null,null,null,null,null,null,null,null,""]
["",null,null,null,null,null,null,null,null,null,null,null,null,null,null,null,null,null,null,null,null,null,null,null,null,null,null,null,null,null,null,null,null,null,null,null,null,null,null,null,null,null,null,null,null,null,null,null,null,null,null,null,null,null,null,null,null,""]
["",null,null,null,null,null,null,null,null,null,null,null,null,null,null,null,null,null,null,null,null,null,null,null,null,null,null,null,null,null,null,null,null,null,null,null,null,null,null,null,null,null,null,null,null,null,null,null,null,null,null,null,null,null,null,null,null,""]
["",null,null,null,null,null,null,null,null,null,null,null,null,null,null,null,null,null,null,null,null,null,null,null,null,null,null,null,null,null,null,null,null,null,null,null,null,null,null,null,null,null,null,null,null,null,null,null,null,null,null,null,null,null,null,null,null,""]
["",null,null,null,null,null,null,null,null,null,null,null,null,null,null,null,null,null,null,null,null,null,null,null,null,null,null,null,null,null,null,null,null,null,null,null,null,null,null,null,null,null,null,null,null,null,null,null,null,null,null,null,null,null,null,null,null,""]
["",null,null,null,null,null,null,null,null,null,null,null,null,null,null,null,null,null,null,null,null,null,null,null,null,null,null,null,null,null,null,null,null,null,null,null,null,null,null,null,null,null,null,null,null,null,null,null,null,null,null,null,null,null,null,null,null,""]
["",null,null,null,null,null,null,null,null,null,null,null,null,null,null,null,null,null,null,null,null,null,null,null,null,null,null,null,null,null,null,null,null,null,null,null,null,null,null,null,null,null,null,null,null,null,null,null,null,null,null,null,null,null,null,null,null,""]
["",null,null,null,null,null,null,null,null,null,null,null,null,null,null,null,null,null,null,null,null,null,null,null,null,null,null,null,null,null,null,null,null,null,null,null,null,null,null,null,null,null,null,null,null,null,null,null,null,null,null,null,null,null,null,null,null,""]
["",null,null,null,null,null,null,null,null,null,null,null,null,null,null,null,null,null,null,null,null,null,null,null,null,null,null,null,null,null,null,null,null,null,null,null,null,null,null,null,null,null,null,null,null,null,null,null,null,null,null,null,null,null,null,null,null,""]
["",null,null,null,null,null,null,null,null,null,null,null,null,null,null,null,null,null,null,null,null,null,null,null,null,null,null,null,null,null,null,null,null,null,null,null,null,null,null,null,null,null,null,null,null,null,null,null,null,null,null,null,null,null,null,null,null,""]
["",null,null,null,null,null,null,null,null,null,null,null,null,null,null,null,null,null,null,null,null,null,null,null,null,null,null,null,null,null,null,null,null,null,null,null,null,null,null,null,null,null,null,null,null,null,null,null,null,null,null,null,null,null,null,null,null,""]
["",null,null,null,null,null,null,null,null,null,null,null,null,null,null,null,null,null,null,null,null,null,null,null,null,null,null,null,null,null,null,null,null,null,null,null,null,null,null,null,null,null,null,null,null,null,null,null,null,null,null,null,null,null,null,null,null,""]
["",null,null,null,null,null,null,null,null,null,null,null,null,null,null,null,null,null,null,null,null,null,null,null,null,null,null,null,null,null,null,null,null,null,null,null,null,null,null,null,null,null,null,null,null,null,null,null,null,null,null,null,null,null,null,null,null,""]
["",null,null,null,null,null,null,null,null,null,null,null,null,null,null,null,null,null,null,null,null,null,null,null,null,null,null,null,null,null,null,null,null,null,null,null,null,null,null,null,null,null,null,null,null,null,null,null,null,null,null,null,null,null,null,null,null,""]
["",null,null,null,null,null,null,null,null,null,null,null,null,null,null,null,null,null,null,null,null,null,null,null,null,null,null,null,null,null,null,null,null,null,null,null,null,null,null,null,null,null,null,null,null,null,null,null,null,null,null,null,null,null,null,null,null,""]
["",null,null,null,null,null,null,null,null,null,null,null,null,null,null,null,null,null,null,null,null,null,null,null,null,null,null,null,null,null,null,null,null,null,null,null,null,null,null,null,null,null,null,null,null,null,null,null,null,null,null,null,null,null,null,null,null,""]
["",null,null,null,null,null,null,null,null,null,null,null,null,null,null,null,null,null,null,null,null,null,null,null,null,null,null,null,null,null,null,null,null,null,null,null,null,null,null,null,null,null,null,null,null,null,null,null,null,null,null,null,null,null,null,null,null,""]
["",null,null,null,null,null,null,null,null,null,null,null,null,null,null,null,null,null,null,null,null,null,null,null,null,null,null,null,null,null,null,null,null,null,null,null,null,null,null,null,null,null,null,null,null,null,null,null,null,null,null,null,null,null,null,null,null,""]
["",null,null,null,null,null,null,null,null,null,null,null,null,null,null,null,null,null,null,null,null,null,null,null,null,null,null,null,null,null,null,null,null,null,null,null,null,null,null,null,null,null,null,null,null,null,null,null,null,null,null,null,null,null,null,null,null,""]
["",null,null,null,null,null,null,null,null,null,null,null,null,null,null,null,null,null,null,null,null,null,null,null,null,null,null,null,null,null,null,null,null,null,null,null,null,null,null,null,null,null,null,null,null,null,null,null,null,null,null,null,null,null,null,null,null,""]
["",null,null,null,null,null,null,null,null,null,null,null,null,null,null,null,null,null,null,null,null,null,null,null,null,null,null,null,null,null,null,null,null,null,null,null,null,null,null,null,null,null,null,null,null,null,null,null,null,null,null,null,null,null,null,null,null,""]
["",null,null,null,null,null,null,null,null,null,null,null,null,null,null,null,null,null,null,null,null,null,null,null,null,null,null,null,null,null,null,null,null,null,null,null,null,null,null,null,null,null,null,null,null,null,null,null,null,null,null,null,null,null,null,null,null,""]
["",null,null,null,null,null,null,null,null,null,null,null,null,null,null,null,null,null,null,null,null,null,null,null,null,null,null,null,null,null,null,null,null,null,null,null,null,null,null,null,null,null,null,null,null,null,null,null,null,null,null,null,null,null,null,null,null,""]
["",null,null,null,null,null,null,null,null,null,null,null,null,null,null,null,null,null,null,null,null,null,null,null,null,null,null,null,null,null,null,null,null,null,null,null,null,null,null,null,null,null,null,null,null,null,null,null,null,null,null,null,null,null,null,null,null,""]
["",null,null,null,null,null,null,null,null,null,null,null,null,null,null,null,null,null,null,null,null,null,null,null,null,null,null,null,null,null,null,null,null,null,null,null,null,null,null,null,null,null,null,null,null,null,null,null,null,null,null,null,null,null,null,null,null,""]
["",null,null,null,null,null,null,null,null,null,null,null,null,null,null,null,null,null,null,null,null,null,null,null,null,null,null,null,null,null,null,null,null,null,null,null,null,null,null,null,null,null,null,null,null,null,null,null,null,null,null,null,null,null,null,null,null,""]
["",null,null,null,null,null,null,null,null,null,null,null,null,null,null,null,null,null,null,null,null,null,null,null,null,null,null,null,null,null,null,null,null,null,null,null,null,null,null,null,null,null,null,null,null,null,null,null,null,null,null,null,null,null,null,null,null,""]
["",null,null,null,null,null,null,null,null,null,null,null,null,null,null,null,null,null,null,null,null,null,null,null,null,null,null,null,null,null,null,null,null,null,null,null,null,null,null,null,null,null,null,null,null,null,null,null,null,null,null,null,null,null,null,null,null,""]

{"sheet":"İŞLETME DEFTERİ","index":5,"n_rows":3507,"n_cols":11,"rows_kept":3507,"cut":false,"hidden":false,"merged":[[3,10,3,11],[1,9,2,9],[3,0,3,3],[3,6,3,9],[0,0,0,4],[1,0,2,0],[1,1,2,1],[1,2,2,2],[1,3,2,3],[1,4,2,4],[1,6,2,6],[1,7,2,7],[1,8,2,8],[0,6,0,11],[1,10,2,16383],[3,4,3,5]]}
["Gider Sayfası",null,null,null,null,null,"Gelir Sayfası"]
["Sıra No","TEDARİKÇİ","Alınan Belgenin Tarihi","AÇIKLAMA","Alınan Mal ve Hizmet Bedeli",null,"Sıra No","Kayıt Tarihi","Verilen Belgenin Tarih ve Numarası","AÇIKLAMA","Alınan Ücret ve Diğer Gelirler"]
[]
["TOPLAM",null,null,null,{"$f":"SUM(E6:E65000)-E5","v":0},null,"TOPLAM",null,null,null,{"$f":"SUM(K6:K65000)-K5","v":0}]
[1,"BANKA HESABI",{"$f":"CONCATENATE('Bütçe Özeti'!E3,\" YILI\")","v":"2014 YILI"},{"$f":"VLOOKUP(B5,GİDERLER!B:F,4,FALSE)","v":{"$error":"#N/A"}},{"$f":"'Bütçe Özeti'!C4","v":0},null,1,{"$f":"CONCATENATE('Bütçe Özeti'!E3,\" YILI\")","v":"2014 YILI"},"ÇEKİLEN","BANKA HESABI",{"$f":"'Bütçe Özeti'!B4","v":0}]
[{"$f":"IF(B6>\"\",A5+1,\"\")","v":""},null,null,null,null,null,{"$f":"IF(J6>\"\",G5+1,\"\")","v":""}]
[{"$f":"IF(B7>\"\",A6+1,\"\")","v":""},null,null,null,null,null,{"$f":"IF(J7>\"\",G6+1,\"\")","v":""}]
["",null,null,null,null,null,""]
["",null,null,null,null,null,""]
["",null,null,null,null,null,""]
["",null,null,null,null,null,""]
["",null,null,null,null,null,""]
["",null,null,null,null,null,""]
["",null,null,null,null,null,""]
["",null,null,null,null,null,""]
["",null,null,null,null,null,""]
["",null,null,null,null,null,""]
["",null,null,null,null,null,{"$f":"IF(J18>\"\",G17+1,\"\")","v":""}]
["",null,null,null,null,null,{"$f":"IF(J19>\"\",G18+1,\"\")","v":""}]
["",null,null,null,null,null,""]
["",null,null,null,null,null,""]
[{"$f":"IF(B22>\"\",A21+1,\"\")","v":""},null,null,null,null,null,""]
["",null,null,null,null,null,""]
["",null,null,null,null,null,""]
["",null,null,null,null,null,""]
["",null,null,null,null,null,""]
["",null,null,null,null,null,""]
["",null,null,null,null,null,""]
["",null,null,null,null,null,""]
["",null,null,null,null,null,""]
["",null,null,null,null,null,""]
["",null,null,null,null,null,""]
["",null,null,null,null,null,""]
["",null,null,null,null,null,""]
["",null,null,null,null,null,""]
["",null,null,null,null,null,""]
["",null,null,null,null,null,""]
["",null,null,null,null,null,""]
["",null,null,null,null,null,""]
["",null,null,null,null,null,""]
["",null,null,null,null,null,""]
["",null,null,null,null,null,""]
["",null,null,null,null,null,""]
["",null,null,null,null,null,""]
["",null,null,null,null,null,""]
["",null,null,null,null,null,""]
["",null,null,null,null,null,""]
["",null,null,null,null,null,""]
["",null,null,null,null,null,""]
["",null,null,null,null,null,""]
["",null,null,null,null,null,""]
["",null,null,null,null,null,""]
["",null,null,null,null,null,""]
["",null,null,null,null,null,""]
["",null,null,null,null,null,""]
["",null,null,null,null,null,""]
["",null,null,null,null,null,""]
["",null,null,null,null,null,""]
["",null,null,null,null,null,""]
["",null,null,null,null,null,""]
["",null,null,null,null,null,""]
["",null,null,null,null,null,""]
["",null,null,null,null,null,""]
["",null,null,null,null,null,""]
["",null,null,null,null,null,""]
["",null,null,null,null,null,""]
["",null,null,null,null,null,""]
["",null,null,null,null,null,""]
["",null,null,null,null,null,""]
["",null,null,null,null,null,""]
[{"$f":"IF(B71>\"\",A70+1,\"\")","v":""},null,null,null,null,null,""]
["",null,null,null,null,null,""]
["",null,null,null,null,null,""]
["",null,null,null,null,null,""]
["",null,null,null,null,null,""]
["",null,null,null,null,null,""]
["",null,null,null,null,null,""]
["",null,null,null,null,null,""]
["",null,null,null,null,null,""]
["",null,null,null,null,null,""]
["",null,null,null,null,null,""]
["",null,null,null,null,null,""]
["",null,null,null,null,null,{"$f":"IF(J83>\"\",G82+1,\"\")","v":""}]
["",null,null,null,null,null,""]
["",null,null,null,null,null,""]
["",null,null,null,null,null,""]
["",null,null,null,null,null,""]
["",null,null,null,null,null,""]
["",null,null,null,null,null,""]
["",null,null,null,null,null,""]
["",null,null,null,null,null,""]
["",null,null,null,null,null,""]
["",null,null,null,null,null,""]
["",null,null,null,null,null,""]
["",null,null,null,null,null,""]
["",null,null,null,null,null,""]
["",null,null,null,null,null,""]
["",null,null,null,null,null,""]
["",null,null,null,null,null,""]
["",null,null,null,null,null,""]
["",null,null,null,null,null,""]
["",null,null,null,null,null,""]
["",null,null,null,null,null,""]
["",null,null,null,null,null,""]
["",null,null,null,null,null,""]
["",null,null,null,null,null,""]
["",null,null,null,null,null,""]
["",null,null,null,null,null,""]
["",null,null,null,null,null,""]
["",null,null,null,null,null,""]
["",null,null,null,null,null,""]
["",null,null,null,null,null,""]
["",null,null,null,null,null,""]
["",null,null,null,null,null,""]
["",null,null,null,null,null,""]
["",null,null,null,null,null,""]
["",null,null,null,null,null,""]
["",null,null,null,null,null,""]
["",null,null,null,null,null,""]
["",null,null,null,null,null,""]
["",null,null,null,null,null,""]
["",null,null,null,null,null,""]
["",null,null,null,null,null,""]
["",null,null,null,null,null,""]
["",null,null,null,null,null,""]
["",null,null,null,null,null,""]
["",null,null,null,null,null,""]
["",null,null,null,null,null,""]
["",null,null,null,null,null,""]
["",null,null,null,null,null,""]
["",null,null,null,null,null,""]
["",null,null,null,null,null,""]
["",null,null,null,null,null,""]
["",null,null,null,null,null,""]
[{"$f":"IF(B135>\"\",A134+1,\"\")","v":""},null,null,null,null,null,""]
["",null,null,null,null,null,""]
["",null,null,null,null,null,""]
["",null,null,null,null,null,""]
["",null,null,null,null,null,""]
["",null,null,null,null,null,""]
["",null,null,null,null,null,""]
["",null,null,null,null,null,""]
["",null,null,null,null,null,""]
["",null,null,null,null,null,""]
["",null,null,null,null,null,""]
["",null,null,null,null,null,""]
["",null,null,null,null,null,{"$f":"IF(J147>\"\",G146+1,\"\")","v":""}]
["",null,null,null,null,null,""]
["",null,null,null,null,null,""]
["",null,null,null,null,null,""]
["",null,null,null,null,null,""]
["",null,null,null,null,null,""]
["",null,null,null,null,null,""]
["",null,null,null,null,null,""]
["",null,null,null,null,null,""]
["",null,null,null,null,null,""]
["",null,null,null,null,null,""]
["",null,null,null,null,null,""]
["",null,null,null,null,null,""]
["",null,null,null,null,null,""]
["",null,null,null,null,null,""]
["",null,null,null,null,null,""]
["",null,null,null,null,null,""]
["",null,null,null,null,null,""]
["",null,null,null,null,null,""]
["",null,null,null,null,null,""]
["",null,null,null,null,null,""]
["",null,null,null,null,null,""]
["",null,null,null,null,null,""]
["",null,null,null,null,null,""]
["",null,null,null,null,null,""]
["",null,null,null,null,null,""]
["",null,null,null,null,null,""]
["",null,null,null,null,null,""]
["",null,null,null,null,null,""]
["",null,null,null,null,null,""]
["",null,null,null,null,null,""]
["",null,null,null,null,null,""]
["",null,null,null,null,null,""]
["",null,null,null,null,null,""]
["",null,null,null,null,null,""]
["",null,null,null,null,null,""]
["",null,null,null,null,null,""]
["",null,null,null,null,null,""]
["",null,null,null,null,null,""]
["",null,null,null,null,null,""]
["",null,null,null,null,null,""]
["",null,null,null,null,null,""]
["",null,null,null,null,null,""]
["",null,null,null,null,null,""]
["",null,null,null,null,null,""]
["",null,null,null,null,null,""]
["",null,null,null,null,null,""]
["",null,null,null,null,null,""]
["",null,null,null,null,null,""]
["",null,null,null,null,null,""]
["",null,null,null,null,null,""]
["",null,null,null,null,null,""]
[{"$f":"IF(B199>\"\",A198+1,\"\")","v":""},null,null,null,null,null,""]
["",null,null,null,null,null,""]
["",null,null,null,null,null,""]
["",null,null,null,null,null,""]
["",null,null,null,null,null,""]
["",null,null,null,null,null,""]
["",null,null,null,null,null,""]
["",null,null,null,null,null,""]
["",null,null,null,null,null,""]
["",null,null,null,null,null,""]
["",null,null,null,null,null,""]
["",null,null,null,null,null,""]
["",null,null,null,null,null,{"$f":"IF(J211>\"\",G210+1,\"\")","v":""}]
["",null,null,null,null,null,""]
["",null,null,null,null,null,""]
["",null,null,null,null,null,""]
["",null,null,null,null,null,""]
["",null,null,null,null,null,""]
["",null,null,null,null,null,""]
["",null,null,null,null,null,""]
["",null,null,null,null,null,""]
["",null,null,null,null,null,""]
["",null,null,null,null,null,""]
["",null,null,null,null,null,""]
["",null,null,null,null,null,""]
["",null,null,null,null,null,""]
["",null,null,null,null,null,""]
["",null,null,null,null,null,""]
["",null,null,null,null,null,""]
["",null,null,null,null,null,""]
["",null,null,null,null,null,""]
["",null,null,null,null,null,""]
["",null,null,null,null,null,""]
["",null,null,null,null,null,""]
["",null,null,null,null,null,""]
["",null,null,null,null,null,""]
["",null,null,null,null,null,""]
["",null,null,null,null,null,""]
["",null,null,null,null,null,""]
["",null,null,null,null,null,""]
["",null,null,null,null,null,""]
["",null,null,null,null,null,""]
["",null,null,null,null,null,""]
["",null,null,null,null,null,""]
["",null,null,null,null,null,""]
["",null,null,null,null,null,""]
["",null,null,null,null,null,""]
["",null,null,null,null,null,""]
["",null,null,null,null,null,""]
["",null,null,null,null,null,""]
["",null,null,null,null,null,""]
["",null,null,null,null,null,""]
["",null,null,null,null,null,""]
["",null,null,null,null,null,""]
["",null,null,null,null,null,""]
["",null,null,null,null,null,""]
["",null,null,null,null,null,""]
["",null,null,null,null,null,""]
["",null,null,null,null,null,""]
["",null,null,null,null,null,""]
["",null,null,null,null,null,""]
["",null,null,null,null,null,""]
["",null,null,null,null,null,""]
["",null,null,null,null,null,""]
[{"$f":"IF(B263>\"\",A262+1,\"\")","v":""},null,null,null,null,null,""]
["",null,null,null,null,null,""]
["",null,null,null,null,null,""]
["",null,null,null,null,null,""]
["",null,null,null,null,null,""]
["",null,null,null,null,null,""]
["",null,null,null,null,null,""]
["",null,null,null,null,null,""]
["",null,null,null,null,null,""]
["",null,null,null,null,null,""]
["",null,null,null,null,null,""]
["",null,null,null,null,null,""]
["",null,null,null,null,null,{"$f":"IF(J275>\"\",G274+1,\"\")","v":""}]
["",null,null,null,null,null,""]
["",null,null,null,null,null,""]
["",null,null,null,null,null,""]
["",null,null,null,null,null,""]
["",null,null,null,null,null,""]
["",null,null,null,null,null,""]
["",null,null,null,null,null,""]
["",null,null,null,null,null,""]
["",null,null,null,null,null,""]
["",null,null,null,null,null,""]
["",null,null,null,null,null,""]
["",null,null,null,null,null,""]
["",null,null,null,null,null,""]
["",null,null,null,null,null,""]
["",null,null,null,null,null,""]
["",null,null,null,null,null,""]
["",null,null,null,null,null,""]
["",null,null,null,null,null,""]
["",null,null,null,null,null,""]
["",null,null,null,null,null,""]
["",null,null,null,null,null,""]
["",null,null,null,null,null,""]
["",null,null,null,null,null,""]
["",null,null,null,null,null,""]
["",null,null,null,null,null,""]
["",null,null,null,null,null,""]
["",null,null,null,null,null,""]
["",null,null,null,null,null,""]
["",null,null,null,null,null,""]
["",null,null,null,null,null,""]
["",null,null,null,null,null,""]
["",null,null,null,null,null,""]
["",null,null,null,null,null,""]
["",null,null,null,null,null,""]
["",null,null,null,null,null,""]
["",null,null,null,null,null,""]
["",null,null,null,null,null,""]
["",null,null,null,null,null,""]
["",null,null,null,null,null,""]
["",null,null,null,null,null,""]
["",null,null,null,null,null,""]
["",null,null,null,null,null,""]
["",null,null,null,null,null,""]
["",null,null,null,null,null,""]
["",null,null,null,null,null,""]
["",null,null,null,null,null,""]
["",null,null,null,null,null,""]
["",null,null,null,null,null,""]
["",null,null,null,null,null,""]
["",null,null,null,null,null,""]
["",null,null,null,null,null,""]
[{"$f":"IF(B327>\"\",A326+1,\"\")","v":""},null,null,null,null,null,""]
["",null,null,null,null,null,""]
["",null,null,null,null,null,""]
["",null,null,null,null,null,""]
["",null,null,null,null,null,""]
["",null,null,null,null,null,""]
["",null,null,null,null,null,""]
["",null,null,null,null,null,""]
["",null,null,null,null,null,""]
["",null,null,null,null,null,""]
["",null,null,null,null,null,""]
["",null,null,null,null,null,""]
["",null,null,null,null,null,{"$f":"IF(J339>\"\",G338+1,\"\")","v":""}]
["",null,null,null,null,null,""]
["",null,null,null,null,null,""]
["",null,null,null,null,null,""]
["",null,null,null,null,null,""]
["",null,null,null,null,null,""]
["",null,null,null,null,null,""]
["",null,null,null,null,null,""]
["",null,null,null,null,null,""]
["",null,null,null,null,null,""]
["",null,null,null,null,null,""]
["",null,null,null,null,null,""]
["",null,null,null,null,null,""]
["",null,null,null,null,null,""]
["",null,null,null,null,null,""]
["",null,null,null,null,null,""]
["",null,null,null,null,null,""]
["",null,null,null,null,null,""]
["",null,null,null,null,null,""]
["",null,null,null,null,null,""]
["",null,null,null,null,null,""]
["",null,null,null,null,null,""]
["",null,null,null,null,null,""]
["",null,null,null,null,null,""]
["",null,null,null,null,null,""]
["",null,null,null,null,null,""]
["",null,null,null,null,null,""]
["",null,null,null,null,null,""]
["",null,null,null,null,null,""]
["",null,null,null,null,null,""]
["",null,null,null,null,null,""]
["",null,null,null,null,null,""]
["",null,null,null,null,null,""]
["",null,null,null,null,null,""]
["",null,null,null,null,null,""]
["",null,null,null,null,null,""]
["",null,null,null,null,null,""]
["",null,null,null,null,null,""]
["",null,null,null,null,null,""]
["",null,null,null,null,null,""]
["",null,null,null,null,null,""]
["",null,null,null,null,null,""]
["",null,null,null,null,null,""]
["",null,null,null,null,null,""]
["",null,null,null,null,null,""]
["",null,null,null,null,null,""]
["",null,null,null,null,null,""]
["",null,null,null,null,null,""]
["",null,null,null,null,null,""]
["",null,null,null,null,null,""]
["",null,null,null,null,null,""]
["",null,null,null,null,null,""]
[{"$f":"IF(B391>\"\",A390+1,\"\")","v":""},null,null,null,null,null,""]
["",null,null,null,null,null,""]
["",null,null,null,null,null,""]
["",null,null,null,null,null,""]
["",null,null,null,null,null,""]
["",null,null,null,null,null,""]
["",null,null,null,null,null,""]
["",null,null,null,null,null,""]
["",null,null,null,null,null,""]
["",null,null,null,null,null,""]
["",null,null,null,null,null,""]
["",null,null,null,null,null,""]
["",null,null,null,null,null,{"$f":"IF(J403>\"\",G402+1,\"\")","v":""}]
["",null,null,null,null,null,""]
["",null,null,null,null,null,""]
["",null,null,null,null,null,""]
["",null,null,null,null,null,""]
["",null,null,null,null,null,""]
["",null,null,null,null,null,""]
["",null,null,null,null,null,""]
["",null,null,null,null,null,""]
["",null,null,null,null,null,""]
["",null,null,null,null,null,""]
["",null,null,null,null,null,""]
["",null,null,null,null,null,""]
["",null,null,null,null,null,""]
["",null,null,null,null,null,""]
["",null,null,null,null,null,""]
["",null,null,null,null,null,""]
["",null,null,null,null,null,""]
["",null,null,null,null,null,""]
["",null,null,null,null,null,""]
["",null,null,null,null,null,""]
["",null,null,null,null,null,""]
["",null,null,null,null,null,""]
["",null,null,null,null,null,""]
["",null,null,null,null,null,""]
["",null,null,null,null,null,""]
["",null,null,null,null,null,""]
["",null,null,null,null,null,""]
["",null,null,null,null,null,""]
["",null,null,null,null,null,""]
["",null,null,null,null,null,""]
["",null,null,null,null,null,""]
["",null,null,null,null,null,""]
["",null,null,null,null,null,""]
["",null,null,null,null,null,""]
["",null,null,null,null,null,""]
["",null,null,null,null,null,""]
["",null,null,null,null,null,""]
["",null,null,null,null,null,""]
["",null,null,null,null,null,""]
["",null,null,null,null,null,""]
["",null,null,null,null,null,""]
["",null,null,null,null,null,""]
["",null,null,null,null,null,""]
["",null,null,null,null,null,""]
["",null,null,null,null,null,""]
["",null,null,null,null,null,""]
["",null,null,null,null,null,""]
["",null,null,null,null,null,""]
["",null,null,null,null,null,""]
["",null,null,null,null,null,""]
["",null,null,null,null,null,""]
[{"$f":"IF(B455>\"\",A454+1,\"\")","v":""},null,null,null,null,null,""]
["",null,null,null,null,null,""]
["",null,null,null,null,null,""]
["",null,null,null,null,null,""]
["",null,null,null,null,null,""]
["",null,null,null,null,null,""]
["",null,null,null,null,null,""]
["",null,null,null,null,null,""]
["",null,null,null,null,null,""]
["",null,null,null,null,null,""]
["",null,null,null,null,null,""]
["",null,null,null,null,null,""]
["",null,null,null,null,null,{"$f":"IF(J467>\"\",G466+1,\"\")","v":""}]
["",null,null,null,null,null,""]
["",null,null,null,null,null,""]
["",null,null,null,null,null,""]
["",null,null,null,null,null,""]
["",null,null,null,null,null,""]
["",null,null,null,null,null,""]
["",null,null,null,null,null,""]
["",null,null,null,null,null,""]
["",null,null,null,null,null,""]
["",null,null,null,null,null,""]
["",null,null,null,null,null,""]
["",null,null,null,null,null,""]
["",null,null,null,null,null,""]
["",null,null,null,null,null,""]
["",null,null,null,null,null,""]
["",null,null,null,null,null,""]
["",null,null,null,null,null,""]
["",null,null,null,null,null,""]
["",null,null,null,null,null,""]
["",null,null,null,null,null,""]
["",null,null,null,null,null,""]
["",null,null,null,null,null,""]
["",null,null,null,null,null,""]
["",null,null,null,null,null,""]
["",null,null,null,null,null,""]
["",null,null,null,null,null,""]
["",null,null,null,null,null,""]
["",null,null,null,null,null,""]
["",null,null,null,null,null,""]
["",null,null,null,null,null,""]
["",null,null,null,null,null,""]
["",null,null,null,null,null,""]
["",null,null,null,null,null,""]
["",null,null,null,null,null,""]
["",null,null,null,null,null,""]
["",null,null,null,null,null,""]
["",null,null,null,null,null,""]
["",null,null,null,null,null,""]
["",null,null,null,null,null,""]
["",null,null,null,null,null,""]
["",null,null,null,null,null,""]
["",null,null,null,null,null,""]
["",null,null,null,null,null,""]
["",null,null,null,null,null,""]
["",null,null,null,null,null,""]
["",null,null,null,null,null,""]
["",null,null,null,null,null,""]
["",null,null,null,null,null,""]
["",null,null,null,null,null,""]
["",null,null,null,null,null,""]
["",null,null,null,null,null,""]
[{"$f":"IF(B519>\"\",A518+1,\"\")","v":""},null,null,null,null,null,""]
["",null,null,null,null,null,""]
["",null,null,null,null,null,""]
["",null,null,null,null,null,""]
["",null,null,null,null,null,""]
["",null,null,null,null,null,""]
["",null,null,null,null,null,""]
["",null,null,null,null,null,""]
["",null,null,null,null,null,""]
["",null,null,null,null,null,""]
["",null,null,null,null,null,""]
["",null,null,null,null,null,""]
["",null,null,null,null,null,{"$f":"IF(J531>\"\",G530+1,\"\")","v":""}]
["",null,null,null,null,null,""]
["",null,null,null,null,null,""]
["",null,null,null,null,null,""]
["",null,null,null,null,null,""]
["",null,null,null,null,null,""]
["",null,null,null,null,null,""]
["",null,null,null,null,null,""]
["",null,null,null,null,null,""]
["",null,null,null,null,null,""]
["",null,null,null,null,null,""]
["",null,null,null,null,null,""]
["",null,null,null,null,null,""]
["",null,null,null,null,null,""]
["",null,null,null,null,null,""]
["",null,null,null,null,null,""]
["",null,null,null,null,null,""]
["",null,null,null,null,null,""]
["",null,null,null,null,null,""]
["",null,null,null,null,null,""]
["",null,null,null,null,null,""]
["",null,null,null,null,null,""]
["",null,null,null,null,null,""]
["",null,null,null,null,null,""]
["",null,null,null,null,null,""]
["",null,null,null,null,null,""]
["",null,null,null,null,null,""]
["",null,null,null,null,null,""]
["",null,null,null,null,null,""]
["",null,null,null,null,null,""]
["",null,null,null,null,null,""]
["",null,null,null,null,null,""]
["",null,null,null,null,null,""]
["",null,null,null,null,null,""]
["",null,null,null,null,null,""]
["",null,null,null,null,null,""]
["",null,null,null,null,null,""]
["",null,null,null,null,null,""]
["",null,null,null,null,null,""]
["",null,null,null,null,null,""]
["",null,null,null,null,null,""]
["",null,null,null,null,null,""]
["",null,null,null,null,null,""]
["",null,null,null,null,null,""]
["",null,null,null,null,null,""]
["",null,null,null,null,null,""]
["",null,null,null,null,null,""]
["",null,null,null,null,null,""]
["",null,null,null,null,null,""]
["",null,null,null,null,null,""]
["",null,null,null,null,null,""]
["",null,null,null,null,null,""]
[{"$f":"IF(B583>\"\",A582+1,\"\")","v":""},null,null,null,null,null,""]
["",null,null,null,null,null,""]
["",null,null,null,null,null,""]
["",null,null,null,null,null,""]
["",null,null,null,null,null,""]
["",null,null,null,null,null,""]
["",null,null,null,null,null,""]
["",null,null,null,null,null,""]
["",null,null,null,null,null,""]
["",null,null,null,null,null,""]
["",null,null,null,null,null,""]
["",null,null,null,null,null,""]
["",null,null,null,null,null,{"$f":"IF(J595>\"\",G594+1,\"\")","v":""}]
["",null,null,null,null,null,""]
["",null,null,null,null,null,""]
["",null,null,null,null,null,""]
["",null,null,null,null,null,""]
["",null,null,null,null,null,""]
["",null,null,null,null,null,""]
["",null,null,null,null,null,""]
["",null,null,null,null,null,""]
["",null,null,null,null,null,""]
["",null,null,null,null,null,""]
["",null,null,null,null,null,""]
["",null,null,null,null,null,""]
["",null,null,null,null,null,""]
["",null,null,null,null,null,""]
["",null,null,null,null,null,""]
["",null,null,null,null,null,""]
["",null,null,null,null,null,""]
["",null,null,null,null,null,""]
["",null,null,null,null,null,""]
["",null,null,null,null,null,""]
["",null,null,null,null,null,""]
["",null,null,null,null,null,""]
["",null,null,null,null,null,""]
["",null,null,null,null,null,""]
["",null,null,null,null,null,""]
["",null,null,null,null,null,""]
["",null,null,null,null,null,""]
["",null,null,null,null,null,""]
["",null,null,null,null,null,""]
["",null,null,null,null,null,""]
["",null,null,null,null,null,""]
["",null,null,null,null,null,""]
["",null,null,null,null,null,""]
["",null,null,null,null,null,""]
["",null,null,null,null,null,""]
["",null,null,null,null,null,""]
["",null,null,null,null,null,""]
["",null,null,null,null,null,""]
["",null,null,null,null,null,""]
["",null,null,null,null,null,""]
["",null,null,null,null,null,""]
["",null,null,null,null,null,""]
["",null,null,null,null,null,""]
["",null,null,null,null,null,""]
["",null,null,null,null,null,""]
["",null,null,null,null,null,""]
["",null,null,null,null,null,""]
["",null,null,null,null,null,""]
["",null,null,null,null,null,""]
["",null,null,null,null,null,""]
["",null,null,null,null,null,""]
[{"$f":"IF(B647>\"\",A646+1,\"\")","v":""},null,null,null,null,null,""]
["",null,null,null,null,null,""]
["",null,null,null,null,null,""]
["",null,null,null,null,null,""]
["",null,null,null,null,null,""]
["",null,null,null,null,null,""]
["",null,null,null,null,null,""]
["",null,null,null,null,null,""]
["",null,null,null,null,null,""]
["",null,null,null,null,null,""]
["",null,null,null,null,null,""]
["",null,null,null,null,null,""]
["",null,null,null,null,null,{"$f":"IF(J659>\"\",G658+1,\"\")","v":""}]
["",null,null,null,null,null,""]
["",null,null,null,null,null,""]
["",null,null,null,null,null,""]
["",null,null,null,null,null,""]
["",null,null,null,null,null,""]
["",null,null,null,null,null,""]
["",null,null,null,null,null,""]
["",null,null,null,null,null,""]
["",null,null,null,null,null,""]
["",null,null,null,null,null,""]
["",null,null,null,null,null,""]
["",null,null,null,null,null,""]
["",null,null,null,null,null,""]
["",null,null,null,null,null,""]
["",null,null,null,null,null,""]
["",null,null,null,null,null,""]
["",null,null,null,null,null,""]
["",null,null,null,null,null,""]
["",null,null,null,null,null,""]
["",null,null,null,null,null,""]
["",null,null,null,null,null,""]
["",null,null,null,null,null,""]
["",null,null,null,null,null,""]
["",null,null,null,null,null,""]
["",null,null,null,null,null,""]
["",null,null,null,null,null,""]
["",null,null,null,null,null,""]
["",null,null,null,null,null,""]
["",null,null,null,null,null,""]
["",null,null,null,null,null,""]
["",null,null,null,null,null,""]
["",null,null,null,null,null,""]
["",null,null,null,null,null,""]
["",null,null,null,null,null,""]
["",null,null,null,null,null,""]
["",null,null,null,null,null,""]
["",null,null,null,null,null,""]
["",null,null,null,null,null,""]
["",null,null,null,null,null,""]
["",null,null,null,null,null,""]
["",null,null,null,null,null,""]
["",null,null,null,null,null,""]
["",null,null,null,null,null,""]
["",null,null,null,null,null,""]
["",null,null,null,null,null,""]
["",null,null,null,null,null,""]
["",null,null,null,null,null,""]
["",null,null,null,null,null,""]
["",null,null,null,null,null,""]
["",null,null,null,null,null,""]
["",null,null,null,null,null,""]
[{"$f":"IF(B711>\"\",A710+1,\"\")","v":""},null,null,null,null,null,""]
["",null,null,null,null,null,""]
["",null,null,null,null,null,""]
["",null,null,null,null,null,""]
["",null,null,null,null,null,""]
["",null,null,null,null,null,""]
["",null,null,null,null,null,""]
["",null,null,null,null,null,""]
["",null,null,null,null,null,""]
["",null,null,null,null,null,""]
["",null,null,null,null,null,""]
["",null,null,null,null,null,""]
["",null,null,null,null,null,{"$f":"IF(J723>\"\",G722+1,\"\")","v":""}]
["",null,null,null,null,null,""]
["",null,null,null,null,null,""]
["",null,null,null,null,null,""]
["",null,null,null,null,null,""]
["",null,null,null,null,null,""]
["",null,null,null,null,null,""]
["",null,null,null,null,null,""]
["",null,null,null,null,null,""]
["",null,null,null,null,null,""]
["",null,null,null,null,null,""]
["",null,null,null,null,null,""]
["",null,null,null,null,null,""]
["",null,null,null,null,null,""]
["",null,null,null,null,null,""]
["",null,null,null,null,null,""]
["",null,null,null,null,null,""]
["",null,null,null,null,null,""]
["",null,null,null,null,null,""]
["",null,null,null,null,null,""]
["",null,null,null,null,null,""]
["",null,null,null,null,null,""]
["",null,null,null,null,null,""]
["",null,null,null,null,null,""]
["",null,null,null,null,null,""]
["",null,null,null,null,null,""]
["",null,null,null,null,null,""]
["",null,null,null,null,null,""]
["",null,null,null,null,null,""]
["",null,null,null,null,null,""]
["",null,null,null,null,null,""]
["",null,null,null,null,null,""]
["",null,null,null,null,null,""]
["",null,null,null,null,null,""]
["",null,null,null,null,null,""]
["",null,null,null,null,null,""]
["",null,null,null,null,null,""]
["",null,null,null,null,null,""]
["",null,null,null,null,null,""]
["",null,null,null,null,null,""]
["",null,null,null,null,null,""]
["",null,null,null,null,null,""]
["",null,null,null,null,null,""]
["",null,null,null,null,null,""]
["",null,null,null,null,null,""]
["",null,null,null,null,null,""]
["",null,null,null,null,null,""]
["",null,null,null,null,null,""]
["",null,null,null,null,null,""]
["",null,null,null,null,null,""]
["",null,null,null,null,null,""]
["",null,null,null,null,null,""]
[{"$f":"IF(B775>\"\",A774+1,\"\")","v":""},null,null,null,null,null,""]
["",null,null,null,null,null,""]
["",null,null,null,null,null,""]
["",null,null,null,null,null,""]
["",null,null,null,null,null,""]
["",null,null,null,null,null,""]
["",null,null,null,null,null,""]
["",null,null,null,null,null,""]
["",null,null,null,null,null,""]
["",null,null,null,null,null,""]
["",null,null,null,null,null,""]
["",null,null,null,null,null,""]
["",null,null,null,null,null,{"$f":"IF(J787>\"\",G786+1,\"\")","v":""}]
["",null,null,null,null,null,""]
["",null,null,null,null,null,""]
["",null,null,null,null,null,""]
["",null,null,null,null,null,""]
["",null,null,null,null,null,""]
["",null,null,null,null,null,""]
["",null,null,null,null,null,""]
["",null,null,null,null,null,""]
["",null,null,null,null,null,""]
["",null,null,null,null,null,""]
["",null,null,null,null,null,""]
["",null,null,null,null,null,""]
["",null,null,null,null,null,""]
["",null,null,null,null,null,""]
["",null,null,null,null,null,""]
["",null,null,null,null,null,""]
["",null,null,null,null,null,""]
["",null,null,null,null,null,""]
["",null,null,null,null,null,""]
["",null,null,null,null,null,""]
["",null,null,null,null,null,""]
["",null,null,null,null,null,""]
["",null,null,null,null,null,""]
["",null,null,null,null,null,""]
["",null,null,null,null,null,""]
["",null,null,null,null,null,""]
["",null,null,null,null,null,""]
["",null,null,null,null,null,""]
["",null,null,null,null,null,""]
["",null,null,null,null,null,""]
["",null,null,null,null,null,""]
["",null,null,null,null,null,""]
["",null,null,null,null,null,""]
["",null,null,null,null,null,""]
["",null,null,null,null,null,""]
["",null,null,null,null,null,""]
["",null,null,null,null,null,""]
["",null,null,null,null,null,""]
["",null,null,null,null,null,""]
["",null,null,null,null,null,""]
["",null,null,null,null,null,""]
["",null,null,null,null,null,""]
["",null,null,null,null,null,""]
["",null,null,null,null,null,""]
["",null,null,null,null,null,""]
["",null,null,null,null,null,""]
["",null,null,null,null,null,""]
["",null,null,null,null,null,""]
["",null,null,null,null,null,""]
["",null,null,null,null,null,""]
["",null,null,null,null,null,""]
[{"$f":"IF(B839>\"\",A838+1,\"\")","v":""},null,null,null,null,null,""]
["",null,null,null,null,null,""]
["",null,null,null,null,null,""]
["",null,null,null,null,null,""]
["",null,null,null,null,null,""]
["",null,null,null,null,null,""]
["",null,null,null,null,null,""]
["",null,null,null,null,null,""]
["",null,null,null,null,null,""]
["",null,null,null,null,null,""]
["",null,null,null,null,null,""]
["",null,null,null,null,null,""]
["",null,null,null,null,null,{"$f":"IF(J851>\"\",G850+1,\"\")","v":""}]
["",null,null,null,null,null,""]
["",null,null,null,null,null,""]
["",null,null,null,null,null,""]
["",null,null,null,null,null,""]
["",null,null,null,null,null,""]
["",null,null,null,null,null,""]
["",null,null,null,null,null,""]
["",null,null,null,null,null,""]
["",null,null,null,null,null,""]
["",null,null,null,null,null,""]
["",null,null,null,null,null,""]
["",null,null,null,null,null,""]
["",null,null,null,null,null,""]
["",null,null,null,null,null,""]
["",null,null,null,null,null,""]
["",null,null,null,null,null,""]
["",null,null,null,null,null,""]
["",null,null,null,null,null,""]
["",null,null,null,null,null,""]
["",null,null,null,null,null,""]
["",null,null,null,null,null,""]
["",null,null,null,null,null,""]
["",null,null,null,null,null,""]
["",null,null,null,null,null,""]
["",null,null,null,null,null,""]
["",null,null,null,null,null,""]
["",null,null,null,null,null,""]
["",null,null,null,null,null,""]
["",null,null,null,null,null,""]
["",null,null,null,null,null,""]
["",null,null,null,null,null,""]
["",null,null,null,null,null,""]
["",null,null,null,null,null,""]
["",null,null,null,null,null,""]
["",null,null,null,null,null,""]
["",null,null,null,null,null,""]
["",null,null,null,null,null,""]
["",null,null,null,null,null,""]
["",null,null,null,null,null,""]
["",null,null,null,null,null,""]
["",null,null,null,null,null,""]
["",null,null,null,null,null,""]
["",null,null,null,null,null,""]
["",null,null,null,null,null,""]
["",null,null,null,null,null,""]
["",null,null,null,null,null,""]
["",null,null,null,null,null,""]
["",null,null,null,null,null,""]
["",null,null,null,null,null,""]
["",null,null,null,null,null,""]
["",null,null,null,null,null,""]
[{"$f":"IF(B903>\"\",A902+1,\"\")","v":""},null,null,null,null,null,""]
["",null,null,null,null,null,""]
["",null,null,null,null,null,""]
["",null,null,null,null,null,""]
["",null,null,null,null,null,""]
["",null,null,null,null,null,""]
["",null,null,null,null,null,""]
["",null,null,null,null,null,""]
["",null,null,null,null,null,""]
["",null,null,null,null,null,""]
["",null,null,null,null,null,""]
["",null,null,null,null,null,""]
["",null,null,null,null,null,{"$f":"IF(J915>\"\",G914+1,\"\")","v":""}]
["",null,null,null,null,null,""]
["",null,null,null,null,null,""]
["",null,null,null,null,null,""]
["",null,null,null,null,null,""]
["",null,null,null,null,null,""]
["",null,null,null,null,null,""]
["",null,null,null,null,null,""]
["",null,null,null,null,null,""]
["",null,null,null,null,null,""]
["",null,null,null,null,null,""]
["",null,null,null,null,null,""]
["",null,null,null,null,null,""]
["",null,null,null,null,null,""]
["",null,null,null,null,null,""]
["",null,null,null,null,null,""]
["",null,null,null,null,null,""]
["",null,null,null,null,null,""]
["",null,null,null,null,null,""]
["",null,null,null,null,null,""]
["",null,null,null,null,null,""]
["",null,null,null,null,null,""]
["",null,null,null,null,null,""]
["",null,null,null,null,null,""]
["",null,null,null,null,null,""]
["",null,null,null,null,null,""]
["",null,null,null,null,null,""]
["",null,null,null,null,null,""]
["",null,null,null,null,null,""]
["",null,null,null,null,null,""]
["",null,null,null,null,null,""]
["",null,null,null,null,null,""]
["",null,null,null,null,null,""]
["",null,null,null,null,null,""]
["",null,null,null,null,null,""]
["",null,null,null,null,null,""]
["",null,null,null,null,null,""]
["",null,null,null,null,null,""]
["",null,null,null,null,null,""]
["",null,null,null,null,null,""]
["",null,null,null,null,null,""]
["",null,null,null,null,null,""]
["",null,null,null,null,null,""]
["",null,null,null,null,null,""]
["",null,null,null,null,null,""]
["",null,null,null,null,null,""]
["",null,null,null,null,null,""]
["",null,null,null,null,null,""]
["",null,null,null,null,null,""]
["",null,null,null,null,null,""]
["",null,null,null,null,null,""]
["",null,null,null,null,null,""]
[{"$f":"IF(B967>\"\",A966+1,\"\")","v":""},null,null,null,null,null,""]
["",null,null,null,null,null,""]
["",null,null,null,null,null,""]
["",null,null,null,null,null,""]
["",null,null,null,null,null,""]
["",null,null,null,null,null,""]
["",null,null,null,null,null,""]
["",null,null,null,null,null,""]
["",null,null,null,null,null,""]
["",null,null,null,null,null,""]
["",null,null,null,null,null,""]
["",null,null,null,null,null,""]
["",null,null,null,null,null,{"$f":"IF(J979>\"\",G978+1,\"\")","v":""}]
["",null,null,null,null,null,""]
["",null,null,null,null,null,""]
["",null,null,null,null,null,""]
["",null,null,null,null,null,""]
["",null,null,null,null,null,""]
["",null,null,null,null,null,""]
["",null,null,null,null,null,""]
["",null,null,null,null,null,""]
["",null,null,null,null,null,""]
["",null,null,null,null,null,""]
["",null,null,null,null,null,""]
["",null,null,null,null,null,""]
["",null,null,null,null,null,""]
["",null,null,null,null,null,""]
["",null,null,null,null,null,""]
["",null,null,null,null,null,""]
["",null,null,null,null,null,""]
["",null,null,null,null,null,""]
["",null,null,null,null,null,""]
["",null,null,null,null,null,""]
["",null,null,null,null,null,""]
["",null,null,null,null,null,""]
["",null,null,null,null,null,""]
["",null,null,null,null,null,""]
["",null,null,null,null,null,""]
["",null,null,null,null,null,""]
["",null,null,null,null,null,""]
["",null,null,null,null,null,""]
["",null,null,null,null,null,""]
["",null,null,null,null,null,""]
["",null,null,null,null,null,""]
["",null,null,null,null,null,""]
["",null,null,null,null,null,""]
["",null,null,null,null,null,""]
["",null,null,null,null,null,""]
["",null,null,null,null,null,""]
["",null,null,null,null,null,""]
["",null,null,null,null,null,""]
["",null,null,null,null,null,""]
["",null,null,null,null,null,""]
["",null,null,null,null,null,""]
["",null,null,null,null,null,""]
["",null,null,null,null,null,""]
["",null,null,null,null,null,""]
["",null,null,null,null,null,""]
["",null,null,null,null,null,""]
["",null,null,null,null,null,""]
["",null,null,null,null,null,""]
["",null,null,null,null,null,""]
["",null,null,null,null,null,""]
["",null,null,null,null,null,""]
[{"$f":"IF(B1031>\"\",A1030+1,\"\")","v":""},null,null,null,null,null,""]
["",null,null,null,null,null,""]
["",null,null,null,null,null,""]
["",null,null,null,null,null,""]
["",null,null,null,null,null,""]
["",null,null,null,null,null,""]
["",null,null,null,null,null,""]
["",null,null,null,null,null,""]
["",null,null,null,null,null,""]
["",null,null,null,null,null,""]
["",null,null,null,null,null,""]
["",null,null,null,null,null,""]
["",null,null,null,null,null,{"$f":"IF(J1043>\"\",G1042+1,\"\")","v":""}]
["",null,null,null,null,null,""]
["",null,null,null,null,null,""]
["",null,null,null,null,null,""]
["",null,null,null,null,null,""]
["",null,null,null,null,null,""]
["",null,null,null,null,null,""]
["",null,null,null,null,null,""]
["",null,null,null,null,null,""]
["",null,null,null,null,null,""]
["",null,null,null,null,null,""]
["",null,null,null,null,null,""]
["",null,null,null,null,null,""]
["",null,null,null,null,null,""]
["",null,null,null,null,null,""]
["",null,null,null,null,null,""]
["",null,null,null,null,null,""]
["",null,null,null,null,null,""]
["",null,null,null,null,null,""]
["",null,null,null,null,null,""]
["",null,null,null,null,null,""]
["",null,null,null,null,null,""]
["",null,null,null,null,null,""]
["",null,null,null,null,null,""]
["",null,null,null,null,null,""]
["",null,null,null,null,null,""]
["",null,null,null,null,null,""]
["",null,null,null,null,null,""]
["",null,null,null,null,null,""]
["",null,null,null,null,null,""]
["",null,null,null,null,null,""]
["",null,null,null,null,null,""]
["",null,null,null,null,null,""]
["",null,null,null,null,null,""]
["",null,null,null,null,null,""]
["",null,null,null,null,null,""]
["",null,null,null,null,null,""]
["",null,null,null,null,null,""]
["",null,null,null,null,null,""]
["",null,null,null,null,null,""]
["",null,null,null,null,null,""]
["",null,null,null,null,null,""]
["",null,null,null,null,null,""]
["",null,null,null,null,null,""]
["",null,null,null,null,null,""]
["",null,null,null,null,null,""]
["",null,null,null,null,null,""]
["",null,null,null,null,null,""]
["",null,null,null,null,null,""]
["",null,null,null,null,null,""]
["",null,null,null,null,null,""]
["",null,null,null,null,null,""]
[{"$f":"IF(B1095>\"\",A1094+1,\"\")","v":""},null,null,null,null,null,""]
["",null,null,null,null,null,""]
["",null,null,null,null,null,""]
["",null,null,null,null,null,""]
["",null,null,null,null,null,""]
["",null,null,null,null,null,""]
["",null,null,null,null,null,""]
["",null,null,null,null,null,""]
["",null,null,null,null,null,""]
["",null,null,null,null,null,""]
["",null,null,null,null,null,""]
["",null,null,null,null,null,""]
["",null,null,null,null,null,{"$f":"IF(J1107>\"\",G1106+1,\"\")","v":""}]
["",null,null,null,null,null,""]
["",null,null,null,null,null,""]
["",null,null,null,null,null,""]
["",null,null,null,null,null,""]
["",null,null,null,null,null,""]
["",null,null,null,null,null,""]
["",null,null,null,null,null,""]
["",null,null,null,null,null,""]
["",null,null,null,null,null,""]
["",null,null,null,null,null,""]
["",null,null,null,null,null,""]
["",null,null,null,null,null,""]
["",null,null,null,null,null,""]
["",null,null,null,null,null,""]
["",null,null,null,null,null,""]
["",null,null,null,null,null,""]
["",null,null,null,null,null,""]
["",null,null,null,null,null,""]
["",null,null,null,null,null,""]
["",null,null,null,null,null,""]
["",null,null,null,null,null,""]
["",null,null,null,null,null,""]
["",null,null,null,null,null,""]
["",null,null,null,null,null,""]
["",null,null,null,null,null,""]
["",null,null,null,null,null,""]
["",null,null,null,null,null,""]
["",null,null,null,null,null,""]
["",null,null,null,null,null,""]
["",null,null,null,null,null,""]
["",null,null,null,null,null,""]
["",null,null,null,null,null,""]
["",null,null,null,null,null,""]
["",null,null,null,null,null,""]
["",null,null,null,null,null,""]
["",null,null,null,null,null,""]
["",null,null,null,null,null,""]
["",null,null,null,null,null,""]
["",null,null,null,null,null,""]
["",null,null,null,null,null,""]
["",null,null,null,null,null,""]
["",null,null,null,null,null,""]
["",null,null,null,null,null,""]
["",null,null,null,null,null,""]
["",null,null,null,null,null,""]
["",null,null,null,null,null,""]
["",null,null,null,null,null,""]
["",null,null,null,null,null,""]
["",null,null,null,null,null,""]
["",null,null,null,null,null,""]
["",null,null,null,null,null,""]
[{"$f":"IF(B1159>\"\",A1158+1,\"\")","v":""},null,null,null,null,null,""]
["",null,null,null,null,null,""]
["",null,null,null,null,null,""]
["",null,null,null,null,null,""]
["",null,null,null,null,null,""]
["",null,null,null,null,null,""]
["",null,null,null,null,null,""]
["",null,null,null,null,null,""]
["",null,null,null,null,null,""]
["",null,null,null,null,null,""]
["",null,null,null,null,null,""]
["",null,null,null,null,null,""]
["",null,null,null,null,null,{"$f":"IF(J1171>\"\",G1170+1,\"\")","v":""}]
["",null,null,null,null,null,""]
["",null,null,null,null,null,""]
["",null,null,null,null,null,""]
["",null,null,null,null,null,""]
["",null,null,null,null,null,""]
["",null,null,null,null,null,""]
["",null,null,null,null,null,""]
["",null,null,null,null,null,""]
["",null,null,null,null,null,""]
["",null,null,null,null,null,""]
["",null,null,null,null,null,""]
["",null,null,null,null,null,""]
["",null,null,null,null,null,""]
["",null,null,null,null,null,""]
["",null,null,null,null,null,""]
["",null,null,null,null,null,""]
["",null,null,null,null,null,""]
["",null,null,null,null,null,""]
["",null,null,null,null,null,""]
["",null,null,null,null,null,""]
["",null,null,null,null,null,""]
["",null,null,null,null,null,""]
["",null,null,null,null,null,""]
["",null,null,null,null,null,""]
["",null,null,null,null,null,""]
["",null,null,null,null,null,""]
["",null,null,null,null,null,""]
["",null,null,null,null,null,""]
["",null,null,null,null,null,""]
["",null,null,null,null,null,""]
["",null,null,null,null,null,""]
["",null,null,null,null,null,""]
["",null,null,null,null,null,""]
["",null,null,null,null,null,""]
["",null,null,null,null,null,""]
["",null,null,null,null,null,""]
["",null,null,null,null,null,""]
["",null,null,null,null,null,""]
["",null,null,null,null,null,""]
["",null,null,null,null,null,""]
["",null,null,null,null,null,""]
["",null,null,null,null,null,""]
["",null,null,null,null,null,""]
["",null,null,null,null,null,""]
["",null,null,null,null,null,""]
["",null,null,null,null,null,""]
["",null,null,null,null,null,""]
["",null,null,null,null,null,""]
["",null,null,null,null,null,""]
["",null,null,null,null,null,""]
["",null,null,null,null,null,""]
[{"$f":"IF(B1223>\"\",A1222+1,\"\")","v":""},null,null,null,null,null,""]
["",null,null,null,null,null,""]
["",null,null,null,null,null,""]
["",null,null,null,null,null,""]
["",null,null,null,null,null,""]
["",null,null,null,null,null,""]
["",null,null,null,null,null,""]
["",null,null,null,null,null,""]
["",null,null,null,null,null,""]
["",null,null,null,null,null,""]
["",null,null,null,null,null,""]
["",null,null,null,null,null,""]
["",null,null,null,null,null,{"$f":"IF(J1235>\"\",G1234+1,\"\")","v":""}]
["",null,null,null,null,null,""]
["",null,null,null,null,null,""]
["",null,null,null,null,null,""]
["",null,null,null,null,null,""]
["",null,null,null,null,null,""]
["",null,null,null,null,null,""]
["",null,null,null,null,null,""]
["",null,null,null,null,null,""]
["",null,null,null,null,null,""]
["",null,null,null,null,null,""]
["",null,null,null,null,null,""]
["",null,null,null,null,null,""]
["",null,null,null,null,null,""]
["",null,null,null,null,null,""]
["",null,null,null,null,null,""]
["",null,null,null,null,null,""]
["",null,null,null,null,null,""]
["",null,null,null,null,null,""]
["",null,null,null,null,null,""]
["",null,null,null,null,null,""]
["",null,null,null,null,null,""]
["",null,null,null,null,null,""]
["",null,null,null,null,null,""]
["",null,null,null,null,null,""]
["",null,null,null,null,null,""]
["",null,null,null,null,null,""]
["",null,null,null,null,null,""]
["",null,null,null,null,null,""]
["",null,null,null,null,null,""]
["",null,null,null,null,null,""]
["",null,null,null,null,null,""]
["",null,null,null,null,null,""]
["",null,null,null,null,null,""]
["",null,null,null,null,null,""]
["",null,null,null,null,null,""]
["",null,null,null,null,null,""]
["",null,null,null,null,null,""]
["",null,null,null,null,null,""]
["",null,null,null,null,null,""]
["",null,null,null,null,null,""]
["",null,null,null,null,null,""]
["",null,null,null,null,null,""]
["",null,null,null,null,null,""]
["",null,null,null,null,null,""]
["",null,null,null,null,null,""]
["",null,null,null,null,null,""]
["",null,null,null,null,null,""]
["",null,null,null,null,null,""]
["",null,null,null,null,null,""]
["",null,null,null,null,null,""]
["",null,null,null,null,null,""]
[{"$f":"IF(B1287>\"\",A1286+1,\"\")","v":""},null,null,null,null,null,""]
["",null,null,null,null,null,""]
["",null,null,null,null,null,""]
["",null,null,null,null,null,""]
["",null,null,null,null,null,""]
["",null,null,null,null,null,""]
["",null,null,null,null,null,""]
["",null,null,null,null,null,""]
["",null,null,null,null,null,""]
["",null,null,null,null,null,""]
["",null,null,null,null,null,""]
["",null,null,null,null,null,""]
["",null,null,null,null,null,{"$f":"IF(J1299>\"\",G1298+1,\"\")","v":""}]
["",null,null,null,null,null,""]
["",null,null,null,null,null,""]
["",null,null,null,null,null,""]
["",null,null,null,null,null,""]
["",null,null,null,null,null,""]
["",null,null,null,null,null,""]
["",null,null,null,null,null,""]
["",null,null,null,null,null,""]
["",null,null,null,null,null,""]
["",null,null,null,null,null,""]
["",null,null,null,null,null,""]
["",null,null,null,null,null,""]
["",null,null,null,null,null,""]
["",null,null,null,null,null,""]
["",null,null,null,null,null,""]
["",null,null,null,null,null,""]
["",null,null,null,null,null,""]
["",null,null,null,null,null,""]
["",null,null,null,null,null,""]
["",null,null,null,null,null,""]
["",null,null,null,null,null,""]
["",null,null,null,null,null,""]
["",null,null,null,null,null,""]
["",null,null,null,null,null,""]
["",null,null,null,null,null,""]
["",null,null,null,null,null,""]
["",null,null,null,null,null,""]
["",null,null,null,null,null,""]
["",null,null,null,null,null,""]
["",null,null,null,null,null,""]
["",null,null,null,null,null,""]
["",null,null,null,null,null,""]
["",null,null,null,null,null,""]
["",null,null,null,null,null,""]
["",null,null,null,null,null,""]
["",null,null,null,null,null,""]
["",null,null,null,null,null,""]
["",null,null,null,null,null,""]
["",null,null,null,null,null,""]
["",null,null,null,null,null,""]
["",null,null,null,null,null,""]
["",null,null,null,null,null,""]
["",null,null,null,null,null,""]
["",null,null,null,null,null,""]
["",null,null,null,null,null,""]
["",null,null,null,null,null,""]
["",null,null,null,null,null,""]
["",null,null,null,null,null,""]
["",null,null,null,null,null,""]
["",null,null,null,null,null,""]
["",null,null,null,null,null,""]
[{"$f":"IF(B1351>\"\",A1350+1,\"\")","v":""},null,null,null,null,null,""]
["",null,null,null,null,null,""]
["",null,null,null,null,null,""]
["",null,null,null,null,null,""]
["",null,null,null,null,null,""]
["",null,null,null,null,null,""]
["",null,null,null,null,null,""]
["",null,null,null,null,null,""]
["",null,null,null,null,null,""]
["",null,null,null,null,null,""]
["",null,null,null,null,null,""]
["",null,null,null,null,null,""]
["",null,null,null,null,null,{"$f":"IF(J1363>\"\",G1362+1,\"\")","v":""}]
["",null,null,null,null,null,""]
["",null,null,null,null,null,""]
["",null,null,null,null,null,""]
["",null,null,null,null,null,""]
["",null,null,null,null,null,""]
["",null,null,null,null,null,""]
["",null,null,null,null,null,""]
["",null,null,null,null,null,""]
["",null,null,null,null,null,""]
["",null,null,null,null,null,""]
["",null,null,null,null,null,""]
["",null,null,null,null,null,""]
["",null,null,null,null,null,""]
["",null,null,null,null,null,""]
["",null,null,null,null,null,""]
["",null,null,null,null,null,""]
["",null,null,null,null,null,""]
["",null,null,null,null,null,""]
["",null,null,null,null,null,""]
["",null,null,null,null,null,""]
["",null,null,null,null,null,""]
["",null,null,null,null,null,""]
["",null,null,null,null,null,""]
["",null,null,null,null,null,""]
["",null,null,null,null,null,""]
["",null,null,null,null,null,""]
["",null,null,null,null,null,""]
["",null,null,null,null,null,""]
["",null,null,null,null,null,""]
["",null,null,null,null,null,""]
["",null,null,null,null,null,""]
["",null,null,null,null,null,""]
["",null,null,null,null,null,""]
["",null,null,null,null,null,""]
["",null,null,null,null,null,""]
["",null,null,null,null,null,""]
["",null,null,null,null,null,""]
["",null,null,null,null,null,""]
["",null,null,null,null,null,""]
["",null,null,null,null,null,""]
["",null,null,null,null,null,""]
["",null,null,null,null,null,""]
["",null,null,null,null,null,""]
["",null,null,null,null,null,""]
["",null,null,null,null,null,""]
["",null,null,null,null,null,""]
["",null,null,null,null,null,""]
["",null,null,null,null,null,""]
["",null,null,null,null,null,""]
["",null,null,null,null,null,""]
["",null,null,null,null,null,""]
[{"$f":"IF(B1415>\"\",A1414+1,\"\")","v":""},null,null,null,null,null,""]
["",null,null,null,null,null,""]
["",null,null,null,null,null,""]
["",null,null,null,null,null,""]
["",null,null,null,null,null,""]
["",null,null,null,null,null,""]
["",null,null,null,null,null,""]
["",null,null,null,null,null,""]
["",null,null,null,null,null,""]
["",null,null,null,null,null,""]
["",null,null,null,null,null,""]
["",null,null,null,null,null,""]
["",null,null,null,null,null,{"$f":"IF(J1427>\"\",G1426+1,\"\")","v":""}]
["",null,null,null,null,null,""]
["",null,null,null,null,null,""]
["",null,null,null,null,null,""]
["",null,null,null,null,null,""]
["",null,null,null,null,null,""]
["",null,null,null,null,null,""]
["",null,null,null,null,null,""]
["",null,null,null,null,null,""]
["",null,null,null,null,null,""]
["",null,null,null,null,null,""]
["",null,null,null,null,null,""]
["",null,null,null,null,null,""]
["",null,null,null,null,null,""]
["",null,null,null,null,null,""]
["",null,null,null,null,null,""]
["",null,null,null,null,null,""]
["",null,null,null,null,null,""]
["",null,null,null,null,null,""]
["",null,null,null,null,null,""]
["",null,null,null,null,null,""]
["",null,null,null,null,null,""]
["",null,null,null,null,null,""]
["",null,null,null,null,null,""]
["",null,null,null,null,null,""]
["",null,null,null,null,null,""]
["",null,null,null,null,null,""]
["",null,null,null,null,null,""]
["",null,null,null,null,null,""]
["",null,null,null,null,null,""]
["",null,null,null,null,null,""]
["",null,null,null,null,null,""]
["",null,null,null,null,null,""]
["",null,null,null,null,null,""]
["",null,null,null,null,null,""]
["",null,null,null,null,null,""]
["",null,null,null,null,null,""]
["",null,null,null,null,null,""]
["",null,null,null,null,null,""]
["",null,null,null,null,null,""]
["",null,null,null,null,null,""]
["",null,null,null,null,null,""]
["",null,null,null,null,null,""]
["",null,null,null,null,null,""]
["",null,null,null,null,null,""]
["",null,null,null,null,null,""]
["",null,null,null,null,null,""]
["",null,null,null,null,null,""]
["",null,null,null,null,null,""]
["",null,null,null,null,null,""]
["",null,null,null,null,null,""]
["",null,null,null,null,null,""]
[{"$f":"IF(B1479>\"\",A1478+1,\"\")","v":""},null,null,null,null,null,""]
["",null,null,null,null,null,""]
["",null,null,null,null,null,""]
["",null,null,null,null,null,""]
["",null,null,null,null,null,""]
["",null,null,null,null,null,""]
["",null,null,null,null,null,""]
["",null,null,null,null,null,""]
["",null,null,null,null,null,""]
["",null,null,null,null,null,""]
["",null,null,null,null,null,""]
["",null,null,null,null,null,""]
["",null,null,null,null,null,{"$f":"IF(J1491>\"\",G1490+1,\"\")","v":""}]
["",null,null,null,null,null,""]
["",null,null,null,null,null,""]
["",null,null,null,null,null,""]
["",null,null,null,null,null,""]
["",null,null,null,null,null,""]
["",null,null,null,null,null,""]
["",null,null,null,null,null,""]
["",null,null,null,null,null,""]
["",null,null,null,null,null,""]
["",null,null,null,null,null,""]
["",null,null,null,null,null,""]
["",null,null,null,null,null,""]
["",null,null,null,null,null,""]
["",null,null,null,null,null,""]
["",null,null,null,null,null,""]
["",null,null,null,null,null,""]
["",null,null,null,null,null,""]
["",null,null,null,null,null,""]
["",null,null,null,null,null,""]
["",null,null,null,null,null,""]
["",null,null,null,null,null,""]
["",null,null,null,null,null,""]
["",null,null,null,null,null,""]
["",null,null,null,null,null,""]
["",null,null,null,null,null,""]
["",null,null,null,null,null,""]
["",null,null,null,null,null,""]
["",null,null,null,null,null,""]
["",null,null,null,null,null,""]
["",null,null,null,null,null,""]
["",null,null,null,null,null,""]
["",null,null,null,null,null,""]
["",null,null,null,null,null,""]
["",null,null,null,null,null,""]
["",null,null,null,null,null,""]
["",null,null,null,null,null,""]
["",null,null,null,null,null,""]
["",null,null,null,null,null,""]
["",null,null,null,null,null,""]
["",null,null,null,null,null,""]
["",null,null,null,null,null,""]
["",null,null,null,null,null,""]
["",null,null,null,null,null,""]
["",null,null,null,null,null,""]
["",null,null,null,null,null,""]
["",null,null,null,null,null,""]
["",null,null,null,null,null,""]
["",null,null,null,null,null,""]
["",null,null,null,null,null,""]
["",null,null,null,null,null,""]
["",null,null,null,null,null,""]
[{"$f":"IF(B1543>\"\",A1542+1,\"\")","v":""},null,null,null,null,null,""]
["",null,null,null,null,null,""]
["",null,null,null,null,null,""]
["",null,null,null,null,null,""]
["",null,null,null,null,null,""]
["",null,null,null,null,null,""]
["",null,null,null,null,null,""]
["",null,null,null,null,null,""]
["",null,null,null,null,null,""]
["",null,null,null,null,null,""]
["",null,null,null,null,null,""]
["",null,null,null,null,null,""]
["",null,null,null,null,null,{"$f":"IF(J1555>\"\",G1554+1,\"\")","v":""}]
["",null,null,null,null,null,""]
["",null,null,null,null,null,""]
["",null,null,null,null,null,""]
["",null,null,null,null,null,""]
["",null,null,null,null,null,""]
["",null,null,null,null,null,""]
["",null,null,null,null,null,""]
["",null,null,null,null,null,""]
["",null,null,null,null,null,""]
["",null,null,null,null,null,""]
["",null,null,null,null,null,""]
["",null,null,null,null,null,""]
["",null,null,null,null,null,""]
["",null,null,null,null,null,""]
["",null,null,null,null,null,""]
["",null,null,null,null,null,""]
["",null,null,null,null,null,""]
["",null,null,null,null,null,""]
["",null,null,null,null,null,""]
["",null,null,null,null,null,""]
["",null,null,null,null,null,""]
["",null,null,null,null,null,""]
["",null,null,null,null,null,""]
["",null,null,null,null,null,""]
["",null,null,null,null,null,""]
["",null,null,null,null,null,""]
["",null,null,null,null,null,""]
["",null,null,null,null,null,""]
["",null,null,null,null,null,""]
["",null,null,null,null,null,""]
["",null,null,null,null,null,""]
["",null,null,null,null,null,""]
["",null,null,null,null,null,""]
["",null,null,null,null,null,""]
["",null,null,null,null,null,""]
["",null,null,null,null,null,""]
["",null,null,null,null,null,""]
["",null,null,null,null,null,""]
["",null,null,null,null,null,""]
["",null,null,null,null,null,""]
["",null,null,null,null,null,""]
["",null,null,null,null,null,""]
["",null,null,null,null,null,""]
["",null,null,null,null,null,""]
["",null,null,null,null,null,""]
["",null,null,null,null,null,""]
["",null,null,null,null,null,""]
["",null,null,null,null,null,""]
["",null,null,null,null,null,""]
["",null,null,null,null,null,""]
["",null,null,null,null,null,""]
[{"$f":"IF(B1607>\"\",A1606+1,\"\")","v":""},null,null,null,null,null,""]
["",null,null,null,null,null,""]
["",null,null,null,null,null,""]
["",null,null,null,null,null,""]
["",null,null,null,null,null,""]
["",null,null,null,null,null,""]
["",null,null,null,null,null,""]
["",null,null,null,null,null,""]
["",null,null,null,null,null,""]
["",null,null,null,null,null,""]
["",null,null,null,null,null,""]
["",null,null,null,null,null,""]
["",null,null,null,null,null,{"$f":"IF(J1619>\"\",G1618+1,\"\")","v":""}]
["",null,null,null,null,null,""]
["",null,null,null,null,null,""]
["",null,null,null,null,null,""]
["",null,null,null,null,null,""]
["",null,null,null,null,null,""]
["",null,null,null,null,null,""]
["",null,null,null,null,null,""]
["",null,null,null,null,null,""]
["",null,null,null,null,null,""]
["",null,null,null,null,null,""]
["",null,null,null,null,null,""]
["",null,null,null,null,null,""]
["",null,null,null,null,null,""]
["",null,null,null,null,null,""]
["",null,null,null,null,null,""]
["",null,null,null,null,null,""]
["",null,null,null,null,null,""]
["",null,null,null,null,null,""]
["",null,null,null,null,null,""]
["",null,null,null,null,null,""]
["",null,null,null,null,null,""]
["",null,null,null,null,null,""]
["",null,null,null,null,null,""]
["",null,null,null,null,null,""]
["",null,null,null,null,null,""]
["",null,null,null,null,null,""]
["",null,null,null,null,null,""]
["",null,null,null,null,null,""]
["",null,null,null,null,null,""]
["",null,null,null,null,null,""]
["",null,null,null,null,null,""]
["",null,null,null,null,null,""]
["",null,null,null,null,null,""]
["",null,null,null,null,null,""]
["",null,null,null,null,null,""]
["",null,null,null,null,null,""]
["",null,null,null,null,null,""]
["",null,null,null,null,null,""]
["",null,null,null,null,null,""]
["",null,null,null,null,null,""]
["",null,null,null,null,null,""]
["",null,null,null,null,null,""]
["",null,null,null,null,null,""]
["",null,null,null,null,null,""]
["",null,null,null,null,null,""]
["",null,null,null,null,null,""]
["",null,null,null,null,null,""]
["",null,null,null,null,null,""]
["",null,null,null,null,null,""]
["",null,null,null,null,null,""]
["",null,null,null,null,null,""]
[{"$f":"IF(B1671>\"\",A1670+1,\"\")","v":""},null,null,null,null,null,""]
["",null,null,null,null,null,""]
["",null,null,null,null,null,""]
["",null,null,null,null,null,""]
["",null,null,null,null,null,""]
["",null,null,null,null,null,""]
["",null,null,null,null,null,""]
["",null,null,null,null,null,""]
["",null,null,null,null,null,""]
["",null,null,null,null,null,""]
["",null,null,null,null,null,""]
["",null,null,null,null,null,""]
["",null,null,null,null,null,{"$f":"IF(J1683>\"\",G1682+1,\"\")","v":""}]
["",null,null,null,null,null,""]
["",null,null,null,null,null,""]
["",null,null,null,null,null,""]
["",null,null,null,null,null,""]
["",null,null,null,null,null,""]
["",null,null,null,null,null,""]
["",null,null,null,null,null,""]
["",null,null,null,null,null,""]
["",null,null,null,null,null,""]
["",null,null,null,null,null,""]
["",null,null,null,null,null,""]
["",null,null,null,null,null,""]
["",null,null,null,null,null,""]
["",null,null,null,null,null,""]
["",null,null,null,null,null,""]
["",null,null,null,null,null,""]
["",null,null,null,null,null,""]
["",null,null,null,null,null,""]
["",null,null,null,null,null,""]
["",null,null,null,null,null,""]
["",null,null,null,null,null,""]
["",null,null,null,null,null,""]
["",null,null,null,null,null,""]
["",null,null,null,null,null,""]
["",null,null,null,null,null,""]
["",null,null,null,null,null,""]
["",null,null,null,null,null,""]
["",null,null,null,null,null,""]
["",null,null,null,null,null,""]
["",null,null,null,null,null,""]
["",null,null,null,null,null,""]
["",null,null,null,null,null,""]
["",null,null,null,null,null,""]
["",null,null,null,null,null,""]
["",null,null,null,null,null,""]
["",null,null,null,null,null,""]
["",null,null,null,null,null,""]
["",null,null,null,null,null,""]
["",null,null,null,null,null,""]
["",null,null,null,null,null,""]
["",null,null,null,null,null,""]
["",null,null,null,null,null,""]
["",null,null,null,null,null,""]
["",null,null,null,null,null,""]
["",null,null,null,null,null,""]
["",null,null,null,null,null,""]
["",null,null,null,null,null,""]
["",null,null,null,null,null,""]
["",null,null,null,null,null,""]
["",null,null,null,null,null,""]
["",null,null,null,null,null,""]
[{"$f":"IF(B1735>\"\",A1734+1,\"\")","v":""},null,null,null,null,null,""]
["",null,null,null,null,null,""]
["",null,null,null,null,null,""]
["",null,null,null,null,null,""]
["",null,null,null,null,null,""]
["",null,null,null,null,null,""]
["",null,null,null,null,null,""]
["",null,null,null,null,null,""]
["",null,null,null,null,null,""]
["",null,null,null,null,null,""]
["",null,null,null,null,null,""]
["",null,null,null,null,null,""]
["",null,null,null,null,null,{"$f":"IF(J1747>\"\",G1746+1,\"\")","v":""}]
["",null,null,null,null,null,""]
["",null,null,null,null,null,""]
["",null,null,null,null,null,""]
["",null,null,null,null,null,""]
["",null,null,null,null,null,""]
["",null,null,null,null,null,""]
["",null,null,null,null,null,""]
["",null,null,null,null,null,""]
["",null,null,null,null,null,""]
["",null,null,null,null,null,""]
["",null,null,null,null,null,""]
["",null,null,null,null,null,""]
["",null,null,null,null,null,""]
["",null,null,null,null,null,""]
["",null,null,null,null,null,""]
["",null,null,null,null,null,""]
["",null,null,null,null,null,""]
["",null,null,null,null,null,""]
["",null,null,null,null,null,""]
["",null,null,null,null,null,""]
["",null,null,null,null,null,""]
["",null,null,null,null,null,""]
["",null,null,null,null,null,""]
["",null,null,null,null,null,""]
["",null,null,null,null,null,""]
["",null,null,null,null,null,""]
["",null,null,null,null,null,""]
["",null,null,null,null,null,""]
["",null,null,null,null,null,""]
["",null,null,null,null,null,""]
["",null,null,null,null,null,""]
["",null,null,null,null,null,""]
["",null,null,null,null,null,""]
["",null,null,null,null,null,""]
["",null,null,null,null,null,""]
["",null,null,null,null,null,""]
["",null,null,null,null,null,""]
["",null,null,null,null,null,""]
["",null,null,null,null,null,""]
["",null,null,null,null,null,""]
["",null,null,null,null,null,""]
["",null,null,null,null,null,""]
["",null,null,null,null,null,""]
["",null,null,null,null,null,""]
["",null,null,null,null,null,""]
["",null,null,null,null,null,""]
["",null,null,null,null,null,""]
["",null,null,null,null,null,""]
["",null,null,null,null,null,""]
["",null,null,null,null,null,""]
["",null,null,null,null,null,""]
[{"$f":"IF(B1799>\"\",A1798+1,\"\")","v":""},null,null,null,null,null,""]
["",null,null,null,null,null,""]
["",null,null,null,null,null,""]
["",null,null,null,null,null,""]
["",null,null,null,null,null,""]
["",null,null,null,null,null,""]
["",null,null,null,null,null,""]
["",null,null,null,null,null,""]
["",null,null,null,null,null,""]
["",null,null,null,null,null,""]
["",null,null,null,null,null,""]
["",null,null,null,null,null,""]
["",null,null,null,null,null,{"$f":"IF(J1811>\"\",G1810+1,\"\")","v":""}]
["",null,null,null,null,null,""]
["",null,null,null,null,null,""]
["",null,null,null,null,null,""]
["",null,null,null,null,null,""]
["",null,null,null,null,null,""]
["",null,null,null,null,null,""]
["",null,null,null,null,null,""]
["",null,null,null,null,null,""]
["",null,null,null,null,null,""]
["",null,null,null,null,null,""]
["",null,null,null,null,null,""]
["",null,null,null,null,null,""]
["",null,null,null,null,null,""]
["",null,null,null,null,null,""]
["",null,null,null,null,null,""]
["",null,null,null,null,null,""]
["",null,null,null,null,null,""]
["",null,null,null,null,null,""]
["",null,null,null,null,null,""]
["",null,null,null,null,null,""]
["",null,null,null,null,null,""]
["",null,null,null,null,null,""]
["",null,null,null,null,null,""]
["",null,null,null,null,null,""]
["",null,null,null,null,null,""]
["",null,null,null,null,null,""]
["",null,null,null,null,null,""]
["",null,null,null,null,null,""]
["",null,null,null,null,null,""]
["",null,null,null,null,null,""]
["",null,null,null,null,null,""]
["",null,null,null,null,null,""]
["",null,null,null,null,null,""]
["",null,null,null,null,null,""]
["",null,null,null,null,null,""]
["",null,null,null,null,null,""]
["",null,null,null,null,null,""]
["",null,null,null,null,null,""]
["",null,null,null,null,null,""]
["",null,null,null,null,null,""]
["",null,null,null,null,null,""]
["",null,null,null,null,null,""]
["",null,null,null,null,null,""]
["",null,null,null,null,null,""]
["",null,null,null,null,null,""]
["",null,null,null,null,null,""]
["",null,null,null,null,null,""]
["",null,null,null,null,null,""]
["",null,null,null,null,null,""]
["",null,null,null,null,null,""]
["",null,null,null,null,null,""]
[{"$f":"IF(B1863>\"\",A1862+1,\"\")","v":""},null,null,null,null,null,""]
["",null,null,null,null,null,""]
["",null,null,null,null,null,""]
["",null,null,null,null,null,""]
["",null,null,null,null,null,""]
["",null,null,null,null,null,""]
["",null,null,null,null,null,""]
["",null,null,null,null,null,""]
["",null,null,null,null,null,""]
["",null,null,null,null,null,""]
["",null,null,null,null,null,""]
["",null,null,null,null,null,""]
["",null,null,null,null,null,{"$f":"IF(J1875>\"\",G1874+1,\"\")","v":""}]
["",null,null,null,null,null,""]
["",null,null,null,null,null,""]
["",null,null,null,null,null,""]
["",null,null,null,null,null,""]
["",null,null,null,null,null,""]
["",null,null,null,null,null,""]
["",null,null,null,null,null,""]
["",null,null,null,null,null,""]
["",null,null,null,null,null,""]
["",null,null,null,null,null,""]
["",null,null,null,null,null,""]
["",null,null,null,null,null,""]
["",null,null,null,null,null,""]
["",null,null,null,null,null,""]
["",null,null,null,null,null,""]
["",null,null,null,null,null,""]
["",null,null,null,null,null,""]
["",null,null,null,null,null,""]
["",null,null,null,null,null,""]
["",null,null,null,null,null,""]
["",null,null,null,null,null,""]
["",null,null,null,null,null,""]
["",null,null,null,null,null,""]
["",null,null,null,null,null,""]
["",null,null,null,null,null,""]
["",null,null,null,null,null,""]
["",null,null,null,null,null,""]
["",null,null,null,null,null,""]
["",null,null,null,null,null,""]
["",null,null,null,null,null,""]
["",null,null,null,null,null,""]
["",null,null,null,null,null,""]
["",null,null,null,null,null,""]
["",null,null,null,null,null,""]
["",null,null,null,null,null,""]
["",null,null,null,null,null,""]
["",null,null,null,null,null,""]
["",null,null,null,null,null,""]
["",null,null,null,null,null,""]
["",null,null,null,null,null,""]
["",null,null,null,null,null,""]
["",null,null,null,null,null,""]
["",null,null,null,null,null,""]
["",null,null,null,null,null,""]
["",null,null,null,null,null,""]
["",null,null,null,null,null,""]
["",null,null,null,null,null,""]
["",null,null,null,null,null,""]
["",null,null,null,null,null,""]
["",null,null,null,null,null,""]
["",null,null,null,null,null,""]
[{"$f":"IF(B1927>\"\",A1926+1,\"\")","v":""},null,null,null,null,null,""]
["",null,null,null,null,null,""]
["",null,null,null,null,null,""]
["",null,null,null,null,null,""]
["",null,null,null,null,null,""]
["",null,null,null,null,null,""]
["",null,null,null,null,null,""]
["",null,null,null,null,null,""]
["",null,null,null,null,null,""]
["",null,null,null,null,null,""]
["",null,null,null,null,null,""]
["",null,null,null,null,null,""]
["",null,null,null,null,null,{"$f":"IF(J1939>\"\",G1938+1,\"\")","v":""}]
["",null,null,null,null,null,""]
["",null,null,null,null,null,""]
["",null,null,null,null,null,""]
["",null,null,null,null,null,""]
["",null,null,null,null,null,""]
["",null,null,null,null,null,""]
["",null,null,null,null,null,""]
["",null,null,null,null,null,""]
["",null,null,null,null,null,""]
["",null,null,null,null,null,""]
["",null,null,null,null,null,""]
["",null,null,null,null,null,""]
["",null,null,null,null,null,""]
["",null,null,null,null,null,""]
["",null,null,null,null,null,""]
["",null,null,null,null,null,""]
["",null,null,null,null,null,""]
["",null,null,null,null,null,""]
["",null,null,null,null,null,""]
["",null,null,null,null,null,""]
["",null,null,null,null,null,""]
["",null,null,null,null,null,""]
["",null,null,null,null,null,""]
["",null,null,null,null,null,""]
["",null,null,null,null,null,""]
["",null,null,null,null,null,""]
["",null,null,null,null,null,""]
["",null,null,null,null,null,""]
["",null,null,null,null,null,""]
["",null,null,null,null,null,""]
["",null,null,null,null,null,""]
["",null,null,null,null,null,""]
["",null,null,null,null,null,""]
["",null,null,null,null,null,""]
["",null,null,null,null,null,""]
["",null,null,null,null,null,""]
["",null,null,null,null,null,""]
["",null,null,null,null,null,""]
["",null,null,null,null,null,""]
["",null,null,null,null,null,""]
["",null,null,null,null,null,""]
["",null,null,null,null,null,""]
["",null,null,null,null,null,""]
["",null,null,null,null,null,""]
["",null,null,null,null,null,""]
["",null,null,null,null,null,""]
["",null,null,null,null,null,""]
["",null,null,null,null,null,""]
["",null,null,null,null,null,""]
["",null,null,null,null,null,""]
["",null,null,null,null,null,""]
[{"$f":"IF(B1991>\"\",A1990+1,\"\")","v":""},null,null,null,null,null,""]
["",null,null,null,null,null,""]
["",null,null,null,null,null,""]
["",null,null,null,null,null,""]
["",null,null,null,null,null,""]
["",null,null,null,null,null,""]
["",null,null,null,null,null,""]
["",null,null,null,null,null,""]
["",null,null,null,null,null,""]
["",null,null,null,null,null,""]
["",null,null,null,null,null,""]
["",null,null,null,null,null,""]
["",null,null,null,null,null,{"$f":"IF(J2003>\"\",G2002+1,\"\")","v":""}]
["",null,null,null,null,null,""]
["",null,null,null,null,null,""]
["",null,null,null,null,null,""]
["",null,null,null,null,null,""]
["",null,null,null,null,null,""]
["",null,null,null,null,null,""]
["",null,null,null,null,null,""]
["",null,null,null,null,null,""]
["",null,null,null,null,null,""]
["",null,null,null,null,null,""]
["",null,null,null,null,null,""]
["",null,null,null,null,null,""]
["",null,null,null,null,null,""]
["",null,null,null,null,null,""]
["",null,null,null,null,null,""]
["",null,null,null,null,null,""]
["",null,null,null,null,null,""]
["",null,null,null,null,null,""]
["",null,null,null,null,null,""]
["",null,null,null,null,null,""]
["",null,null,null,null,null,""]
["",null,null,null,null,null,""]
["",null,null,null,null,null,""]
["",null,null,null,null,null,""]
["",null,null,null,null,null,""]
["",null,null,null,null,null,""]
["",null,null,null,null,null,""]
["",null,null,null,null,null,""]
["",null,null,null,null,null,""]
["",null,null,null,null,null,""]
["",null,null,null,null,null,""]
["",null,null,null,null,null,""]
["",null,null,null,null,null,""]
["",null,null,null,null,null,""]
["",null,null,null,null,null,""]
["",null,null,null,null,null,""]
["",null,null,null,null,null,""]
["",null,null,null,null,null,""]
["",null,null,null,null,null,""]
["",null,null,null,null,null,""]
["",null,null,null,null,null,""]
["",null,null,null,null,null,""]
["",null,null,null,null,null,""]
["",null,null,null,null,null,""]
["",null,null,null,null,null,""]
["",null,null,null,null,null,""]
["",null,null,null,null,null,""]
["",null,null,null,null,null,""]
["",null,null,null,null,null,""]
["",null,null,null,null,null,""]
["",null,null,null,null,null,""]
[{"$f":"IF(B2055>\"\",A2054+1,\"\")","v":""},null,null,null,null,null,""]
["",null,null,null,null,null,""]
["",null,null,null,null,null,""]
["",null,null,null,null,null,""]
["",null,null,null,null,null,""]
["",null,null,null,null,null,""]
["",null,null,null,null,null,""]
["",null,null,null,null,null,""]
["",null,null,null,null,null,""]
["",null,null,null,null,null,""]
["",null,null,null,null,null,""]
["",null,null,null,null,null,""]
["",null,null,null,null,null,{"$f":"IF(J2067>\"\",G2066+1,\"\")","v":""}]
["",null,null,null,null,null,""]
["",null,null,null,null,null,""]
["",null,null,null,null,null,""]
["",null,null,null,null,null,""]
["",null,null,null,null,null,""]
["",null,null,null,null,null,""]
["",null,null,null,null,null,""]
["",null,null,null,null,null,""]
["",null,null,null,null,null,""]
["",null,null,null,null,null,""]
["",null,null,null,null,null,""]
["",null,null,null,null,null,""]
["",null,null,null,null,null,""]
["",null,null,null,null,null,""]
["",null,null,null,null,null,""]
["",null,null,null,null,null,""]
["",null,null,null,null,null,""]
["",null,null,null,null,null,""]
["",null,null,null,null,null,""]
["",null,null,null,null,null,""]
["",null,null,null,null,null,""]
["",null,null,null,null,null,""]
["",null,null,null,null,null,""]
["",null,null,null,null,null,""]
["",null,null,null,null,null,""]
["",null,null,null,null,null,""]
["",null,null,null,null,null,""]
["",null,null,null,null,null,""]
["",null,null,null,null,null,""]
["",null,null,null,null,null,""]
["",null,null,null,null,null,""]
["",null,null,null,null,null,""]
["",null,null,null,null,null,""]
["",null,null,null,null,null,""]
["",null,null,null,null,null,""]
["",null,null,null,null,null,""]
["",null,null,null,null,null,""]
["",null,null,null,null,null,""]
["",null,null,null,null,null,""]
["",null,null,null,null,null,""]
["",null,null,null,null,null,""]
["",null,null,null,null,null,""]
["",null,null,null,null,null,""]
["",null,null,null,null,null,""]
["",null,null,null,null,null,""]
["",null,null,null,null,null,""]
["",null,null,null,null,null,""]
["",null,null,null,null,null,""]
["",null,null,null,null,null,""]
["",null,null,null,null,null,""]
["",null,null,null,null,null,""]
[{"$f":"IF(B2119>\"\",A2118+1,\"\")","v":""},null,null,null,null,null,""]
["",null,null,null,null,null,""]
["",null,null,null,null,null,""]
["",null,null,null,null,null,""]
["",null,null,null,null,null,""]
["",null,null,null,null,null,""]
["",null,null,null,null,null,""]
["",null,null,null,null,null,""]
["",null,null,null,null,null,""]
["",null,null,null,null,null,""]
["",null,null,null,null,null,""]
["",null,null,null,null,null,""]
["",null,null,null,null,null,{"$f":"IF(J2131>\"\",G2130+1,\"\")","v":""}]
["",null,null,null,null,null,""]
["",null,null,null,null,null,""]
["",null,null,null,null,null,""]
["",null,null,null,null,null,""]
["",null,null,null,null,null,""]
["",null,null,null,null,null,""]
["",null,null,null,null,null,""]
["",null,null,null,null,null,""]
["",null,null,null,null,null,""]
["",null,null,null,null,null,""]
["",null,null,null,null,null,""]
["",null,null,null,null,null,""]
["",null,null,null,null,null,""]
["",null,null,null,null,null,""]
["",null,null,null,null,null,""]
["",null,null,null,null,null,""]
["",null,null,null,null,null,""]
["",null,null,null,null,null,""]
["",null,null,null,null,null,""]
["",null,null,null,null,null,""]
["",null,null,null,null,null,""]
["",null,null,null,null,null,""]
["",null,null,null,null,null,""]
["",null,null,null,null,null,""]
["",null,null,null,null,null,""]
["",null,null,null,null,null,""]
["",null,null,null,null,null,""]
["",null,null,null,null,null,""]
["",null,null,null,null,null,""]
["",null,null,null,null,null,""]
["",null,null,null,null,null,""]
["",null,null,null,null,null,""]
["",null,null,null,null,null,""]
["",null,null,null,null,null,""]
["",null,null,null,null,null,""]
["",null,null,null,null,null,""]
["",null,null,null,null,null,""]
["",null,null,null,null,null,""]
["",null,null,null,null,null,""]
["",null,null,null,null,null,""]
["",null,null,null,null,null,""]
["",null,null,null,null,null,""]
["",null,null,null,null,null,""]
["",null,null,null,null,null,""]
["",null,null,null,null,null,""]
["",null,null,null,null,null,""]
["",null,null,null,null,null,""]
["",null,null,null,null,null,""]
["",null,null,null,null,null,""]
["",null,null,null,null,null,""]
["",null,null,null,null,null,""]
[{"$f":"IF(B2183>\"\",A2182+1,\"\")","v":""},null,null,null,null,null,""]
["",null,null,null,null,null,""]
["",null,null,null,null,null,""]
["",null,null,null,null,null,""]
["",null,null,null,null,null,""]
["",null,null,null,null,null,""]
["",null,null,null,null,null,""]
["",null,null,null,null,null,""]
["",null,null,null,null,null,""]
["",null,null,null,null,null,""]
["",null,null,null,null,null,""]
["",null,null,null,null,null,""]
["",null,null,null,null,null,{"$f":"IF(J2195>\"\",G2194+1,\"\")","v":""}]
["",null,null,null,null,null,""]
["",null,null,null,null,null,""]
["",null,null,null,null,null,""]
["",null,null,null,null,null,""]
["",null,null,null,null,null,""]
["",null,null,null,null,null,""]
["",null,null,null,null,null,""]
["",null,null,null,null,null,""]
["",null,null,null,null,null,""]
["",null,null,null,null,null,""]
["",null,null,null,null,null,""]
["",null,null,null,null,null,""]
["",null,null,null,null,null,""]
["",null,null,null,null,null,""]
["",null,null,null,null,null,""]
["",null,null,null,null,null,""]
["",null,null,null,null,null,""]
["",null,null,null,null,null,""]
["",null,null,null,null,null,""]
["",null,null,null,null,null,""]
["",null,null,null,null,null,""]
["",null,null,null,null,null,""]
["",null,null,null,null,null,""]
["",null,null,null,null,null,""]
["",null,null,null,null,null,""]
["",null,null,null,null,null,""]
["",null,null,null,null,null,""]
["",null,null,null,null,null,""]
["",null,null,null,null,null,""]
["",null,null,null,null,null,""]
["",null,null,null,null,null,""]
["",null,null,null,null,null,""]
["",null,null,null,null,null,""]
["",null,null,null,null,null,""]
["",null,null,null,null,null,""]
["",null,null,null,null,null,""]
["",null,null,null,null,null,""]
["",null,null,null,null,null,""]
["",null,null,null,null,null,""]
["",null,null,null,null,null,""]
["",null,null,null,null,null,""]
["",null,null,null,null,null,""]
["",null,null,null,null,null,""]
["",null,null,null,null,null,""]
["",null,null,null,null,null,""]
["",null,null,null,null,null,""]
["",null,null,null,null,null,""]
["",null,null,null,null,null,""]
["",null,null,null,null,null,""]
["",null,null,null,null,null,""]
["",null,null,null,null,null,""]
[{"$f":"IF(B2247>\"\",A2246+1,\"\")","v":""},null,null,null,null,null,""]
["",null,null,null,null,null,""]
["",null,null,null,null,null,""]
["",null,null,null,null,null,""]
["",null,null,null,null,null,""]
["",null,null,null,null,null,""]
["",null,null,null,null,null,""]
["",null,null,null,null,null,""]
["",null,null,null,null,null,""]
["",null,null,null,null,null,""]
["",null,null,null,null,null,""]
["",null,null,null,null,null,""]
["",null,null,null,null,null,{"$f":"IF(J2259>\"\",G2258+1,\"\")","v":""}]
["",null,null,null,null,null,""]
["",null,null,null,null,null,""]
["",null,null,null,null,null,""]
["",null,null,null,null,null,""]
["",null,null,null,null,null,""]
["",null,null,null,null,null,""]
["",null,null,null,null,null,""]
["",null,null,null,null,null,""]
["",null,null,null,null,null,""]
["",null,null,null,null,null,""]
["",null,null,null,null,null,""]
["",null,null,null,null,null,""]
["",null,null,null,null,null,""]
["",null,null,null,null,null,""]
["",null,null,null,null,null,""]
["",null,null,null,null,null,""]
["",null,null,null,null,null,""]
["",null,null,null,null,null,""]
["",null,null,null,null,null,""]
["",null,null,null,null,null,""]
["",null,null,null,null,null,""]
["",null,null,null,null,null,""]
["",null,null,null,null,null,""]
["",null,null,null,null,null,""]
["",null,null,null,null,null,""]
["",null,null,null,null,null,""]
["",null,null,null,null,null,""]
["",null,null,null,null,null,""]
["",null,null,null,null,null,""]
["",null,null,null,null,null,""]
["",null,null,null,null,null,""]
["",null,null,null,null,null,""]
["",null,null,null,null,null,""]
["",null,null,null,null,null,""]
["",null,null,null,null,null,""]
["",null,null,null,null,null,""]
["",null,null,null,null,null,""]
["",null,null,null,null,null,""]
["",null,null,null,null,null,""]
["",null,null,null,null,null,""]
["",null,null,null,null,null,""]
["",null,null,null,null,null,""]
["",null,null,null,null,null,""]
["",null,null,null,null,null,""]
["",null,null,null,null,null,""]
["",null,null,null,null,null,""]
["",null,null,null,null,null,""]
["",null,null,null,null,null,""]
["",null,null,null,null,null,""]
["",null,null,null,null,null,""]
["",null,null,null,null,null,""]
[{"$f":"IF(B2311>\"\",A2310+1,\"\")","v":""},null,null,null,null,null,""]
["",null,null,null,null,null,""]
["",null,null,null,null,null,""]
["",null,null,null,null,null,""]
["",null,null,null,null,null,""]
["",null,null,null,null,null,""]
["",null,null,null,null,null,""]
["",null,null,null,null,null,""]
["",null,null,null,null,null,""]
["",null,null,null,null,null,""]
["",null,null,null,null,null,""]
["",null,null,null,null,null,""]
["",null,null,null,null,null,{"$f":"IF(J2323>\"\",G2322+1,\"\")","v":""}]
["",null,null,null,null,null,""]
["",null,null,null,null,null,""]
["",null,null,null,null,null,""]
["",null,null,null,null,null,""]
["",null,null,null,null,null,""]
["",null,null,null,null,null,""]
["",null,null,null,null,null,""]
["",null,null,null,null,null,""]
["",null,null,null,null,null,""]
["",null,null,null,null,null,""]
["",null,null,null,null,null,""]
["",null,null,null,null,null,""]
["",null,null,null,null,null,""]
["",null,null,null,null,null,""]
["",null,null,null,null,null,""]
["",null,null,null,null,null,""]
["",null,null,null,null,null,""]
["",null,null,null,null,null,""]
["",null,null,null,null,null,""]
["",null,null,null,null,null,""]
["",null,null,null,null,null,""]
["",null,null,null,null,null,""]
["",null,null,null,null,null,""]
["",null,null,null,null,null,""]
["",null,null,null,null,null,""]
["",null,null,null,null,null,""]
["",null,null,null,null,null,""]
["",null,null,null,null,null,""]
["",null,null,null,null,null,""]
["",null,null,null,null,null,""]
["",null,null,null,null,null,""]
["",null,null,null,null,null,""]
["",null,null,null,null,null,""]
["",null,null,null,null,null,""]
["",null,null,null,null,null,""]
["",null,null,null,null,null,""]
["",null,null,null,null,null,""]
["",null,null,null,null,null,""]
["",null,null,null,null,null,""]
["",null,null,null,null,null,""]
["",null,null,null,null,null,""]
["",null,null,null,null,null,""]
["",null,null,null,null,null,""]
["",null,null,null,null,null,""]
["",null,null,null,null,null,""]
["",null,null,null,null,null,""]
["",null,null,null,null,null,""]
["",null,null,null,null,null,""]
["",null,null,null,null,null,""]
["",null,null,null,null,null,""]
["",null,null,null,null,null,""]
[{"$f":"IF(B2375>\"\",A2374+1,\"\")","v":""},null,null,null,null,null,""]
["",null,null,null,null,null,""]
["",null,null,null,null,null,""]
["",null,null,null,null,null,""]
["",null,null,null,null,null,""]
["",null,null,null,null,null,""]
["",null,null,null,null,null,""]
["",null,null,null,null,null,""]
["",null,null,null,null,null,""]
["",null,null,null,null,null,""]
["",null,null,null,null,null,""]
["",null,null,null,null,null,""]
["",null,null,null,null,null,{"$f":"IF(J2387>\"\",G2386+1,\"\")","v":""}]
["",null,null,null,null,null,""]
["",null,null,null,null,null,""]
["",null,null,null,null,null,""]
["",null,null,null,null,null,""]
["",null,null,null,null,null,""]
["",null,null,null,null,null,""]
["",null,null,null,null,null,""]
["",null,null,null,null,null,""]
["",null,null,null,null,null,""]
["",null,null,null,null,null,""]
["",null,null,null,null,null,""]
["",null,null,null,null,null,""]
["",null,null,null,null,null,""]
["",null,null,null,null,null,""]
["",null,null,null,null,null,""]
["",null,null,null,null,null,""]
["",null,null,null,null,null,""]
["",null,null,null,null,null,""]
["",null,null,null,null,null,""]
["",null,null,null,null,null,""]
["",null,null,null,null,null,""]
["",null,null,null,null,null,""]
["",null,null,null,null,null,""]
["",null,null,null,null,null,""]
["",null,null,null,null,null,""]
["",null,null,null,null,null,""]
["",null,null,null,null,null,""]
["",null,null,null,null,null,""]
["",null,null,null,null,null,""]
["",null,null,null,null,null,""]
["",null,null,null,null,null,""]
["",null,null,null,null,null,""]
["",null,null,null,null,null,""]
["",null,null,null,null,null,""]
["",null,null,null,null,null,""]
["",null,null,null,null,null,""]
["",null,null,null,null,null,""]
["",null,null,null,null,null,""]
["",null,null,null,null,null,""]
["",null,null,null,null,null,""]
["",null,null,null,null,null,""]
["",null,null,null,null,null,""]
["",null,null,null,null,null,""]
["",null,null,null,null,null,""]
["",null,null,null,null,null,""]
["",null,null,null,null,null,""]
["",null,null,null,null,null,""]
["",null,null,null,null,null,""]
["",null,null,null,null,null,""]
["",null,null,null,null,null,""]
["",null,null,null,null,null,""]
[{"$f":"IF(B2439>\"\",A2438+1,\"\")","v":""},null,null,null,null,null,""]
["",null,null,null,null,null,""]
["",null,null,null,null,null,""]
["",null,null,null,null,null,""]
["",null,null,null,null,null,""]
["",null,null,null,null,null,""]
["",null,null,null,null,null,""]
["",null,null,null,null,null,""]
["",null,null,null,null,null,""]
["",null,null,null,null,null,""]
["",null,null,null,null,null,""]
["",null,null,null,null,null,""]
["",null,null,null,null,null,{"$f":"IF(J2451>\"\",G2450+1,\"\")","v":""}]
["",null,null,null,null,null,""]
["",null,null,null,null,null,""]
["",null,null,null,null,null,""]
["",null,null,null,null,null,""]
["",null,null,null,null,null,""]
["",null,null,null,null,null,""]
["",null,null,null,null,null,""]
["",null,null,null,null,null,""]
["",null,null,null,null,null,""]
["",null,null,null,null,null,""]
["",null,null,null,null,null,""]
["",null,null,null,null,null,""]
["",null,null,null,null,null,""]
["",null,null,null,null,null,""]
["",null,null,null,null,null,""]
["",null,null,null,null,null,""]
["",null,null,null,null,null,""]
["",null,null,null,null,null,""]
["",null,null,null,null,null,""]
["",null,null,null,null,null,""]
["",null,null,null,null,null,""]
["",null,null,null,null,null,""]
["",null,null,null,null,null,""]
["",null,null,null,null,null,""]
["",null,null,null,null,null,""]
["",null,null,null,null,null,""]
["",null,null,null,null,null,""]
["",null,null,null,null,null,""]
["",null,null,null,null,null,""]
["",null,null,null,null,null,""]
["",null,null,null,null,null,""]
["",null,null,null,null,null,""]
["",null,null,null,null,null,""]
["",null,null,null,null,null,""]
["",null,null,null,null,null,""]
["",null,null,null,null,null,""]
["",null,null,null,null,null,""]
["",null,null,null,null,null,""]
["",null,null,null,null,null,""]
["",null,null,null,null,null,""]
["",null,null,null,null,null,""]
["",null,null,null,null,null,""]
["",null,null,null,null,null,""]
["",null,null,null,null,null,""]
["",null,null,null,null,null,""]
["",null,null,null,null,null,""]
["",null,null,null,null,null,""]
["",null,null,null,null,null,""]
["",null,null,null,null,null,""]
["",null,null,null,null,null,""]
["",null,null,null,null,null,""]
[{"$f":"IF(B2503>\"\",A2502+1,\"\")","v":""},null,null,null,null,null,""]
["",null,null,null,null,null,""]
["",null,null,null,null,null,""]
["",null,null,null,null,null,""]
["",null,null,null,null,null,""]
["",null,null,null,null,null,""]
["",null,null,null,null,null,""]
["",null,null,null,null,null,""]
["",null,null,null,null,null,""]
["",null,null,null,null,null,""]
["",null,null,null,null,null,""]
["",null,null,null,null,null,""]
["",null,null,null,null,null,{"$f":"IF(J2515>\"\",G2514+1,\"\")","v":""}]
["",null,null,null,null,null,""]
["",null,null,null,null,null,""]
["",null,null,null,null,null,""]
["",null,null,null,null,null,""]
["",null,null,null,null,null,""]
["",null,null,null,null,null,""]
["",null,null,null,null,null,""]
["",null,null,null,null,null,""]
["",null,null,null,null,null,""]
["",null,null,null,null,null,""]
["",null,null,null,null,null,""]
["",null,null,null,null,null,""]
["",null,null,null,null,null,""]
["",null,null,null,null,null,""]
["",null,null,null,null,null,""]
["",null,null,null,null,null,""]
["",null,null,null,null,null,""]
["",null,null,null,null,null,""]
["",null,null,null,null,null,""]
["",null,null,null,null,null,""]
["",null,null,null,null,null,""]
["",null,null,null,null,null,""]
["",null,null,null,null,null,""]
["",null,null,null,null,null,""]
["",null,null,null,null,null,""]
["",null,null,null,null,null,""]
["",null,null,null,null,null,""]
["",null,null,null,null,null,""]
["",null,null,null,null,null,""]
["",null,null,null,null,null,""]
["",null,null,null,null,null,""]
["",null,null,null,null,null,""]
["",null,null,null,null,null,""]
["",null,null,null,null,null,""]
["",null,null,null,null,null,""]
["",null,null,null,null,null,""]
["",null,null,null,null,null,""]
["",null,null,null,null,null,""]
["",null,null,null,null,null,""]
["",null,null,null,null,null,""]
["",null,null,null,null,null,""]
["",null,null,null,null,null,""]
["",null,null,null,null,null,""]
["",null,null,null,null,null,""]
["",null,null,null,null,null,""]
["",null,null,null,null,null,""]
["",null,null,null,null,null,""]
["",null,null,null,null,null,""]
["",null,null,null,null,null,""]
["",null,null,null,null,null,""]
["",null,null,null,null,null,""]
[{"$f":"IF(B2567>\"\",A2566+1,\"\")","v":""},null,null,null,null,null,""]
["",null,null,null,null,null,""]
["",null,null,null,null,null,""]
["",null,null,null,null,null,""]
["",null,null,null,null,null,""]
["",null,null,null,null,null,""]
["",null,null,null,null,null,""]
["",null,null,null,null,null,""]
["",null,null,null,null,null,""]
["",null,null,null,null,null,""]
["",null,null,null,null,null,""]
["",null,null,null,null,null,""]
["",null,null,null,null,null,{"$f":"IF(J2579>\"\",G2578+1,\"\")","v":""}]
["",null,null,null,null,null,""]
["",null,null,null,null,null,""]
["",null,null,null,null,null,""]
["",null,null,null,null,null,""]
["",null,null,null,null,null,""]
["",null,null,null,null,null,""]
["",null,null,null,null,null,""]
["",null,null,null,null,null,""]
["",null,null,null,null,null,""]
["",null,null,null,null,null,""]
["",null,null,null,null,null,""]
["",null,null,null,null,null,""]
["",null,null,null,null,null,""]
["",null,null,null,null,null,""]
["",null,null,null,null,null,""]
["",null,null,null,null,null,""]
["",null,null,null,null,null,""]
["",null,null,null,null,null,""]
["",null,null,null,null,null,""]
["",null,null,null,null,null,""]
["",null,null,null,null,null,""]
["",null,null,null,null,null,""]
["",null,null,null,null,null,""]
["",null,null,null,null,null,""]
["",null,null,null,null,null,""]
["",null,null,null,null,null,""]
["",null,null,null,null,null,""]
["",null,null,null,null,null,""]
["",null,null,null,null,null,""]
["",null,null,null,null,null,""]
["",null,null,null,null,null,""]
["",null,null,null,null,null,""]
["",null,null,null,null,null,""]
["",null,null,null,null,null,""]
["",null,null,null,null,null,""]
["",null,null,null,null,null,""]
["",null,null,null,null,null,""]
["",null,null,null,null,null,""]
["",null,null,null,null,null,""]
["",null,null,null,null,null,""]
["",null,null,null,null,null,""]
["",null,null,null,null,null,""]
["",null,null,null,null,null,""]
["",null,null,null,null,null,""]
["",null,null,null,null,null,""]
["",null,null,null,null,null,""]
["",null,null,null,null,null,""]
["",null,null,null,null,null,""]
["",null,null,null,null,null,""]
["",null,null,null,null,null,""]
["",null,null,null,null,null,""]
[{"$f":"IF(B2631>\"\",A2630+1,\"\")","v":""},null,null,null,null,null,""]
["",null,null,null,null,null,""]
["",null,null,null,null,null,""]
["",null,null,null,null,null,""]
["",null,null,null,null,null,""]
["",null,null,null,null,null,""]
["",null,null,null,null,null,""]
["",null,null,null,null,null,""]
["",null,null,null,null,null,""]
["",null,null,null,null,null,""]
["",null,null,null,null,null,""]
["",null,null,null,null,null,""]
["",null,null,null,null,null,{"$f":"IF(J2643>\"\",G2642+1,\"\")","v":""}]
["",null,null,null,null,null,""]
["",null,null,null,null,null,""]
["",null,null,null,null,null,""]
["",null,null,null,null,null,""]
["",null,null,null,null,null,""]
["",null,null,null,null,null,""]
["",null,null,null,null,null,""]
["",null,null,null,null,null,""]
["",null,null,null,null,null,""]
["",null,null,null,null,null,""]
["",null,null,null,null,null,""]
["",null,null,null,null,null,""]
["",null,null,null,null,null,""]
["",null,null,null,null,null,""]
["",null,null,null,null,null,""]
["",null,null,null,null,null,""]
["",null,null,null,null,null,""]
["",null,null,null,null,null,""]
["",null,null,null,null,null,""]
["",null,null,null,null,null,""]
["",null,null,null,null,null,""]
["",null,null,null,null,null,""]
["",null,null,null,null,null,""]
["",null,null,null,null,null,""]
["",null,null,null,null,null,""]
["",null,null,null,null,null,""]
["",null,null,null,null,null,""]
["",null,null,null,null,null,""]
["",null,null,null,null,null,""]
["",null,null,null,null,null,""]
["",null,null,null,null,null,""]
["",null,null,null,null,null,""]
["",null,null,null,null,null,""]
["",null,null,null,null,null,""]
["",null,null,null,null,null,""]
["",null,null,null,null,null,""]
["",null,null,null,null,null,""]
["",null,null,null,null,null,""]
["",null,null,null,null,null,""]
["",null,null,null,null,null,""]
["",null,null,null,null,null,""]
["",null,null,null,null,null,""]
["",null,null,null,null,null,""]
["",null,null,null,null,null,""]
["",null,null,null,null,null,""]
["",null,null,null,null,null,""]
["",null,null,null,null,null,""]
["",null,null,null,null,null,""]
["",null,null,null,null,null,""]
["",null,null,null,null,null,""]
["",null,null,null,null,null,""]
[{"$f":"IF(B2695>\"\",A2694+1,\"\")","v":""},null,null,null,null,null,""]
["",null,null,null,null,null,""]
["",null,null,null,null,null,""]
["",null,null,null,null,null,""]
["",null,null,null,null,null,""]
["",null,null,null,null,null,""]
["",null,null,null,null,null,""]
["",null,null,null,null,null,""]
["",null,null,null,null,null,""]
["",null,null,null,null,null,""]
["",null,null,null,null,null,""]
["",null,null,null,null,null,""]
["",null,null,null,null,null,{"$f":"IF(J2707>\"\",G2706+1,\"\")","v":""}]
["",null,null,null,null,null,""]
["",null,null,null,null,null,""]
["",null,null,null,null,null,""]
["",null,null,null,null,null,""]
["",null,null,null,null,null,""]
["",null,null,null,null,null,""]
["",null,null,null,null,null,""]
["",null,null,null,null,null,""]
["",null,null,null,null,null,""]
["",null,null,null,null,null,""]
["",null,null,null,null,null,""]
["",null,null,null,null,null,""]
["",null,null,null,null,null,""]
["",null,null,null,null,null,""]
["",null,null,null,null,null,""]
["",null,null,null,null,null,""]
["",null,null,null,null,null,""]
["",null,null,null,null,null,""]
["",null,null,null,null,null,""]
["",null,null,null,null,null,""]
["",null,null,null,null,null,""]
["",null,null,null,null,null,""]
["",null,null,null,null,null,""]
["",null,null,null,null,null,""]
["",null,null,null,null,null,""]
["",null,null,null,null,null,""]
["",null,null,null,null,null,""]
["",null,null,null,null,null,""]
["",null,null,null,null,null,""]
["",null,null,null,null,null,""]
["",null,null,null,null,null,""]
["",null,null,null,null,null,""]
["",null,null,null,null,null,""]
["",null,null,null,null,null,""]
["",null,null,null,null,null,""]
["",null,null,null,null,null,""]
["",null,null,null,null,null,""]
["",null,null,null,null,null,""]
["",null,null,null,null,null,""]
["",null,null,null,null,null,""]
["",null,null,null,null,null,""]
["",null,null,null,null,null,""]
["",null,null,null,null,null,""]
["",null,null,null,null,null,""]
["",null,null,null,null,null,""]
["",null,null,null,null,null,""]
["",null,null,null,null,null,""]
["",null,null,null,null,null,""]
["",null,null,null,null,null,""]
["",null,null,null,null,null,""]
["",null,null,null,null,null,""]
[{"$f":"IF(B2759>\"\",A2758+1,\"\")","v":""},null,null,null,null,null,""]
["",null,null,null,null,null,""]
["",null,null,null,null,null,""]
["",null,null,null,null,null,""]
["",null,null,null,null,null,""]
["",null,null,null,null,null,""]
["",null,null,null,null,null,""]
["",null,null,null,null,null,""]
["",null,null,null,null,null,""]
["",null,null,null,null,null,""]
["",null,null,null,null,null,""]
["",null,null,null,null,null,""]
["",null,null,null,null,null,{"$f":"IF(J2771>\"\",G2770+1,\"\")","v":""}]
["",null,null,null,null,null,""]
["",null,null,null,null,null,""]
["",null,null,null,null,null,""]
["",null,null,null,null,null,""]
["",null,null,null,null,null,""]
["",null,null,null,null,null,""]
["",null,null,null,null,null,""]
["",null,null,null,null,null,""]
["",null,null,null,null,null,""]
["",null,null,null,null,null,""]
["",null,null,null,null,null,""]
["",null,null,null,null,null,""]
["",null,null,null,null,null,""]
["",null,null,null,null,null,""]
["",null,null,null,null,null,""]
["",null,null,null,null,null,""]
["",null,null,null,null,null,""]
["",null,null,null,null,null,""]
["",null,null,null,null,null,""]
["",null,null,null,null,null,""]
["",null,null,null,null,null,""]
["",null,null,null,null,null,""]
["",null,null,null,null,null,""]
["",null,null,null,null,null,""]
["",null,null,null,null,null,""]
["",null,null,null,null,null,""]
["",null,null,null,null,null,""]
["",null,null,null,null,null,""]
["",null,null,null,null,null,""]
["",null,null,null,null,null,""]
["",null,null,null,null,null,""]
["",null,null,null,null,null,""]
["",null,null,null,null,null,""]
["",null,null,null,null,null,""]
["",null,null,null,null,null,""]
["",null,null,null,null,null,""]
["",null,null,null,null,null,""]
["",null,null,null,null,null,""]
["",null,null,null,null,null,""]
["",null,null,null,null,null,""]
["",null,null,null,null,null,""]
["",null,null,null,null,null,""]
["",null,null,null,null,null,""]
["",null,null,null,null,null,""]
["",null,null,null,null,null,""]
["",null,null,null,null,null,""]
["",null,null,null,null,null,""]
["",null,null,null,null,null,""]
["",null,null,null,null,null,""]
["",null,null,null,null,null,""]
["",null,null,null,null,null,""]
[{"$f":"IF(B2823>\"\",A2822+1,\"\")","v":""},null,null,null,null,null,""]
["",null,null,null,null,null,""]
["",null,null,null,null,null,""]
["",null,null,null,null,null,""]
["",null,null,null,null,null,""]
["",null,null,null,null,null,""]
["",null,null,null,null,null,""]
["",null,null,null,null,null,""]
["",null,null,null,null,null,""]
["",null,null,null,null,null,""]
["",null,null,null,null,null,""]
["",null,null,null,null,null,""]
["",null,null,null,null,null,{"$f":"IF(J2835>\"\",G2834+1,\"\")","v":""}]
["",null,null,null,null,null,""]
["",null,null,null,null,null,""]
["",null,null,null,null,null,""]
["",null,null,null,null,null,""]
["",null,null,null,null,null,""]
["",null,null,null,null,null,""]
["",null,null,null,null,null,""]
["",null,null,null,null,null,""]
["",null,null,null,null,null,""]
["",null,null,null,null,null,""]
["",null,null,null,null,null,""]
["",null,null,null,null,null,""]
["",null,null,null,null,null,""]
["",null,null,null,null,null,""]
["",null,null,null,null,null,""]
["",null,null,null,null,null,""]
["",null,null,null,null,null,""]
["",null,null,null,null,null,""]
["",null,null,null,null,null,""]
["",null,null,null,null,null,""]
["",null,null,null,null,null,""]
["",null,null,null,null,null,""]
["",null,null,null,null,null,""]
["",null,null,null,null,null,""]
["",null,null,null,null,null,""]
["",null,null,null,null,null,""]
["",null,null,null,null,null,""]
["",null,null,null,null,null,""]
["",null,null,null,null,null,""]
["",null,null,null,null,null,""]
["",null,null,null,null,null,""]
["",null,null,null,null,null,""]
["",null,null,null,null,null,""]
["",null,null,null,null,null,""]
["",null,null,null,null,null,""]
["",null,null,null,null,null,""]
["",null,null,null,null,null,""]
["",null,null,null,null,null,""]
["",null,null,null,null,null,""]
["",null,null,null,null,null,""]
["",null,null,null,null,null,""]
["",null,null,null,null,null,""]
["",null,null,null,null,null,""]
["",null,null,null,null,null,""]
["",null,null,null,null,null,""]
["",null,null,null,null,null,""]
["",null,null,null,null,null,""]
["",null,null,null,null,null,""]
["",null,null,null,null,null,""]
["",null,null,null,null,null,""]
["",null,null,null,null,null,""]
[{"$f":"IF(B2887>\"\",A2886+1,\"\")","v":""},null,null,null,null,null,""]
["",null,null,null,null,null,""]
["",null,null,null,null,null,""]
["",null,null,null,null,null,""]
["",null,null,null,null,null,""]
["",null,null,null,null,null,""]
["",null,null,null,null,null,""]
["",null,null,null,null,null,""]
["",null,null,null,null,null,""]
["",null,null,null,null,null,""]
["",null,null,null,null,null,""]
["",null,null,null,null,null,""]
["",null,null,null,null,null,{"$f":"IF(J2899>\"\",G2898+1,\"\")","v":""}]
["",null,null,null,null,null,""]
["",null,null,null,null,null,""]
["",null,null,null,null,null,""]
["",null,null,null,null,null,""]
["",null,null,null,null,null,""]
["",null,null,null,null,null,""]
["",null,null,null,null,null,""]
["",null,null,null,null,null,""]
["",null,null,null,null,null,""]
["",null,null,null,null,null,""]
["",null,null,null,null,null,""]
["",null,null,null,null,null,""]
["",null,null,null,null,null,""]
["",null,null,null,null,null,""]
["",null,null,null,null,null,""]
["",null,null,null,null,null,""]
["",null,null,null,null,null,""]
["",null,null,null,null,null,""]
["",null,null,null,null,null,""]
["",null,null,null,null,null,""]
["",null,null,null,null,null,""]
["",null,null,null,null,null,""]
["",null,null,null,null,null,""]
["",null,null,null,null,null,""]
["",null,null,null,null,null,""]
["",null,null,null,null,null,""]
["",null,null,null,null,null,""]
["",null,null,null,null,null,""]
["",null,null,null,null,null,""]
["",null,null,null,null,null,""]
["",null,null,null,null,null,""]
["",null,null,null,null,null,""]
["",null,null,null,null,null,""]
["",null,null,null,null,null,""]
["",null,null,null,null,null,""]
["",null,null,null,null,null,""]
["",null,null,null,null,null,""]
["",null,null,null,null,null,""]
["",null,null,null,null,null,""]
["",null,null,null,null,null,""]
["",null,null,null,null,null,""]
["",null,null,null,null,null,""]
["",null,null,null,null,null,""]
["",null,null,null,null,null,""]
["",null,null,null,null,null,""]
["",null,null,null,null,null,""]
["",null,null,null,null,null,""]
["",null,null,null,null,null,""]
["",null,null,null,null,null,""]
["",null,null,null,null,null,""]
["",null,null,null,null,null,""]
[{"$f":"IF(B2951>\"\",A2950+1,\"\")","v":""},null,null,null,null,null,""]
["",null,null,null,null,null,""]
["",null,null,null,null,null,""]
["",null,null,null,null,null,""]
["",null,null,null,null,null,""]
["",null,null,null,null,null,""]
["",null,null,null,null,null,""]
["",null,null,null,null,null,""]
["",null,null,null,null,null,""]
["",null,null,null,null,null,""]
["",null,null,null,null,null,""]
["",null,null,null,null,null,""]
["",null,null,null,null,null,{"$f":"IF(J2963>\"\",G2962+1,\"\")","v":""}]
["",null,null,null,null,null,""]
["",null,null,null,null,null,""]
["",null,null,null,null,null,""]
["",null,null,null,null,null,""]
["",null,null,null,null,null,""]
["",null,null,null,null,null,""]
["",null,null,null,null,null,""]
["",null,null,null,null,null,""]
["",null,null,null,null,null,""]
["",null,null,null,null,null,""]
["",null,null,null,null,null,""]
["",null,null,null,null,null,""]
["",null,null,null,null,null,""]
["",null,null,null,null,null,""]
["",null,null,null,null,null,""]
["",null,null,null,null,null,""]
["",null,null,null,null,null,""]
["",null,null,null,null,null,""]
["",null,null,null,null,null,""]
["",null,null,null,null,null,""]
["",null,null,null,null,null,""]
["",null,null,null,null,null,""]
["",null,null,null,null,null,""]
["",null,null,null,null,null,""]
["",null,null,null,null,null,""]
["",null,null,null,null,null,""]
["",null,null,null,null,null,""]
["",null,null,null,null,null,""]
["",null,null,null,null,null,""]
["",null,null,null,null,null,""]
["",null,null,null,null,null,""]
["",null,null,null,null,null,""]
["",null,null,null,null,null,""]
["",null,null,null,null,null,""]
["",null,null,null,null,null,""]
["",null,null,null,null,null,""]
["",null,null,null,null,null,""]
["",null,null,null,null,null,""]
["",null,null,null,null,null,""]
["",null,null,null,null,null,""]
["",null,null,null,null,null,""]
["",null,null,null,null,null,""]
["",null,null,null,null,null,""]
["",null,null,null,null,null,""]
["",null,null,null,null,null,""]
["",null,null,null,null,null,""]
["",null,null,null,null,null,""]
["",null,null,null,null,null,""]
["",null,null,null,null,null,""]
["",null,null,null,null,null,""]
["",null,null,null,null,null,""]
[{"$f":"IF(B3015>\"\",A3014+1,\"\")","v":""},null,null,null,null,null,""]
["",null,null,null,null,null,""]
["",null,null,null,null,null,""]
["",null,null,null,null,null,""]
["",null,null,null,null,null,""]
["",null,null,null,null,null,""]
["",null,null,null,null,null,""]
["",null,null,null,null,null,""]
["",null,null,null,null,null,""]
["",null,null,null,null,null,""]
["",null,null,null,null,null,""]
["",null,null,null,null,null,""]
["",null,null,null,null,null,{"$f":"IF(J3027>\"\",G3026+1,\"\")","v":""}]
["",null,null,null,null,null,""]
["",null,null,null,null,null,""]
["",null,null,null,null,null,""]
["",null,null,null,null,null,""]
["",null,null,null,null,null,""]
["",null,null,null,null,null,""]
["",null,null,null,null,null,""]
["",null,null,null,null,null,""]
["",null,null,null,null,null,""]
["",null,null,null,null,null,""]
["",null,null,null,null,null,""]
["",null,null,null,null,null,""]
["",null,null,null,null,null,""]
["",null,null,null,null,null,""]
["",null,null,null,null,null,""]
["",null,null,null,null,null,""]
["",null,null,null,null,null,""]
["",null,null,null,null,null,""]
["",null,null,null,null,null,""]
["",null,null,null,null,null,""]
["",null,null,null,null,null,""]
["",null,null,null,null,null,""]
["",null,null,null,null,null,""]
["",null,null,null,null,null,""]
["",null,null,null,null,null,""]
["",null,null,null,null,null,""]
["",null,null,null,null,null,""]
["",null,null,null,null,null,""]
["",null,null,null,null,null,""]
["",null,null,null,null,null,""]
["",null,null,null,null,null,""]
["",null,null,null,null,null,""]
["",null,null,null,null,null,""]
["",null,null,null,null,null,""]
["",null,null,null,null,null,""]
["",null,null,null,null,null,""]
["",null,null,null,null,null,""]
["",null,null,null,null,null,""]
["",null,null,null,null,null,""]
["",null,null,null,null,null,""]
["",null,null,null,null,null,""]
["",null,null,null,null,null,""]
["",null,null,null,null,null,""]
["",null,null,null,null,null,""]
["",null,null,null,null,null,""]
["",null,null,null,null,null,""]
["",null,null,null,null,null,""]
["",null,null,null,null,null,""]
["",null,null,null,null,null,""]
["",null,null,null,null,null,""]
["",null,null,null,null,null,""]
[{"$f":"IF(B3079>\"\",A3078+1,\"\")","v":""},null,null,null,null,null,""]
["",null,null,null,null,null,""]
["",null,null,null,null,null,""]
["",null,null,null,null,null,""]
["",null,null,null,null,null,""]
["",null,null,null,null,null,""]
["",null,null,null,null,null,""]
["",null,null,null,null,null,""]
["",null,null,null,null,null,""]
["",null,null,null,null,null,""]
["",null,null,null,null,null,""]
["",null,null,null,null,null,""]
["",null,null,null,null,null,{"$f":"IF(J3091>\"\",G3090+1,\"\")","v":""}]
["",null,null,null,null,null,""]
["",null,null,null,null,null,""]
["",null,null,null,null,null,""]
["",null,null,null,null,null,""]
["",null,null,null,null,null,""]
["",null,null,null,null,null,""]
["",null,null,null,null,null,""]
["",null,null,null,null,null,""]
["",null,null,null,null,null,""]
["",null,null,null,null,null,""]
["",null,null,null,null,null,""]
["",null,null,null,null,null,""]
["",null,null,null,null,null,""]
["",null,null,null,null,null,""]
["",null,null,null,null,null,""]
["",null,null,null,null,null,""]
["",null,null,null,null,null,""]
["",null,null,null,null,null,""]
["",null,null,null,null,null,""]
["",null,null,null,null,null,""]
["",null,null,null,null,null,""]
["",null,null,null,null,null,""]
["",null,null,null,null,null,""]
["",null,null,null,null,null,""]
["",null,null,null,null,null,""]
["",null,null,null,null,null,""]
["",null,null,null,null,null,""]
["",null,null,null,null,null,""]
["",null,null,null,null,null,""]
["",null,null,null,null,null,""]
["",null,null,null,null,null,""]
["",null,null,null,null,null,""]
["",null,null,null,null,null,""]
["",null,null,null,null,null,""]
["",null,null,null,null,null,""]
["",null,null,null,null,null,""]
["",null,null,null,null,null,""]
["",null,null,null,null,null,""]
["",null,null,null,null,null,""]
["",null,null,null,null,null,""]
["",null,null,null,null,null,""]
["",null,null,null,null,null,""]
["",null,null,null,null,null,""]
["",null,null,null,null,null,""]
["",null,null,null,null,null,""]
["",null,null,null,null,null,""]
["",null,null,null,null,null,""]
["",null,null,null,null,null,""]
["",null,null,null,null,null,""]
["",null,null,null,null,null,""]
["",null,null,null,null,null,""]
[{"$f":"IF(B3143>\"\",A3142+1,\"\")","v":""},null,null,null,null,null,""]
["",null,null,null,null,null,""]
["",null,null,null,null,null,""]
["",null,null,null,null,null,""]
["",null,null,null,null,null,""]
["",null,null,null,null,null,""]
["",null,null,null,null,null,""]
["",null,null,null,null,null,""]
["",null,null,null,null,null,""]
["",null,null,null,null,null,""]
["",null,null,null,null,null,""]
["",null,null,null,null,null,""]
["",null,null,null,null,null,{"$f":"IF(J3155>\"\",G3154+1,\"\")","v":""}]
["",null,null,null,null,null,""]
["",null,null,null,null,null,""]
["",null,null,null,null,null,""]
["",null,null,null,null,null,""]
["",null,null,null,null,null,""]
["",null,null,null,null,null,""]
["",null,null,null,null,null,""]
["",null,null,null,null,null,""]
["",null,null,null,null,null,""]
["",null,null,null,null,null,""]
["",null,null,null,null,null,""]
["",null,null,null,null,null,""]
["",null,null,null,null,null,""]
["",null,null,null,null,null,""]
["",null,null,null,null,null,""]
["",null,null,null,null,null,""]
["",null,null,null,null,null,""]
["",null,null,null,null,null,""]
["",null,null,null,null,null,""]
["",null,null,null,null,null,""]
["",null,null,null,null,null,""]
["",null,null,null,null,null,""]
["",null,null,null,null,null,""]
["",null,null,null,null,null,""]
["",null,null,null,null,null,""]
["",null,null,null,null,null,""]
["",null,null,null,null,null,""]
["",null,null,null,null,null,""]
["",null,null,null,null,null,""]
["",null,null,null,null,null,""]
["",null,null,null,null,null,""]
["",null,null,null,null,null,""]
["",null,null,null,null,null,""]
["",null,null,null,null,null,""]
["",null,null,null,null,null,""]
["",null,null,null,null,null,""]
["",null,null,null,null,null,""]
["",null,null,null,null,null,""]
["",null,null,null,null,null,""]
["",null,null,null,null,null,""]
["",null,null,null,null,null,""]
["",null,null,null,null,null,""]
["",null,null,null,null,null,""]
["",null,null,null,null,null,""]
["",null,null,null,null,null,""]
["",null,null,null,null,null,""]
["",null,null,null,null,null,""]
["",null,null,null,null,null,""]
["",null,null,null,null,null,""]
["",null,null,null,null,null,""]
["",null,null,null,null,null,""]
[{"$f":"IF(B3207>\"\",A3206+1,\"\")","v":""},null,null,null,null,null,""]
["",null,null,null,null,null,""]
["",null,null,null,null,null,""]
["",null,null,null,null,null,""]
["",null,null,null,null,null,""]
["",null,null,null,null,null,""]
["",null,null,null,null,null,""]
["",null,null,null,null,null,""]
["",null,null,null,null,null,""]
["",null,null,null,null,null,""]
["",null,null,null,null,null,""]
["",null,null,null,null,null,""]
["",null,null,null,null,null,{"$f":"IF(J3219>\"\",G3218+1,\"\")","v":""}]
["",null,null,null,null,null,""]
["",null,null,null,null,null,""]
["",null,null,null,null,null,""]
["",null,null,null,null,null,""]
["",null,null,null,null,null,""]
["",null,null,null,null,null,""]
["",null,null,null,null,null,""]
["",null,null,null,null,null,""]
["",null,null,null,null,null,""]
["",null,null,null,null,null,""]
["",null,null,null,null,null,""]
["",null,null,null,null,null,""]
["",null,null,null,null,null,""]
["",null,null,null,null,null,""]
["",null,null,null,null,null,""]
["",null,null,null,null,null,""]
["",null,null,null,null,null,""]
["",null,null,null,null,null,""]
["",null,null,null,null,null,""]
["",null,null,null,null,null,""]
["",null,null,null,null,null,""]
["",null,null,null,null,null,""]
["",null,null,null,null,null,""]
["",null,null,null,null,null,""]
["",null,null,null,null,null,""]
["",null,null,null,null,null,""]
["",null,null,null,null,null,""]
["",null,null,null,null,null,""]
["",null,null,null,null,null,""]
["",null,null,null,null,null,""]
["",null,null,null,null,null,""]
["",null,null,null,null,null,""]
["",null,null,null,null,null,""]
["",null,null,null,null,null,""]
["",null,null,null,null,null,""]
["",null,null,null,null,null,""]
["",null,null,null,null,null,""]
["",null,null,null,null,null,""]
["",null,null,null,null,null,""]
["",null,null,null,null,null,""]
["",null,null,null,null,null,""]
["",null,null,null,null,null,""]
["",null,null,null,null,null,""]
["",null,null,null,null,null,""]
["",null,null,null,null,null,""]
["",null,null,null,null,null,""]
["",null,null,null,null,null,""]
["",null,null,null,null,null,""]
["",null,null,null,null,null,""]
["",null,null,null,null,null,""]
["",null,null,null,null,null,""]
[{"$f":"IF(B3271>\"\",A3270+1,\"\")","v":""},null,null,null,null,null,""]
["",null,null,null,null,null,""]
["",null,null,null,null,null,""]
["",null,null,null,null,null,""]
["",null,null,null,null,null,""]
["",null,null,null,null,null,""]
["",null,null,null,null,null,""]
["",null,null,null,null,null,""]
["",null,null,null,null,null,""]
["",null,null,null,null,null,""]
["",null,null,null,null,null,""]
["",null,null,null,null,null,""]
["",null,null,null,null,null,{"$f":"IF(J3283>\"\",G3282+1,\"\")","v":""}]
["",null,null,null,null,null,""]
["",null,null,null,null,null,""]
["",null,null,null,null,null,""]
["",null,null,null,null,null,""]
["",null,null,null,null,null,""]
["",null,null,null,null,null,""]
["",null,null,null,null,null,""]
["",null,null,null,null,null,""]
["",null,null,null,null,null,""]
["",null,null,null,null,null,""]
["",null,null,null,null,null,""]
["",null,null,null,null,null,""]
["",null,null,null,null,null,""]
["",null,null,null,null,null,""]
["",null,null,null,null,null,""]
["",null,null,null,null,null,""]
["",null,null,null,null,null,""]
["",null,null,null,null,null,""]
["",null,null,null,null,null,""]
["",null,null,null,null,null,""]
["",null,null,null,null,null,""]
["",null,null,null,null,null,""]
["",null,null,null,null,null,""]
["",null,null,null,null,null,""]
["",null,null,null,null,null,""]
["",null,null,null,null,null,""]
["",null,null,null,null,null,""]
["",null,null,null,null,null,""]
["",null,null,null,null,null,""]
["",null,null,null,null,null,""]
["",null,null,null,null,null,""]
["",null,null,null,null,null,""]
["",null,null,null,null,null,""]
["",null,null,null,null,null,""]
["",null,null,null,null,null,""]
["",null,null,null,null,null,""]
["",null,null,null,null,null,""]
["",null,null,null,null,null,""]
["",null,null,null,null,null,""]
["",null,null,null,null,null,""]
["",null,null,null,null,null,""]
["",null,null,null,null,null,""]
["",null,null,null,null,null,""]
["",null,null,null,null,null,""]
["",null,null,null,null,null,""]
["",null,null,null,null,null,""]
["",null,null,null,null,null,""]
["",null,null,null,null,null,""]
["",null,null,null,null,null,""]
["",null,null,null,null,null,""]
["",null,null,null,null,null,""]
[{"$f":"IF(B3335>\"\",A3334+1,\"\")","v":""},null,null,null,null,null,""]
["",null,null,null,null,null,""]
["",null,null,null,null,null,""]
["",null,null,null,null,null,""]
["",null,null,null,null,null,""]
["",null,null,null,null,null,""]
["",null,null,null,null,null,""]
["",null,null,null,null,null,""]
["",null,null,null,null,null,""]
["",null,null,null,null,null,""]
["",null,null,null,null,null,""]
["",null,null,null,null,null,""]
["",null,null,null,null,null,{"$f":"IF(J3347>\"\",G3346+1,\"\")","v":""}]
["",null,null,null,null,null,""]
["",null,null,null,null,null,""]
["",null,null,null,null,null,""]
["",null,null,null,null,null,""]
["",null,null,null,null,null,""]
["",null,null,null,null,null,""]
["",null,null,null,null,null,""]
["",null,null,null,null,null,""]
["",null,null,null,null,null,""]
["",null,null,null,null,null,""]
["",null,null,null,null,null,""]
["",null,null,null,null,null,""]
["",null,null,null,null,null,""]
["",null,null,null,null,null,""]
["",null,null,null,null,null,""]
["",null,null,null,null,null,""]
["",null,null,null,null,null,""]
["",null,null,null,null,null,""]
["",null,null,null,null,null,""]
["",null,null,null,null,null,""]
["",null,null,null,null,null,""]
["",null,null,null,null,null,""]
["",null,null,null,null,null,""]
["",null,null,null,null,null,""]
["",null,null,null,null,null,""]
["",null,null,null,null,null,""]
["",null,null,null,null,null,""]
["",null,null,null,null,null,""]
["",null,null,null,null,null,""]
["",null,null,null,null,null,""]
["",null,null,null,null,null,""]
["",null,null,null,null,null,""]
["",null,null,null,null,null,""]
["",null,null,null,null,null,""]
["",null,null,null,null,null,""]
["",null,null,null,null,null,""]
["",null,null,null,null,null,""]
["",null,null,null,null,null,""]
["",null,null,null,null,null,""]
["",null,null,null,null,null,""]
["",null,null,null,null,null,""]
["",null,null,null,null,null,""]
["",null,null,null,null,null,""]
["",null,null,null,null,null,""]
["",null,null,null,null,null,""]
["",null,null,null,null,null,""]
["",null,null,null,null,null,""]
["",null,null,null,null,null,""]
["",null,null,null,null,null,""]
["",null,null,null,null,null,""]
["",null,null,null,null,null,""]
[{"$f":"IF(B3399>\"\",A3398+1,\"\")","v":""},null,null,null,null,null,""]
["",null,null,null,null,null,""]
["",null,null,null,null,null,""]
["",null,null,null,null,null,""]
["",null,null,null,null,null,""]
["",null,null,null,null,null,""]
["",null,null,null,null,null,""]
["",null,null,null,null,null,""]
["",null,null,null,null,null,""]
["",null,null,null,null,null,""]
["",null,null,null,null,null,""]
["",null,null,null,null,null,""]
["",null,null,null,null,null,{"$f":"IF(J3411>\"\",G3410+1,\"\")","v":""}]
["",null,null,null,null,null,""]
["",null,null,null,null,null,""]
["",null,null,null,null,null,""]
["",null,null,null,null,null,""]
["",null,null,null,null,null,""]
["",null,null,null,null,null,""]
["",null,null,null,null,null,""]
["",null,null,null,null,null,""]
["",null,null,null,null,null,""]
["",null,null,null,null,null,""]
["",null,null,null,null,null,""]
["",null,null,null,null,null,""]
["",null,null,null,null,null,""]
["",null,null,null,null,null,""]
["",null,null,null,null,null,""]
["",null,null,null,null,null,""]
["",null,null,null,null,null,""]
["",null,null,null,null,null,""]
["",null,null,null,null,null,""]
["",null,null,null,null,null,""]
["",null,null,null,null,null,""]
["",null,null,null,null,null,""]
["",null,null,null,null,null,""]
["",null,null,null,null,null,""]
["",null,null,null,null,null,""]
["",null,null,null,null,null,""]
["",null,null,null,null,null,""]
["",null,null,null,null,null,""]
["",null,null,null,null,null,""]
["",null,null,null,null,null,""]
["",null,null,null,null,null,""]
["",null,null,null,null,null,""]
["",null,null,null,null,null,""]
["",null,null,null,null,null,""]
["",null,null,null,null,null,""]
["",null,null,null,null,null,""]
["",null,null,null,null,null,""]
["",null,null,null,null,null,""]
["",null,null,null,null,null,""]
["",null,null,null,null,null,""]
["",null,null,null,null,null,""]
["",null,null,null,null,null,""]
["",null,null,null,null,null,""]
["",null,null,null,null,null,""]
["",null,null,null,null,null,""]
["",null,null,null,null,null,""]
["",null,null,null,null,null,""]
["",null,null,null,null,null,""]
["",null,null,null,null,null,""]
["",null,null,null,null,null,""]
["",null,null,null,null,null,""]
[{"$f":"IF(B3463>\"\",A3462+1,\"\")","v":""},null,null,null,null,null,""]
["",null,null,null,null,null,""]
["",null,null,null,null,null,""]
["",null,null,null,null,null,""]
["",null,null,null,null,null,""]
["",null,null,null,null,null,""]
["",null,null,null,null,null,""]
["",null,null,null,null,null,""]
["",null,null,null,null,null,""]
["",null,null,null,null,null,""]
["",null,null,null,null,null,""]
["",null,null,null,null,null,""]
["",null,null,null,null,null,{"$f":"IF(J3475>\"\",G3474+1,\"\")","v":""}]
["",null,null,null,null,null,""]
["",null,null,null,null,null,""]
["",null,null,null,null,null,""]
["",null,null,null,null,null,""]
["",null,null,null,null,null,""]
["",null,null,null,null,null,""]
["",null,null,null,null,null,""]
["",null,null,null,null,null,""]
["",null,null,null,null,null,""]
["",null,null,null,null,null,""]
["",null,null,null,null,null,""]
["",null,null,null,null,null,""]
["",null,null,null,null,null,""]
["",null,null,null,null,null,""]
["",null,null,null,null,null,""]
["",null,null,null,null,null,""]
["",null,null,null,null,null,""]
["",null,null,null,null,null,""]
["",null,null,null,null,null,""]
["",null,null,null,null,null,""]
["",null,null,null,null,null,""]
["",null,null,null,null,null,""]
["",null,null,null,null,null,""]
["",null,null,null,null,null,""]
["",null,null,null,null,null,""]
["",null,null,null,null,null,""]
["",null,null,null,null,null,""]
["",null,null,null,null,null,""]
["",null,null,null,null,null,""]
["",null,null,null,null,null,""]
["",null,null,null,null,null,""]
["",null,null,null,null,null,""]

{"sheet":"HAZİRUN LİSTESİ","index":6,"n_rows":252,"n_cols":3,"rows_kept":252,"cut":false,"hidden":false,"merged":[]}
["DAİRE NO","ADI SOYADI","İMZASI"]
[{"$f":"'AİDAT KONTROL'!A6","v":999},{"$f":"'AİDAT KONTROL'!B6","v":"BANKA HESABI"}]
[{"$f":"IF(B3>\"\",'AİDAT KONTROL'!A7,\"\")","v":""},{"$f":"'AİDAT KONTROL'!B7","v":""}]
[{"$f":"IF(B4>\"\",'AİDAT KONTROL'!A8,\"\")","v":""},{"$f":"'AİDAT KONTROL'!B8","v":""}]
[{"$f":"IF(B5>\"\",'AİDAT KONTROL'!A9,\"\")","v":""},{"$f":"'AİDAT KONTROL'!B9","v":""}]
[{"$f":"IF(B6>\"\",'AİDAT KONTROL'!A10,\"\")","v":""},{"$f":"'AİDAT KONTROL'!B10","v":""}]
[{"$f":"IF(B7>\"\",'AİDAT KONTROL'!A11,\"\")","v":""},{"$f":"'AİDAT KONTROL'!B11","v":""}]
[{"$f":"IF(B8>\"\",'AİDAT KONTROL'!A12,\"\")","v":""},{"$f":"'AİDAT KONTROL'!B12","v":""}]
[{"$f":"IF(B9>\"\",'AİDAT KONTROL'!A13,\"\")","v":""},{"$f":"'AİDAT KONTROL'!B13","v":""}]
[{"$f":"IF(B10>\"\",'AİDAT KONTROL'!A14,\"\")","v":""},{"$f":"'AİDAT KONTROL'!B14","v":""}]
[{"$f":"IF(B11>\"\",'AİDAT KONTROL'!A15,\"\")","v":""},{"$f":"'AİDAT KONTROL'!B15","v":""}]
[{"$f":"IF(B12>\"\",'AİDAT KONTROL'!A16,\"\")","v":""},{"$f":"'AİDAT KONTROL'!B16","v":""}]
[{"$f":"IF(B13>\"\",'AİDAT KONTROL'!A17,\"\")","v":""},{"$f":"'AİDAT KONTROL'!B17","v":""}]
[{"$f":"IF(B14>\"\",'AİDAT KONTROL'!A18,\"\")","v":""},{"$f":"'AİDAT KONTROL'!B18","v":""}]
[{"$f":"IF(B15>\"\",'AİDAT KONTROL'!A19,\"\")","v":""},{"$f":"'AİDAT KONTROL'!B19","v":""}]
[{"$f":"IF(B16>\"\",'AİDAT KONTROL'!A20,\"\")","v":""},{"$f":"'AİDAT KONTROL'!B20","v":""}]
[{"$f":"IF(B17>\"\",'AİDAT KONTROL'!A21,\"\")","v":""},{"$f":"'AİDAT KONTROL'!B21","v":""}]
[{"$f":"IF(B18>\"\",'AİDAT KONTROL'!A22,\"\")","v":""},{"$f":"'AİDAT KONTROL'!B22","v":""}]
[{"$f":"IF(B19>\"\",'AİDAT KONTROL'!A23,\"\")","v":""},{"$f":"'AİDAT KONTROL'!B23","v":""}]
[{"$f":"IF(B20>\"\",'AİDAT KONTROL'!A24,\"\")","v":""},{"$f":"'AİDAT KONTROL'!B24","v":""}]
[{"$f":"IF(B21>\"\",'AİDAT KONTROL'!A25,\"\")","v":""},{"$f":"'AİDAT KONTROL'!B25","v":""}]
[{"$f":"IF(B22>\"\",'AİDAT KONTROL'!A26,\"\")","v":""},{"$f":"'AİDAT KONTROL'!B26","v":""}]
[{"$f":"IF(B23>\"\",'AİDAT KONTROL'!A27,\"\")","v":""},{"$f":"'AİDAT KONTROL'!B27","v":""}]
[{"$f":"IF(B24>\"\",'AİDAT KONTROL'!A28,\"\")","v":""},{"$f":"'AİDAT KONTROL'!B28","v":""}]
[{"$f":"IF(B25>\"\",'AİDAT KONTROL'!A29,\"\")","v":""},{"$f":"'AİDAT KONTROL'!B29","v":""}]
[{"$f":"IF(B26>\"\",'AİDAT KONTROL'!A30,\"\")","v":""},{"$f":"'AİDAT KONTROL'!B30","v":""}]
[{"$f":"IF(B27>\"\",'AİDAT KONTROL'!A31,\"\")","v":""},{"$f":"'AİDAT KONTROL'!B31","v":""}]
[{"$f":"IF(B28>\"\",'AİDAT KONTROL'!A32,\"\")","v":""},{"$f":"'AİDAT KONTROL'!B32","v":""}]
[{"$f":"IF(B29>\"\",'AİDAT KONTROL'!A33,\"\")","v":""},{"$f":"'AİDAT KONTROL'!B33","v":""}]
[{"$f":"IF(B30>\"\",'AİDAT KONTROL'!A34,\"\")","v":""},{"$f":"'AİDAT KONTROL'!B34","v":""}]
[{"$f":"IF(B31>\"\",'AİDAT KONTROL'!A35,\"\")","v":""},{"$f":"'AİDAT KONTROL'!B35","v":""}]
[{"$f":"IF(B32>\"\",'AİDAT KONTROL'!A36,\"\")","v":""},{"$f":"'AİDAT KONTROL'!B36","v":""}]
[{"$f":"IF(B33>\"\",'AİDAT KONTROL'!A37,\"\")","v":""},{"$f":"'AİDAT KONTROL'!B37","v":""}]
[{"$f":"IF(B34>\"\",'AİDAT KONTROL'!A38,\"\")","v":""},{"$f":"'AİDAT KONTROL'!B38","v":""}]
[{"$f":"IF(B35>\"\",'AİDAT KONTROL'!A39,\"\")","v":""},{"$f":"'AİDAT KONTROL'!B39","v":""}]
[{"$f":"IF(B36>\"\",'AİDAT KONTROL'!A40,\"\")","v":""},{"$f":"'AİDAT KONTROL'!B40","v":""}]
[{"$f":"IF(B37>\"\",'AİDAT KONTROL'!A41,\"\")","v":""},{"$f":"'AİDAT KONTROL'!B41","v":""}]
[{"$f":"IF(B38>\"\",'AİDAT KONTROL'!A42,\"\")","v":""},{"$f":"'AİDAT KONTROL'!B42","v":""}]
[{"$f":"IF(B39>\"\",'AİDAT KONTROL'!A43,\"\")","v":""},{"$f":"'AİDAT KONTROL'!B43","v":""}]
[{"$f":"IF(B40>\"\",'AİDAT KONTROL'!A44,\"\")","v":""},{"$f":"'AİDAT KONTROL'!B44","v":""}]
[{"$f":"IF(B41>\"\",'AİDAT KONTROL'!A45,\"\")","v":""},{"$f":"'AİDAT KONTROL'!B45","v":""}]
[{"$f":"IF(B42>\"\",'AİDAT KONTROL'!A46,\"\")","v":""},{"$f":"'AİDAT KONTROL'!B46","v":""}]
[{"$f":"IF(B43>\"\",'AİDAT KONTROL'!A47,\"\")","v":""},{"$f":"'AİDAT KONTROL'!B47","v":""}]
[{"$f":"IF(B44>\"\",'AİDAT KONTROL'!A48,\"\")","v":""},{"$f":"'AİDAT KONTROL'!B48","v":""}]
[{"$f":"IF(B45>\"\",'AİDAT KONTROL'!A49,\"\")","v":""},{"$f":"'AİDAT KONTROL'!B49","v":""}]
[{"$f":"IF(B46>\"\",'AİDAT KONTROL'!A50,\"\")","v":""},{"$f":"'AİDAT KONTROL'!B50","v":""}]
[{"$f":"IF(B47>\"\",'AİDAT KONTROL'!A51,\"\")","v":""},{"$f":"'AİDAT KONTROL'!B51","v":""}]
[{"$f":"IF(B48>\"\",'AİDAT KONTROL'!A52,\"\")","v":""},{"$f":"'AİDAT KONTROL'!B52","v":""}]
[{"$f":"IF(B49>\"\",'AİDAT KONTROL'!A53,\"\")","v":""},{"$f":"'AİDAT KONTROL'!B53","v":""}]
[{"$f":"IF(B50>\"\",'AİDAT KONTROL'!A54,\"\")","v":""},{"$f":"'AİDAT KONTROL'!B54","v":""}]
[{"$f":"IF(B51>\"\",'AİDAT KONTROL'!A55,\"\")","v":""},{"$f":"'AİDAT KONTROL'!B55","v":""}]
[{"$f":"IF(B52>\"\",'AİDAT KONTROL'!A56,\"\")","v":""},{"$f":"'AİDAT KONTROL'!B56","v":""}]
[{"$f":"IF(B53>\"\",'AİDAT KONTROL'!A57,\"\")","v":""},{"$f":"'AİDAT KONTROL'!B57","v":""}]
[{"$f":"IF(B54>\"\",'AİDAT KONTROL'!A58,\"\")","v":""},{"$f":"'AİDAT KONTROL'!B58","v":""}]
[{"$f":"IF(B55>\"\",'AİDAT KONTROL'!A59,\"\")","v":""},{"$f":"'AİDAT KONTROL'!B59","v":""}]
[{"$f":"IF(B56>\"\",'AİDAT KONTROL'!A60,\"\")","v":""},{"$f":"'AİDAT KONTROL'!B60","v":""}]
[{"$f":"IF(B57>\"\",'AİDAT KONTROL'!A61,\"\")","v":""},{"$f":"'AİDAT KONTROL'!B61","v":""}]
[{"$f":"IF(B58>\"\",'AİDAT KONTROL'!A62,\"\")","v":""},{"$f":"'AİDAT KONTROL'!B62","v":""}]
[{"$f":"IF(B59>\"\",'AİDAT KONTROL'!A63,\"\")","v":""},{"$f":"'AİDAT KONTROL'!B63","v":""}]
[{"$f":"IF(B60>\"\",'AİDAT KONTROL'!A64,\"\")","v":""},{"$f":"'AİDAT KONTROL'!B64","v":""}]
[{"$f":"IF(B61>\"\",'AİDAT KONTROL'!A65,\"\")","v":""},{"$f":"'AİDAT KONTROL'!B65","v":""}]
[{"$f":"IF(B62>\"\",'AİDAT KONTROL'!A66,\"\")","v":""},{"$f":"'AİDAT KONTROL'!B66","v":""}]
[{"$f":"IF(B63>\"\",'AİDAT KONTROL'!A67,\"\")","v":""},{"$f":"'AİDAT KONTROL'!B67","v":""}]
[{"$f":"IF(B64>\"\",'AİDAT KONTROL'!A68,\"\")","v":""},{"$f":"'AİDAT KONTROL'!B68","v":""}]
[{"$f":"IF(B65>\"\",'AİDAT KONTROL'!A69,\"\")","v":""},{"$f":"'AİDAT KONTROL'!B69","v":""}]
[{"$f":"IF(B66>\"\",'AİDAT KONTROL'!A70,\"\")","v":""},{"$f":"'AİDAT KONTROL'!B70","v":""}]
[{"$f":"IF(B67>\"\",'AİDAT KONTROL'!A71,\"\")","v":""},{"$f":"'AİDAT KONTROL'!B71","v":""}]
[{"$f":"IF(B68>\"\",'AİDAT KONTROL'!A72,\"\")","v":""},{"$f":"'AİDAT KONTROL'!B72","v":""}]
[{"$f":"IF(B69>\"\",'AİDAT KONTROL'!A73,\"\")","v":""},{"$f":"'AİDAT KONTROL'!B73","v":""}]
[{"$f":"IF(B70>\"\",'AİDAT KONTROL'!A74,\"\")","v":""},{"$f":"'AİDAT KONTROL'!B74","v":""}]
[{"$f":"IF(B71>\"\",'AİDAT KONTROL'!A75,\"\")","v":""},{"$f":"'AİDAT KONTROL'!B75","v":""}]
[{"$f":"IF(B72>\"\",'AİDAT KONTROL'!A76,\"\")","v":""},{"$f":"'AİDAT KONTROL'!B76","v":""}]
[{"$f":"IF(B73>\"\",'AİDAT KONTROL'!A77,\"\")","v":""},{"$f":"'AİDAT KONTROL'!B77","v":""}]
[{"$f":"IF(B74>\"\",'AİDAT KONTROL'!A78,\"\")","v":""},{"$f":"'AİDAT KONTROL'!B78","v":""}]
[{"$f":"IF(B75>\"\",'AİDAT KONTROL'!A79,\"\")","v":""},{"$f":"'AİDAT KONTROL'!B79","v":""}]
[{"$f":"IF(B76>\"\",'AİDAT KONTROL'!A80,\"\")","v":""},{"$f":"'AİDAT KONTROL'!B80","v":""}]
[{"$f":"IF(B77>\"\",'AİDAT KONTROL'!A81,\"\")","v":""},{"$f":"'AİDAT KONTROL'!B81","v":""}]
[{"$f":"IF(B78>\"\",'AİDAT KONTROL'!A82,\"\")","v":""},{"$f":"'AİDAT KONTROL'!B82","v":""}]
[{"$f":"IF(B79>\"\",'AİDAT KONTROL'!A83,\"\")","v":""},{"$f":"'AİDAT KONTROL'!B83","v":""}]
[{"$f":"IF(B80>\"\",'AİDAT KONTROL'!A84,\"\")","v":""},{"$f":"'AİDAT KONTROL'!B84","v":""}]
[{"$f":"IF(B81>\"\",'AİDAT KONTROL'!A85,\"\")","v":""},{"$f":"'AİDAT KONTROL'!B85","v":""}]
[{"$f":"IF(B82>\"\",'AİDAT KONTROL'!A86,\"\")","v":""},{"$f":"'AİDAT KONTROL'!B86","v":""}]
[{"$f":"IF(B83>\"\",'AİDAT KONTROL'!A87,\"\")","v":""},{"$f":"'AİDAT KONTROL'!B87","v":""}]
[{"$f":"IF(B84>\"\",'AİDAT KONTROL'!A88,\"\")","v":""},{"$f":"'AİDAT KONTROL'!B88","v":""}]
[{"$f":"IF(B85>\"\",'AİDAT KONTROL'!A89,\"\")","v":""},{"$f":"'AİDAT KONTROL'!B89","v":""}]
[{"$f":"IF(B86>\"\",'AİDAT KONTROL'!A90,\"\")","v":""},{"$f":"'AİDAT KONTROL'!B90","v":""}]
[{"$f":"IF(B87>\"\",'AİDAT KONTROL'!A91,\"\")","v":""},{"$f":"'AİDAT KONTROL'!B91","v":""}]
[{"$f":"IF(B88>\"\",'AİDAT KONTROL'!A92,\"\")","v":""},{"$f":"'AİDAT KONTROL'!B92","v":""}]
[{"$f":"IF(B89>\"\",'AİDAT KONTROL'!A93,\"\")","v":""},{"$f":"'AİDAT KONTROL'!B93","v":""}]
[{"$f":"IF(B90>\"\",'AİDAT KONTROL'!A94,\"\")","v":""},{"$f":"'AİDAT KONTROL'!B94","v":""}]
[{"$f":"IF(B91>\"\",'AİDAT KONTROL'!A95,\"\")","v":""},{"$f":"'AİDAT KONTROL'!B95","v":""}]
[{"$f":"IF(B92>\"\",'AİDAT KONTROL'!A96,\"\")","v":""},{"$f":"'AİDAT KONTROL'!B96","v":""}]
[{"$f":"IF(B93>\"\",'AİDAT KONTROL'!A97,\"\")","v":""},{"$f":"'AİDAT KONTROL'!B97","v":""}]
[{"$f":"IF(B94>\"\",'AİDAT KONTROL'!A98,\"\")","v":""},{"$f":"'AİDAT KONTROL'!B98","v":""}]
[{"$f":"IF(B95>\"\",'AİDAT KONTROL'!A99,\"\")","v":""},{"$f":"'AİDAT KONTROL'!B99","v":""}]
[{"$f":"IF(B96>\"\",'AİDAT KONTROL'!A100,\"\")","v":""},{"$f":"'AİDAT KONTROL'!B100","v":""}]
[{"$f":"IF(B97>\"\",'AİDAT KONTROL'!A101,\"\")","v":""},{"$f":"'AİDAT KONTROL'!B101","v":""}]
[{"$f":"IF(B98>\"\",'AİDAT KONTROL'!A102,\"\")","v":""},{"$f":"'AİDAT KONTROL'!B102","v":""}]
[{"$f":"IF(B99>\"\",'AİDAT KONTROL'!A103,\"\")","v":""},{"$f":"'AİDAT KONTROL'!B103","v":""}]
[{"$f":"IF(B100>\"\",'AİDAT KONTROL'!A104,\"\")","v":""},{"$f":"'AİDAT KONTROL'!B104","v":""}]
[{"$f":"IF(B101>\"\",'AİDAT KONTROL'!A105,\"\")","v":""},{"$f":"'AİDAT KONTROL'!B105","v":""}]
[{"$f":"IF(B102>\"\",'AİDAT KONTROL'!A106,\"\")","v":""},{"$f":"'AİDAT KONTROL'!B106","v":""}]
[{"$f":"IF(B103>\"\",'AİDAT KONTROL'!A107,\"\")","v":""},{"$f":"'AİDAT KONTROL'!B107","v":""}]
[{"$f":"IF(B104>\"\",'AİDAT KONTROL'!A108,\"\")","v":""},{"$f":"'AİDAT KONTROL'!B108","v":""}]
[{"$f":"IF(B105>\"\",'AİDAT KONTROL'!A109,\"\")","v":""},{"$f":"'AİDAT KONTROL'!B109","v":""}]
[{"$f":"IF(B106>\"\",'AİDAT KONTROL'!A110,\"\")","v":""},{"$f":"'AİDAT KONTROL'!B110","v":""}]
[{"$f":"IF(B107>\"\",'AİDAT KONTROL'!A111,\"\")","v":""},{"$f":"'AİDAT KONTROL'!B111","v":""}]
[{"$f":"IF(B108>\"\",'AİDAT KONTROL'!A112,\"\")","v":""},{"$f":"'AİDAT KONTROL'!B112","v":""}]
[{"$f":"IF(B109>\"\",'AİDAT KONTROL'!A113,\"\")","v":""},{"$f":"'AİDAT KONTROL'!B113","v":""}]
[{"$f":"IF(B110>\"\",'AİDAT KONTROL'!A114,\"\")","v":""},{"$f":"'AİDAT KONTROL'!B114","v":""}]
[{"$f":"IF(B111>\"\",'AİDAT KONTROL'!A115,\"\")","v":""},{"$f":"'AİDAT KONTROL'!B115","v":""}]
[{"$f":"IF(B112>\"\",'AİDAT KONTROL'!A116,\"\")","v":""},{"$f":"'AİDAT KONTROL'!B116","v":""}]
[{"$f":"IF(B113>\"\",'AİDAT KONTROL'!A117,\"\")","v":""},{"$f":"'AİDAT KONTROL'!B117","v":""}]
[{"$f":"IF(B114>\"\",'AİDAT KONTROL'!A118,\"\")","v":""},{"$f":"'AİDAT KONTROL'!B118","v":""}]
[{"$f":"IF(B115>\"\",'AİDAT KONTROL'!A119,\"\")","v":""},{"$f":"'AİDAT KONTROL'!B119","v":""}]
[{"$f":"IF(B116>\"\",'AİDAT KONTROL'!A120,\"\")","v":""},{"$f":"'AİDAT KONTROL'!B120","v":""}]
[{"$f":"IF(B117>\"\",'AİDAT KONTROL'!A121,\"\")","v":""},{"$f":"'AİDAT KONTROL'!B121","v":""}]
[{"$f":"IF(B118>\"\",'AİDAT KONTROL'!A122,\"\")","v":""},{"$f":"'AİDAT KONTROL'!B122","v":""}]
[{"$f":"IF(B119>\"\",'AİDAT KONTROL'!A123,\"\")","v":""},{"$f":"'AİDAT KONTROL'!B123","v":""}]
[{"$f":"IF(B120>\"\",'AİDAT KONTROL'!A124,\"\")","v":""},{"$f":"'AİDAT KONTROL'!B124","v":""}]
[{"$f":"IF(B121>\"\",'AİDAT KONTROL'!A125,\"\")","v":""},{"$f":"'AİDAT KONTROL'!B125","v":""}]
[{"$f":"IF(B122>\"\",'AİDAT KONTROL'!A126,\"\")","v":""},{"$f":"'AİDAT KONTROL'!B126","v":""}]
[{"$f":"IF(B123>\"\",'AİDAT KONTROL'!A127,\"\")","v":""},{"$f":"'AİDAT KONTROL'!B127","v":""}]
[{"$f":"IF(B124>\"\",'AİDAT KONTROL'!A128,\"\")","v":""},{"$f":"'AİDAT KONTROL'!B128","v":""}]
[{"$f":"IF(B125>\"\",'AİDAT KONTROL'!A129,\"\")","v":""},{"$f":"'AİDAT KONTROL'!B129","v":""}]
[{"$f":"IF(B126>\"\",'AİDAT KONTROL'!A130,\"\")","v":""},{"$f":"'AİDAT KONTROL'!B130","v":""}]
[{"$f":"IF(B127>\"\",'AİDAT KONTROL'!A131,\"\")","v":""},{"$f":"'AİDAT KONTROL'!B131","v":""}]
[{"$f":"IF(B128>\"\",'AİDAT KONTROL'!A132,\"\")","v":""},{"$f":"'AİDAT KONTROL'!B132","v":""}]
[{"$f":"IF(B129>\"\",'AİDAT KONTROL'!A133,\"\")","v":""},{"$f":"'AİDAT KONTROL'!B133","v":""}]
[{"$f":"IF(B130>\"\",'AİDAT KONTROL'!A134,\"\")","v":""},{"$f":"'AİDAT KONTROL'!B134","v":""}]
[{"$f":"IF(B131>\"\",'AİDAT KONTROL'!A135,\"\")","v":""},{"$f":"'AİDAT KONTROL'!B135","v":""}]
[{"$f":"IF(B132>\"\",'AİDAT KONTROL'!A136,\"\")","v":""},{"$f":"'AİDAT KONTROL'!B136","v":""}]
[{"$f":"IF(B133>\"\",'AİDAT KONTROL'!A137,\"\")","v":""},{"$f":"'AİDAT KONTROL'!B137","v":""}]
[{"$f":"IF(B134>\"\",'AİDAT KONTROL'!A138,\"\")","v":""},{"$f":"'AİDAT KONTROL'!B138","v":""}]
[{"$f":"IF(B135>\"\",'AİDAT KONTROL'!A139,\"\")","v":""},{"$f":"'AİDAT KONTROL'!B139","v":""}]
[{"$f":"IF(B136>\"\",'AİDAT KONTROL'!A140,\"\")","v":""},{"$f":"'AİDAT KONTROL'!B140","v":""}]
[{"$f":"IF(B137>\"\",'AİDAT KONTROL'!A141,\"\")","v":""},{"$f":"'AİDAT KONTROL'!B141","v":""}]
[{"$f":"IF(B138>\"\",'AİDAT KONTROL'!A142,\"\")","v":""},{"$f":"'AİDAT KONTROL'!B142","v":""}]
[{"$f":"IF(B139>\"\",'AİDAT KONTROL'!A143,\"\")","v":""},{"$f":"'AİDAT KONTROL'!B143","v":""}]
[{"$f":"IF(B140>\"\",'AİDAT KONTROL'!A144,\"\")","v":""},{"$f":"'AİDAT KONTROL'!B144","v":""}]
[{"$f":"IF(B141>\"\",'AİDAT KONTROL'!A145,\"\")","v":""},{"$f":"'AİDAT KONTROL'!B145","v":""}]
[{"$f":"IF(B142>\"\",'AİDAT KONTROL'!A146,\"\")","v":""},{"$f":"'AİDAT KONTROL'!B146","v":""}]
[{"$f":"IF(B143>\"\",'AİDAT KONTROL'!A147,\"\")","v":""},{"$f":"'AİDAT KONTROL'!B147","v":""}]
[{"$f":"IF(B144>\"\",'AİDAT KONTROL'!A148,\"\")","v":""},{"$f":"'AİDAT KONTROL'!B148","v":""}]
[{"$f":"IF(B145>\"\",'AİDAT KONTROL'!A149,\"\")","v":""},{"$f":"'AİDAT KONTROL'!B149","v":""}]
[{"$f":"IF(B146>\"\",'AİDAT KONTROL'!A150,\"\")","v":""},{"$f":"'AİDAT KONTROL'!B150","v":""}]
[{"$f":"IF(B147>\"\",'AİDAT KONTROL'!A151,\"\")","v":""},{"$f":"'AİDAT KONTROL'!B151","v":""}]
[{"$f":"IF(B148>\"\",'AİDAT KONTROL'!A152,\"\")","v":""},{"$f":"'AİDAT KONTROL'!B152","v":""}]
[{"$f":"IF(B149>\"\",'AİDAT KONTROL'!A153,\"\")","v":""},{"$f":"'AİDAT KONTROL'!B153","v":""}]
[{"$f":"IF(B150>\"\",'AİDAT KONTROL'!A154,\"\")","v":""},{"$f":"'AİDAT KONTROL'!B154","v":""}]
[{"$f":"IF(B151>\"\",'AİDAT KONTROL'!A155,\"\")","v":""},{"$f":"'AİDAT KONTROL'!B155","v":""}]
[{"$f":"IF(B152>\"\",'AİDAT KONTROL'!A156,\"\")","v":""},{"$f":"'AİDAT KONTROL'!B156","v":""}]
[{"$f":"IF(B153>\"\",'AİDAT KONTROL'!A157,\"\")","v":""},{"$f":"'AİDAT KONTROL'!B157","v":""}]
[{"$f":"IF(B154>\"\",'AİDAT KONTROL'!A158,\"\")","v":""},{"$f":"'AİDAT KONTROL'!B158","v":""}]
[{"$f":"IF(B155>\"\",'AİDAT KONTROL'!A159,\"\")","v":""},{"$f":"'AİDAT KONTROL'!B159","v":""}]
[{"$f":"IF(B156>\"\",'AİDAT KONTROL'!A160,\"\")","v":""},{"$f":"'AİDAT KONTROL'!B160","v":""}]
[{"$f":"IF(B157>\"\",'AİDAT KONTROL'!A161,\"\")","v":""},{"$f":"'AİDAT KONTROL'!B161","v":""}]
[{"$f":"IF(B158>\"\",'AİDAT KONTROL'!A162,\"\")","v":""},{"$f":"'AİDAT KONTROL'!B162","v":""}]
[{"$f":"IF(B159>\"\",'AİDAT KONTROL'!A163,\"\")","v":""},{"$f":"'AİDAT KONTROL'!B163","v":""}]
[{"$f":"IF(B160>\"\",'AİDAT KONTROL'!A164,\"\")","v":""},{"$f":"'AİDAT KONTROL'!B164","v":""}]
[{"$f":"IF(B161>\"\",'AİDAT KONTROL'!A165,\"\")","v":""},{"$f":"'AİDAT KONTROL'!B165","v":""}]
[{"$f":"IF(B162>\"\",'AİDAT KONTROL'!A166,\"\")","v":""},{"$f":"'AİDAT KONTROL'!B166","v":""}]
[{"$f":"IF(B163>\"\",'AİDAT KONTROL'!A167,\"\")","v":""},{"$f":"'AİDAT KONTROL'!B167","v":""}]
[{"$f":"IF(B164>\"\",'AİDAT KONTROL'!A168,\"\")","v":""},{"$f":"'AİDAT KONTROL'!B168","v":""}]
[{"$f":"IF(B165>\"\",'AİDAT KONTROL'!A169,\"\")","v":""},{"$f":"'AİDAT KONTROL'!B169","v":""}]
[{"$f":"IF(B166>\"\",'AİDAT KONTROL'!A170,\"\")","v":""},{"$f":"'AİDAT KONTROL'!B170","v":""}]
[{"$f":"IF(B167>\"\",'AİDAT KONTROL'!A171,\"\")","v":""},{"$f":"'AİDAT KONTROL'!B171","v":""}]
[{"$f":"IF(B168>\"\",'AİDAT KONTROL'!A172,\"\")","v":""},{"$f":"'AİDAT KONTROL'!B172","v":""}]
[{"$f":"IF(B169>\"\",'AİDAT KONTROL'!A173,\"\")","v":""},{"$f":"'AİDAT KONTROL'!B173","v":""}]
[{"$f":"IF(B170>\"\",'AİDAT KONTROL'!A174,\"\")","v":""},{"$f":"'AİDAT KONTROL'!B174","v":""}]
[{"$f":"IF(B171>\"\",'AİDAT KONTROL'!A175,\"\")","v":""},{"$f":"'AİDAT KONTROL'!B175","v":""}]
[{"$f":"IF(B172>\"\",'AİDAT KONTROL'!A176,\"\")","v":""},{"$f":"'AİDAT KONTROL'!B176","v":""}]
[{"$f":"IF(B173>\"\",'AİDAT KONTROL'!A177,\"\")","v":""},{"$f":"'AİDAT KONTROL'!B177","v":""}]
[{"$f":"IF(B174>\"\",'AİDAT KONTROL'!A178,\"\")","v":""},{"$f":"'AİDAT KONTROL'!B178","v":""}]
[{"$f":"IF(B175>\"\",'AİDAT KONTROL'!A179,\"\")","v":""},{"$f":"'AİDAT KONTROL'!B179","v":""}]
[{"$f":"IF(B176>\"\",'AİDAT KONTROL'!A180,\"\")","v":""},{"$f":"'AİDAT KONTROL'!B180","v":""}]
[{"$f":"IF(B177>\"\",'AİDAT KONTROL'!A181,\"\")","v":""},{"$f":"'AİDAT KONTROL'!B181","v":""}]
[{"$f":"IF(B178>\"\",'AİDAT KONTROL'!A182,\"\")","v":""},{"$f":"'AİDAT KONTROL'!B182","v":""}]
[{"$f":"IF(B179>\"\",'AİDAT KONTROL'!A183,\"\")","v":""},{"$f":"'AİDAT KONTROL'!B183","v":""}]
[{"$f":"IF(B180>\"\",'AİDAT KONTROL'!A184,\"\")","v":""},{"$f":"'AİDAT KONTROL'!B184","v":""}]
[{"$f":"IF(B181>\"\",'AİDAT KONTROL'!A185,\"\")","v":""},{"$f":"'AİDAT KONTROL'!B185","v":""}]
[{"$f":"IF(B182>\"\",'AİDAT KONTROL'!A186,\"\")","v":""},{"$f":"'AİDAT KONTROL'!B186","v":""}]
[{"$f":"IF(B183>\"\",'AİDAT KONTROL'!A187,\"\")","v":""},{"$f":"'AİDAT KONTROL'!B187","v":""}]
[{"$f":"IF(B184>\"\",'AİDAT KONTROL'!A188,\"\")","v":""},{"$f":"'AİDAT KONTROL'!B188","v":""}]
[{"$f":"IF(B185>\"\",'AİDAT KONTROL'!A189,\"\")","v":""},{"$f":"'AİDAT KONTROL'!B189","v":""}]
[{"$f":"IF(B186>\"\",'AİDAT KONTROL'!A190,\"\")","v":""},{"$f":"'AİDAT KONTROL'!B190","v":""}]
[{"$f":"IF(B187>\"\",'AİDAT KONTROL'!A191,\"\")","v":""},{"$f":"'AİDAT KONTROL'!B191","v":""}]
[{"$f":"IF(B188>\"\",'AİDAT KONTROL'!A192,\"\")","v":""},{"$f":"'AİDAT KONTROL'!B192","v":""}]
[{"$f":"IF(B189>\"\",'AİDAT KONTROL'!A193,\"\")","v":""},{"$f":"'AİDAT KONTROL'!B193","v":""}]
[{"$f":"IF(B190>\"\",'AİDAT KONTROL'!A194,\"\")","v":""},{"$f":"'AİDAT KONTROL'!B194","v":""}]
[{"$f":"IF(B191>\"\",'AİDAT KONTROL'!A195,\"\")","v":""},{"$f":"'AİDAT KONTROL'!B195","v":""}]
[{"$f":"IF(B192>\"\",'AİDAT KONTROL'!A196,\"\")","v":""},{"$f":"'AİDAT KONTROL'!B196","v":""}]
[{"$f":"IF(B193>\"\",'AİDAT KONTROL'!A197,\"\")","v":""},{"$f":"'AİDAT KONTROL'!B197","v":""}]
[{"$f":"IF(B194>\"\",'AİDAT KONTROL'!A198,\"\")","v":""},{"$f":"'AİDAT KONTROL'!B198","v":""}]
[{"$f":"IF(B195>\"\",'AİDAT KONTROL'!A199,\"\")","v":""},{"$f":"'AİDAT KONTROL'!B199","v":""}]
[{"$f":"IF(B196>\"\",'AİDAT KONTROL'!A200,\"\")","v":""},{"$f":"'AİDAT KONTROL'!B200","v":""}]
[{"$f":"IF(B197>\"\",'AİDAT KONTROL'!A201,\"\")","v":""},{"$f":"'AİDAT KONTROL'!B201","v":""}]
[{"$f":"IF(B198>\"\",'AİDAT KONTROL'!A202,\"\")","v":""},{"$f":"'AİDAT KONTROL'!B202","v":""}]
[{"$f":"IF(B199>\"\",'AİDAT KONTROL'!A203,\"\")","v":""},{"$f":"'AİDAT KONTROL'!B203","v":""}]
[{"$f":"IF(B200>\"\",'AİDAT KONTROL'!A204,\"\")","v":""},{"$f":"'AİDAT KONTROL'!B204","v":""}]
[{"$f":"IF(B201>\"\",'AİDAT KONTROL'!A205,\"\")","v":""},{"$f":"'AİDAT KONTROL'!B205","v":""}]
[{"$f":"IF(B202>\"\",'AİDAT KONTROL'!A206,\"\")","v":""},{"$f":"'AİDAT KONTROL'!B206","v":""}]
[{"$f":"IF(B203>\"\",'AİDAT KONTROL'!A207,\"\")","v":""},{"$f":"'AİDAT KONTROL'!B207","v":""}]
[{"$f":"IF(B204>\"\",'AİDAT KONTROL'!A208,\"\")","v":""},{"$f":"'AİDAT KONTROL'!B208","v":""}]
[{"$f":"IF(B205>\"\",'AİDAT KONTROL'!A209,\"\")","v":""},{"$f":"'AİDAT KONTROL'!B209","v":""}]
[{"$f":"IF(B206>\"\",'AİDAT KONTROL'!A210,\"\")","v":""},{"$f":"'AİDAT KONTROL'!B210","v":""}]
[{"$f":"IF(B207>\"\",'AİDAT KONTROL'!A211,\"\")","v":""},{"$f":"'AİDAT KONTROL'!B211","v":""}]
[{"$f":"IF(B208>\"\",'AİDAT KONTROL'!A212,\"\")","v":""},{"$f":"'AİDAT KONTROL'!B212","v":""}]
[{"$f":"IF(B209>\"\",'AİDAT KONTROL'!A213,\"\")","v":""},{"$f":"'AİDAT KONTROL'!B213","v":""}]
[{"$f":"IF(B210>\"\",'AİDAT KONTROL'!A214,\"\")","v":""},{"$f":"'AİDAT KONTROL'!B214","v":""}]
[{"$f":"IF(B211>\"\",'AİDAT KONTROL'!A215,\"\")","v":""},{"$f":"'AİDAT KONTROL'!B215","v":""}]
[{"$f":"IF(B212>\"\",'AİDAT KONTROL'!A216,\"\")","v":""},{"$f":"'AİDAT KONTROL'!B216","v":""}]
[{"$f":"IF(B213>\"\",'AİDAT KONTROL'!A217,\"\")","v":""},{"$f":"'AİDAT KONTROL'!B217","v":""}]
[{"$f":"IF(B214>\"\",'AİDAT KONTROL'!A218,\"\")","v":""},{"$f":"'AİDAT KONTROL'!B218","v":""}]
[{"$f":"IF(B215>\"\",'AİDAT KONTROL'!A219,\"\")","v":""},{"$f":"'AİDAT KONTROL'!B219","v":""}]
[{"$f":"IF(B216>\"\",'AİDAT KONTROL'!A220,\"\")","v":""},{"$f":"'AİDAT KONTROL'!B220","v":""}]
[{"$f":"IF(B217>\"\",'AİDAT KONTROL'!A221,\"\")","v":""},{"$f":"'AİDAT KONTROL'!B221","v":""}]
[{"$f":"IF(B218>\"\",'AİDAT KONTROL'!A222,\"\")","v":""},{"$f":"'AİDAT KONTROL'!B222","v":""}]
[{"$f":"IF(B219>\"\",'AİDAT KONTROL'!A223,\"\")","v":""},{"$f":"'AİDAT KONTROL'!B223","v":""}]
[{"$f":"IF(B220>\"\",'AİDAT KONTROL'!A224,\"\")","v":""},{"$f":"'AİDAT KONTROL'!B224","v":""}]
[{"$f":"IF(B221>\"\",'AİDAT KONTROL'!A225,\"\")","v":""},{"$f":"'AİDAT KONTROL'!B225","v":""}]
[{"$f":"IF(B222>\"\",'AİDAT KONTROL'!A226,\"\")","v":""},{"$f":"'AİDAT KONTROL'!B226","v":""}]
[{"$f":"IF(B223>\"\",'AİDAT KONTROL'!A227,\"\")","v":""},{"$f":"'AİDAT KONTROL'!B227","v":""}]
[{"$f":"IF(B224>\"\",'AİDAT KONTROL'!A228,\"\")","v":""},{"$f":"'AİDAT KONTROL'!B228","v":""}]
[{"$f":"IF(B225>\"\",'AİDAT KONTROL'!A229,\"\")","v":""},{"$f":"'AİDAT KONTROL'!B229","v":""}]
[{"$f":"IF(B226>\"\",'AİDAT KONTROL'!A230,\"\")","v":""},{"$f":"'AİDAT KONTROL'!B230","v":""}]
[{"$f":"IF(B227>\"\",'AİDAT KONTROL'!A231,\"\")","v":""},{"$f":"'AİDAT KONTROL'!B231","v":""}]
[{"$f":"IF(B228>\"\",'AİDAT KONTROL'!A232,\"\")","v":""},{"$f":"'AİDAT KONTROL'!B232","v":""}]
[{"$f":"IF(B229>\"\",'AİDAT KONTROL'!A233,\"\")","v":""},{"$f":"'AİDAT KONTROL'!B233","v":""}]
[{"$f":"IF(B230>\"\",'AİDAT KONTROL'!A234,\"\")","v":""},{"$f":"'AİDAT KONTROL'!B234","v":""}]
[{"$f":"IF(B231>\"\",'AİDAT KONTROL'!A235,\"\")","v":""},{"$f":"'AİDAT KONTROL'!B235","v":""}]
[{"$f":"IF(B232>\"\",'AİDAT KONTROL'!A236,\"\")","v":""},{"$f":"'AİDAT KONTROL'!B236","v":""}]
[{"$f":"IF(B233>\"\",'AİDAT KONTROL'!A237,\"\")","v":""},{"$f":"'AİDAT KONTROL'!B237","v":""}]
[{"$f":"IF(B234>\"\",'AİDAT KONTROL'!A238,\"\")","v":""},{"$f":"'AİDAT KONTROL'!B238","v":""}]
[{"$f":"IF(B235>\"\",'AİDAT KONTROL'!A239,\"\")","v":""},{"$f":"'AİDAT KONTROL'!B239","v":""}]
[{"$f":"IF(B236>\"\",'AİDAT KONTROL'!A240,\"\")","v":""},{"$f":"'AİDAT KONTROL'!B240","v":""}]
[{"$f":"IF(B237>\"\",'AİDAT KONTROL'!A241,\"\")","v":""},{"$f":"'AİDAT KONTROL'!B241","v":""}]
[{"$f":"IF(B238>\"\",'AİDAT KONTROL'!A242,\"\")","v":""},{"$f":"'AİDAT KONTROL'!B242","v":""}]
[{"$f":"IF(B239>\"\",'AİDAT KONTROL'!A243,\"\")","v":""},{"$f":"'AİDAT KONTROL'!B243","v":""}]
[{"$f":"IF(B240>\"\",'AİDAT KONTROL'!A244,\"\")","v":""},{"$f":"'AİDAT KONTROL'!B244","v":""}]
[{"$f":"IF(B241>\"\",'AİDAT KONTROL'!A245,\"\")","v":""},{"$f":"'AİDAT KONTROL'!B245","v":""}]
[{"$f":"IF(B242>\"\",'AİDAT KONTROL'!A246,\"\")","v":""},{"$f":"'AİDAT KONTROL'!B246","v":""}]
[{"$f":"IF(B243>\"\",'AİDAT KONTROL'!A247,\"\")","v":""},{"$f":"'AİDAT KONTROL'!B247","v":""}]
[{"$f":"IF(B244>\"\",'AİDAT KONTROL'!A248,\"\")","v":""},{"$f":"'AİDAT KONTROL'!B248","v":""}]
[{"$f":"IF(B245>\"\",'AİDAT KONTROL'!A249,\"\")","v":""},{"$f":"'AİDAT KONTROL'!B249","v":""}]
[{"$f":"IF(B246>\"\",'AİDAT KONTROL'!A250,\"\")","v":""},{"$f":"'AİDAT KONTROL'!B250","v":""}]
[{"$f":"IF(B247>\"\",'AİDAT KONTROL'!A251,\"\")","v":""},{"$f":"'AİDAT KONTROL'!B251","v":""}]
[{"$f":"IF(B248>\"\",'AİDAT KONTROL'!A252,\"\")","v":""},{"$f":"'AİDAT KONTROL'!B252","v":""}]
[{"$f":"IF(B249>\"\",'AİDAT KONTROL'!A253,\"\")","v":""},{"$f":"'AİDAT KONTROL'!B253","v":""}]
[{"$f":"IF(B250>\"\",'AİDAT KONTROL'!A254,\"\")","v":""},{"$f":"'AİDAT KONTROL'!B254","v":""}]
[{"$f":"IF(B251>\"\",'AİDAT KONTROL'!A255,\"\")","v":""},{"$f":"'AİDAT KONTROL'!B255","v":""}]
[{"$f":"IF(B252>\"\",'AİDAT KONTROL'!A256,\"\")","v":""},{"$f":"'AİDAT KONTROL'!B256","v":""}]

{"sheet":"AİDAT MAKBUZU","index":7,"n_rows":24,"n_cols":4,"rows_kept":24,"cut":false,"hidden":false,"merged":[[23,1,23,3],[10,0,10,3],[20,0,20,3],[6,0,6,2],[0,0,0,2],[14,0,14,3],[15,0,15,3],[21,0,21,3],[22,1,22,3]]}
["AİDAT TESLİM MAKBUZU"]
["ADI SOYADI","TARİH","TUTAR"]
[]
[]
[]
[]
[{"$f":"CONCATENATE(\"              Sitemiz sakinlerinden \",A3,\", \",B3,\" tarihinde Aidat olarak \",C3,\" TL. teslim etmiştir. İşbu makbuz üyenin isteği üzerine düzenlenmiş olup, anlaşmazlık halinde Apartman yönetimi kayıtları geçerli olacaktır.\")","v":"              Sitemiz sakinlerinden ,  tarihinde Aidat olarak  TL. teslim etmiştir. İşbu makbuz üyenin isteği üzerine düzenlenmiş olup, anlaşmazlık halinde Apartman yönetimi kayıtları geçerli olacaktır."}]
[]
[]
[]
["GİDER MAKBUZU"]
["ADI SOYADI","KİMLİK NO / VKN","TARİH","TUTAR"]
[]
[]
["İŞİN MAHİYETİ"]
[]
[]
[]
[]
[]
[{"$f":"CONCATENATE(\"              Yukarıda mahiyeti yazılı iş, \",B13,\" TC.Kimlik / VKN. nolu \",A13,\"'a \",C13,\" tarihinde yaptırılmış olup, \",D13,\" TL. ödenmiştir.\")","v":"              Yukarıda mahiyeti yazılı iş,  TC.Kimlik / VKN. nolu 'a  tarihinde yaptırılmış olup,  TL. ödenmiştir."}]
[{"$f":"CONCATENATE(A16,\" işi karşılığı \",D13,\".- TL.yi nakden ve tamamen aldım.\")","v":" işi karşılığı .- TL.yi nakden ve tamamen aldım."}]
[{"$f":"A13","v":0},{"$f":"APT.BİLGİLERİ!B13","v":"HASAN KORKMAZ"}]
["(İmza)","(İmza)"]

{"sheet":"APT.BİLGİLERİ","index":8,"n_rows":56,"n_cols":2,"rows_kept":56,"cut":false,"hidden":false,"merged":[[62,0,62,3],[63,0,63,3],[65,0,65,3],[68,0,68,2],[66,0,66,3],[67,0,67,3],[58,0,58,3],[52,0,52,3],[53,0,53,3],[54,0,54,3],[55,0,55,3],[56,0,56,3],[57,0,57,3],[47,0,47,3],[48,0,48,3],[49,0,49,3],[50,0,50,3],[51,0,51,3],[42,0,42,3],[43,0,43,3],[44,0,44,3],[45,0,45,3],[46,0,46,3],[37,0,37,3],[38,0,38,3],[39,0,39,3],[41,0,41,3],[40,0,40,3],[36,0,36,3],[25,0,25,3],[27,0,27,3],[28,0,28,3],[29,0,29,3],[30,0,30,3],[31,0,31,3],[32,0,32,3],[33,0,33,3],[34,0,34,3],[35,0,35,3]]}
["APARTMAN/SİTE ADI","NEBAHAT SELEKLER"]
["ADRESİ","KONYAALTI"]
["İLİ","ANTALYA"]
["İLÇESİ","KONYAALTI"]
["DAİRE SAYISI",80]
["ADA NO","ADA"]
["PARSEL NO","PARSEL"]
["KAT SAYISI","KAT SAYISI"]
["AYLIK AİDAT TUTARI (MESKEN)",100]
["AYLIK AİDAT TUTARI (DÜKKAN)",150]
["TOPLANTI AYI (AYIN İLK 10.GÜNÜ)","20.12.2014"]
["VEYA TOPLANTI AYI (AYIN İLK 10.GÜNÜ)","20.01.2015"]
["SEÇİLEN YÖNETİCİ","HASAN KORKMAZ"]
["1.DENETÇİ"]
["2.DENETÇİ"]
["3.DENETÇİ"]
["TOPLANTIYA DAVET TARİHİ","20.11.2014"]
["DİVAN BAŞKANI"]
["KATİP"]
[]
[]
[]
[]
[]
[]
["Kat malikleri Kuruluna Davet Mektubu Örneği"]
[]
[{"$f":"B1&\" Apartmanı Kat Maliklerine\"","v":"NEBAHAT SELEKLER Apartmanı Kat Maliklerine"}]
[{"$f":"\"Kat malikleri kurulu,aşağıdaki gündem maddelerini görüşüp karara bağlamak üzere \"&B11&\" da \"&B2&\" adresindeki apartmanda olağan (veya olağanüstü) olarak toplanacaktır.\"","v":"Kat malikleri kurulu,aşağıdaki gündem maddelerini görüşüp karara bağlamak üzere 20.12.2014 da KONYAALTI adresindeki apartmanda olağan (veya olağanüstü) olarak toplanacaktır."}]
[]
[{"$f":"\"Bu toplantıda yeter sayı sağlanamadığı takdirde,ikinci toplantı nisap (çoğunluk) aranmaksızın \"&B12&\" da aynı yerde yapılacaktır.\"","v":"Bu toplantıda yeter sayı sağlanamadığı takdirde,ikinci toplantı nisap (çoğunluk) aranmaksızın 20.01.2015 da aynı yerde yapılacaktır."}]
[]
[{"$f":"\"Bütün kat maliklerinin toplantıya katılmaları veya kendilerini temsil ettirmeleri önemle rica olunur \"&B17","v":"Bütün kat maliklerinin toplantıya katılmaları veya kendilerini temsil ettirmeleri önemle rica olunur 20.11.2014"}]
["Gündem:"]
["1)Açılış,yoklama ve toplantı Divan başkanı'nın ve üyelerin seçimi,"]
["2)Başkanlık panına imza yetkisi verilmesi"]
["3)Gündemin okunması ve ilaveler"]
["4)Yönetici faaliyet raporu ve denetçi raporunun okunması;hesapların görüşülmesi ve yöneticinin ibrası."]
["5)Yeni yönetici ve denetçi seçimi."]
["6)Dilek ve temenniler."]
["7)Kapanış."]
[{"$f":"B1&\"                                                                                                                                                                      Apartmanı Yöneticisi\"","v":"NEBAHAT SELEKLER                                                                                                                                                                      Apartmanı Yöneticisi"}]
[{"$f":"B13","v":"HASAN KORKMAZ"}]
["———————————————————————————————————————————"]
["VEKALETNAME"]
[{"$f":"B1&\" Sitesi kat malikleri kurulu divan başkanlığına\"","v":"NEBAHAT SELEKLER Sitesi kat malikleri kurulu divan başkanlığına"}]
[{"$f":"\"Sitemizin \"&B11&\" tarihinde yapılacak olan kat malikleri kurulu toplantısında beni temsile (Kat Malikimiz / Birinci derece akrabam) …………… ………….. …………… …… …………… …………vekil olarak tayin ettim.\"","v":"Sitemizin 20.12.2014 tarihinde yapılacak olan kat malikleri kurulu toplantısında beni temsile (Kat Malikimiz / Birinci derece akrabam) …………… ………….. …………… …… …………… …………vekil olarak tayin ettim."}]
[]
["…………….. nolu kat maliki"]
["Adı Soyadı:"]
["İmza"]
["Not :"]
["1.Bir kat maliki diğer kat maliki veya 1. derece akrabası tarafından temsil edilir."]
["2.Bağımsız bölümün birden fazla maliki varsa, içlerinden birine vekalet vererek bu kişi tarafından temsil edilirler."]
["3.Birden fazla bağımsız bölüm sahibi her bölüm için bir oy hakkına sahiptir."]
["4.Vefat eden kat malikini veraset ilamı ile birlikte aralarından seçecekleri kişi temsil eder."]

{"sheet":"TOPLANTI KARARLARI","index":9,"n_rows":12,"n_cols":1,"rows_kept":12,"cut":false,"hidden":false,"merged":[[12,0,12,3],[6,0,6,3],[7,0,7,3],[8,0,8,3],[9,0,9,3],[10,0,10,3],[11,0,11,3],[5,0,5,3],[0,0,0,3],[1,0,1,3],[2,0,2,3],[3,0,3,3],[4,0,4,3]]}
["KARARLAR"]
[]
[{"$f":"\"1.)Kat malikleri kurulu , yoklama yapıldı ve gerekli ekseriyetin hazır bulunduğu tespit edilerek gündemin görüşülmesi için Toplantı Divan başkanlığına \"&APT.BİLGİLERİ!B18&\", katipliğe \"&APT.BİLGİLERİ!B19&\" tüm maliklerin kabul oy birliği ile seçildi .\"","v":"1.)Kat malikleri kurulu , yoklama yapıldı ve gerekli ekseriyetin hazır bulunduğu tespit edilerek gündemin görüşülmesi için Toplantı Divan başkanlığına , katipliğe  tüm maliklerin kabul oy birliği ile seçildi ."}]
["2.) Yönetimin Yıllık Faaliyet raporu incelenip gelir ve giderler kabul edip ibra edildi."]
["3.)Denetici raporu okunup kabul edilip ibra edildi."]
[{"$f":"\"4.) Divan Başkanı tarafından yönetici adayı olarak profesyonel bilgi birikimi bulunan \"&APT.BİLGİLERİ!B13&\" önerildi. Denetici olarak \"&APT.BİLGİLERİ!B14&\" ve yardımcılığına \"&APT.BİLGİLERİ!B15&\" önerildi. Konu oylamaya sunuldu. Yönetici \"&APT.BİLGİLERİ!B13&\" ve denetici \"&APT.BİLGİLERİ!B14&\" ve yardımcılığına \"&APT.BİLGİLERİ!B15&\" olarak seçilmesine oy birliği ile karar verildi.\"","v":"4.) Divan Başkanı tarafından yönetici adayı olarak profesyonel bilgi birikimi bulunan HASAN KORKMAZ önerildi. Denetici olarak  ve yardımcılığına  önerildi. Konu oylamaya sunuldu. Yönetici HASAN KORKMAZ ve denetici  ve yardımcılığına  olarak seçilmesine oy birliği ile karar verildi."}]
[{"$f":"\"Yönetici \"&APT.BİLGİLERİ!B13&\" ve veya denetici \"&APT.BİLGİLERİ!B14&\" binaya ait tüm bankacılık işlemlerini yapmaya ve tüm resmi ve özel kurumlarda binayı münferiden veya ayrı ayrı temsil etmesine oy birliği ile karar verilmiştir. \"&APT.BİLGİLERİ!B13&\"'ya apartmanın avans aidat ve yatırım aylık ödemelerinden doğan alacakları hususunda toplam \"&APT.BİLGİLERİ!B9*12&\".-TL borcu geçen maliklerin avukat kanalıyla icra takibi yapılması hususunda bir avukata \"&APT.BİLGİLERİ!B1&\" Apartmanı adına vekalet vermesi hususunda yetki verilmiştir.\"","v":"Yönetici HASAN KORKMAZ ve veya denetici  binaya ait tüm bankacılık işlemlerini yapmaya ve tüm resmi ve özel kurumlarda binayı münferiden veya ayrı ayrı temsil etmesine oy birliği ile karar verilmiştir. HASAN KORKMAZ'ya apartmanın avans aidat ve yatırım aylık ödemelerinden doğan alacakları hususunda toplam 1200.-TL borcu geçen maliklerin avukat kanalıyla icra takibi yapılması hususunda bir avukata NEBAHAT SELEKLER Apartmanı adına vekalet vermesi hususunda yetki verilmiştir."}]
[{"$f":"\"Yönetici \"&APT.BİLGİLERİ!B13&\"'dan belirlenen aylık aidatın %50'si oranında Yönetim huzur hakkı ödenmesine karar verildi. Deneticiye bir ücret ödenmesine gerek olmadığına oy birliğiyle karar verildi.\"","v":"Yönetici HASAN KORKMAZ'dan belirlenen aylık aidatın %50'si oranında Yönetim huzur hakkı ödenmesine karar verildi. Deneticiye bir ücret ödenmesine gerek olmadığına oy birliğiyle karar verildi."}]
[{"$f":"\"5.) İkinci bir karar alınıncaya kadar avans aidatlarının yapılan işletme projesinin oy birliği ile kabul edilmesiyle bağımsız bölüm başına \"&APT.BİLGİLERİ!B9&\".-TL/Ay toplanmasına karar verilmiştir.\"","v":"5.) İkinci bir karar alınıncaya kadar avans aidatlarının yapılan işletme projesinin oy birliği ile kabul edilmesiyle bağımsız bölüm başına 100.-TL/Ay toplanmasına karar verilmiştir."}]
["6.)A- Dilek ve temennilere gelindi apartmanımızın elektrik, su gibi giderlerinin Türkiyede yerleşik bir Bankada açılacak yönetim hesabından otomatik ödeme talimatlarıyla düzenli olarak yapılması hususlarına oy birliği ile karar verildi."]
["Kararlar oy birliği ile imza altına alınarak toplantı kapatıldı."]
[{"$f":"APT.BİLGİLERİ!B11","v":"20.12.2014"}]

{"sheet":"APT.YÖNETİMİ YÖNERGESİ","index":10,"n_rows":173,"n_cols":1,"rows_kept":173,"cut":false,"hidden":false,"merged":[]}
[]
[]
["TOPLU YAPI VE APARTMANLARDA YÖNETİM NASIL OLUŞTURULUR VE YÖNETİCİLERİN GÖREVLERİ NELERDİR."]
["İnsanların barınma ihtiyacı çok eski çağlara dayanmaktadır ve bu barınma ihtiyacı gün geçtikçe önemli ölçüde artmış ve yeni yaşam alanlarının kurulması gerekliliğini ortaya çıkarmıştır. Bu sebepten ötürü çok katlı yapılar inşa edilmiş ve insanlar toplu yapılarda yaşamaya başlamışlardır. Buda önemli bir sorun ortaya koymuştur. Bu sorunun çözümü için 23.06.1965 Tarihinde 634 Sayılı Kat Mülkiyeti Kanunu Mecliste Kabul edilmiş ve Resmi Gazetenin 02.07.1965 gün ve 12038 sayılı nüshasında yayınlanarak yürürlüğe girmiştir. Bu yasanında bazı bölümleri zaman içerisinde ihtiyaca cevap vermediği için13.04.1983 Tarihinde 2814 sayılı Kanun ile, 14.11.2007 Tarihinde 5711 Sayılı Kanun ile ve 23.06.2009 Tarihinde 5912 sayılı Kanunlar ile 634 sayılı Kat Mülkiyeti Kanunda değişiklikler ve ilaveler yapılmıştır. Ben Burada sizlere 634 Sayılı Kat Mülkiyeti Kanununa göre Apartmanlarda yönetim nasıl oluşturulur ve yöneticiler neler yapmalıdır bunları soru cevap şeklinde aktarmaya çalışacağım."]
["HANGİ BİNALARDA APARTMAN YÖNETİMİ KURULMALIDIR. Ana gayrimenkulün sekiz veya daha fazla bağımsız bölümü varsa, yönetici atanması mecburidir. (KMK Madde 34)"]
["APARTMAN YÖNETİMİ OLUŞTURULMASI. Apartmanda Yönetici yok ise kat maliklerinde bir veya birkaçı yönetim oluşturabilir. Bunun için öncelikle Bir adet Karar Defteri Ve Bir adet Vezne defteri yada işletme defteri alınmalı ve Noterlikçe Apartman Yöneticiliği adına Tescil ettirilmeli ve Yönetimin oluşturulması için Toplantı tarihi ve gündemi belirlenmeli ve tüm Kat Maliklerine İmza karşılığı yada Taahhütlü mektup Yolu ile Bildirilmelidir. Ayrıca bir nüshası da Apartmanın ilan panosuna asılmalıdır. Bildirim Yapılırken Postanın yerine ulaşması için 15 gün ve mektubun ulaşmasından sonra kat maliklerinin kendilerini toplantıya ayarlamaları için 15 gün toplam 30 gün süre konmasına dikkat edilmelidir. İlk toplantıda çoğunluk sağlanamaz ise ikinci toplantı tarihi, yeri ve saati de bildirilir ve ikinci toplantıda çoğunluk aranmaz. Katılanların salt çoğunluğunun almış olduğu kararlar tüm Kat maliklerini Bağlar. İlk yapılacak olan toplantıya Yönetimi kurma görevini üstlenen kişi davet mektubu ve karar defterini Gönüllü Kurucu Yönetici Yada Kurucu Yönetici olarak imzalayabilir. Tüm Yazışmaların karar defterine işlenmesi gelecekteki itirazları önleyeceğinden dikkatli bir şekilde yazılmalıdır. Toplantıda istenirse bir yönetici iki yönetici yardımcısı bir denetçi seçilebilir veya bir yönetici üç denetçi seçilir birine yönetim kurulu diğerine denetim kurulu denir. Yönetim kurulu Kat malikleri adına apartmanı yönetme yetkisini genel kuruldan alır. (KMK Madde 34) Yöneticinin kat maliki olması zorunlu değildir (Kiracılar yönetici ve yardımcısı olabilir Yönetici dışarıdan atanabilir) . Ancak Denetçinin Kat Maliki olması zorunludur."]
["KİRACILARIN TOPLANTILARA KATILIMI VE OY KULLANMALARI Apartmanı yönetme yetkisi Kat Malikleri Kurulundadır. Yani diğer bir deyişle Daire sahiplerindedir. Bu sebepten ötürü kiracılar toplantılarda oy kullanamazlar oy kullanabilmeleri için kat malikinin kiracısının toplantıda kendisi adına karar verebileceği yönünde yazılı vekalet vermesi ile kiracılar oy kullanabilirler."]
["APARTMAN YÖNETİCİSİNİN GÖREVLERİ NELERDİR."]
["Yöneticinin görevleri: I. Genel yönetim işlerinin görülmesi: (KMK Madde 35) – Yöneticinin görevleri, yönetim plânında belirtilir; yönetim plânında aksine hüküm olmadıkça, yönetici aşağıdaki işleri görür: a) Kat malikleri kurulunca verilen kararların yerine getirilmesi: b) Ana gayrimenkulün gayesine uygun olarak kullanılması, korunması, bakımı ve onarımı için gereken tedbirlerin alınması, c) Ana gayrimenkulün sigorta ettirilmesi; d) Ana gayrimenkulün genel yönetim işleriyle korunma, onarım, temizlik gibi bakım işleri ve asansör ve kalorifer, sıcak ve soğuk hava işletmesi ve sigorta için yönetim plânında gösterilen zamanda, eğer böyle bir zaman gösterilmemişse, her takvim yılının ilk ayı içinde, kat maliklerinden avans olarak münasip miktarda paranın toplanması ve bu avansın harcanıp bitmesi halinde, geri kalan işler için tekrar avans toplanması; e) Ana gayrimenkulün yönetimiyle ilgili diğer bütün ödemelerin kabulü, yönetim dolayısıyla doğan borçların ödenmesi ve kat malikleri tarafından ayrıca yetkili kılınmışsa, bağımsız bölümlere ait kiraların toplanması; f)Ana gayrimenkulün tümünü ilgilendiren tebligatın kabulü; g) Ana gayrimenkulü ilgilendiren bir sürenin geçmesine veya bir hakkın kaybına meydan vermeyecek gerekli tedbirlerin alınması; h) Ana gayrimenkulün korunması ve bakımı için kat maliklerinin yararına olan hususlarda gerekli tedbirlerin, onlar adına, alınması; i) Kat mülkiyetine ilişkin borç ve yükümlerini yerine getirmeyen kat maliklerine karşı dava ve icra takibi yapılması ve kanuni ipotek hakkının kat mülkiyeti kütüğüne tescil ettirilmesi; j) Toplantı paraları ve avansları yatırmak ve gerektiğinde almak üzere muteber bir bankada kendi adına ve fakat ana gayrimenkulün yöneticisi sıfatı gösterilmek suretiyle, hesap açtırılması; k) Kat malikleri kurulunun toplantıya çağrılması L) Defter tutulması ve belgelerin saklanması, M) İşletme projesinin yapılması"]
["Yöneticilerin (Apartman, Site Ve Lojman ) Sorumlulukları Sorumluluk alanlarında bulunan yerleşim yeri adresine ilişkin değişiklikleri(konuttan ayrılanlar ve yeni taşınanlar) takip ederek, ortaya çıkan farklılıkların tespiti amacıyla iki örnek Form C düzenleyerek yirmi iş günü içinde muhtarlara bildirmekten sorumludur. ( Kimlik Bildirme Kanunu Madde 11)- kat mülkiyetine tabi taşınmaz mal yöneticileri ve kapıcıları, binalarında bildirim dışı kimselerin oturup oturmadığını, çalışıp çalışmadığını, garaj, kömürlük, boş daire gibi bölümlere saklanmalar, sığınmalar, bazı eşya veya maddeleri gizlemeler olup olmadığını kontrol etmekle yükümlüdürler. Bütün kat sahipleri ve kiracıları ile binalarda çalışanlar bu konularda yöneticiye yardımcı ve gereken bilgileri vermek zorundadırlar. Yönetici ve kapıcıların, bu Kanuna aykırılıkları ve diğer şüpheli gördükleri hususları.Bağlı oldukları genel kolluk örgütüne bildirmeleri gereklidir (Kimlik Bildirme kanunu Uygulama Yönetmeliği Madde 14) - Kat mülkiyetine tabi taşınmaz mallarda oturmakta olan aile reisleri veya kişiler, düzenleyecekleri çalışanlara ait kimlik bildirme ve konutta kalanlara ait kimlik bildirme belgelerinin birer örneğini sorumlu yöneticiye verirler."]
["APARTMAN YÖNETİCİSİNİN KANUNİ HAKLARI (KMK Madde 40) –Yönetici, kaide olarak vekilin haklarına sahiptir. Kat malikleri, kendilerine düşen borçları ve yükümleri, yönetici tarafından noterlikçe yaptırılan ihtara rağmen vaktinde ve tamamen yerine getiremezlerse, yönetici, hiçbir tazminat ödemeye mecbur olmaksızın, kendine ait sözleşmeyi feshedip yöneticilikten çekilerek bu yüzden uğradığı zararın tazminini kat maliklerinden isteyebilir. Yönetici, yönetim planında veya kendisiyle yapılan sözleşmede bir ücret tâyin edilmemiş olsa bile, kat maliklerinden uygun bir ücret isteyebilir. (Değişik: 13 / 4 / 1983 - 2814 / 13 md.) Kat malikleri kurulu, kat malikleri arasından atanmış yöneticinin normal yönetim giderlerine katılıp katılmayacağı, katılacaksa ne oranda katılacağını kararlaştırır. Bu yolda bir karar alınmamış ise, yönetici yönetim süresince kendisine düşen normal yönetim giderlerinin yarısına katılmaz."]
["TOPLANTI ZAMANI VE YETER SAYI ( KMK) Madde 29 – (Değişik: 14/11/2007 – 5711/14 md.) Kat malikleri kurulu, yılda bir defadan az olmamak üzere yönetim planında gösterilen zamanlarda, eğer böyle bir zaman gösterilmemişse, her takvim yılının ilk ayı içinde toplanır. Toplu yapılarda ise kurullar, en geç iki yılda bir defadan az olmamak üzere yönetim plânlarında gösterilen zamanlarda, böyle bir zaman gösterilmemişse, ikinci takvim yılının ilk ayı içinde toplanır Önemli bir sebebin çıkması halinde, yöneticinin veya denetçinin veya kat maliklerinden üçte birinin istemi üzerine ve toplantı için istenilen tarihten en az onbeş gün önce bütün kat maliklerine imzalattırılacak bir çağrı veya bir taahhütlü mektupla, toplantı sebebi de bildirilmek şartıyla, kat malikleri kurulu her zaman toplanabilir. (Değişik: 14/11/2007 – 5711/14 md.)İlk çağrı yapılırken birinci toplantıda yeter sayısının sağlanamaması halinde, ikinci toplantının nerede ve hangi tarihte yapılacağı da belirtilir. İlk toplantı ile ikinci toplantı arasında bırakılacak zaman yedi günden az olamaz. II - Yeter sayı: ( KMK) Madde 30 – Kat malikleri kurulu, kat maliklerinin sayı ve arsa payı bakımından yarısından fazlasıyla toplanır ve oy çokluğuyla karar verir. (Değişik: 14/11/2007 – 5711/15 md.)Yeter sayının sağlanamaması nedeniyle ilk toplantının yapılamaması halinde, ikinci toplantı, en geç onbeş gün sonra yapılır. Bu toplantıda karar yeter sayısı, katılanların salt çoğunluğudur. Bu kanunda yeter sayı için ayrıca konulmuş olan hükümler saklıdır."]
["SİTE YÖNETİMİ NEDİR VE KİMLERDEN OLUŞUR Site yönetimi üst yönetim gibidir Tüm sitenin ortak yerlerinin Bakım, onarım ve tadilatının tek elden yönetilmesidir.(bk. 28.10.2007 tarih ve 26714 sayılı Resmi Gazete 5711 sayılı Kanun 9. Bölüm ) Site yönetimi bağımsız ana yapıların yöneticilerinden oluşur. Yani apartman yöneticileri içinden seçilir. Temsilciler kuruluda denir."]
[]
[]
["Apartman yönetim planı nedir?"]
[]
["Apartman yönetim planı, apartmanın nasıl yönetileceğini, yani apartmandan nasıl faydalanacağını, kullanma maksat ve şeklini yönetici ve denetçilerin alacakları ücret gibi yönetime dair tüm hususları kapsayan plana deniyor."]
["Bütün hak maliklerini bağlayan bir sözleşme niteliğinde olan apartman yönetim planı, hüküm bulunmayan hallerde, ana gayrimenkulün yönetiminden doğacak anlaşmazlıklar Kat Mülkiyeti Kanunu'na ve genel hükümlere göre karara bağlanıyor."]
["Bir yönetim planı oluşturmak ya da yönetim planını değiştirmek için bütün kat maliklerinin beşte dördünün oy şartı aranıyor. Yapılan değişiklikler, bütün kat malikleriyle onların külli ve cüzi haleflerini; yönetici ve denetçileri bağlayıcı oluyor."]
["Ayrıca yönetim planının ve onda sonradan yapılan değişikliklerin tarihi, kat mülkiyeti kütüğünün \"Beyanlar\" hanesinde gösteriliyor. Söz konusu değişikliklerin yönetim planına bağlanarak kat mülkiyetinin kuruluş belgeleri arasında saklanması gerekiyor."]
["Kat maliklerinin Kat Mülkiyeti Kanunu’na göre mahkemeye başvurma hakları bulunuyor."]
["Ana gayrimenkulün kat malikleri kurulu tarafından belirlenen yönetim planı ve kanun hükümlerine göre verilen kararlar doğrultusunda yönetildiğini belirtmiştik. \"Apartman yönetim planı nedir?\" sorusunun yanıtından sonra, yönetim planı için kararlar nasıl alınıyor? Bu hususa değinelim."]
["Apartman yönetim planı kararları"]
["Apartman yönetimi için, her kat maliki, Kanuna göre arsa payı oranına bakılmaksızın, bir tek oy hakkına sahip oluyor. Eğer bir kimsenin birden fazla bağımsız bölümü var ise, her bağımsız bölüm için ayrı ayrı oy hakkına sahip oluyor."]
["Ancak, malik olunan bağımsız bölümlerin sayısı ne olursa olsun, sahip olacağı oy sayısı bütün oyların üçte birinden fazla olamıyor, bir diğer ifade ile oy hesabı yapılırken kesirler dikkate alınmıyor."]
["Kat malikleri kurulu kararları 1'den başlayıp sırayla giden sayfa numaraları taşıyan her sayfası noter mührüyle tasdikli bir deftere yazılarak, toplantıda bulunan bütün kat maliklerince imzalanması gerekiyor."]
["Bir husus hakkında çıkan anlaşmazlıklar ise, karar defterinde aynı hususa dair daha önce verilmiş bir karar varsa kaide olarak ona göre çözülüyor."]
[]
["Yönetim Planı Örneği"]
["BİRİNCİ BÖLÜM"]
["GENEL HÜKÜMLER"]
[{"$f":"CONCATENATE(\"Madde 1- 634 sayılı Kat Mülkiyeti Kanunu hükümlerine göre mülkiyeti kat mülkiyetine çevrilecek olan \",APT.BİLGİLERİ!B2,\" \", APT.BİLGİLERİ!B4,\" \",APT.BİLGİLERİ!B3,\" adresinde bulunan \",APT.BİLGİLERİ!B6,\" ada \",APT.BİLGİLERİ!B7,\" parsel sayılı gayrimenkul kanunun emredici hükümleri saklı kalmak üzere, bu yönetim planına göre yönetilir.\")","v":"Madde 1- 634 sayılı Kat Mülkiyeti Kanunu hükümlerine göre mülkiyeti kat mülkiyetine çevrilecek olan KONYAALTI KONYAALTI ANTALYA adresinde bulunan ADA ada PARSEL parsel sayılı gayrimenkul kanunun emredici hükümleri saklı kalmak üzere, bu yönetim planına göre yönetilir."}]
[{"$f":"CONCATENATE(\"Madde 2- Kat mülkiyetine tabi işbu gayrimenkul üzerindeki ana yapı \",APT.BİLGİLERİ!B8,\" normal katlı : \",APT.BİLGİLERİ!B5,\" daireden ibaret olup \",APT.BİLGİLERİ!B2,\" numarası ile (\",APT.BİLGİLERİ!B1,\") apartmanı adını taşımaktadır. Daireleri sadece mesken olarak kullanılır.\")","v":"Madde 2- Kat mülkiyetine tabi işbu gayrimenkul üzerindeki ana yapı KAT SAYISI normal katlı : 80 daireden ibaret olup KONYAALTI numarası ile (NEBAHAT SELEKLER) apartmanı adını taşımaktadır. Daireleri sadece mesken olarak kullanılır."}]
["Madde 3- Ana gayrimenkulün bağımsız bölümlerine tahsis edilen eklentileri hariç, Kat Mülkiyeti Kanunun 4. üncü maddesinde sayılan yerleriyle, kat maliklerinin ortaklaşa kullanma, koruma veya faydalanmaları için zaruri olan diğer yerleri ve şeyleri de ortak yerlerdendir."]
["Madde 4- Yönetim planı anagayrimenkulün bütün bağımsız bölüm maliklerini ve onların mirasçılarıyla bağımsız bölümleri sonradan satış veya herhangi bir surette iktisap edecek olan üçüncü şahısları bağlar."]
["Yönetim planının değiştirilmesi için bütün kat maliklerinin 4/5'inin oyu şarttır."]
["Madde 5- Tapu sicilinde veya kat malikleri arasındaki sözleşmelerle işbu yönetim planında hüküm bulunmayan hallerde Kat Mülkiyeti Kanunu, Medeni Kanun ve diğer ilgili kanun hükümleri uygulanır."]
["İKİNCİ BÖLÜM"]
["KAT MALİKLERİNİN HAKLARI VE BORÇLARI"]
["Madde 6- Kat malikleri, Kat Mülkiyeti Kanunu ve sözleşmelerle, yönetim planındaki hükümler saklı kalmak şartiyle; kendilerine ait bağım sız bölümler üzerinde Medeni Kanunun maliklere tanıdığı bütün hak ve yetkilere sahiptirler. Ancak kendi bağımsız bölümlerinde ana yapıya zarar verecek nitelikte onarım ve tesis yapamazlar."]
["Madde 7 - Kat malikleri, anagayrimenkulün bütün ortak yerlerine, Medeni Kanunun müşterek mülkiyet hükümlerine göre malik olurlar ve bu yerlerden; Kanun, sözleşme ve yönetim planı hükümlerine göre faydalanma hakkına sahiptirler."]
["Madde 8 - Kat malikleri ortak yerlerin bakım ve temizliğine, korunmasına itina göstermeye ve anagayrimenkulün güzelliğini ve sağlamlığını titizlikle korumaya mecburdurlar."]
["Bütün kat maliklerinin rızası alınmadıkça ortak yerlerde inşaat, onarım ve tesisler ile dış badana veya boya yaptıramazlar."]
["Kat malikleri kurulunca kendilerine ayrılan yerler dışındaki ortak yerlere hiç bir şey bırakamazlar ve arabalarını park edemezler."]
["Kat malikleri kurulunca kendilerine ayrılan yerler ve tayin edilen günler dışında, çamaşır yıkama ve kurutma gibi işler yapamazlar."]
["Madde 9- Kat malikleri gerek kendi bağımsız bölümleriyle eklentileri ve gerekse ortak yerleri kullanırken, hüsnüniyet kaidelerine uymak zorundadırlar. Özellikle aşağıdaki işleri ve şeyleri yapamazlar."]
["a) Kendi bağımsız bölümlerini randevu evi, kumarhane veya benzeri yer gibi ahlak ve adaba aykırı bir şekilde kullananmazlar."]
["b) Bağımsız bölümlerinin balkon ve pencerelerinden halı, kilim, v.s. silkemezler, su ve benzeri şeyler dökemez, çöp v.s. atamazlar."]
["c) Kat mülkiyeti kütüğünde mesken, işyeri veya ticaret yeri olarak gösterilen bağımsız bölümlerinde, hiç bir şekilde hastane, dispanser, klinik, poliklinik, ve ecza laboratuvarı gibi müesseseler kuramıyacakları gibi kat mülkiyeti kütüğünde mesken olarak gösterilen bağımsız bölümlerde, kat malikleri kurulunca oybirliğiyle karar verilmedikçe; sinema, tiyatro, kahvehane, gazino, pavyon, bar, kulüp, dans salonu gibi eğlence yerleri ile; fırın, lokanta, pastahane gibi beslenme yerleri ve imalathane boyahane, basımevi, dükkan, galeri gibi yerler açamazlar."]
["d) Dükkan malikleri dükkanlarını diğer kat maliklerini rahatsız edecek nitelikteki işler için kullanamaz ve başkalarına da kullandıramazlar."]
["e) Kendi bağımsız bölüm ve eklentisi ile ortak yerlerde kat malikleri kurulunca müsaade edilmedikçe; kedi, köpek ve tavuk gibi hayvan besleyemezler."]
["f) Kendi bağımsız bölümlerinde diğer kat maliklerini rahatsız edecek şekilde toplantılar tertip edemezler. Nişan, düğün gibi toplantılarda diğer kat maliklerini rahatsız etmemeye itina göstermeye mecbur oldukları gibi kat malikleri kurulu müsaade etmedikçe bu gibi toplantıları ortak yerlerde yapamazlar."]
["g) Radyo müzik aletleriyle benzeri şeyleri diğer kat maliklerini rahatsız edecek şekilde kullanamazlar."]
["h) Bağımsız bölümleriyle eklenti ve ortak yerlerde, patlayıcı parlayıcı ve pis kokulu maddeler bulunduramazlar ve diğer kat maliklerini rahatsız edecek şekilde sarsıntı yapmak, koku, duman, toz çıkarmak gibi hareketlerden kaçınmak zorundadırlar."]
["Madde 10 - Kat malikleri, diğer bağımsız bölümlerde, eklenti ve ortak yerlerden meydana gelen arızaların giderilmesi için kendi bağımsız bölümlerine girilmesi gerekiyorsa, buna müsaade etmek mecburiyetindedirler."]
["Ancak bu gibi işlerin taraflarca en uygun bir zamanda yapılması ve bu müsaade sebebiyle, kat malikleri veya o bölümde oturanların uğrayacakları zararların, lehine müsaade edilen tarafından derhal ödenmesi veya giderilmesi mecburidir."]
["Madde 11 - Yukarıda yazılı kullanma veya faydalanmaya ilişkin hususlarla yönetim planında ve Kat Mülkiyeti Kanununda öngörülen hak ve mükellefiyetlerin bağımsız bölümlerde kiracı veya herhangi bir sıfatla oturanlar veya faydalananlar tarafından aynen yerine getirilmesi mecburidir."]
["ÜÇÜNCÜ BÖLÜM"]
["GENEL GİDERLERE KATILMA"]
["Madde 12 - Kat malikleri, anagayrimenkulün ortak giderlerine aşağıda tespit edildiği gibi katılırlar."]
[{"$f":"CONCATENATE(\"a) Arsa payı ne olursa olusun kapıcı ücreti olarak her daire maliki ayda (\",APT.BİLGİLERİ!B9,\") lira, her dükkan maliki ayda (\",APT.BİLGİLERİ!B10,\") lira öder.\")","v":"a) Arsa payı ne olursa olusun kapıcı ücreti olarak her daire maliki ayda (100) lira, her dükkan maliki ayda (150) lira öder."}]
["b) Kaloriferlerin bilumum işletme, onarım ve idame masrafları ile bu masraflar için toplanan avansda; arsa payları ne olursa olsun her kat maliki kendisine ait bağımsız bölümün proje ve planında gösterilen in şaat sahası oranında katılır, her bölümün inşaat sahası miktarı, ayrıca kat malikleri kurulunca tesbit edilir."]
["c) Kat maliklerinden her biri aşağıdaki giderlere arsa payları oranında katılırlar."]
["aa) Kat malikleri kurulunca sigorta ettirilmesine karar verilmişse ana gayrimenkulün genel sigorta primlerine,"]
["bb) Kanunda ve sözleşmede tesbit edilmiş olan bütün ortak yer ve tesislerin bakım, onarım, yenileme giderlerine,"]
["cc) Kalorifer ve kapıcı daireleriyle koridor lambaları gibi tesislerin işletme giderlerine,"]
["dd) Kat malikleri kurulunca kararlaştırılan yönetici ve denetçiler ile ayrıca çalıştırılmasına karar verilmişse kaloriferci ve bahçivan gibi müstahdemlerin ücretleriyle bunların vergi ve sosyal sigorta pirimlerine,"]
["Madde 13 - Kat mâliklerinden hiç biri ortak yer veya tesisler üzerindeki kullanma hakından vazgeçmek veya kendi bağımsız bölümünün durumu dolayıısiyle faydalanmaya lüzum ve ihtiyaç bulunmadığını ileri sürmek suretiyle, gider ve avans payını ödemekten kaçınamaz."]
["Ancak, zemin kattaki bağımsız bölüm mâlikleri asansörün bakım ve işletme giderlerine katılmazlar."]
["Madde 14- Ortak giderlere; kat mâliklerinden birinin veya onun bağımsız bölümlerinden her hangi bir surette faydalanan kimsenin kusurlu bir hareketi sebep olmuşsa, gidere katılanların yaptıkları ödemeler için, o kat mâlikine veya gidere sebep olanlara rücu hakları vardır."]
["Madde 15- Gider ve avans payını ödemeyen kat mâliki hakkında diğer kat maliklerinden biri veya yönetici tarafından, yönetim plânına ve Kat Mülkiyeti Kanunu ile genel hükümlere göre dava açılabilir ve icra takibi yapılabilir."]
["Madde 16- Bağımsız bölüm kiraya verilmişse avanstan veya ortak giderlerden kendisine düşen payı, noterlikçe veya imzası karşılığında yapılan ihtara rağmen, bir hafta içinde ödemeyen kat mâliklerinin borcu kira alacağına mahsuben kiracıdan alınır. Kat mâlikinin borcu bu yoldan alınmamışsa , Kat Mülkiyeti kanununun 22 nci maddesi uyarınca kanuni ipotek hakkı tescil edilebilir."]
["Madde 17- Kat mâliklerinden biri borç ve yükümlerini yerine getirmemek suretiyle, diğer kat mâliklerinin haklarını onlar için çekilmez hale gelecek derecede ihlâl ederse, onlar o kat mâlikinin bağımsız bölümü üzerindeki mülkiyet hakkının; Kat Mülkiyeti Kanununun 25 nci maddesi uyarınca kendisine devredilmesini hâkimden isteyebilirler."]
["DÖRDÜNCÜ BÖLÜM"]
["KAT MALİKLERİ KURULU"]
["Madde 18- Kat Mâlikleri Kurulu, ana gayrimenkuldeki bütün bağımsız bölüm maliklerinden teşekkül eder ve kanunların emredici hükümleri saklı kalmak şartıyla ana gayrimenkul bu kurul tarafından yönetilir ve yönetim tarzı kararlaştırılır."]
["Arsa payı ne olursa olsun, ana geyrimenkuldeki bütün bağımsız bölüm mâlikleri kat mâlikleri kurulunun birer tabii üyesidir."]
["Madde 19- Anagayrimenkulün yönetiminden veya kullanılmasından dolayı kat malikleri arasında veya bunlarla yönetici ve denetçiler arasında çıkan anlaşmazlıklar kat malikleri kurulunca çözülür ve karara bağlanır."]
["Madde 20 - Bütün kat malikleriyle onların varisleri veya o bağımsız bölümü sonradan herhangi bir suretle iktisap edenlerin veya o bölümde kiracı yahut başka sebeplerle oturanlar veya faydalananlarla yönetici ve denetçiler kat malikleri kurulu kararlarına uymakla yükümlüdürler."]
[{"$f":"CONCATENATE(\"Madde 21 - Kat malikleri kurulu, her yıl \",APT.BİLGİLERİ!B11,\" veya \",APT.BİLGİLERİ!B12,\" aylarının ilk on günü içinde toplanır.\")","v":"Madde 21 - Kat malikleri kurulu, her yıl 20.12.2014 veya 20.01.2015 aylarının ilk on günü içinde toplanır."}]
["Toplantının nerede, hangi tarih ve saatte yapılacağı ve gündem yönetici tarafından tesbit edilerek toplantıdan en az üç gün önce bütün kat maliklerine taahhütlü mektupla veya imza karşılığında tebliğ edilir."]
["Önemli bir sebebin çıkması halinde, yöneticinin veya denetçinin veya kat maliklerinden üçte birinin istemi üzerine ve toplantı için istenilen tarihten en az onbeş gün önce bütün kat maliklerine imzalatılacak bir çağrı veya taahhütlü mektupla toplantı sebebi de bildirilmek şartiyle kat malikleri kurulu her zaman olağanüstü toplantıya çağırabilir."]
["İlk çağrı yapılırken, birinci toplantıda, yeter sayının sağlanamaması halinde, ikinci toplantının nerede ve hangi tarihte yapılacağı da belirtilir. İlk toplantı ile ikinci toplantı arasında bırakılacak zaman yedi günden az olamaz."]
["Madde 22 - Toplantılarda yalnız o toplantının gündeminde yazılı maddeler konuşulabilir. Ancak toplantıdaki mevcut üyelerin üçte biri isterse başka hususlar da gündeme alınarak görüşülebilir."]
["Kat malikleri kurulu her toplantıda, o toplantıyı yönetmek için aralarından birini başkan seçerler."]
["Madde 23 - Kat malikleri kurulunda arsa payına bakılmaksızın ana gayrimenkuldeki her bağımsız bölümün maliki (kat maliki) bir oy hakkına sahiptir."]
["Ayni şahsın birden fazla bağımsız bölümü mevcutsa her bağımsız bölümü için ayrı bir oy hakkı vardır, ancak bir şahsın sahip olacağı oy sayısı bütün oyların üçte birinden fazla olamaz."]
["Bir bağımsız bölüme birden fazla kimse malikse, kat malikleri kurulunda bunları içlerinden vekalet verecekleri birisi temsil eder."]
["Kat maliklerinden her biri diğer kat malikleri veya dışardan vekalet verecekleri bir vekil tarafından temsil olunabilir, ancak bir şahsın asaleten ve vekaleten vereceği oy sayısı, bütün oyların üçte birini geçemez."]
["Kat maliklerinden biri, oyunu yetkili vekil eliyle kullanabilir. Bir kişi, oy sayısının yüzde beşinden fazlasını kullanmak üzere vekil tayin edilemez."]
["Kat maliklerinden biri ehliyetsiz (çocuk, akıl hastası v.s.) ise onun yerine kat malikleri kuruluna kanuni mümessili (velisi veya vasisi) katılır."]
["Alınacak karar doğrudan doğruya kendisini ilgilendiren kat maliki kat malikleri kuruluna ve görüşmelere katılabilir, fakat o iş hakkında oy veremez."]
["Madde 24 - Kat malikleri kurulu, kat maliklerinin sayı ve arsa payı bakımından yarısından fazlasıyla toplanır ve oy çokluğuyla karar verir."]
["Yeter sayının sağlanamaması nedeniyle ilk toplantının yapılamaması halinde, ikinci toplantı, en geç onbeş gün sonra yapılır. Bu toplantıda karar yeter sayısı, katılanların salt çoğunluğudur."]
["Kat mülkiyeti kanununda yeter sayı için ayrıca konulmuş olan hükümler saklıdır. (Kat Mülkiyeti Kanunu, madde: 24, 28, 34, 42, 44, 45)."]
["Madde 25 - Kat malikleri kurulunda alınan kararlar yönetici tarafından o toplantıya katılmamış olan kat malikleri ile gerekiyorsa bağımsız bölümlerinde kiracı veya herhangi bir sebeple oturanlara veya bölümlerden başka şekilde faydalananlara usulü dairesinde duyurulur."]
["Madde 26 - Kat malikleri kurulu kararları (1) den başlayıp sırasıyla giden sayfa numaraları taşıyan ve her sayfası noter mührüyle tasdikli bir deftere yazılarak, altı toplantıda bulunan bütün kat maliklerince imzalanır, karara aykırı oy verenler bu aykırılığın sebebini belirterek imza ederler.Toplantıda oluşturulan divana tutanakları imzalama yetkisi verilebilir."]
["Bir husus hakkında ileride çıkan anlaşmazlıklar karar defterinde aynı hususa dair daha önce verilmiş bir karar varsa kaide olarak ona göre çözülür."]
["Ayrıca yönetici tarafından bilumum gelir ve giderlerin kaydı için,noterlikce tastikli bir işletme defterleri tutulur. Bu defterin her yıl ocak ayı içinde yönetici tarafından notere kapattırılması zorunludur."]
["Madde 27 - Kat malikleri kurulunca verilen karara razı olmayan kat maliklerinden birinin veya onun bölümünde kiracı veya herhangi bir sebeple oturanlar veya devamlı surette faydalanan kimselerin kanunda veya yönetim planında gösterilmiş bulunan borç veya yükümlerini yerine getirmemeleri yüzünden zarar gören kat malikleri veya yönetici, kat mülkiyeti kanunun 33.üncü maddesi uyarınca sulh mahkemelerine başvurarak borç ve yükümlerin yerine getirilmesi için hakimin müdahalesini isteyebilirler."]
["BEŞİNCİ BÖLÜM"]
["YÖNETİCİ VE DENETİCİ"]
["A- YÖNETİCİ:"]
[{"$f":"CONCATENATE(\"Madde 28 - Kat malikleri kurulu, her yıl \",APT.BİLGİLERİ!B11,\" veya \",APT.BİLGİLERİ!B12,\" ayında yapacağı olağan toplantıda kendi aralarından veya dışarıdan bir yönetici veya 3 kişilik bir yönetim kurulunu seçer.\")","v":"Madde 28 - Kat malikleri kurulu, her yıl 20.12.2014 veya 20.01.2015 ayında yapacağı olağan toplantıda kendi aralarından veya dışarıdan bir yönetici veya 3 kişilik bir yönetim kurulunu seçer."}]
["Yönetici kat maliklerinin hem sayı hem arsa payı çoğunluğu tarafından bir yıl için seçilir, eski yöneticinin yeniden seçilmesi mümkündür."]
["Madde 29 - Kat malikleri yönetici seçiminde bir karara varamazlarsa, kat maliklerinden birinin müracaatı üzerine yönetici sulh mahkemesince tayin edilen yönetici, mahkemenin müsadesi alınmadıkça altı ay müddetle değiştirilemez."]
["Yöneticinin ad ve soyadı ile iş ve ev adresi, ana gayrimenkulün giriş kapısı yanında görülecek bir yere çerçeve içinde asılır."]
["Madde 30 - Yöneticiye bir ücret verilip verilmeyeceği ve verilecekse miktar ve şartları, yöneticinin tayini sırasında kat malikleri kurulunca ayrıca karara bağlanır."]
["Yönetici dışarıdan tayin edilmişse kendisiyle sözleşme yapılır."]
["Kat malikleri kurulu gerek sözleşmede, gerekse sonradan haklı bir sebebin çıkması halinde yöneticiden teminat isteyebilir."]
["Madde 31 - Yönetici, Kat Mülkiyeti Kanunu ile diğer kanunlarla, sözleşme ve yönetim planında belirtilen görevlerden başka, özellikle aşağıdaki işleri görür."]
["a) Kat malikleri kurulunca verilen kararların yerine getirilmesi."]
["b) Ana gayrimenkulün gayesine uygun olarak kullanılması, korunması, bakımı ve onarımı için gereken tedbirlerin alınması,"]
["c) Kat malikleri kurulunca karar verilmişse, anagayrimenkulün sigorta ettirilmesi."]
["d) Anagayrimenkulün yönetim ve bakım işleriyle, bilumum ortak giderler için lüzumlu paraların avans olarak toplanması, gelirlerin tahsili, borçların ödenmesi, paraların en iyi bir şekilde muhafaza ve harcanması, borç ve yükümlerini yerine getirmeyenler hakkında dava ve icra takibi yapılması ve gerektiğinde kanuni ipotek hakkının kat mülkiyeti kütüğüne tescil edilmesi."]
["e) Anagayrımenkulün tümünü ilgilendiren tebligatın kabulü ile gerekiyorsa kat maliklerine duyurması ve gerekli bütün tedbirlerin alınması."]
["f) Kat malikleri kurulunu taplantıya çağırması ve gündemin hazırlanması."]
["g) Kat malikleri kurulunun karar ve protokollarıyla yapılan ihtar ve tebligatın özetini ve tarihlerini sırayla karar defterine geçirmesi ve defterin her yılın Ocak ayı içinde notere kapatılması ve bütün belgelerin saklanması, gider ve gelirlerin mümkünse belge, fatura ve makbuzlara istinat ettirilmesi ve belgelerin en az beş yıl süre ile muhafazası."]
["h) Kat Mülkiyeti Kanununun 37 nci maddesi gereğince seçilmesini takip eden on gün içerisinde anagayrimenkulün bir yıllık yönetiminde tahmini olarak gelir ve gider tutarları, bütün giderlerden bir kat malikine yönetim planı ve kat malikleri kurulu kararına göre düşecek miktar ile her kat malikinin ödemesi gereken avans tutarını gösterir işletme projesinin yapılarak kat maliklerine sunulması ve kat maliklerince onbeş gün zarfında itiraz edilmediği veya kat malikleri kurulunca değiştirilmediği takdirde projedeki hususların yerine getirilmesi."]
[{"$f":"CONCATENATE(\"Madde 32 - Yönetici, her yıl \",APT.BİLGİLERİ!B11,\" veya \",APT.BİLGİLERİ!B12,\" aylarında yapılan olağan toplantılarada o tarihe kadar elde edilen gelirlerle yapılan giderlerin hesabını vermekle yükümlüdür.\")","v":"Madde 32 - Yönetici, her yıl 20.12.2014 veya 20.01.2015 aylarında yapılan olağan toplantılarada o tarihe kadar elde edilen gelirlerle yapılan giderlerin hesabını vermekle yükümlüdür."}]
["Ayrıca, maliklerinin yarısı isterse yönetici olağan toplantılar dışında da hesaplarını göstermeye mecburdur."]
["B- DENETÇİ:"]
["Madde 33 - Kat malikleri kurulu yöneticinin bu görevindeki tutumunu devamlı olarak denetler ve haklı bir sebebin çıkması halinde onu her zaman değiştirebilir."]
[{"$f":"CONCATENATE(\"Ayrıca kat malikleri kurulu yöneticinin denetimini yapmak üzere her yılın \",APT.BİLGİLERİ!B11,\" veya \",APT.BİLGİLERİ!B12,\" ayındaki olağan toplantıda kendi aralarından birini denetçi veya üç kişilik bir denetim kuruluda seçebilir; denetçiye bu görevinden dolayı herhangi bir ücret ödenmez ve bütün ortak giderlere diğer malikler gibi katılır.\")","v":"Ayrıca kat malikleri kurulu yöneticinin denetimini yapmak üzere her yılın 20.12.2014 veya 20.01.2015 ayındaki olağan toplantıda kendi aralarından birini denetçi veya üç kişilik bir denetim kuruluda seçebilir; denetçiye bu görevinden dolayı herhangi bir ücret ödenmez ve bütün ortak giderlere diğer malikler gibi katılır."}]
["Denetçi tarafından her üç ayda bir hesapların denetimi yapılır, haklı bir sebep çıkarsa bu denetim her zaman yapılabilir."]
["Denetçi, kat malikleri kurulunca, sayı ve arsa payı çoğunluğuyla seçilir ve olağan toplantılarda kat malikleri kuruluna verdiği bir raporla denetimin"]
["ALTINCI BÖLÜM"]
["ÇEŞİTLİ HÜKÜMLER"]
["Madde 34 - Anagayrimenkul için tayin edilmiş olan kapıcı aynı zamanda kaloriferci olarak çalıştırılacaktır."]
["Kapıcı ile devamlı olarak çalıştırılmasına lüzum görülen diğer müstahdemlerin tayini, işten çıkarılması ve ücretlerinin takdiri, yöneticinin teklifi üzerine kat malikleri kurulunca kararlaştırılır."]
["Bu görevler, acele hallerde kat malikleri kurulunun ilk toplantısında tasvibine sunulmak üzere yönetici tarafından da yapılabilir."]
["Madde 35 - Kapıcı ve diğer müstahdemlerin görev ve yetkileri, kendileriyle yapılan sözleşmede belirtilir ve bu sözleşme yönetici tarafından yapılmışsa ayrıca kat malikleri kurulunun tasvibine sunulur."]
["Yönetici bütün müstahdemlerin görevlerindeki tutumlarını devamlı olarak denetler."]
["Madde 36 - Kat malikleri veya onların bölümünde herhangi bir sıfatla oturanlar kendi veya yakınlarının çocukları tarafından anagayrimenkulde meydana getirilen zararları derhal ödemeye veya gidermeye mecbur oldukları gibi çocuklarının kendilerine ayrılan yerler dışında oynamalarını ve gürültü yapmamalarını sağlamakla yükümlüdürler."]
["Madde 37 - Kat malikleri kiracıları değiştikçe yeni kiracı veya kendi bölümlerinde başka sıfatla oturacakları ad ve soyadı ile iş adresini en çok (15) gün içinde yöneticiye bildirmeye veya mevcutsa kira sözleşmesinin bir örneğini vermeye ve bağımsız bölümünde oturanlara borç ve yükümlerini bildirmeye mecburdurlar."]
["Kat malikleri kendi bağımsız bölümlerinde oturan veya faydalananlardan ve yükümlerini yerine getirmeyenlerle müteselsilen sorumludurlar."]
["Madde 38 - Anagayrimenkulün üstüne kat ilavesi veya mevcut çekme katın normal kat haline getirilmesi veya zemin ve bodrum katlarla arsanın boş yerinde yeni bölümler yapılması veya niteliğinde sonradan değişiklik yapılması için, kat mülkiyeti kanunun 44 üncü maddesi gereğince, kat malikleri kurulunun buna oy birliğiyle karar vermesi şarttır."]
["Madde 39 - Ortak yerlerde yapılacak faydalı ve lüks değişiklik ve ilavelere ilişkin tesis, bakım ve işletme giderleri Kat Mülkiyeti Kanunun 42 ve 43 üncü maddeleri uyarınca kat malikleri tarafından ödenir."]
["Madde 40 - Anagayrimenkulün bir hakla kayıtlanması veya arsanın bölünmesi ve bölünen kısmın mülkiyetinin başkasına devrolunması gibi temliki tasarruflar veya anayapının dış duvarlarının, çatı veya damının reklam maksadiyle kiralanması gibi önemli yönetim işleri, ancak bütün kat maliklerinin oybirliğiyle verecekleri karar üzerine yapılabilir."]
["Madde 41- Anayapının tümünün veya bir kısmının harap olması veya kamulaştırılması halleri ile kat mülkiyetinin sona ermesi hususlarında Kat Mülkiyeti Kanunun ilgili hükümlerine göre işlem yapılabilir."]
["Madde 42 - ......../............./.....tarihinde düzenlenen işbu yönetim planının metin ve muhtevası aşağıda kimlikleri yazılı anagayrimenkulün bütün bağımsız bölüm maliklerince okunarak, arzularına uygun olduğunu ve oybirliğiyle kabul ve imzaladıklarını beyan ve ikrar eylerler."]
["Kaynak: e-tapu"]
["YÖNETİM PLANI ÖRNEĞİ ( KAT MÜLKİYETİ )"]
[]
["Program temelde şu modülleri içerecek."]
["*Daire tanımları"]
["*Üye tanımları"]
["*Kasa defteri"]
["*Banka takibi"]
["*Tedarikçi hesapları"]
["*Demirbaş takibi"]
["*Toplu borçlandırma"]
["*Mail ile bilgilendirme"]
["*Denetim raporu"]
["*Toplu olarak borç-alacak yazısı (çıktı alınabilir)"]
["*Aylık olarak gelir ve giderlerin dökümü (çıktı alınabilir)"]
["* Gelir makbuzu kesilmesi düşünülebilir. Veya harici kesilen gelir makbuzunun, makbuz numaralarının kayıt edilmesi denetim de çok büyük kolaylık oluyor."]
["**Kapıcı/Çalışan ile ilgili SGK, Maaş ödemeleri eklenebilir..."]
["İşletme projesi (kat malikleri kurulunca onaylı, gelir ve gider bütçeleri)"]
["Gider dağıtım anahtarları (kapıcı giderleri, demirbaş giderleri, elektrik – su, yakıt giderleri vb)"]
["Borçlu ve alacaklı daireler listesi"]
["Hesap durumunu gösterir bilanço (nakit ya da tahakkuk esası)"]
["Borçlulara ödeme ihtar mektubu"]
["Yönetim kurulu üyeleri (ad soyad, görev süreleri)"]
["Denetim kurulu üyeleri (ad soyad, görev süreleri)"]
["Üyeler hesapları ile satıcı firmalar ekstresi"]
["Faaliyet raporu"]
["Toplantıya katılanlar listesi (hazirun cetveli)"]
["Toplantıya davet mektupları"]
["Toplantı gündemi"]
["Kat malikleri toplantı tutanağı"]
["Yönetim kurulu toplantıları ve alınan kararlar"]